{"text_format":"1","workbook":"xlsx","n_sheets":7,"sheets":["CycleTime","DataSerch","ModelData","LeadData","StrokeData","MassDataLink","AccVelDataLink"],"not_rendered":{"charts":0,"images":3,"macros":1,"external_links":0,"defined_names":2,"comments":2,"pivot_tables":0},"unopened":[],"bounds":{"document_bytes":16777216,"sheet_cells":100000,"rows_first":2000,"rows_last":500,"rows_between":2000,"halvings":0,"cell_chars":16384,"cell_head_chars":4096},"cells_cut":0,"cells_raw":0,"read":"whole","date_system":"1900"}

{"sheet":"CycleTime","index":0,"n_rows":3231,"n_cols":48,"rows_kept":1125,"cut":true,"hidden":false,"merged":[[0,11,0,43],[28,14,28,20],[8,11,8,12],[9,11,9,12],[2,27,2,28],[3,27,3,28],[2,11,2,12],[3,11,3,12],[23,29,24,29],[23,30,24,30],[23,22,24,22],[23,23,23,24],[23,25,24,25],[23,26,24,26],[23,27,24,27],[23,28,24,28],[41,31,42,31],[35,29,36,29],[41,30,42,30],[41,28,42,28],[35,28,36,28],[3,2,3,3],[5,11,5,12],[5,2,5,4],[13,11,13,12],[4,11,4,12],[7,11,7,12],[6,11,6,12],[15,1,15,2],[10,11,10,12],[11,11,11,12],[23,1,23,2],[17,1,17,2],[21,1,21,2],[19,6,21,7],[19,8,21,8],[19,1,19,2],[13,1,13,2],[35,27,36,27],[41,27,42,27],[28,44,28,47],[35,33,36,33],[35,30,36,30],[35,32,36,32],[35,31,36,31],[35,35,36,35],[35,34,36,34],[41,37,42,37],[41,34,42,34],[41,29,42,29],[41,36,42,36],[41,32,42,32],[41,35,42,35],[41,33,42,33],[30,23,30,24],[35,26,36,26],[41,23,42,23],[43,22,44,22],[41,22,42,22],[31,22,32,22],[37,22,38,22],[35,22,36,22],[35,23,36,23],[31,23,32,24],[35,24,36,24],[41,24,42,24],[41,26,42,26],[41,25,42,25],[35,25,36,25],[47,26,48,26],[47,34,48,34],[47,35,48,35],[49,22,50,22],[49,23,50,23],[47,28,48,28],[47,29,48,29],[47,30,48,30],[47,31,48,31],[47,32,48,32],[47,33,48,33],[47,27,48,27],[47,22,48,22],[47,23,48,23],[47,24,48,24],[47,25,48,25],[23,42,24,42],[23,31,24,31],[23,32,24,32],[23,33,24,33],[23,34,24,34],[23,35,24,35],[23,36,24,36],[23,37,24,37],[23,38,24,38],[23,39,24,39],[23,40,24,40],[23,41,24,41]],"bounds":{"rows_first":500,"rows_last":125,"rows_between":500,"halvings":2}}
[null,null,null,null,null,null,null,null,null,null,null,"↓　L～AR　「表示しない」列　↓　↓　L～AR　「表示しない」列　↓　↓　L～AR　「表示しない」列　↓　↓　L～AR　「表示しない」列　↓　↓　L～AR　「表示しない」列　↓　↓　L～AR　「表示しない」列　↓　↓　L～AR　「表示しない」列　↓　↓　L～AR　「表示しない」列　↓　↓　L～AR　「表示しない」列　↓　↓　L～AR　「表示しない」列　",null,null,null,null,null,null,null,null,null,null,null,null,null,null,null,null,null,null,null,null,null,null,null,null,null,null,null,null,null,null,null,null,null,"残す列",null,"残す列"]
[null,null,null,null,null,null,null,null,null,null,null,"参考表示"]
[null,null,null,null,null,null,null,null,null,null,null,"Vmax[㎜/s]",null,{"$f":"SQRT(D14*(2*N4*N5)/(N4+N5))","v":700.23745972348547},null,null,null,null,null,null,null,null,null,null,null,null,null,"feedforward",null,null,"物理計算用変換係数"]
["<a>","シリーズ","RCS4",null,null,null,null,null,null,null,null,{"$f":"IF(AE33=0,\"加速度[㎜/s^2]\",\"加速度[deg/s^2]\")","v":"加速度[㎜/s^2]"},null,{"$f":"D20*AH5*1000","v":9806.65},null,null,null,null,null,null,null,null,null,null,null,null,null,{"$f":"AF45/100","v":0},null,null,"ﾓｰﾀ軸角速度及び角加速度",null,null,"Ｇ"]
[null,null,null,null,null,null,null,null,null,null,null,{"$f":"IF(AE33=0,\"減速度[㎜/s^2]\",\"減速度[deg/s^2]\")","v":"減速度[㎜/s^2]"},null,{"$f":"D22*AH5*1000","v":9806.65},null,null,null,null,null,null,null,null,null,null,null,null,null,"Kf",{"$f":"IF( AB4=1,1,1-EXP(-((N11/(1-AB4))-N11)*N8) )","v":0},null,{"$f":"IF(AE33=0,1000,360/(2*PI()))","v":1000},null,null,{"$f":"LeadData!$A$1","v":9.8066499999999994}]
["<b>","型式","RCS4-SA4C-60",null,null,null,null,null,null,null,null,"最高速度[㎜/s]",null,{"$f":"IF(D18<N3,D18,N3)","v":150},null,null,null,null,null,null,null,null,null,null,null,null,null,null,null,null,null,null,null,null,null,null,null,null,null,null,"(Tkp+2Kf)",{"$f":"($N$8*$N$11+2*$AB$4)","v":6.3929537260636118E-3}]
[null,null,null,null,null,null,null,null,null,null,null,"分割数",null,{"$f":"ROUND(3200/(AP18+AP20*10)*AP18,0)","v":1636},null,null,null,null,null,null,null,null,null,null,null,null,null,null,null,null,null,null,null,null,null,null,null,null,null,null,"(Tkp-2Kf)",{"$f":"($N$8*$N$11-2*$AB$4)","v":6.3929537260636118E-3}]
["<c>",{"$f":"IF(AE33=0,\"リード\",\"減速比\")","v":"リード"},2.5,{"$f":"IF(AE33=0,\"㎜\",\"：1\")","v":"㎜"},null,null,null,null,null,null,null,"⊿ｔ[s]",null,{"$f":"AT32-AT31","v":2.1309845753545372E-4},null,null,null,null,null,null,null,null,null,null,null,null,null,null,null,null,null,null,null,null,null,null,null,null,null,null,"(2+TKp)",{"$f":"(2+$N$8*$N$11)","v":2.0063929537260634}]
[null,null,null,null,null,null,null,null,null,null,null,"最終時刻[s]",null,{"$f":"AT3231","v":0.68191506411345193},null,null,null,null,null,null,null,null,null,null,null,null,null,null,null,null,null,null,null,null,null,null,null,null,null,null,"(2-TKp)",{"$f":"(2-$N$8*$N$11)","v":1.9936070462739364}]
["<d>","ストローク",50,"㎜",null,null,null,null,null,null,null,"最終位置[㎜]",null,{"$f":"AV3231","v":49.999817707220053},null,null,null,null,null,null,null,null,null,null,null,null,null,null,null,null,null,null,null,null,null,null,null,null,null,null,"減速時間",{"$f":"N6/N5","v":1.5295743194668924E-2},"s"]
[null,null,null,null,null,null,null,null,null,null,null,"位置ｹﾞｲﾝ",null,{"$f":"AE45","v":30},null,null,null,null,null,null,null,null,null,null,null,null,null,null,null,null,null,null,null,null,null,null,null,null,null,null,"減速距離",{"$f":"N5*AP10*AP10/2","v":1.1471807396001692},"㎜"]
["<e>","設置姿勢","水平",null,null,null,null,null,null,null,null,"速度制御帯域",null,{"$f":"AG45","v":245},null,null,null,null,null,null,null,null,null,null,null,null,null,null,null,null,null,null,null,null,null,null,null,null,null,null,"加速時間",{"$f":"N6/N4","v":1.5295743194668924E-2},"s"]
[null,null,null,null,null,null,null,null,null,null,null,null,null,null,null,null,null,null,null,null,null,null,null,null,null,null,null,null,null,null,null,null,null,null,null,null,null,null,null,null,"加速距離",{"$f":"N4*AP12*AP12/2","v":1.1471807396001692},"㎜"]
["<1>","移動距離[㎜]",null,50,null,null,null,null,null,null,null,"移動可能距離[㎜]",null,{"$f":"X45+Y45","v":50},null,null,null,null,null,null,null,null,null,null,null,null,null,null,null,null,null,null,null,null,null,null,null,null,null,null,"等速時間",{"$f":"IF(D18<N3,(D14-AP13-AP11)/D18,0)","v":0.31803759013866445},"s"]
[null,null,null,null,null,null,null,null,null,null,null,null,null,null,null,null,null,null,null,null,null,null,null,null,null,null,null,null,null,null,null,null,null,null,null,null,null,null,null,null,"等速距離",{"$f":"AP14*N6","v":47.705638520799667},"㎜"]
["<2>",{"$f":"IF(AE33=0,\"搬送質量[kg]\",\"搬送ｲﾅｰｼｬ[kgm^2]\")","v":"搬送質量[kg]"},null,20,null,null,null,null,null,null,null,null,null,null,null,null,null,null,null,null,null,null,null,null,null,null,null,null,null,null,null,null,null,null,null,null,null,null,null,null,"減速時刻",{"$f":"AP12+AP14","v":0.33333333333333337},"s"]
[null,null,null,null,null,null,null,null,null,null,null,null,null,null,null,null,null,null,null,null,null,null,null,null,null,null,null,null,null,null,null,null,null,null,null,null,null,null,null,null,"減速位置",{"$f":"AP13+AP15","v":48.852819260399833},"㎜"]
["<3>","速度[㎜/s]",null,150,null,null,"●計算結果",null,null,null,null,null,null,null,null,null,null,null,null,null,null,null,null,null,null,null,null,null,null,null,null,null,null,null,null,null,null,null,null,null,"TotalTime",{"$f":"AP14+AP12+AP10","v":0.34862907652800229},"s"]
[null,null,null,null,null,null,null,null,null,null,null,null,null,null,null,null,null,null,null,null,null,null,null,null,null,null,null,null,null,null,"運転姿勢","←初期値",null,null,null,null,null,null,null,null,"Spdτ",{"$f":"1/N12","v":4.0816326530612249E-3},"s"]
["<4>","加速度[G]",null,1,null,null,"位置決め時間 [s]",null,{"$f":"LOOKUP((D14-D24),AV31:AV3231,AT31:AT3231)","v":0.47158688652595909},null,null,null,null,null,null,null,null,null,null,null,null,null,null,null,null,null,null,null,null,null,"水平","水平",null,null,null,null,null,null,null,null,"Posτ",{"$f":"1/N11","v":3.3333333333333333E-2},"s"]
[null,null,null,null,null,null,null,null,null,null,null,null,null,null,null,null,null,null,null,null,null,null,null,null,null,null,null,null,null,null,"垂直",null,null,null,null,null,null,null,null,null,"収束時間",{"$f":"I20-AP18","v":0.1229578099979568},"s"]
["<5>","減速度[G]",null,1]
[]
["<6>","位置決め幅 [㎜]",null,0.1,null,null,null,null,null,{"$f":"IF(N9<=I20,\"位置決め時間を正しく計算できていません\",\"※位置決め幅に到達するまでの時間を表します。\")","v":"※位置決め幅に到達するまでの時間を表します。"}]
[]
[]
[]
[1,{"$f":"A28+1","v":2},3,4,5,6,7,8,9,10,11,12,13,14,15,{"$f":"O28+1","v":16},{"$f":"P28+1","v":17},{"$f":"Q28+1","v":18},{"$f":"R28+1","v":19},{"$f":"S28+1","v":20},21,22,23,24,25,26,27,28,29,30,31,32,33,34,35,36,37,38,39,40,41,42,43,44,45,46,47,48]
[null,null,null,null,null,null,null,null,null,null,null,null,null,null,"↓↓↓↓↓↓↓↓　フォント色を白にする列　O29～U193　↓↓↓↓↓↓↓↓",null,null,null,null,null,null,null,null,null,null,null,null,null,null,null,null,null,null,null,null,null,null,null,null,null,null,null,null,null,"↓↓↓↓↓↓↓↓↓↓↓↓↓↓↓　フォント色を白に、数式は非表示に、する列　AS29～BB3231　↓↓↓↓↓↓↓↓↓↓↓↓↓↓↓"]
[null,"可搬質量","加減速度","最高速度","実加速度","到達速度","運転時間","三角速度",null,null,null,null,null,null,"№","メカ型式リスト","絞込み","ﾀｲﾌﾟﾘｽﾄ","ﾘｰﾄﾞﾘｽﾄ","ｽﾄﾛｰｸﾘｽﾄ","型式総数",null,{"$f":"DataSerch!B1","v":"メカ機種データレコード"},null,null,null,null,null,null,null,null,null,null,null,null,null,null,null,null,null,null,null,null,null,"№","時刻","位置計画","位置"]
[{"$f":"A30+1","v":1},11,1.5,150,14709.975,150,0.3435304954631126,857.61223755261324,null,null,null,null,null,null,1,"ISB-SXM-60","RCS4-SA4C-60","ISB",2.5,50,84,null,"ﾚｺｰﾄﾞ№",{"$f":"DataSerch!$C$2","v":"ｱｸﾁｭｴｰﾀ型式"},null,{"$f":"DataSerch!$E$2","v":0},{"$f":"DataSerch!$F$2","v":0},{"$f":"DataSerch!$G$2","v":0},{"$f":"DataSerch!$H$2","v":"最小ｽﾄﾛｰｸ"},{"$f":"DataSerch!$I$2","v":"最大ｽﾄﾛｰｸ"},{"$f":"DataSerch!$J$2","v":"動作種別"},{"$f":"DataSerch!$K$2","v":0},null,null,null,null,null,null,null,null,null,null,null,null,0,{"$f":"$AP$18/$N$7*AS31","v":0},0,0]
[2,17,1.2,150,11767.98,150,0.34607978599555744,767.07170460133648,null,null,null,null,null,null,{"$f":"O31+1","v":2},"ISB-MXM-100","RCS4-SA4R-60","ISDB",5,100,"絞込み数",null,{"$f":"DataSerch!$B$3","v":69},{"$f":"DataSerch!$C$3","v":"RCS4-SA4C-60"},null,{"$f":"DataSerch!$E$4","v":"[kg]"},{"$f":"DataSerch!$F$4","v":"[mm]"},{"$f":"DataSerch!$G$4","v":"[mm]"},{"$f":"DataSerch!$H$4","v":"[mm]"},{"$f":"DataSerch!$I$4","v":"[mm]"},{"$f":"DataSerch!$J$4","v":"0/1"},{"$f":"DataSerch!$K$4","v":"[K]"},null,null,null,null,null,null,null,null,null,null,null,null,{"$f":"AS31+1","v":1},2.1309845753545372E-4,{"$f":"IF(($N$4*AT32^2/2)<=$AP$13,($N$4*AT32^2/2), IF(($AP$13+$N$6*(AT32-$AP$12))<=$AP$17, ($AP$13+$N$6*(AT32-$AP$12)), IF(AU31<$D$14, ($AP$17+($N$6-$N$5*(AT32-$AP$16)/2)*(AT32-$AP$16)), $D$14)))","v":2.2266465917695718E-4},{"$f":"( $AP$6*AU32 + $AP$7*AU31 + $AP$9*AV31 )/$AP$8","v":7.0947461209154728E-7}]
[3,20,0.3,150,2941.9949999999999,150,0.38431914398222977,383.53585230066824,null,null,null,null,null,null,3,"ISB-MXM-200","RCS4-SA6C-100","SSP",10,150,16,null,null,null,null,{"$f":"DataSerch!$E$5","v":0},{"$f":"DataSerch!$F$5","v":0},{"$f":"DataSerch!$G$5","v":0},{"$f":"DataSerch!$H$5","v":50},{"$f":"DataSerch!$I$5","v":500},{"$f":"DataSerch!$J$5","v":0},null,null,null,null,null,null,null,null,null,null,null,null,null,{"$f":"AS32+1","v":2},4.2619691507090745E-4,8.9065863670782872E-4,{"$f":"( $AP$6*AU33 + $AP$7*AU32 + $AP$9*AV32 )/$AP$8","v":4.2523264860523971E-6}]
[4,20,0.5,150,4903.3249999999998,150,0.36392481972267116,495.14265621131858,null,null,null,null,null,null,4,"ISB-LXM-200","RCS4-SA6R-100","RCS4",16,200,null,null,null,null,null,null,null,null,null,null,null,null,null,null,null,null,null,null,null,null,null,null,null,null,3,6.3929537260636114E-4,2.0039819325926144E-3,1.3448398135901508E-5]
[5,20,0.7,150,6864.6549999999997,150,0.35518439504000321,585.86069163240506,null,null,null,null,null,null,5,"ISB-LXM-400","RCS4-SA7C-200","RCS3","- - -",250,"ﾘｰﾄﾞ総数",null,"リードデータレコード",null,null,null,null,null,null,null,null,null,null,null,null,null,null,null,null,null,null,null,null,null,4,8.5239383014181489E-4,3.5626345468313149E-3,3.1099562392626977E-5]
[6,20,1,150,9806.65,150,0.34862907652800224,700.23745972348547,null,null,null,null,null,null,6,"ISB-SXL-60","RCS4-SA7R-200","RCS2","- - -",300,4,null,"リスト№",{"$f":"DataSerch!$F$24","v":"ﾘｰﾄﾞ長"},{"$f":"DataSerch!$G$24","v":0},{"$f":"DataSerch!$H$24","v":"水平定格加速度"},{"$f":"DataSerch!$I$24","v":"垂直定格加速度"},{"$f":"DataSerch!$J$24","v":"水平最大加速度"},{"$f":"DataSerch!$K$24","v":"垂直最大加速度"},{"$f":"DataSerch!$L$24","v":0},{"$f":"DataSerch!$M$24","v":0},{"$f":"DataSerch!$N$24","v":0},{"$f":"DataSerch!$O$24","v":"ｷﾞｱ比分子"},{"$f":"DataSerch!$P$24","v":"ｷﾞｱ比分母"},{"$f":"DataSerch!$Q$24","v":0},{"$f":"DataSerch!$R$24","v":"ｽﾄﾛｰｸ刻み"},null,null,null,null,null,null,null,null,5,1.0654922876772686E-3,5.5666164794239293E-3,5.9989836917498951E-5]
[7,-1,-1,-1,-1,-1,-1,-1,null,null,null,null,null,null,7,"ISB-MXL-100","RCS4-SA8C-400",null,"- - -",350,null,null,null,null,null,null,null,null,null,null,null,null,null,null,null,null,null,null,null,null,null,null,null,null,6,1.2785907452127223E-3,8.0159277303704576E-3,1.028854979856369E-4]
[8,-1,-1,-1,-1,-1,-1,-1,null,null,null,null,null,null,8,"ISB-MXL-200","RCS4-SA8R-400",null,"- - -",400,"ｽﾄﾛｰｸ総数",null,{"$f":"DataSerch!$D$35","v":1},{"$f":"DataSerch!$F$25","v":"[mm]"},{"$f":"DataSerch!$G$25","v":"[kgm^2]"},{"$f":"DataSerch!$H$25","v":"[m/s^2]"},{"$f":"DataSerch!$I$25","v":"[m/s^2]"},{"$f":"DataSerch!$J$25","v":"[m/s^2]"},{"$f":"DataSerch!$K$25","v":"[m/s^2]"},{"$f":"DataSerch!$L$25","v":"[Nm]"},{"$f":"DataSerch!$M$25","v":"[Nms]"},{"$f":"DataSerch!$N$25","v":"[Nm]"},{"$f":"DataSerch!$O$25","v":0},{"$f":"DataSerch!$P$25","v":0},{"$f":"DataSerch!$Q$25","v":0},{"$f":"DataSerch!$R$25","v":"[mm]"},null,null,null,null,null,null,null,null,7,1.4916892027481761E-3,1.0910568299670902E-2,1.6253519354448152E-4]
[9,-1,-1,-1,-1,-1,-1,-1,null,null,null,null,null,null,9,"ISB-LXL-200","RCS4-WSA10C-60",null,null,450,10,null,null,{"$f":"LOOKUP(W38,DataSerch!$B$26:$B$33,DataSerch!$F$26:$F$33)","v":2.5},{"$f":"LOOKUP(W38,DataSerch!$B$26:$B$33,DataSerch!$G$26:$G$33)","v":0},{"$f":"LOOKUP(W38,DataSerch!$B$26:$B$33,DataSerch!$H$26:$H$33)","v":2.9419949999999999},{"$f":"LOOKUP(W38,DataSerch!$B$26:$B$33,DataSerch!$I$26:$I$33)","v":2.9419949999999999},{"$f":"LOOKUP(W38,DataSerch!$B$26:$B$33,DataSerch!$J$26:$J$33)","v":14.709975},{"$f":"LOOKUP(W38,DataSerch!$B$26:$B$33,DataSerch!$K$26:$K$33)","v":14.709975},null,null,null,{"$f":"LOOKUP(W38,DataSerch!$B$26:$B$33,DataSerch!$O$26:$O$33)","v":1},{"$f":"LOOKUP(W38,DataSerch!$B$26:$B$33,DataSerch!$P$26:$P$33)","v":1},null,{"$f":"LOOKUP(W38,DataSerch!$B$26:$B$33,DataSerch!$R$26:$R$33)","v":50},null,null,null,null,null,null,null,null,8,1.7047876602836298E-3,1.425053818732526E-2,2.4167005555179202E-4]
[10,-1,-1,-1,-1,-1,-1,-1,null,null,null,null,null,null,10,"ISB-LXL-400","RCS4-WSA10R-60",null,null,500,null,null,null,null,null,null,null,null,null,null,null,null,null,null,null,null,null,null,null,null,null,null,null,null,9,1.9178861178190834E-3,1.8035837393333528E-2,3.4300381159776012E-4]
[11,-1,-1,-1,-1,-1,-1,-1,null,null,null,null,null,null,11,"ISDB-S-60","RCS4-WSA12C-100",null,null,"- - -",null,null,"ストロークデータレコード",null,null,null,null,null,null,null,null,null,null,null,null,null,null,null,null,null,null,null,null,null,10,2.1309845753545373E-3,2.2266465917695717E-2,4.692328958158027E-4]
[12,-1,-1,-1,-1,-1,-1,-1,null,null,null,null,null,null,12,"ISDB-M-100","RCS4-WSA12R-100",null,null,"- - -",null,null,"リスト№",{"$f":"DataSerch!$E$58","v":"ｽﾄﾛｰｸ長"},{"$f":"DataSerch!$G$58","v":"有効ｽﾄﾛｰｸ補正"},{"$f":"DataSerch!$H$58","v":0},{"$f":"DataSerch!$I$58","v":"基準ｹﾞｲﾝ用搬送質量"},{"$f":"DataSerch!$J$58","v":"水平可搬質量"},{"$f":"DataSerch!$K$58","v":"垂直可搬質量"},{"$f":"DataSerch!$L$58","v":"最大速度"},{"$f":"DataSerch!$M$58","v":"位置ｹﾞｲﾝ"},{"$f":"DataSerch!$N$58","v":"FFｹﾞｲﾝ"},{"$f":"DataSerch!$O$58","v":"速度制御帯域"},{"$f":"DataSerch!$P$58","v":0},{"$f":"DataSerch!$Q$58","v":0},{"$f":"DataSerch!$R$58","v":0},{"$f":"DataSerch!$S$58","v":0},{"$f":"DataSerch!$T$58","v":0},null,null,null,null,null,null,11,2.3440830328899909E-3,2.6942423760411813E-2,6.2303655908656631E-4]
[13,-1,-1,-1,-1,-1,-1,-1,null,null,null,null,null,null,13,"ISDB-M-200","RCS4-WSA14C-200",null,null,"- - -",null,null,null,null,null,null,null,null,null,null,null,null,null,null,null,null,null,null,null,null,null,null,null,null,12,2.5571814904254446E-3,3.2063710921481831E-2,8.0707697853964731E-4]
[14,-1,-1,-1,-1,-1,-1,-1,null,null,null,null,null,null,14,"ISDB-L-200","RCS4-WSA14R-200",null,null,"- - -",null,null,{"$f":"MATCH(C10,DataSerch!$E$60:$E$109,0)","v":1},{"$f":"DataSerch!$E$59","v":"[mm]"},{"$f":"DataSerch!$G$59","v":"[mm]"},{"$f":"DataSerch!$H$59","v":"[kg/mm]"},{"$f":"DataSerch!$I$59","v":"[kg]"},{"$f":"DataSerch!$J$59","v":"[kg]"},{"$f":"DataSerch!$K$59","v":"[kg]"},{"$f":"DataSerch!$L$59","v":"[mm/s]"},{"$f":"DataSerch!$M$59","v":"[1/s]"},{"$f":"DataSerch!$N$59","v":"[%]"},{"$f":"DataSerch!$O$59","v":"[rad/s]"},{"$f":"DataSerch!$P$59","v":0},{"$f":"DataSerch!$Q$59","v":"[s]"},{"$f":"DataSerch!$R$59","v":0},{"$f":"DataSerch!$S$59","v":0},{"$f":"DataSerch!$T$59","v":"[Nm/rad]"},null,null,null,null,null,null,13,2.7702799479608982E-3,3.7630327400905758E-2,1.0239993663575028E-3]
[15,-1,-1,-1,-1,-1,-1,-1,null,null,null,null,null,null,15,"ISDB-L-400","RCS4-WSA16C-400",null,null,"- - -",null,null,null,{"$f":"LOOKUP(W44,DataSerch!$D$60:$D$109,DataSerch!$E$60:$E$109)","v":50},{"$f":"LOOKUP(W44,DataSerch!$D$60:$D$109,DataSerch!$G$60:$G$109)","v":0},{"$f":"LOOKUP(W44,DataSerch!$D$60:$D$109,DataSerch!$H$60:$H$109)","v":0},{"$f":"LOOKUP(W44,DataSerch!$D$60:$D$109,DataSerch!$I$60:$I$109)","v":20},{"$f":"LOOKUP(W44,DataSerch!$D$60:$D$109,DataSerch!$J$60:$J$109)","v":20},{"$f":"LOOKUP(W44,DataSerch!$D$60:$D$109,DataSerch!$K$60:$K$109)","v":12},{"$f":"LOOKUP(W44,DataSerch!$D$60:$D$109,DataSerch!$L$60:$L$109)","v":150},{"$f":"LOOKUP(W44,DataSerch!$D$60:$D$109,DataSerch!$M$60:$M$109)","v":30},{"$f":"LOOKUP(W44,DataSerch!$D$60:$D$109,DataSerch!$N$60:$N$109)","v":0},{"$f":"LOOKUP(W44,DataSerch!$D$60:$D$109,DataSerch!$O$60:$O$109)","v":245},{"$f":"LOOKUP(W44,DataSerch!$D$60:$D$109,DataSerch!$P$60:$P$109)","v":0},{"$f":"LOOKUP(W44,DataSerch!$D$60:$D$109,DataSerch!$Q$60:$Q$109)","v":0},{"$f":"LOOKUP(W44,DataSerch!$D$60:$D$109,DataSerch!$R$60:$R$109)","v":0},{"$f":"LOOKUP(W44,DataSerch!$D$60:$D$109,DataSerch!$S$60:$S$109)","v":0},{"$f":"LOOKUP(W44,DataSerch!$D$60:$D$109,DataSerch!$T$60:$T$109)","v":0},null,null,null,null,null,null,14,2.9833784054963523E-3,4.3642273198683607E-2,1.276432077886E-3]
[16,-1,-1,-1,-1,-1,-1,-1,null,null,null,null,null,null,16,"ISDBCR-S-60","RCS4-WSA16R-400",null,null,"- - -",null,null,null,null,null,null,null,null,null,null,null,null,null,null,null,null,null,null,null,null,null,null,null,null,15,3.1964768630318059E-3,5.0099548314815362E-2,1.566986719056022E-3]
[17,-1,-1,-1,-1,-1,-1,-1,null,null,null,null,null,null,17,"ISDBCR-M-100","- - -",null,null,"- - -",null,null,null,null,null,null,null,null,null,null,null,null,null,null,null,null,null,null,null,null,null,null,null,null,16,3.4095753205672596E-3,5.7002152749301038E-2,1.8982582531205194E-3]
[18,-1,-1,-1,-1,-1,-1,-1,null,null,null,null,null,null,18,"ISDBCR-M-200","- - -",null,null,"- - -",null,null,null,null,null,null,null,null,null,null,null,null,null,null,null,null,null,null,null,null,null,null,null,null,17,3.6226737781027132E-3,6.4350086502140622E-2,2.2728251067113733E-3]
[19,-1,-1,-1,-1,-1,-1,-1,null,null,null,null,null,null,19,"ISDBCR-L-200","- - -",null,null,"- - -",null,null,null,null,null,null,null,null,null,null,null,null,null,null,null,null,null,null,null,null,null,null,null,null,18,3.8357722356381668E-3,7.2143349573334112E-2,2.6932492752203994E-3]
[20,-1,-1,-1,-1,-1,-1,-1,null,null,null,null,null,null,20,"ISDBCR-L-400","- - -",null,null,"- - -","リンクリスト総数",null,null,null,null,null,null,null,null,null,null,null,null,null,null,null,null,null,null,null,null,null,null,null,19,4.0488706931736205E-3,8.0381941962881537E-2,3.1620764275088046E-3]
[21,-1,-1,-1,-1,-1,-1,-1,null,null,null,null,null,null,21,"SSPA-SXM-200","- - -",null,null,"- - -",6,null,null,null,null,null,null,null,null,null,null,null,null,null,null,null,null,null,null,null,null,null,null,null,20,4.2619691507090746E-3,8.9065863670782869E-2,3.6818360099493729E-3]
[22,-1,-1,-1,-1,-1,-1,-1,null,null,null,null,null,null,22,"SSPA-MXM-400","- - -",null,null,"- - -",null,null,null,null,null,null,null,null,null,null,null,null,null,null,null,null,null,null,null,null,null,null,null,null,21,4.4750676082445278E-3,9.8195114697038094E-2,4.2550413498056343E-3]
[23,-1,-1,-1,-1,-1,-1,-1,null,null,null,null,null,null,23,"SSPA-LXM-750","- - -",null,null,"- - -",null,null,null,null,null,null,null,null,null,null,null,null,null,null,null,null,null,null,null,null,null,null,null,null,22,4.6881660657799818E-3,0.10776969504164725,4.8841897579522415E-3]
[24,-1,-1,-1,-1,-1,-1,-1,null,null,null,null,null,null,24,"SSPDACR-S-200","- - -",null,null,"- - -",null,null,null,null,null,null,null,null,null,null,null,null,null,null,null,null,null,null,null,null,null,null,null,null,23,4.9012645233154359E-3,0.11778960470461035,5.5717626309407511E-3]
[25,-1,-1,-1,-1,-1,-1,-1,null,null,null,null,null,null,25,"SSPDACR-M-400","- - -",null,null,"- - -",null,null,null,null,null,null,null,null,null,null,null,null,null,null,null,null,null,null,null,null,null,null,null,null,24,5.1143629808508891E-3,0.12825484368592732,6.3202255524149849E-3]
[26,-1,-1,-1,-1,-1,-1,-1,null,null,null,null,null,null,26,"SSPDACR-L-750","- - -",null,null,"- - -",null,null,null,null,null,null,null,null,null,null,null,null,null,null,null,null,null,null,null,null,null,null,null,null,25,5.3274614383863432E-3,0.13916541198559823,7.1320283938801059E-3]
[27,-1,-1,-1,-1,-1,-1,-1,null,null,null,null,null,null,27,"RCS3-SA8C-100","- - -",null,null,"- - -",null,null,null,null,null,null,null,null,null,null,null,null,null,null,null,null,null,null,null,null,null,null,null,null,26,5.5405598959217964E-3,0.15052130960362303,8.0096054148295487E-3]
[28,-1,-1,-1,-1,-1,-1,-1,null,null,null,null,null,null,28,"RCS3-SA8C-150","- - -",null,null,"- - -",null,null,null,null,null,null,null,null,null,null,null,null,null,null,null,null,null,null,null,null,null,null,null,null,27,5.7536583534572505E-3,0.16232253654000178,8.9553753622338642E-3]
[29,-1,-1,-1,-1,-1,-1,-1,null,null,null,null,null,null,29,"RCS3-SS8C-100","- - -",null,null,"- - -",null,null,null,null,null,null,null,null,null,null,null,null,null,null,null,null,null,null,null,null,null,null,null,null,28,5.9667568109927046E-3,0.17456909279473443,9.9717415693955855E-3]
[30,-1,-1,-1,-1,-1,-1,-1,null,null,null,null,null,null,30,"RCS3-SS8C-150","- - -",null,null,"- - -",null,null,null,null,null,null,null,null,null,null,null,null,null,null,null,null,null,null,null,null,null,null,null,null,29,6.1798552685281578E-3,0.18726097836782096,1.1061092054174108E-2]
[31,-1,-1,-1,-1,-1,-1,-1,null,null,null,null,null,null,31,"RCS3CR-SA8C-100","- - -",null,null,"- - -",null,null,null,null,null,null,null,null,null,null,null,null,null,null,null,null,null,null,null,null,null,null,null,null,30,6.3929537260636118E-3,0.20039819325926145,1.2225799616584645E-2]
[32,-1,-1,-1,-1,-1,-1,-1,null,null,null,null,null,null,32,"RCS3CR-SA8C-150","- - -",null,null,"- - -",null,null,null,null,null,null,null,null,null,null,null,null,null,null,null,null,null,null,null,null,null,null,null,null,31,6.606052183599065E-3,0.2139807374690558,1.3468221935775213E-2]
[33,-1,-1,-1,-1,-1,-1,-1,null,null,null,null,null,null,33,"RCS3CR-SS8C-100","- - -",null,null,"- - -",null,null,null,null,null,null,null,null,null,null,null,null,null,null,null,null,null,null,null,null,null,null,null,null,32,6.8191506411345191E-3,0.22800861099720415,1.4790701666385627E-2]
[34,-1,-1,-1,-1,-1,-1,-1,null,null,null,null,null,null,34,"RCS3CR-SS8C-150","- - -",null,null,"- - -",null,null,null,null,null,null,null,null,null,null,null,null,null,null,null,null,null,null,null,null,null,null,null,null,33,7.0322490986699732E-3,0.24248181384370637,1.6195566534292438E-2]
[35,-1,-1,-1,-1,-1,-1,-1,null,null,null,null,null,null,35,"RCS3-SA8R-100","- - -",null,null,"- - -",null,null,null,null,null,null,null,null,null,null,null,null,null,null,null,null,null,null,null,null,null,null,null,null,34,7.2453475562054264E-3,0.25740034600856249,1.7685129431743732E-2]
[36,-1,-1,-1,-1,-1,-1,-1,null,null,null,null,null,null,36,"RCS3-SA8R-150","- - -",null,null,"- - -",null,null,null,null,null,null,null,null,null,null,null,null,null,null,null,null,null,null,null,null,null,null,null,null,35,7.4584460137408805E-3,0.27276420749177255,1.9261688511887674E-2]
[37,-1,-1,-1,-1,-1,-1,-1,null,null,null,null,null,null,37,"RCS3-SS8R-100","- - -",null,null,"- - -",null,null,null,null,null,null,null,null,null,null,null,null,null,null,null,null,null,null,null,null,null,null,null,null,36,7.6715444712763337E-3,0.28857339829333645,2.0927527282698661E-2]
[38,-1,-1,-1,-1,-1,-1,-1,null,null,null,null,null,null,38,"RCS3-SS8R-150","- - -",null,null,"- - -",null,null,null,null,null,null,null,null,null,null,null,null,null,null,null,null,null,null,null,null,null,null,null,null,37,7.8846429288117869E-3,0.3048279184132543,2.2684914700304901E-2]
[39,-1,-1,-1,-1,-1,-1,-1,null,null,null,null,null,null,39,"RCS2-SA4C-20","- - -",null,null,"- - -",null,null,null,null,null,null,null,null,null,null,null,null,null,null,null,null,null,null,null,null,null,null,null,null,38,8.097741386347241E-3,0.32152776785152615,2.4536105261721303E-2]
[40,-1,-1,-1,-1,-1,-1,-1,null,null,null,null,null,null,40,"RCS2-SA5C-20","- - -",null,null,"- - -",null,null,null,null,null,null,null,null,null,null,null,null,null,null,null,null,null,null,null,null,null,null,null,null,39,8.310839843882695E-3,0.33867294660815184,2.6483339096991371E-2]
[41,-1,-1,-1,-1,-1,-1,-1,null,null,null,null,null,null,41,"RCS2-SA6C-30","- - -",null,null,"- - -",null,null,null,null,null,null,null,null,null,null,null,null,null,null,null,null,null,null,null,null,null,null,null,null,40,8.5239383014181491E-3,0.35626345468313148,2.8528842060741938E-2]
[42,-1,-1,-1,-1,-1,-1,-1,null,null,null,null,null,null,42,"RCS2-SA7C-60","- - -",null,null,"- - -",null,null,null,null,null,null,null,null,null,null,null,null,null,null,null,null,null,null,null,null,null,null,null,null,41,8.7370367589536032E-3,0.37429929207646501,3.0674825823154464E-2]
[43,-1,-1,-1,-1,-1,-1,-1,null,null,null,null,null,null,43,"RCS2-SS7C-60","- - -",null,null,"- - -",null,null,null,null,null,null,null,null,null,null,null,null,null,null,null,null,null,null,null,null,null,null,null,null,42,8.9501352164890555E-3,0.39278045878815238,3.2923487960356587E-2]
[44,-1,-1,-1,-1,-1,-1,-1,null,null,null,null,null,null,44,"RCS2CR-SA4C-20","- - -",null,null,"- - -",null,null,null,null,null,null,null,null,null,null,null,null,null,null,null,null,null,null,null,null,null,null,null,null,43,9.1632336740245096E-3,0.4117069548181938,3.5277012044237686E-2]
[45,-1,-1,-1,-1,-1,-1,-1,null,null,null,null,null,null,45,"RCS2CR-SA5C-20","- - -",null,null,"- - -",null,null,null,null,null,null,null,null,null,null,null,null,null,null,null,null,null,null,null,null,null,null,null,null,44,9.3763321315599637E-3,0.43107878016658902,3.7737567731692054E-2]
[46,-1,-1,-1,-1,-1,-1,-1,null,null,null,null,null,null,46,"RCS2CR-SA6C-30","- - -",null,null,"- - -",null,null,null,null,null,null,null,null,null,null,null,null,null,null,null,null,null,null,null,null,null,null,null,null,45,9.5894305890954178E-3,0.45089593483333829,4.0307310853293365E-2]
[47,-1,-1,-1,-1,-1,-1,-1,null,null,null,null,null,null,47,"RCS2CR-SA7C-60","- - -",null,null,"- - -",null,null,null,null,null,null,null,null,null,null,null,null,null,null,null,null,null,null,null,null,null,null,null,null,46,9.8025290466308718E-3,0.47115841881844139,4.2988383501404069E-2]
[48,-1,-1,-1,-1,-1,-1,-1,null,null,null,null,null,null,48,"RCS2CR-SS7C-60","- - -",null,null,"- - -",null,null,null,null,null,null,null,null,null,null,null,null,null,null,null,null,null,null,null,null,null,null,null,null,47,1.0015627504166324E-2,0.49186623212189828,4.5782914117723297E-2]
[49,-1,-1,-1,-1,-1,-1,-1,null,null,null,null,null,null,49,"RCS2-SA4D-20","- - -",null,null,"- - -",null,null,null,null,null,null,null,null,null,null,null,null,null,null,null,null,null,null,null,null,null,null,null,null,48,1.0228725961701778E-2,0.51301937474370929,4.8693017580276859E-2]
[50,-1,-1,-1,-1,-1,-1,-1,null,null,null,null,null,null,50,"RCS2-SA5D-20","- - -",null,null,"- - -",null,null,null,null,null,null,null,null,null,null,null,null,null,null,null,null,null,null,null,null,null,null,null,null,49,1.0441824419237232E-2,0.53461784668387413,5.1720795289852892E-2]
[51,-1,-1,-1,-1,-1,-1,-1,null,null,null,null,null,null,51,"RCS2-SA6D-30","- - -",null,null,null,null,null,null,null,null,null,null,null,null,null,null,null,null,null,null,null,null,null,null,null,null,null,null,null,50,1.0654922876772686E-2,0.55666164794239292,5.4868335255886663E-2]
[52,-1,-1,-1,-1,-1,-1,-1,null,null,null,null,null,null,52,"RCS2CR-SA5D-20","- - -",null,null,null,null,null,null,null,null,null,null,null,null,null,null,null,null,null,null,null,null,null,null,null,null,null,null,null,51,1.086802133430814E-2,0.57915077851926566,5.813771218179814E-2]
[53,-1,-1,-1,-1,-1,-1,-1,null,null,null,null,null,null,53,"RCS2CR-SA6D-30","- - -",null,null,null,null,null,null,null,null,null,null,null,null,null,null,null,null,null,null,null,null,null,null,null,null,null,null,null,52,1.1081119791843593E-2,0.60208523841449213,6.1530987549785643E-2]
[54,-1,-1,-1,-1,-1,-1,-1,null,null,null,null,null,null,54,"RCS2-SA4R-20","- - -",null,null,null,null,null,null,null,null,null,null,null,null,null,null,null,null,null,null,null,null,null,null,null,null,null,null,null,53,1.1294218249379047E-2,0.62546502762807255,6.5050209705079201E-2]
[55,-1,-1,-1,-1,-1,-1,-1,null,null,null,null,null,null,55,"RCS2-SA5R-20","- - -",null,null,null,null,null,null,null,null,null,null,null,null,null,null,null,null,null,null,null,null,null,null,null,null,null,null,null,54,1.1507316706914501E-2,0.64929014616000713,6.8697413939657018E-2]
[56,-1,-1,-1,-1,-1,-1,-1,null,null,null,null,null,null,56,"RCS2-SA6R-30","- - -",null,null,null,null,null,null,null,null,null,null,null,null,null,null,null,null,null,null,null,null,null,null,null,null,null,null,null,55,1.1720415164449955E-2,0.67356059401029555,7.2474622575428346E-2]
[57,-1,-1,-1,-1,-1,-1,-1,null,null,null,null,null,null,57,"RCS2-SA7R-60","- - -",null,null,null,null,null,null,null,null,null,null,null,null,null,null,null,null,null,null,null,null,null,null,null,null,null,null,null,56,1.1933513621985409E-2,0.6982763711789377,7.6383845046886403E-2]
[58,-1,-1,-1,-1,-1,-1,-1,null,null,null,null,null,null,58,"RCS2-SS7R-60","- - -",null,null,null,null,null,null,null,null,null,null,null,null,null,null,null,null,null,null,null,null,null,null,null,null,null,null,null,57,1.2146612079520861E-2,0.72343747766593369,8.0427077983234493E-2]
[59,-1,-1,-1,-1,-1,-1,-1,null,null,null,null,null,null,59,"RCS2-RA4C-20","- - -",null,null,null,null,null,null,null,null,null,null,null,null,null,null,null,null,null,null,null,null,null,null,null,null,null,null,null,58,1.2359710537056316E-2,0.74904391347128385,8.460630528998879E-2]
[60,-1,-1,-1,-1,-1,-1,-1,null,null,null,null,null,null,60,"RCS2-RA4C-30","- - -",null,null,null,null,null,null,null,null,null,null,null,null,null,null,null,null,null,null,null,null,null,null,null,null,null,null,null,59,1.257280899459177E-2,0.77509567859498785,8.8923498230061071E-2]
[61,-1,-1,-1,-1,-1,-1,-1,null,null,null,null,null,null,61,"RCS2-RA5C-60","- - -",null,null,null,null,null,null,null,null,null,null,null,null,null,null,null,null,null,null,null,null,null,null,null,null,null,null,null,60,1.2785907452127224E-2,0.80159277303704579,9.3380615504324832E-2]
[62,-1,-1,-1,-1,-1,-1,-1,null,null,null,null,null,null,62,"RCS2-RA5C-100","- - -",null,null,null,null,null,null,null,null,null,null,null,null,null,null,null,null,null,null,null,null,null,null,null,null,null,null,null,61,1.2999005909662678E-2,0.82853519679745768,9.7979603331667886E-2]
[63,-1,-1,-1,-1,-1,-1,-1,null,null,null,null,null,null,63,"ISB-SXM-100","- - -",null,null,null,null,null,null,null,null,null,null,null,null,null,null,null,null,null,null,null,null,null,null,null,null,null,null,null,62,1.321210436719813E-2,0.85592294987622319,0.10272239552853488]
[64,-1,-1,-1,-1,-1,-1,-1,null,null,null,null,null,null,64,"ISB-MXM-400","- - -",null,null,null,null,null,null,null,null,null,null,null,null,null,null,null,null,null,null,null,null,null,null,null,null,null,null,null,63,1.3425202824733584E-2,0.88375603227334287,0.10761091358796289]
[{"$f":"A94+1","v":65},-1,-1,-1,-1,-1,-1,-1,null,null,null,null,null,null,65,"ISB-SXL-100","- - -",null,null,null,null,null,null,null,null,null,null,null,null,null,null,null,null,null,null,null,null,null,null,null,null,null,null,null,64,{"$f":"$AP$18/$N$7*AS95","v":1.3638301282269038E-2},0.91203444398881661,0.11264706675811341]
[66,-1,-1,-1,-1,-1,-1,-1,null,null,null,null,null,null,{"$f":"O95+1","v":66},"ISB-MXL-400","- - -",null,null,null,null,null,null,null,null,null,null,null,null,null,null,null,null,null,null,null,null,null,null,null,null,null,null,null,65,1.3851399739804492E-2,{"$f":"IF(($N$4*AT96^2/2)<=$AP$13,($N$4*AT96^2/2), IF(($AP$13+$N$6*(AT96-$AP$12))<=$AP$17, ($AP$13+$N$6*(AT96-$AP$12)), IF(AU95<$D$14, ($AP$17+($N$6-$N$5*(AT96-$AP$16)/2)*(AT96-$AP$16)), $D$14)))","v":0.94075818502264408},0.11783275212030381]
[67,-1,-1,-1,-1,-1,-1,-1,null,null,null,null,null,null,{"$f":"O96+1","v":67},"ISDB-S-100","- - -",null,null,null,null,null,null,null,null,null,null,null,null,null,null,null,null,null,null,null,null,null,null,null,null,null,null,null,{"$f":"AS96+1","v":66},1.4064498197339946E-2,0.96992725537482549,{"$f":"( $AP$6*AU97 + $AP$7*AU96 + $AP$9*AV96 )/$AP$8","v":0.12316985466654157}]
[68,-1,-1,-1,-1,-1,-1,-1,null,null,null,null,null,null,{"$f":"O97+1","v":68},"ISDB-M-400","- - -",null,null,null,null,null,null,null,null,null,null,null,null,null,null,null,null,null,null,null,null,null,null,null,null,null,null,null,67,1.4277596654875399E-2,0.99954165504536063,0.12866024737656445]
[69,-1,-1,-1,-1,-1,-1,-1,null,null,null,null,null,null,{"$f":"O98+1","v":69},"RCS4-SA4C-60","- - -",null,null,null,null,null,null,null,null,null,null,null,null,null,null,null,null,null,null,null,null,null,null,null,null,null,null,null,68,1.4490695112410853E-2,1.0296013840342499,0.13430579129438963]
[70,-1,-1,-1,-1,-1,-1,-1,null,null,null,null,null,null,70,"RCS4-SA4R-60","- - -",null,null,null,null,null,null,null,null,null,null,null,null,null,null,null,null,null,null,null,null,null,null,null,null,null,null,null,69,1.4703793569946307E-2,1.060106442341493,0.14010833560437522]
[71,-1,-1,-1,-1,-1,-1,-1,null,null,null,null,null,null,71,"RCS4-SA6C-100","- - -",null,null,null,null,null,null,null,null,null,null,null,null,null,null,null,null,null,null,null,null,null,null,null,null,null,null,null,70,1.4916892027481761E-2,1.0910568299670902,0.14606971770679675]
[72,-1,-1,-1,-1,-1,-1,-1,null,null,null,null,null,null,72,"RCS4-SA6R-100","- - -",null,null,null,null,null,null,null,null,null,null,null,null,null,null,null,null,null,null,null,null,null,null,null,null,null,null,null,71,1.5129990485017215E-2,1.1224525469110411,0.1521917632929424]
[73,-1,-1,-1,-1,-1,-1,-1,null,null,null,null,null,null,73,"RCS4-SA7C-200","- - -",null,null,null,null,null,null,null,null,null,null,null,null,null,null,null,null,null,null,null,null,null,null,null,null,null,null,null,72,1.5343088942552667E-2,1.1542826017827308,0.15847625139794988]
[74,-1,-1,-1,-1,-1,-1,-1,null,null,null,null,null,null,74,"RCS4-SA7R-200","- - -",null,null,null,null,null,null,null,null,null,null,null,null,null,null,null,null,null,null,null,null,null,null,null,null,null,null,null,73,1.5556187400088121E-2,1.1862473704130487,0.16492396000804729]
[75,-1,-1,-1,-1,-1,-1,-1,null,null,null,null,null,null,75,"RCS4-SA8C-400","- - -",null,null,null,null,null,null,null,null,null,null,null,null,null,null,null,null,null,null,null,null,null,null,null,null,null,null,null,74,1.5769285857623574E-2,1.2182121390433667,0.17153427822423559]
[76,-1,-1,-1,-1,-1,-1,-1,null,null,null,null,null,null,76,"RCS4-SA8R-400","- - -",null,null,null,null,null,null,null,null,null,null,null,null,null,null,null,null,null,null,null,null,null,null,null,null,null,null,null,75,1.598238431515903E-2,1.2501769076736851,0.17830616980315556]
[77,-1,-1,-1,-1,-1,-1,-1,null,null,null,null,null,null,77,"RCS4-WSA10C-60","- - -",null,null,null,null,null,null,null,null,null,null,null,null,null,null,null,null,null,null,null,null,null,null,null,null,null,null,null,76,1.6195482772694482E-2,1.282141676304003,0.18523860510499571]
[78,-1,-1,-1,-1,-1,-1,-1,null,null,null,null,null,null,78,"RCS4-WSA10R-60","- - -",null,null,null,null,null,null,null,null,null,null,null,null,null,null,null,null,null,null,null,null,null,null,null,null,null,null,null,77,1.6408581230229938E-2,1.3141064449343212,0.19233056105141066]
[79,-1,-1,-1,-1,-1,-1,-1,null,null,null,null,null,null,79,"RCS4-WSA12C-100","- - -",null,null,null,null,null,null,null,null,null,null,null,null,null,null,null,null,null,null,null,null,null,null,null,null,null,null,null,78,1.662167968776539E-2,1.3460712135646391,0.19958102108370762]
[80,-1,-1,-1,-1,-1,-1,-1,null,null,null,null,null,null,80,"RCS4-WSA12R-100","- - -",null,null,null,null,null,null,null,null,null,null,null,null,null,null,null,null,null,null,null,null,null,null,null,null,null,null,null,79,1.6834778145300842E-2,1.378035982194957,0.20698897512129941]
[81,-1,-1,-1,-1,-1,-1,-1,null,null,null,null,null,null,81,"RCS4-WSA14C-200","- - -",null,null,null,null,null,null,null,null,null,null,null,null,null,null,null,null,null,null,null,null,null,null,null,null,null,null,null,80,1.7047876602836298E-2,1.4100007508252754,0.21455341952042209]
[82,-1,-1,-1,-1,-1,-1,-1,null,null,null,null,null,null,82,"RCS4-WSA14R-200","- - -",null,null,null,null,null,null,null,null,null,null,null,null,null,null,null,null,null,null,null,null,null,null,null,null,null,null,null,81,1.7260975060371751E-2,1.4419655194555931,0.22227335703311588]
[83,-1,-1,-1,-1,-1,-1,-1,null,null,null,null,null,null,83,"RCS4-WSA16C-400","- - -",null,null,null,null,null,null,null,null,null,null,null,null,null,null,null,null,null,null,null,null,null,null,null,null,null,null,null,82,1.7474073517907206E-2,1.4739302880859115,0.23014779676646724]
[84,-1,-1,-1,-1,-1,-1,-1,null,null,null,null,null,null,84,"RCS4-WSA16R-400","- - -",null,null,null,null,null,null,null,null,null,null,null,null,null,null,null,null,null,null,null,null,null,null,null,null,null,null,null,83,1.7687171975442659E-2,1.5058950567162295,0.23817575414211092]
[85,-1,-1,-1,-1,-1,-1,-1,null,null,null,null,null,null,null,null,null,null,null,null,null,null,null,null,null,null,null,null,null,null,null,null,null,null,null,null,null,null,null,null,null,null,null,null,84,1.7900270432978111E-2,1.5378598253465472,0.24635625085598986]
[86,-1,-1,-1,-1,-1,-1,-1,null,null,null,null,null,null,null,null,null,null,null,null,null,null,null,null,null,null,null,null,null,null,null,null,null,null,null,null,null,null,null,null,null,null,null,null,85,1.8113368890513567E-2,1.5698245939768656,0.25468831483837173]
[87,-1,-1,-1,-1,-1,-1,-1,null,null,null,null,null,null,null,null,null,null,null,null,null,null,null,null,null,null,null,null,null,null,null,null,null,null,null,null,null,null,null,null,null,null,null,null,86,1.8326467348049019E-2,1.6017893626071835,0.26317098021412016]
[88,-1,-1,-1,-1,-1,-1,-1,null,null,null,null,null,null,null,null,null,null,null,null,null,null,null,null,null,null,null,null,null,null,null,null,null,null,null,null,null,null,null,null,null,null,null,null,87,1.8539565805584475E-2,1.6337541312375019,0.27180328726321912]
[89,-1,-1,-1,-1,-1,-1,-1,null,null,null,null,null,null,null,null,null,null,null,null,null,null,null,null,null,null,null,null,null,null,null,null,null,null,null,null,null,null,null,null,null,null,null,null,88,1.8752664263119927E-2,1.6657188998678198,0.28058428238154892]
[90,-1,-1,-1,-1,-1,-1,-1,null,null,null,null,null,null,null,null,null,null,null,null,null,null,null,null,null,null,null,null,null,null,null,null,null,null,null,null,null,null,null,null,null,null,null,null,89,1.896576272065538E-2,1.6976836684981376,0.28951301804191198]
[91,-1,-1,-1,-1,-1,-1,-1,null,null,null,null,null,null,null,null,null,null,null,null,null,null,null,null,null,null,null,null,null,null,null,null,null,null,null,null,null,null,null,null,null,null,null,null,90,1.9178861178190836E-2,1.729648437128456,0.29858855275530749]
[92,-1,-1,-1,-1,-1,-1,-1,null,null,null,null,null,null,null,null,null,null,null,null,null,null,null,null,null,null,null,null,null,null,null,null,null,null,null,null,null,null,null,null,null,null,null,null,91,1.9391959635726288E-2,1.7616132057587737,0.30780995103245229]
[93,-1,-1,-1,-1,-1,-1,-1,null,null,null,null,null,null,null,null,null,null,null,null,null,null,null,null,null,null,null,null,null,null,null,null,null,null,null,null,null,null,null,null,null,null,null,null,92,1.9605058093261744E-2,1.7935779743890921,0.31717628334554704]
[94,-1,-1,-1,-1,-1,-1,-1,null,null,null,null,null,null,null,null,null,null,null,null,null,null,null,null,null,null,null,null,null,null,null,null,null,null,null,null,null,null,null,null,null,null,null,null,93,1.9818156550797196E-2,1.82554274301941,0.32668662609028648]
[95,-1,-1,-1,-1,-1,-1,-1,null,null,null,null,null,null,null,null,null,null,null,null,null,null,null,null,null,null,null,null,null,null,null,null,null,null,null,null,null,null,null,null,null,null,null,null,94,2.0031255008332648E-2,1.8575075116497279,0.33634006154811102]
[96,-1,-1,-1,-1,-1,-1,-1,null,null,null,null,null,null,null,null,null,null,null,null,null,null,null,null,null,null,null,null,null,null,null,null,null,null,null,null,null,null,null,null,null,null,null,null,95,2.0244353465868104E-2,1.8894722802800463,0.34613567784869992]
[97,-1,-1,-1,-1,-1,-1,-1,null,null,null,null,null,null,null,null,null,null,null,null,null,null,null,null,null,null,null,null,null,null,null,null,null,null,null,null,null,null,null,null,null,null,null,null,96,2.0457451923403557E-2,1.921437048910364,0.35607256893270223]
[98,-1,-1,-1,-1,-1,-1,-1,null,null,null,null,null,null,null,null,null,null,null,null,null,null,null,null,null,null,null,null,null,null,null,null,null,null,null,null,null,null,null,null,null,null,null,null,97,2.0670550380939012E-2,1.9534018175406824,0.36614983451470656]
[99,-1,-1,-1,-1,-1,-1,-1,null,null,null,null,null,null,null,null,null,null,null,null,null,null,null,null,null,null,null,null,null,null,null,null,null,null,null,null,null,null,null,null,null,null,null,null,98,2.0883648838474465E-2,1.9853665861710004,0.37636658004644563]
[100,-1,-1,-1,-1,-1,-1,-1,null,null,null,null,null,null,null,null,null,null,null,null,null,null,null,null,null,null,null,null,null,null,null,null,null,null,null,null,null,null,null,null,null,null,null,null,99,2.1096747296009917E-2,2.0173313548013181,0.3867219166802362]
[101,-1,-1,-1,-1,-1,-1,-1,null,null,null,null,null,null,null,null,null,null,null,null,null,null,null,null,null,null,null,null,null,null,null,null,null,null,null,null,null,null,null,null,null,null,null,null,100,2.1309845753545373E-2,2.0492961234316365,0.39721496123265132]
[102,-1,-1,-1,-1,-1,-1,-1,null,null,null,null,null,null,null,null,null,null,null,null,null,null,null,null,null,null,null,null,null,null,null,null,null,null,null,null,null,null,null,null,null,null,null,null,{"$f":"AS131+1","v":101},2.1522944211080825E-2,2.0812608920619544,0.40784483614842459]
[103,-1,-1,-1,-1,-1,-1,-1,null,null,null,null,null,null,null,null,null,null,null,null,null,null,null,null,null,null,null,null,null,null,null,null,null,null,null,null,null,null,null,null,null,null,null,null,102,2.1736042668616281E-2,2.1132256606922728,0.41861066946458431]
[104,-1,-1,-1,-1,-1,-1,-1,null,null,null,null,null,null,null,null,null,null,null,null,null,null,null,null,null,null,null,null,null,null,null,null,null,null,null,null,null,null,null,null,null,null,null,null,103,2.1949141126151733E-2,2.1451904293225907,0.42951159477481582]
[105,-1,-1,-1,-1,-1,-1,-1,null,null,null,null,null,null,null,null,null,null,null,null,null,null,null,null,null,null,null,null,null,null,null,null,null,null,null,null,null,null,null,null,null,null,null,null,104,2.2162239583687186E-2,2.1771551979529082,0.44054675119405151]
[106,-1,-1,-1,-1,-1,-1,-1,null,null,null,null,null,null,null,null,null,null,null,null,null,null,null,null,null,null,null,null,null,null,null,null,null,null,null,null,null,null,null,null,null,null,null,null,105,2.2375338041222641E-2,2.2091199665832271,0.45171528332328598]
[107,-1,-1,-1,-1,-1,-1,-1,null,null,null,null,null,null,null,null,null,null,null,null,null,null,null,null,null,null,null,null,null,null,null,null,null,null,null,null,null,null,null,null,null,null,null,null,106,2.2588436498758094E-2,2.241084735213545,0.46301634121461588]
[108,-1,-1,-1,-1,-1,-1,-1,null,null,null,null,null,null,null,null,null,null,null,null,null,null,null,null,null,null,null,null,null,null,null,null,null,null,null,null,null,null,null,null,null,null,null,null,107,2.280153495629355E-2,2.273049503843863,0.47444908033650213]
[109,-1,-1,-1,-1,-1,-1,-1,null,null,null,null,null,null,null,null,null,null,null,null,null,null,null,null,null,null,null,null,null,null,null,null,null,null,null,null,null,null,null,null,null,null,null,null,108,2.3014633413829002E-2,2.3050142724741809,0.48601266153925377]
[110,-1,-1,-1,-1,-1,-1,-1,null,null,null,null,null,null,null,null,null,null,null,null,null,null,null,null,null,null,null,null,null,null,null,null,null,null,null,null,null,null,null,null,null,null,null,null,109,2.3227731871364454E-2,2.3369790411044988,0.49770625102073157]
[111,-1,-1,-1,-1,-1,-1,-1,null,null,null,null,null,null,null,null,null,null,null,null,null,null,null,null,null,null,null,null,null,null,null,null,null,null,null,null,null,null,null,null,null,null,null,null,110,2.344083032889991E-2,2.3689438097348172,0.50952902029227054]
[112,-1,-1,-1,-1,-1,-1,-1,null,null,null,null,null,null,null,null,null,null,null,null,null,null,null,null,null,null,null,null,null,null,null,null,null,null,null,null,null,null,null,null,null,null,null,null,111,2.3653928786435362E-2,2.4009085783651347,0.52148014614481919]
[113,-1,-1,-1,-1,-1,-1,-1,null,null,null,null,null,null,null,null,null,null,null,null,null,null,null,null,null,null,null,null,null,null,null,null,null,null,null,null,null,null,null,null,null,null,null,null,112,2.3867027243970818E-2,2.4328733469954535,0.53355881061529475]
[114,-1,-1,-1,-1,-1,-1,-1,null,null,null,null,null,null,null,null,null,null,null,null,null,null,null,null,null,null,null,null,null,null,null,null,null,null,null,null,null,null,null,null,null,null,null,null,113,2.4080125701506271E-2,2.4648381156257715,0.54576420095315281]
[115,-1,-1,-1,-1,-1,-1,-1,null,null,null,null,null,null,null,null,null,null,null,null,null,null,null,null,null,null,null,null,null,null,null,null,null,null,null,null,null,null,null,null,null,null,null,null,114,2.4293224159041723E-2,2.496802884256089,0.55809550958717014]
[116,-1,-1,-1,-1,-1,-1,-1,null,null,null,null,null,null,null,null,null,null,null,null,null,null,null,null,null,null,null,null,null,null,null,null,null,null,null,null,null,null,null,null,null,null,null,null,115,2.4506322616577179E-2,2.5287676528864074,0.57055193409243865]
[117,-1,-1,-1,-1,-1,-1,-1,null,null,null,null,null,null,null,null,null,null,null,null,null,null,null,null,null,null,null,null,null,null,null,null,null,null,null,null,null,null,null,null,null,null,null,null,116,2.4719421074112631E-2,2.5607324215167253,0.58313267715757044]
[118,-1,-1,-1,-1,-1,-1,-1,null,null,null,null,null,null,null,null,null,null,null,null,null,null,null,null,null,null,null,null,null,null,null,null,null,null,null,null,null,null,null,null,null,null,null,null,117,2.4932519531648087E-2,2.5926971901470437,0.59583694655211139]
[119,-1,-1,-1,-1,-1,-1,-1,null,null,null,null,null,null,null,null,null,null,null,null,null,null,null,null,null,null,null,null,null,null,null,null,null,null,null,null,null,null,null,null,null,null,null,null,118,2.5145617989183539E-2,2.6246619587773612,0.60866395509416238]
[120,-1,-1,-1,-1,-1,-1,-1,null,null,null,null,null,null,null,null,null,null,null,null,null,null,null,null,null,null,null,null,null,null,null,null,null,null,null,null,null,null,null,null,null,null,null,null,119,2.5358716446718992E-2,2.6566267274076791,0.62161292061820694]
[121,-1,-1,-1,-1,-1,-1,-1,null,null,null,null,null,null,null,null,null,null,null,null,null,null,null,null,null,null,null,null,null,null,null,null,null,null,null,null,null,null,null,null,null,null,null,null,120,2.5571814904254447E-2,2.688591496037998,0.63468306594314394]
[122,-1,-1,-1,-1,-1,-1,-1,null,null,null,null,null,null,null,null,null,null,null,null,null,null,null,null,null,null,null,null,null,null,null,null,null,null,null,null,null,null,null,null,null,null,null,null,121,2.57849133617899E-2,2.7205562646683155,0.64787361884052419]
[123,-1,-1,-1,-1,-1,-1,-1,null,null,null,null,null,null,null,null,null,null,null,null,null,null,null,null,null,null,null,null,null,null,null,null,null,null,null,null,null,null,null,null,null,null,null,null,122,2.5998011819325356E-2,2.7525210332986338,0.66118381200298915]
[124,-1,-1,-1,-1,-1,-1,-1,null,null,null,null,null,null,null,null,null,null,null,null,null,null,null,null,null,null,null,null,null,null,null,null,null,null,null,null,null,null,null,null,null,null,null,null,123,2.6211110276860808E-2,2.7844858019289518,0.67461288301291045]
[125,-1,-1,-1,-1,-1,-1,-1,null,null,null,null,null,null,null,null,null,null,null,null,null,null,null,null,null,null,null,null,null,null,null,null,null,null,null,null,null,null,null,null,null,null,null,null,124,2.642420873439626E-2,2.8164505705592697,0.6881600743112305]
[126,-1,-1,-1,-1,-1,-1,-1,null,null,null,null,null,null,null,null,null,null,null,null,null,null,null,null,null,null,null,null,null,null,null,null,null,null,null,null,null,null,null,null,null,null,null,null,125,2.6637307191931716E-2,2.8484153391895881,0.70182463316649979]
[127,-1,-1,-1,-1,-1,-1,-1,null,null,null,null,null,null,null,null,null,null,null,null,null,null,null,null,null,null,null,null,null,null,null,null,null,null,null,null,null,null,null,null,null,null,null,null,126,2.6850405649467168E-2,2.8803801078199056,0.71560581164411363]
[128,-1,-1,-1,-1,-1,-1,-1,null,null,null,null,null,null,null,null,null,null,null,null,null,null,null,null,null,null,null,null,null,null,null,null,null,null,null,null,null,null,null,null,null,null,null,null,127,2.7063504107002624E-2,2.9123448764502244,0.72950286657574315]
[{"$f":"A158+1","v":129},-1,-1,-1,-1,-1,-1,-1,null,null,null,null,null,null,null,null,null,null,null,null,null,null,null,null,null,null,null,null,null,null,null,null,null,null,null,null,null,null,null,null,null,null,null,null,128,{"$f":"$AP$18/$N$7*AS159","v":2.7276602564538076E-2},2.9443096450805424,0.74351505952896213]
[130,-1,-1,-1,-1,-1,-1,-1,null,null,null,null,null,null,null,null,null,null,null,null,null,null,null,null,null,null,null,null,null,null,null,null,null,null,null,null,null,null,null,null,null,null,null,null,129,2.7489701022073529E-2,{"$f":"IF(($N$4*AT160^2/2)<=$AP$13,($N$4*AT160^2/2), IF(($AP$13+$N$6*(AT160-$AP$12))<=$AP$17, ($AP$13+$N$6*(AT160-$AP$12)), IF(AU159<$D$14, ($AP$17+($N$6-$N$5*(AT160-$AP$16)/2)*(AT160-$AP$16)), $D$14)))","v":2.9762744137108599},0.75764165677706685]
[131,-1,-1,-1,-1,-1,-1,-1,null,null,null,null,null,null,null,null,null,null,null,null,null,null,null,null,null,null,null,null,null,null,null,null,null,null,null,null,null,null,null,null,null,null,null,null,130,2.7702799479608985E-2,3.0082391823411783,{"$f":"( $AP$6*AU161 + $AP$7*AU160 + $AP$9*AV160 )/$AP$8","v":0.7718819292690885}]
[132,-1,-1,-1,-1,-1,-1,-1,null,null,null,null,null,null,null,null,null,null,null,null,null,null,null,null,null,null,null,null,null,null,null,null,null,null,null,null,null,null,null,null,null,null,null,null,131,2.7915897937144437E-2,3.0402039509714962,0.78623515259999699]
[133,-1,-1,-1,-1,-1,-1,-1,null,null,null,null,null,null,null,null,null,null,null,null,null,null,null,null,null,null,null,null,null,null,null,null,null,null,null,null,null,null,null,null,null,null,null,null,132,2.8128996394679893E-2,3.0721687196018146,0.8007006069810938]
[134,-1,-1,-1,-1,-1,-1,-1,null,null,null,null,null,null,null,null,null,null,null,null,null,null,null,null,null,null,null,null,null,null,null,null,null,null,null,null,null,null,null,null,null,null,null,null,133,2.8342094852215345E-2,3.1041334882321321,0.81527757721059446]
[135,-1,-1,-1,-1,-1,-1,-1,null,null,null,null,null,null,null,null,null,null,null,null,null,null,null,null,null,null,null,null,null,null,null,null,null,null,null,null,null,null,null,null,null,null,null,null,134,2.8555193309750797E-2,3.13609825686245,0.82996535264439786]
[136,-1,-1,-1,-1,-1,-1,-1,null,null,null,null,null,null,null,null,null,null,null,null,null,null,null,null,null,null,null,null,null,null,null,null,null,null,null,null,null,null,null,null,null,null,null,null,135,2.8768291767286253E-2,3.1680630254927684,0.84476322716704189]
[137,-1,-1,-1,-1,-1,-1,-1,null,null,null,null,null,null,null,null,null,null,null,null,null,null,null,null,null,null,null,null,null,null,null,null,null,null,null,null,null,null,null,null,null,null,null,null,136,2.8981390224821706E-2,3.2000277941230864,0.85967049916284466]
[138,-1,-1,-1,-1,-1,-1,-1,null,null,null,null,null,null,null,null,null,null,null,null,null,null,null,null,null,null,null,null,null,null,null,null,null,null,null,null,null,null,null,null,null,null,null,null,137,2.9194488682357161E-2,3.2319925627534047,0.87468647148722911]
[139,-1,-1,-1,-1,-1,-1,-1,null,null,null,null,null,null,null,null,null,null,null,null,null,null,null,null,null,null,null,null,null,null,null,null,null,null,null,null,null,null,null,null,null,null,null,null,138,2.9407587139892614E-2,3.2639573313837227,0.88981045143823045]
[140,-1,-1,-1,-1,-1,-1,-1,null,null,null,null,null,null,null,null,null,null,null,null,null,null,null,null,null,null,null,null,null,null,null,null,null,null,null,null,null,null,null,null,null,null,null,null,139,2.9620685597428066E-2,3.2959221000140406,0.90504175072818516]
[141,-1,-1,-1,-1,-1,-1,-1,null,null,null,null,null,null,null,null,null,null,null,null,null,null,null,null,null,null,null,null,null,null,null,null,null,null,null,null,null,null,null,null,null,null,null,null,140,2.9833784054963522E-2,3.327886868644359,0.92037968545560056]
[142,-1,-1,-1,-1,-1,-1,-1,null,null,null,null,null,null,null,null,null,null,null,null,null,null,null,null,null,null,null,null,null,null,null,null,null,null,null,null,null,null,null,null,null,null,null,null,141,3.0046882512498974E-2,3.3598516372746769,0.9358235760772039]
[143,-1,-1,-1,-1,-1,-1,-1,null,null,null,null,null,null,null,null,null,null,null,null,null,null,null,null,null,null,null,null,null,null,null,null,null,null,null,null,null,null,null,null,null,null,null,null,142,3.025998097003443E-2,3.3918164059049953,0.95137274738016886]
[144,-1,-1,-1,-1,-1,-1,-1,null,null,null,null,null,null,null,null,null,null,null,null,null,null,null,null,null,null,null,null,null,null,null,null,null,null,null,null,null,null,null,null,null,null,null,null,143,3.0473079427569882E-2,3.4237811745353128,0.96702652845451942]
[145,-1,-1,-1,-1,-1,-1,-1,null,null,null,null,null,null,null,null,null,null,null,null,null,null,null,null,null,null,null,null,null,null,null,null,null,null,null,null,null,null,null,null,null,null,null,null,144,3.0686177885105335E-2,3.4557459431656308,0.98278425266570968]
[146,-1,-1,-1,-1,-1,-1,-1,null,null,null,null,null,null,null,null,null,null,null,null,null,null,null,null,null,null,null,null,null,null,null,null,null,null,null,null,null,null,null,null,null,null,null,null,145,3.0899276342640791E-2,3.4877107117959492,0.99864525762737844]
[147,-1,-1,-1,-1,-1,-1,-1,null,null,null,null,null,null,null,null,null,null,null,null,null,null,null,null,null,null,null,null,null,null,null,null,null,null,null,null,null,null,null,null,null,null,null,null,146,3.1112374800176243E-2,3.5196754804262671,1.0146088851742769]
[148,-1,-1,-1,-1,-1,-1,-1,null,null,null,null,null,null,null,null,null,null,null,null,null,null,null,null,null,null,null,null,null,null,null,null,null,null,null,null,null,null,null,null,null,null,null,null,147,3.1325473257711699E-2,3.5516402490565855,1.0306744813353701]
[149,-1,-1,-1,-1,-1,-1,-1,null,null,null,null,null,null,null,null,null,null,null,null,null,null,null,null,null,null,null,null,null,null,null,null,null,null,null,null,null,null,null,null,null,null,null,null,148,3.1538571715247148E-2,3.5836050176869025,1.0468413963071075]
[150,-1,-1,-1,-1,-1,-1,-1,null,null,null,null,null,null,null,null,null,null,null,null,null,null,null,null,null,null,null,null,null,null,null,null,null,null,null,null,null,null,null,null,null,null,null,null,149,3.1751670172782603E-2,3.6155697863172209,1.0631089844268671]
[151,-1,-1,-1,-1,-1,-1,-1,null,null,null,null,null,null,null,null,null,null,null,null,null,null,null,null,null,null,null,null,null,null,null,null,null,null,null,null,null,null,null,null,null,null,null,null,150,3.1964768630318059E-2,3.6475345549475393,1.0794766041465653]
[152,-1,-1,-1,-1,-1,-1,-1,null,null,null,null,null,null,null,null,null,null,null,null,null,null,null,null,null,null,null,null,null,null,null,null,null,null,null,null,null,null,null,null,null,null,null,null,151,3.2177867087853515E-2,3.6794993235778577,1.0959436180064386]
[153,-1,-1,-1,-1,-1,-1,-1,null,null,null,null,null,null,null,null,null,null,null,null,null,null,null,null,null,null,null,null,null,null,null,null,null,null,null,null,null,null,null,null,null,null,null,null,{"$f":"AS182+1","v":152},3.2390965545388964E-2,3.7114640922081752,1.1125093926089882]
[154,-1,-1,-1,-1,-1,-1,-1,null,null,null,null,null,null,null,null,null,null,null,null,null,null,null,null,null,null,null,null,null,null,null,null,null,null,null,null,null,null,null,null,null,null,null,null,153,3.260406400292442E-2,3.7434288608384936,1.1291732985930945]
[155,-1,-1,-1,-1,-1,-1,-1,null,null,null,null,null,null,null,null,null,null,null,null,null,null,null,null,null,null,null,null,null,null,null,null,null,null,null,null,null,null,null,null,null,null,null,null,154,3.2817162460459876E-2,3.775393629468812,1.1459347106082947]
[156,-1,-1,-1,-1,-1,-1,-1,null,null,null,null,null,null,null,null,null,null,null,null,null,null,null,null,null,null,null,null,null,null,null,null,null,null,null,null,null,null,null,null,null,null,null,null,155,3.3030260917995324E-2,3.8073583980991295,1.1627930072892234]
[157,-1,-1,-1,-1,-1,-1,-1,null,null,null,null,null,null,null,null,null,null,null,null,null,null,null,null,null,null,null,null,null,null,null,null,null,null,null,null,null,null,null,null,null,null,null,null,156,3.324335937553078E-2,3.8393231667294478,1.1797475712302194]
[158,-1,-1,-1,-1,-1,-1,-1,null,null,null,null,null,null,null,null,null,null,null,null,null,null,null,null,null,null,null,null,null,null,null,null,null,null,null,null,null,null,null,null,null,null,null,null,157,3.3456457833066236E-2,3.8712879353597662,1.19679778896009]
[159,-1,-1,-1,-1,-1,-1,-1,null,null,null,null,null,null,null,null,null,null,null,null,null,null,null,null,null,null,null,null,null,null,null,null,null,null,null,null,null,null,null,null,null,null,null,null,158,3.3669556290601685E-2,3.9032527039900833,1.2139430509170392]
[160,-1,-1,-1,-1,-1,-1,-1,null,null,null,null,null,null,null,null,null,null,null,null,null,null,null,null,null,null,null,null,null,null,null,null,null,null,null,null,null,null,null,null,null,null,null,null,159,3.3882654748137141E-2,3.9352174726204017,1.2311827514237552]
[161,-1,-1,-1,-1,-1,-1,-1,null,null,null,null,null,null,null,null,null,null,null,null,null,null,null,null,null,null,null,null,null,null,null,null,null,null,null,null,null,null,null,null,null,null,null,null,160,3.4095753205672596E-2,3.9671822412507201,1.2485162886626553]
[162,-1,-1,-1,-1,-1,-1,-1,null,null,null,null,null,null,null,null,null,null,null,null,null,null,null,null,null,null,null,null,null,null,null,null,null,null,null,null,null,null,null,null,null,null,null,null,161,3.4308851663208052E-2,3.9991470098810384,1.2659430646512897]
[163,-1,-1,-1,-1,-1,-1,-1,null,null,null,null,null,null,null,null,null,null,null,null,null,null,null,null,null,null,null,null,null,null,null,null,null,null,null,null,null,null,null,null,null,null,null,null,162,3.4521950120743501E-2,4.0311117785113559,1.283462485217902]
[164,-1,-1,-1,-1,-1,-1,-1,null,null,null,null,null,null,null,null,null,null,null,null,null,null,null,null,null,null,null,null,null,null,null,null,null,null,null,null,null,null,null,null,null,null,null,null,163,3.4735048578278957E-2,4.0630765471416748,1.3010739599771457]
[165,-1,-1,-1,-1,-1,-1,-1,null,null,null,null,null,null,null,null,null,null,null,null,null,null,null,null,null,null,null,null,null,null,null,null,null,null,null,null,null,null,null,null,null,null,null,null,164,3.4948147035814413E-2,4.0950413157719927,1.3187769023059539]
[166,-1,-1,-1,-1,-1,-1,-1,null,null,null,null,null,null,null,null,null,null,null,null,null,null,null,null,null,null,null,null,null,null,null,null,null,null,null,null,null,null,null,null,null,null,null,null,165,3.5161245493349862E-2,4.1270060844023098,1.3365707293195648]
[167,-1,-1,-1,-1,-1,-1,-1,null,null,null,null,null,null,null,null,null,null,null,null,null,null,null,null,null,null,null,null,null,null,null,null,null,null,null,null,null,null,null,null,null,null,null,null,166,3.5374343950885317E-2,4.1589708530326277,1.3544548618476981]
[168,-1,-1,-1,-1,-1,-1,-1,null,null,null,null,null,null,null,null,null,null,null,null,null,null,null,null,null,null,null,null,null,null,null,null,null,null,null,null,null,null,null,null,null,null,null,null,167,3.5587442408420773E-2,4.1909356216629465,1.3724287244108855]
[169,-1,-1,-1,-1,-1,-1,-1,null,null,null,null,null,null,null,null,null,null,null,null,null,null,null,null,null,null,null,null,null,null,null,null,null,null,null,null,null,null,null,null,null,null,null,null,168,3.5800540865956222E-2,4.2229003902932636,1.390491745196949]
[170,-1,-1,-1,-1,-1,-1,-1,null,null,null,null,null,null,null,null,null,null,null,null,null,null,null,null,null,null,null,null,null,null,null,null,null,null,null,null,null,null,null,null,null,null,null,null,169,3.6013639323491678E-2,4.2548651589235824,1.4086433560376324]
[171,-1,-1,-1,-1,-1,-1,-1,null,null,null,null,null,null,null,null,null,null,null,null,null,null,null,null,null,null,null,null,null,null,null,null,null,null,null,null,null,null,null,null,null,null,null,null,170,3.6226737781027134E-2,4.2868299275539012,1.426882992385379]
[172,-1,-1,-1,-1,-1,-1,-1,null,null,null,null,null,null,null,null,null,null,null,null,null,null,null,null,null,null,null,null,null,null,null,null,null,null,null,null,null,null,null,null,null,null,null,null,171,3.643983623856259E-2,4.3187946961842192,1.4452100932902592]
[173,-1,-1,-1,-1,-1,-1,-1,null,null,null,null,null,null,null,null,null,null,null,null,null,null,null,null,null,null,null,null,null,null,null,null,null,null,null,null,null,null,null,null,null,null,null,null,172,3.6652934696098038E-2,4.3507594648145362,1.4636241013770432]
[174,-1,-1,-1,-1,-1,-1,-1,null,null,null,null,null,null,null,null,null,null,null,null,null,null,null,null,null,null,null,null,null,null,null,null,null,null,null,null,null,null,null,null,null,null,null,null,173,3.6866033153633494E-2,4.3827242334448542,1.4821244628224222]
[175,-1,-1,-1,-1,-1,-1,-1,null,null,null,null,null,null,null,null,null,null,null,null,null,null,null,null,null,null,null,null,null,null,null,null,null,null,null,null,null,null,null,null,null,null,null,null,174,3.707913161116895E-2,4.414689002075173,1.5007106273323727]
[176,-1,-1,-1,-1,-1,-1,-1,null,null,null,null,null,null,null,null,null,null,null,null,null,null,null,null,null,null,null,null,null,null,null,null,null,null,null,null,null,null,null,null,null,null,null,null,175,3.7292230068704399E-2,4.4466537707054901,1.519382048119666]
[177,-1,-1,-1,-1,-1,-1,-1,null,null,null,null,null,null,null,null,null,null,null,null,null,null,null,null,null,null,null,null,null,null,null,null,null,null,null,null,null,null,null,null,null,null,null,null,176,3.7505328526239855E-2,4.4786185393358089,1.5381381818815212]
[178,-1,-1,-1,-1,-1,-1,-1,null,null,null,null,null,null,null,null,null,null,null,null,null,null,null,null,null,null,null,null,null,null,null,null,null,null,null,null,null,null,null,null,null,null,null,null,177,3.7718426983775311E-2,4.5105833079661277,1.5569784887773994]
[179,-1,-1,-1,-1,-1,-1,-1,null,null,null,null,null,null,null,null,null,null,null,null,null,null,null,null,null,null,null,null,null,null,null,null,null,null,null,null,null,null,null,null,null,null,null,null,178,3.7931525441310759E-2,4.5425480765964448,1.5759024324069413]
[180,-1,-1,-1,-1,-1,-1,-1,null,null,null,null,null,null,null,null,null,null,null,null,null,null,null,null,null,null,null,null,null,null,null,null,null,null,null,null,null,null,null,null,null,null,null,null,179,3.8144623898846215E-2,4.5745128452267627,1.5949094797880439]
[181,-1,-1,-1,-1,-1,-1,-1,null,null,null,null,null,null,null,null,null,null,null,null,null,null,null,null,null,null,null,null,null,null,null,null,null,null,null,null,null,null,null,null,null,null,null,null,180,3.8357722356381671E-2,4.6064776138570807,1.613999101335077]
[182,-1,-1,-1,-1,-1,-1,-1,null,null,null,null,null,null,null,null,null,null,null,null,null,null,null,null,null,null,null,null,null,null,null,null,null,null,null,null,null,null,null,null,null,null,null,null,181,3.8570820813917127E-2,4.6384423824873995,1.6331707708372396]
[183,-1,-1,-1,-1,-1,-1,-1,null,null,null,null,null,null,null,null,null,null,null,null,null,null,null,null,null,null,null,null,null,null,null,null,null,null,null,null,null,null,null,null,null,null,null,null,182,3.8783919271452576E-2,4.6704071511177165,1.6524239654370532]
[184,-1,-1,-1,-1,-1,-1,-1,null,null,null,null,null,null,null,null,null,null,null,null,null,null,null,null,null,null,null,null,null,null,null,null,null,null,null,null,null,null,null,null,null,null,null,null,183,3.8997017728988032E-2,4.7023719197480354,1.6717581656089919]
[185,-1,-1,-1,-1,-1,-1,-1,null,null,null,null,null,null,null,null,null,null,null,null,null,null,null,null,null,null,null,null,null,null,null,null,null,null,null,null,null,null,null,null,null,null,null,null,184,3.9210116186523487E-2,4.7343366883783542,1.6911728551382506]
[186,-1,-1,-1,-1,-1,-1,-1,null,null,null,null,null,null,null,null,null,null,null,null,null,null,null,null,null,null,null,null,null,null,null,null,null,null,null,null,null,null,null,null,null,null,null,null,185,3.9423214644058936E-2,4.7663014570086712,1.710667521099646]
[187,-1,-1,-1,-1,-1,-1,-1,null,null,null,null,null,null,null,null,null,null,null,null,null,null,null,null,null,null,null,null,null,null,null,null,null,null,null,null,null,null,null,null,null,null,null,null,186,3.9636313101594392E-2,4.7982662256389901,1.7302416538366536]
[188,-1,-1,-1,-1,-1,-1,-1,null,null,null,null,null,null,null,null,null,null,null,null,null,null,null,null,null,null,null,null,null,null,null,null,null,null,null,null,null,null,null,null,null,null,null,null,187,3.9849411559129848E-2,4.8302309942693071,1.7498947469405775]
[189,-1,-1,-1,-1,-1,-1,-1,null,null,null,null,null,null,null,null,null,null,null,null,null,null,null,null,null,null,null,null,null,null,null,null,null,null,null,null,null,null,null,null,null,null,null,null,188,4.0062510016665297E-2,4.8621957628996251,1.769626297229854]
[190,-1,-1,-1,-1,-1,-1,-1,null,null,null,null,null,null,null,null,null,null,null,null,null,null,null,null,null,null,null,null,null,null,null,null,null,null,null,null,null,null,null,null,null,null,null,null,189,4.0275608474200753E-2,4.894160531529943,1.7894358047294867]
[191,-1,-1,-1,-1,-1,-1,-1,null,null,null,null,null,null,null,null,null,null,null,null,null,null,null,null,null,null,null,null,null,null,null,null,null,null,null,null,null,null,null,null,null,null,null,null,190,4.0488706931736208E-2,4.9261253001602618,1.8093227726506109]
[192,-1,-1,-1,-1,-1,-1,-1,null,null,null,null,null,null,null,null,null,null,null,null,null,null,null,null,null,null,null,null,null,null,null,null,null,null,null,null,null,null,null,null,null,null,null,null,191,4.0701805389271664E-2,4.9580900687905807,1.8292867073701913]
[{"$f":"A222+1","v":193},-1,-1,-1,-1,-1,-1,-1,null,null,null,null,null,null,null,null,null,null,null,null,null,null,null,null,null,null,null,null,null,null,null,null,null,null,null,null,null,null,null,null,null,null,null,null,192,{"$f":"$AP$18/$N$7*AS223","v":4.0914903846807113E-2},4.9900548374208977,1.8493271184108462]
[194,-1,-1,-1,-1,-1,-1,-1,null,null,null,null,null,null,null,null,null,null,null,null,null,null,null,null,null,null,null,null,null,null,null,null,null,null,null,null,null,null,null,null,null,null,null,null,193,4.1128002304342569E-2,{"$f":"IF(($N$4*AT224^2/2)<=$AP$13,($N$4*AT224^2/2), IF(($AP$13+$N$6*(AT224-$AP$12))<=$AP$17, ($AP$13+$N$6*(AT224-$AP$12)), IF(AU223<$D$14, ($AP$17+($N$6-$N$5*(AT224-$AP$16)/2)*(AT224-$AP$16)), $D$14)))","v":5.0220196060512166},1.8694435184208025]
[195,-1,-1,-1,-1,-1,-1,-1,null,null,null,null,null,null,null,null,null,null,null,null,null,null,null,null,null,null,null,null,null,null,null,null,null,null,null,null,null,null,null,null,null,null,null,null,194,4.1341100761878025E-2,5.0539843746815345,{"$f":"( $AP$6*AU225 + $AP$7*AU224 + $AP$9*AV224 )/$AP$8","v":1.8896354231539774}]
[196,-1,-1,-1,-1,-1,-1,-1,null,null,null,null,null,null,null,null,null,null,null,null,null,null,null,null,null,null,null,null,null,null,null,null,null,null,null,null,null,null,null,null,null,null,null,null,195,4.1554199219413473E-2,5.0859491433118516,1.9099023514501865]
[197,-1,-1,-1,-1,-1,-1,-1,null,null,null,null,null,null,null,null,null,null,null,null,null,null,null,null,null,null,null,null,null,null,null,null,null,null,null,null,null,null,null,null,null,null,null,null,196,4.1767297676948929E-2,5.1179139119421695,1.9302438252154794]
[198,-1,-1,-1,-1,-1,-1,-1,null,null,null,null,null,null,null,null,null,null,null,null,null,null,null,null,null,null,null,null,null,null,null,null,null,null,null,null,null,null,null,null,null,null,null,null,197,4.1980396134484385E-2,5.1498786805724883,1.9506593694025991]
[199,-1,-1,-1,-1,-1,-1,-1,null,null,null,null,null,null,null,null,null,null,null,null,null,null,null,null,null,null,null,null,null,null,null,null,null,null,null,null,null,null,null,null,null,null,null,null,198,4.2193494592019834E-2,5.1818434492028054,1.9711485119915673]
[200,-1,-1,-1,-1,-1,-1,-1,null,null,null,null,null,null,null,null,null,null,null,null,null,null,null,null,null,null,null,null,null,null,null,null,null,null,null,null,null,null,null,null,null,null,null,null,199,4.240659304955529E-2,5.2138082178331242,1.9917107839703929]
[201,-1,-1,-1,-1,-1,-1,-1,null,null,null,null,null,null,null,null,null,null,null,null,null,null,null,null,null,null,null,null,null,null,null,null,null,null,null,null,null,null,null,null,null,null,null,null,200,4.2619691507090746E-2,5.2457729864634421,2.0123457193159027]
[202,-1,-1,-1,-1,-1,-1,-1,null,null,null,null,null,null,null,null,null,null,null,null,null,null,null,null,null,null,null,null,null,null,null,null,null,null,null,null,null,null,null,null,null,null,null,null,{"$f":"AS231+1","v":201},4.2832789964626201E-2,5.277737755093761,2.0330528549746956]
[203,-1,-1,-1,-1,-1,-1,-1,null,null,null,null,null,null,null,null,null,null,null,null,null,null,null,null,null,null,null,null,null,null,null,null,null,null,null,null,null,null,null,null,null,null,null,null,202,4.304588842216165E-2,5.309702523724078,2.0538317308442169]
[204,-1,-1,-1,-1,-1,-1,-1,null,null,null,null,null,null,null,null,null,null,null,null,null,null,null,null,null,null,null,null,null,null,null,null,null,null,null,null,null,null,null,null,null,null,null,null,203,4.3258986879697106E-2,5.3416672923543969,2.0746818897539536]
[205,-1,-1,-1,-1,-1,-1,-1,null,null,null,null,null,null,null,null,null,null,null,null,null,null,null,null,null,null,null,null,null,null,null,null,null,null,null,null,null,null,null,null,null,null,null,null,204,4.3472085337232562E-2,5.3736320609847148,2.0956028774467508]
[206,-1,-1,-1,-1,-1,-1,-1,null,null,null,null,null,null,null,null,null,null,null,null,null,null,null,null,null,null,null,null,null,null,null,null,null,null,null,null,null,null,null,null,null,null,null,null,205,4.3685183794768011E-2,5.4055968296150319,2.1165942425602453]
[207,-1,-1,-1,-1,-1,-1,-1,null,null,null,null,null,null,null,null,null,null,null,null,null,null,null,null,null,null,null,null,null,null,null,null,null,null,null,null,null,null,null,null,null,null,null,null,206,4.3898282252303467E-2,5.4375615982453507,2.1376555366084187]
[208,-1,-1,-1,-1,-1,-1,-1,null,null,null,null,null,null,null,null,null,null,null,null,null,null,null,null,null,null,null,null,null,null,null,null,null,null,null,null,null,null,null,null,null,null,null,null,207,4.4111380709838922E-2,5.4695263668756686,2.158786313963267]
[209,-1,-1,-1,-1,-1,-1,-1,null,null,null,null,null,null,null,null,null,null,null,null,null,null,null,null,null,null,null,null,null,null,null,null,null,null,null,null,null,null,null,null,null,null,null,null,208,4.4324479167374371E-2,5.5014911355059866,2.1799861318365878]
[210,-1,-1,-1,-1,-1,-1,-1,null,null,null,null,null,null,null,null,null,null,null,null,null,null,null,null,null,null,null,null,null,null,null,null,null,null,null,null,null,null,null,null,null,null,null,null,209,4.4537577624909827E-2,5.5334559041363045,2.2012545502618841]
[211,-1,-1,-1,-1,-1,-1,-1,null,null,null,null,null,null,null,null,null,null,null,null,null,null,null,null,null,null,null,null,null,null,null,null,null,null,null,null,null,null,null,null,null,null,null,null,210,4.4750676082445283E-2,5.5654206727666233,2.2225911320763831]
[212,-1,-1,-1,-1,-1,-1,-1,null,null,null,null,null,null,null,null,null,null,null,null,null,null,null,null,null,null,null,null,null,null,null,null,null,null,null,null,null,null,null,null,null,null,null,null,211,4.4963774539980739E-2,5.5973854413969413,2.2439954429031665]
[213,-1,-1,-1,-1,-1,-1,-1,null,null,null,null,null,null,null,null,null,null,null,null,null,null,null,null,null,null,null,null,null,null,null,null,null,null,null,null,null,null,null,null,null,null,null,null,212,4.5176872997516188E-2,5.6293502100272583,2.2654670511334207]
[214,-1,-1,-1,-1,-1,-1,-1,null,null,null,null,null,null,null,null,null,null,null,null,null,null,null,null,null,null,null,null,null,null,null,null,null,null,null,null,null,null,null,null,null,null,null,null,213,4.5389971455051643E-2,5.6613149786575772,2.2870055279087951]
[215,-1,-1,-1,-1,-1,-1,-1,null,null,null,null,null,null,null,null,null,null,null,null,null,null,null,null,null,null,null,null,null,null,null,null,null,null,null,null,null,null,null,null,null,null,null,null,214,4.5603069912587099E-2,5.6932797472878951,2.3086104471038755]
[216,-1,-1,-1,-1,-1,-1,-1,null,null,null,null,null,null,null,null,null,null,null,null,null,null,null,null,null,null,null,null,null,null,null,null,null,null,null,null,null,null,null,null,null,null,null,null,215,4.5816168370122548E-2,5.725244515918213,2.3302813853087674]
[217,-1,-1,-1,-1,-1,-1,-1,null,null,null,null,null,null,null,null,null,null,null,null,null,null,null,null,null,null,null,null,null,null,null,null,null,null,null,null,null,null,null,null,null,null,null,null,216,4.6029266827658004E-2,5.757209284548531,2.3520179218117905]
[218,-1,-1,-1,-1,-1,-1,-1,null,null,null,null,null,null,null,null,null,null,null,null,null,null,null,null,null,null,null,null,null,null,null,null,null,null,null,null,null,null,null,null,null,null,null,null,217,4.624236528519346E-2,5.7891740531788498,2.3738196385822858]
[219,-1,-1,-1,-1,-1,-1,-1,null,null,null,null,null,null,null,null,null,null,null,null,null,null,null,null,null,null,null,null,null,null,null,null,null,null,null,null,null,null,null,null,null,null,null,null,218,4.6455463742728909E-2,5.8211388218091669,2.3956861202535298]
[220,-1,-1,-1,-1,-1,-1,-1,null,null,null,null,null,null,null,null,null,null,null,null,null,null,null,null,null,null,null,null,null,null,null,null,null,null,null,null,null,null,null,null,null,null,null,null,219,4.6668562200264364E-2,5.8531035904394848,2.4176169541057582]
[221,-1,-1,-1,-1,-1,-1,-1,null,null,null,null,null,null,null,null,null,null,null,null,null,null,null,null,null,null,null,null,null,null,null,null,null,null,null,null,null,null,null,null,null,null,null,null,220,4.688166065779982E-2,5.8850683590698045,2.4396117300492977]
[222,-1,-1,-1,-1,-1,-1,-1,null,null,null,null,null,null,null,null,null,null,null,null,null,null,null,null,null,null,null,null,null,null,null,null,null,null,null,null,null,null,null,null,null,null,null,null,221,4.7094759115335276E-2,5.9170331277001216,2.4616700406078063]
[223,-1,-1,-1,-1,-1,-1,-1,null,null,null,null,null,null,null,null,null,null,null,null,null,null,null,null,null,null,null,null,null,null,null,null,null,null,null,null,null,null,null,null,null,null,null,null,222,4.7307857572870725E-2,5.9489978963304386,2.4837914809016191]
[224,-1,-1,-1,-1,-1,-1,-1,null,null,null,null,null,null,null,null,null,null,null,null,null,null,null,null,null,null,null,null,null,null,null,null,null,null,null,null,null,null,null,null,null,null,null,null,223,4.7520956030406181E-2,5.9809626649607583,2.5059756486312001]
[225,-1,-1,-1,-1,-1,-1,-1,null,null,null,null,null,null,null,null,null,null,null,null,null,null,null,null,null,null,null,null,null,null,null,null,null,null,null,null,null,null,null,null,null,null,null,null,224,4.7734054487941636E-2,6.0129274335910754,2.528222144060702]
[null,null,null,null,null,null,null,null,null,null,null,null,null,null,null,null,null,null,null,null,null,null,null,null,null,null,null,null,null,null,null,null,null,null,null,null,null,null,null,null,null,null,null,null,225,4.7947152945477085E-2,6.0448922022213933,2.5505305700016274]
[null,null,null,null,null,null,null,null,null,null,null,null,null,null,null,null,null,null,null,null,null,null,null,null,null,null,null,null,null,null,null,null,null,null,null,null,null,null,null,null,null,null,null,null,226,4.8160251403012541E-2,6.0768569708517122,2.5729005317965954]
[null,null,null,null,null,null,null,null,null,null,null,null,null,null,null,null,null,null,null,null,null,null,null,null,null,null,null,null,null,null,null,null,null,null,null,null,null,null,null,null,null,null,null,null,227,4.8373349860547997E-2,6.1088217394820292,2.5953316373032127]
[null,null,null,null,null,null,null,null,null,null,null,null,null,null,null,null,null,null,null,null,null,null,null,null,null,null,null,null,null,null,null,null,null,null,null,null,null,null,null,null,null,null,null,null,228,4.8586448318083446E-2,6.1407865081123472,2.6178234968780458]
[null,null,null,null,null,null,null,null,null,null,null,null,null,null,null,null,null,null,null,null,null,null,null,null,null,null,null,null,null,null,null,null,null,null,null,null,null,null,null,null,null,null,null,null,229,4.8799546775618902E-2,6.172751276742666,2.6403757233606977]
[null,null,null,null,null,null,null,null,null,null,null,null,null,null,null,null,null,null,null,null,null,null,null,null,null,null,null,null,null,null,null,null,null,null,null,null,null,null,null,null,null,null,null,null,230,4.9012645233154357E-2,6.2047160453729839,2.6629879320579835]
[null,null,null,null,null,null,null,null,null,null,null,null,null,null,null,null,null,null,null,null,null,null,null,null,null,null,null,null,null,null,null,null,null,null,null,null,null,null,null,null,null,null,null,null,231,4.9225743690689813E-2,6.2366808140033028,2.6856597407282066]
[null,null,null,null,null,null,null,null,null,null,null,null,null,null,null,null,null,null,null,null,null,null,null,null,null,null,null,null,null,null,null,null,null,null,null,null,null,null,null,null,null,null,null,null,232,4.9438842148225262E-2,6.2686455826336207,2.7083907695655389]
[null,null,null,null,null,null,null,null,null,null,null,null,null,null,null,null,null,null,null,null,null,null,null,null,null,null,null,null,null,null,null,null,null,null,null,null,null,null,null,null,null,null,null,null,233,4.9651940605760718E-2,6.3006103512639378,2.7311806411844963]
[null,null,null,null,null,null,null,null,null,null,null,null,null,null,null,null,null,null,null,null,null,null,null,null,null,null,null,null,null,null,null,null,null,null,null,null,null,null,null,null,null,null,null,null,234,4.9865039063296174E-2,6.3325751198942575,2.7540289806045153]
[null,null,null,null,null,null,null,null,null,null,null,null,null,null,null,null,null,null,null,null,null,null,null,null,null,null,null,null,null,null,null,null,null,null,null,null,null,null,null,null,null,null,null,null,235,5.0078137520831623E-2,6.3645398885245745,2.7769354152346279]
[null,null,null,null,null,null,null,null,null,null,null,null,null,null,null,null,null,null,null,null,null,null,null,null,null,null,null,null,null,null,null,null,null,null,null,null,null,null,null,null,null,null,null,null,236,5.0291235978367078E-2,6.3965046571548916,2.7998995748582329]
[null,null,null,null,null,null,null,null,null,null,null,null,null,null,null,null,null,null,null,null,null,null,null,null,null,null,null,null,null,null,null,null,null,null,null,null,null,null,null,null,null,null,null,null,237,5.0504334435902534E-2,6.4284694257852113,2.8229210916179657]
[null,null,null,null,null,null,null,null,null,null,null,null,null,null,null,null,null,null,null,null,null,null,null,null,null,null,null,null,null,null,null,null,null,null,null,null,null,null,null,null,null,null,null,null,238,5.0717432893437983E-2,6.4604341944155284,2.8459996000006633]
[null,null,null,null,null,null,null,null,null,null,null,null,null,null,null,null,null,null,null,null,null,null,null,null,null,null,null,null,null,null,null,null,null,null,null,null,null,null,null,null,null,null,null,null,239,5.0930531350973439E-2,6.4923989630458463,2.8691347368224265]
[null,null,null,null,null,null,null,null,null,null,null,null,null,null,null,null,null,null,null,null,null,null,null,null,null,null,null,null,null,null,null,null,null,null,null,null,null,null,null,null,null,null,null,null,240,5.1143629808508895E-2,6.5243637316761651,2.892326141213776]
[null,null,null,null,null,null,null,null,null,null,null,null,null,null,null,null,null,null,null,null,null,null,null,null,null,null,null,null,null,null,null,null,null,null,null,null,null,null,null,null,null,null,null,null,241,5.1356728266044351E-2,6.5563285003064831,2.9155734546049024]
[null,null,null,null,null,null,null,null,null,null,null,null,null,null,null,null,null,null,null,null,null,null,null,null,null,null,null,null,null,null,null,null,null,null,null,null,null,null,null,null,null,null,null,null,242,5.1569826723579799E-2,6.5882932689368001,2.9388763207110142]
[null,null,null,null,null,null,null,null,null,null,null,null,null,null,null,null,null,null,null,null,null,null,null,null,null,null,null,null,null,null,null,null,null,null,null,null,null,null,null,null,null,null,null,null,243,5.1782925181115255E-2,6.6202580375671198,2.9622343855177733]
[null,null,null,null,null,null,null,null,null,null,null,null,null,null,null,null,null,null,null,null,null,null,null,null,null,null,null,null,null,null,null,null,null,null,null,null,null,null,null,null,null,null,null,null,244,5.1996023638650711E-2,6.6522228061974369,2.9856472972668278]
[null,null,null,null,null,null,null,null,null,null,null,null,null,null,null,null,null,null,null,null,null,null,null,null,null,null,null,null,null,null,null,null,null,null,null,null,null,null,null,null,null,null,null,null,245,5.220912209618616E-2,6.6841875748277539,3.0091147064414367]
[null,null,null,null,null,null,null,null,null,null,null,null,null,null,null,null,null,null,null,null,null,null,null,null,null,null,null,null,null,null,null,null,null,null,null,null,null,null,null,null,null,null,null,null,246,5.2422220553721616E-2,6.7161523434580737,3.0326362657521826]
[null,null,null,null,null,null,null,null,null,null,null,null,null,null,null,null,null,null,null,null,null,null,null,null,null,null,null,null,null,null,null,null,null,null,null,null,null,null,null,null,null,null,null,null,247,5.2635319011257072E-2,6.7481171120883907,3.0562116301227786]
[null,null,null,null,null,null,null,null,null,null,null,null,null,null,null,null,null,null,null,null,null,null,null,null,null,null,null,null,null,null,null,null,null,null,null,null,null,null,null,null,null,null,null,null,248,5.284841746879252E-2,6.7800818807187078,3.0798404566759667]
[null,null,null,null,null,null,null,null,null,null,null,null,null,null,null,null,null,null,null,null,null,null,null,null,null,null,null,null,null,null,null,null,null,null,null,null,null,null,null,null,null,null,null,null,249,5.3061515926327976E-2,6.8120466493490275,3.1035224047195022]
[null,null,null,null,null,null,null,null,null,null,null,null,null,null,null,null,null,null,null,null,null,null,null,null,null,null,null,null,null,null,null,null,null,null,null,null,null,null,null,null,null,null,null,null,250,5.3274614383863432E-2,6.8440114179793445,3.127257135732231]
[null,null,null,null,null,null,null,null,null,null,null,null,null,null,null,null,null,null,null,null,null,null,null,null,null,null,null,null,null,null,null,null,null,null,null,null,null,null,null,null,null,null,null,null,251,5.3487712841398888E-2,6.8759761866096643,3.1510443133502521]
[null,null,null,null,null,null,null,null,null,null,null,null,null,null,null,null,null,null,null,null,null,null,null,null,null,null,null,null,null,null,null,null,null,null,null,null,null,null,null,null,null,null,null,null,{"$f":"AS282+1","v":252},5.3700811298934337E-2,6.9079409552399813,3.1748836033531727]
[null,null,null,null,null,null,null,null,null,null,null,null,null,null,null,null,null,null,null,null,null,null,null,null,null,null,null,null,null,null,null,null,null,null,null,null,null,null,null,null,null,null,null,null,253,5.3913909756469793E-2,6.9399057238702992,3.1987746736504472]
[null,null,null,null,null,null,null,null,null,null,null,null,null,null,null,null,null,null,null,null,null,null,null,null,null,null,null,null,null,null,null,null,null,null,null,null,null,null,null,null,null,null,null,null,254,5.4127008214005248E-2,6.9718704925006181,3.2227171942678052]
[null,null,null,null,null,null,null,null,null,null,null,null,null,null,null,null,null,null,null,null,null,null,null,null,null,null,null,null,null,null,null,null,null,null,null,null,null,null,null,null,null,null,null,null,255,5.4340106671540697E-2,7.003835261130936,3.2467108373337652]
[null,null,null,null,null,null,null,null,null,null,null,null,null,null,null,null,null,null,null,null,null,null,null,null,null,null,null,null,null,null,null,null,null,null,null,null,null,null,null,null,null,null,null,null,256,{"$f":"$AP$18/$N$7*AS287","v":5.4553205129076153E-2},7.0358000297612531,3.2707552770662338]
[null,null,null,null,null,null,null,null,null,null,null,null,null,null,null,null,null,null,null,null,null,null,null,null,null,null,null,null,null,null,null,null,null,null,null,null,null,null,null,null,null,null,null,null,257,5.4766303586611609E-2,{"$f":"IF(($N$4*AT288^2/2)<=$AP$13,($N$4*AT288^2/2), IF(($AP$13+$N$6*(AT288-$AP$12))<=$AP$17, ($AP$13+$N$6*(AT288-$AP$12)), IF(AU287<$D$14, ($AP$17+($N$6-$N$5*(AT288-$AP$16)/2)*(AT288-$AP$16)), $D$14)))","v":7.0677647983915728},3.2948501897591913]
[null,null,null,null,null,null,null,null,null,null,null,null,null,null,null,null,null,null,null,null,null,null,null,null,null,null,null,null,null,null,null,null,null,null,null,null,null,null,null,null,null,null,null,null,258,5.4979402044147058E-2,7.0997295670218898,{"$f":"( $AP$6*AU289 + $AP$7*AU288 + $AP$9*AV288 )/$AP$8","v":3.3189952537694616}]
[null,null,null,null,null,null,null,null,null,null,null,null,null,null,null,null,null,null,null,null,null,null,null,null,null,null,null,null,null,null,null,null,null,null,null,null,null,null,null,null,null,null,null,null,259,5.5192500501682513E-2,7.1316943356522069,3.3431901495035667]
[null,null,null,null,null,null,null,null,null,null,null,null,null,null,null,null,null,null,null,null,null,null,null,null,null,null,null,null,null,null,null,null,null,null,null,null,null,null,null,null,null,null,null,null,260,5.5405598959217969E-2,7.1636591042825266,3.3674345594046664]
[null,null,null,null,null,null,null,null,null,null,null,null,null,null,null,null,null,null,null,null,null,null,null,null,null,null,null,null,null,null,null,null,null,null,null,null,null,null,null,null,null,null,null,null,261,5.5618697416753418E-2,7.1956238729128437,3.3917281679395757]
[null,null,null,null,null,null,null,null,null,null,null,null,null,null,null,null,null,null,null,null,null,null,null,null,null,null,null,null,null,null,null,null,null,null,null,null,null,null,null,null,null,null,null,null,262,5.5831795874288874E-2,7.2275886415431616,3.4160706615858722]
[null,null,null,null,null,null,null,null,null,null,null,null,null,null,null,null,null,null,null,null,null,null,null,null,null,null,null,null,null,null,null,null,null,null,null,null,null,null,null,null,null,null,null,null,263,5.604489433182433E-2,7.2595534101734804,3.440461728819082]
[null,null,null,null,null,null,null,null,null,null,null,null,null,null,null,null,null,null,null,null,null,null,null,null,null,null,null,null,null,null,null,null,null,null,null,null,null,null,null,null,null,null,null,null,264,5.6257992789359786E-2,7.2915181788037975,3.464901060099947]
[null,null,null,null,null,null,null,null,null,null,null,null,null,null,null,null,null,null,null,null,null,null,null,null,null,null,null,null,null,null,null,null,null,null,null,null,null,null,null,null,null,null,null,null,265,5.6471091246895234E-2,7.3234829474341154,3.489388347861774]
[null,null,null,null,null,null,null,null,null,null,null,null,null,null,null,null,null,null,null,null,null,null,null,null,null,null,null,null,null,null,null,null,null,null,null,null,null,null,null,null,null,null,null,null,266,5.668418970443069E-2,7.3554477160644343,3.5139232864978638]
[null,null,null,null,null,null,null,null,null,null,null,null,null,null,null,null,null,null,null,null,null,null,null,null,null,null,null,null,null,null,null,null,null,null,null,null,null,null,null,null,null,null,null,null,267,5.6897288161966146E-2,7.3874124846947522,3.5385055723490213]
[null,null,null,null,null,null,null,null,null,null,null,null,null,null,null,null,null,null,null,null,null,null,null,null,null,null,null,null,null,null,null,null,null,null,null,null,null,null,null,null,null,null,null,null,268,5.7110386619501595E-2,7.4193772533250693,3.5631349036911457]
[null,null,null,null,null,null,null,null,null,null,null,null,null,null,null,null,null,null,null,null,null,null,null,null,null,null,null,null,null,null,null,null,null,null,null,null,null,null,null,null,null,null,null,null,269,5.7323485077037051E-2,7.451342021955389,3.5878109807228991]
[null,null,null,null,null,null,null,null,null,null,null,null,null,null,null,null,null,null,null,null,null,null,null,null,null,null,null,null,null,null,null,null,null,null,null,null,null,null,null,null,null,null,null,null,270,5.7536583534572507E-2,7.483306790585706,3.6125335055534515]
[null,null,null,null,null,null,null,null,null,null,null,null,null,null,null,null,null,null,null,null,null,null,null,null,null,null,null,null,null,null,null,null,null,null,null,null,null,null,null,null,null,null,null,null,271,5.7749681992107955E-2,7.5152715592160231,3.6373021821903078]
[null,null,null,null,null,null,null,null,null,null,null,null,null,null,null,null,null,null,null,null,null,null,null,null,null,null,null,null,null,null,null,null,null,null,null,null,null,null,null,null,null,null,null,null,272,5.7962780449643411E-2,7.5472363278463428,3.6621167165272093]
[null,null,null,null,null,null,null,null,null,null,null,null,null,null,null,null,null,null,null,null,null,null,null,null,null,null,null,null,null,null,null,null,null,null,null,null,null,null,null,null,null,null,null,null,273,5.8175878907178867E-2,7.5792010964766598,3.6869768163321148]
[null,null,null,null,null,null,null,null,null,null,null,null,null,null,null,null,null,null,null,null,null,null,null,null,null,null,null,null,null,null,null,null,null,null,null,null,null,null,null,null,null,null,null,null,274,5.8388977364714323E-2,7.6111658651069796,3.7118821912352562]
[null,null,null,null,null,null,null,null,null,null,null,null,null,null,null,null,null,null,null,null,null,null,null,null,null,null,null,null,null,null,null,null,null,null,null,null,null,null,null,null,null,null,null,null,275,5.8602075822249772E-2,7.6431306337372966,3.7368325527172712]
[null,null,null,null,null,null,null,null,null,null,null,null,null,null,null,null,null,null,null,null,null,null,null,null,null,null,null,null,null,null,null,null,null,null,null,null,null,null,null,null,null,null,null,null,276,5.8815174279785228E-2,7.6750954023676146,3.761827614097411]
[null,null,null,null,null,null,null,null,null,null,null,null,null,null,null,null,null,null,null,null,null,null,null,null,null,null,null,null,null,null,null,null,null,null,null,null,null,null,null,null,null,null,null,null,277,5.9028272737320683E-2,7.7070601709979334,3.7868670905218238]
[null,null,null,null,null,null,null,null,null,null,null,null,null,null,null,null,null,null,null,null,null,null,null,null,null,null,null,null,null,null,null,null,null,null,null,null,null,null,null,null,null,null,null,null,278,5.9241371194856132E-2,7.7390249396282513,3.8119506989519132]
[null,null,null,null,null,null,null,null,null,null,null,null,null,null,null,null,null,null,null,null,null,null,null,null,null,null,null,null,null,null,null,null,null,null,null,null,null,null,null,null,null,null,null,null,279,5.9454469652391588E-2,7.7709897082585684,3.83707815815277]
[null,null,null,null,null,null,null,null,null,null,null,null,null,null,null,null,null,null,null,null,null,null,null,null,null,null,null,null,null,null,null,null,null,null,null,null,null,null,null,null,null,null,null,null,280,5.9667568109927044E-2,7.8029544768888881,3.8622491886816785]
[null,null,null,null,null,null,null,null,null,null,null,null,null,null,null,null,null,null,null,null,null,null,null,null,null,null,null,null,null,null,null,null,null,null,null,null,null,null,null,null,null,null,null,null,281,5.9880666567462493E-2,7.8349192455192052,3.8874635128766943]
[null,null,null,null,null,null,null,null,null,null,null,null,null,null,null,null,null,null,null,null,null,null,null,null,null,null,null,null,null,null,null,null,null,null,null,null,null,null,null,null,null,null,null,null,282,6.0093765024997949E-2,7.8668840141495222,3.9127208548452974]
[null,null,null,null,null,null,null,null,null,null,null,null,null,null,null,null,null,null,null,null,null,null,null,null,null,null,null,null,null,null,null,null,null,null,null,null,null,null,null,null,null,null,null,null,283,6.0306863482533404E-2,7.8988487827798419,3.9380209404531161]
[null,null,null,null,null,null,null,null,null,null,null,null,null,null,null,null,null,null,null,null,null,null,null,null,null,null,null,null,null,null,null,null,null,null,null,null,null,null,null,null,null,null,null,null,284,6.051996194006886E-2,7.930813551410159,3.9633634973127227]
[null,null,null,null,null,null,null,null,null,null,null,null,null,null,null,null,null,null,null,null,null,null,null,null,null,null,null,null,null,null,null,null,null,null,null,null,null,null,null,null,null,null,null,null,285,6.0733060397604309E-2,7.962778320040476,3.9887482547725019]
[null,null,null,null,null,null,null,null,null,null,null,null,null,null,null,null,null,null,null,null,null,null,null,null,null,null,null,null,null,null,null,null,null,null,null,null,null,null,null,null,null,null,null,null,286,6.0946158855139765E-2,7.9947430886707957,4.0141749439055872]
[null,null,null,null,null,null,null,null,null,null,null,null,null,null,null,null,null,null,null,null,null,null,null,null,null,null,null,null,null,null,null,null,null,null,null,null,null,null,null,null,null,null,null,null,287,6.1159257312675221E-2,8.0267078573011119,4.0396432974988734]
[null,null,null,null,null,null,null,null,null,null,null,null,null,null,null,null,null,null,null,null,null,null,null,null,null,null,null,null,null,null,null,null,null,null,null,null,null,null,null,null,null,null,null,null,288,6.137235577021067E-2,8.0586726259314307,4.06515305004209]
[null,null,null,null,null,null,null,null,null,null,null,null,null,null,null,null,null,null,null,null,null,null,null,null,null,null,null,null,null,null,null,null,null,null,null,null,null,null,null,null,null,null,null,null,289,6.1585454227746125E-2,8.0906373945617496,4.090703937716957]
[null,null,null,null,null,null,null,null,null,null,null,null,null,null,null,null,null,null,null,null,null,null,null,null,null,null,null,null,null,null,null,null,null,null,null,null,null,null,null,null,null,null,null,null,290,6.1798552685281581E-2,8.1226021631920666,4.1162956983863941]
[null,null,null,null,null,null,null,null,null,null,null,null,null,null,null,null,null,null,null,null,null,null,null,null,null,null,null,null,null,null,null,null,null,null,null,null,null,null,null,null,null,null,null,null,291,6.201165114281703E-2,8.1545669318223837,4.1419280715838154]
[null,null,null,null,null,null,null,null,null,null,null,null,null,null,null,null,null,null,null,null,null,null,null,null,null,null,null,null,null,null,null,null,null,null,null,null,null,null,null,null,null,null,null,null,292,6.2224749600352486E-2,8.1865317004527043,4.1676007985024786]
[null,null,null,null,null,null,null,null,null,null,null,null,null,null,null,null,null,null,null,null,null,null,null,null,null,null,null,null,null,null,null,null,null,null,null,null,null,null,null,null,null,null,null,null,293,6.2437848057887942E-2,8.2184964690830213,4.1933136219849079]
[null,null,null,null,null,null,null,null,null,null,null,null,null,null,null,null,null,null,null,null,null,null,null,null,null,null,null,null,null,null,null,null,null,null,null,null,null,null,null,null,null,null,null,null,294,6.2650946515423397E-2,8.2504612377133419,4.2190662865123869]
[null,null,null,null,null,null,null,null,null,null,null,null,null,null,null,null,null,null,null,null,null,null,null,null,null,null,null,null,null,null,null,null,null,null,null,null,null,null,null,null,null,null,null,null,295,6.2864044972958846E-2,8.282426006343659,4.2448585381945136]
[null,null,null,null,null,null,null,null,null,null,null,null,null,null,null,null,null,null,null,null,null,null,null,null,null,null,null,null,null,null,null,null,null,null,null,null,null,null,null,null,null,null,null,null,296,6.3077143430494295E-2,8.3143907749739761,4.270690124758822]
[null,null,null,null,null,null,null,null,null,null,null,null,null,null,null,null,null,null,null,null,null,null,null,null,null,null,null,null,null,null,null,null,null,null,null,null,null,null,null,null,null,null,null,null,297,6.3290241888029758E-2,8.3463555436042949,4.2965607955404748]
[null,null,null,null,null,null,null,null,null,null,null,null,null,null,null,null,null,null,null,null,null,null,null,null,null,null,null,null,null,null,null,null,null,null,null,null,null,null,null,null,null,null,null,null,298,6.3503340345565207E-2,8.3783203122346119,4.3224703014720189]
[null,null,null,null,null,null,null,null,null,null,null,null,null,null,null,null,null,null,null,null,null,null,null,null,null,null,null,null,null,null,null,null,null,null,null,null,null,null,null,null,null,null,null,null,299,6.371643880310067E-2,8.4102850808649308,4.3484183950732014]
[null,null,null,null,null,null,null,null,null,null,null,null,null,null,null,null,null,null,null,null,null,null,null,null,null,null,null,null,null,null,null,null,null,null,null,null,null,null,null,null,null,null,null,null,300,6.3929537260636118E-2,8.4422498494952478,4.3744048304408611]
[null,null,null,null,null,null,null,null,null,null,null,null,null,null,null,null,null,null,null,null,null,null,null,null,null,null,null,null,null,null,null,null,null,null,null,null,null,null,null,null,null,null,null,null,301,6.4142635718171567E-2,8.4742146181255666,4.4004293632388727]
[null,null,null,null,null,null,null,null,null,null,null,null,null,null,null,null,null,null,null,null,null,null,null,null,null,null,null,null,null,null,null,null,null,null,null,null,null,null,null,null,null,null,null,null,302,6.435573417570703E-2,8.5061793867558855,4.4264917506881671]
[null,null,null,null,null,null,null,null,null,null,null,null,null,null,null,null,null,null,null,null,null,null,null,null,null,null,null,null,null,null,null,null,null,null,null,null,null,null,null,null,null,null,null,null,303,6.4568832633242479E-2,8.5381441553862025,4.4525917515567999]
[null,null,null,null,null,null,null,null,null,null,null,null,null,null,null,null,null,null,null,null,null,null,null,null,null,null,null,null,null,null,null,null,null,null,null,null,null,null,null,null,null,null,null,null,304,6.4781931090777928E-2,8.5701089240165196,4.4787291261501014]
[null,null,null,null,null,null,null,null,null,null,null,null,null,null,null,null,null,null,null,null,null,null,null,null,null,null,null,null,null,null,null,null,null,null,null,null,null,null,null,null,null,null,null,null,305,6.4995029548313391E-2,8.6020736926468402,4.5049036363008739]
[null,null,null,null,null,null,null,null,null,null,null,null,null,null,null,null,null,null,null,null,null,null,null,null,null,null,null,null,null,null,null,null,null,null,null,null,null,null,null,null,null,null,null,null,306,6.5208128005848839E-2,8.6340384612771572,4.5311150453596634]
[null,null,null,null,null,null,null,null,null,null,null,null,null,null,null,null,null,null,null,null,null,null,null,null,null,null,null,null,null,null,null,null,null,null,null,null,null,null,null,null,null,null,null,null,307,6.5421226463384288E-2,8.6660032299074743,4.5573631181850809]
[null,null,null,null,null,null,null,null,null,null,null,null,null,null,null,null,null,null,null,null,null,null,null,null,null,null,null,null,null,null,null,null,null,null,null,null,null,null,null,null,null,null,null,null,308,6.5634324920919751E-2,8.6979679985377949,4.5836476211341974]
[null,null,null,null,null,null,null,null,null,null,null,null,null,null,null,null,null,null,null,null,null,null,null,null,null,null,null,null,null,null,null,null,null,null,null,null,null,null,null,null,null,null,null,null,309,6.58474233784552E-2,8.729932767168112,4.6099683220529926]
[null,null,null,null,null,null,null,null,null,null,null,null,null,null,null,null,null,null,null,null,null,null,null,null,null,null,null,null,null,null,null,null,null,null,null,null,null,null,null,null,null,null,null,null,310,6.6060521835990649E-2,8.761897535798429,4.6363249902668677]
[null,null,null,null,null,null,null,null,null,null,null,null,null,null,null,null,null,null,null,null,null,null,null,null,null,null,null,null,null,null,null,null,null,null,null,null,null,null,null,null,null,null,null,null,311,6.6273620293526112E-2,8.7938623044287478,4.6627173965712165]
[null,null,null,null,null,null,null,null,null,null,null,null,null,null,null,null,null,null,null,null,null,null,null,null,null,null,null,null,null,null,null,null,null,null,null,null,null,null,null,null,null,null,null,null,312,6.648671875106156E-2,8.8258270730590649,4.6891453132220606]
[null,null,null,null,null,null,null,null,null,null,null,null,null,null,null,null,null,null,null,null,null,null,null,null,null,null,null,null,null,null,null,null,null,null,null,null,null,null,null,null,null,null,null,null,313,6.6699817208597009E-2,8.8577918416893837,4.7156085139267354]
[null,null,null,null,null,null,null,null,null,null,null,null,null,null,null,null,null,null,null,null,null,null,null,null,null,null,null,null,null,null,null,null,null,null,null,null,null,null,null,null,null,null,null,null,314,6.6912915666132472E-2,8.8897566103197008,4.7421067738346476]
[null,null,null,null,null,null,null,null,null,null,null,null,null,null,null,null,null,null,null,null,null,null,null,null,null,null,null,null,null,null,null,null,null,null,null,null,null,null,null,null,null,null,null,null,315,6.7126014123667921E-2,8.9217213789500196,4.7686398695280827]
[null,null,null,null,null,null,null,null,null,null,null,null,null,null,null,null,null,null,null,null,null,null,null,null,null,null,null,null,null,null,null,null,null,null,null,null,null,null,null,null,null,null,null,null,{"$f":"AS346+1","v":316},6.733911258120337E-2,8.9536861475803367,4.7952075790130744]
[null,null,null,null,null,null,null,null,null,null,null,null,null,null,null,null,null,null,null,null,null,null,null,null,null,null,null,null,null,null,null,null,null,null,null,null,null,null,null,null,null,null,null,null,317,6.7552211038738832E-2,8.9856509162106555,4.8218096817103318]
[null,null,null,null,null,null,null,null,null,null,null,null,null,null,null,null,null,null,null,null,null,null,null,null,null,null,null,null,null,null,null,null,null,null,null,null,null,null,null,null,null,null,null,null,318,6.7765309496274281E-2,9.0176156848409725,4.8484459584462236]
[null,null,null,null,null,null,null,null,null,null,null,null,null,null,null,null,null,null,null,null,null,null,null,null,null,null,null,null,null,null,null,null,null,null,null,null,null,null,null,null,null,null,null,null,319,6.7978407953809744E-2,9.0495804534712931,4.875116191443821]
[null,null,null,null,null,null,null,null,null,null,null,null,null,null,null,null,null,null,null,null,null,null,null,null,null,null,null,null,null,null,null,null,null,null,null,null,null,null,null,null,null,null,null,null,320,{"$f":"$AP$18/$N$7*AS351","v":6.8191506411345193E-2},9.0815452221016102,4.9018201643139969]
[null,null,null,null,null,null,null,null,null,null,null,null,null,null,null,null,null,null,null,null,null,null,null,null,null,null,null,null,null,null,null,null,null,null,null,null,null,null,null,null,null,null,null,null,321,6.8404604868880642E-2,{"$f":"IF(($N$4*AT352^2/2)<=$AP$13,($N$4*AT352^2/2), IF(($AP$13+$N$6*(AT352-$AP$12))<=$AP$17, ($AP$13+$N$6*(AT352-$AP$12)), IF(AU351<$D$14, ($AP$17+($N$6-$N$5*(AT352-$AP$16)/2)*(AT352-$AP$16)), $D$14)))","v":9.1135099907319272},4.9285576620465834]
[null,null,null,null,null,null,null,null,null,null,null,null,null,null,null,null,null,null,null,null,null,null,null,null,null,null,null,null,null,null,null,null,null,null,null,null,null,null,null,null,null,null,null,null,322,6.8617703326416105E-2,9.1454747593622479,{"$f":"( $AP$6*AU353 + $AP$7*AU352 + $AP$9*AV352 )/$AP$8","v":4.9553284710015824}]
[null,null,null,null,null,null,null,null,null,null,null,null,null,null,null,null,null,null,null,null,null,null,null,null,null,null,null,null,null,null,null,null,null,null,null,null,null,null,null,null,null,null,null,null,323,6.8830801783951553E-2,9.1774395279925649,4.9821323789004319]
[null,null,null,null,null,null,null,null,null,null,null,null,null,null,null,null,null,null,null,null,null,null,null,null,null,null,null,null,null,null,null,null,null,null,null,null,null,null,null,null,null,null,null,null,324,6.9043900241487002E-2,9.209404296622882,5.0089691748173353]
[null,null,null,null,null,null,null,null,null,null,null,null,null,null,null,null,null,null,null,null,null,null,null,null,null,null,null,null,null,null,null,null,null,null,null,null,null,null,null,null,null,null,null,null,325,6.9256998699022465E-2,9.2413690652532026,5.0358386491706373]
[null,null,null,null,null,null,null,null,null,null,null,null,null,null,null,null,null,null,null,null,null,null,null,null,null,null,null,null,null,null,null,null,null,null,null,null,null,null,null,null,null,null,null,null,326,6.9470097156557914E-2,9.2733338338835196,5.0627405937142615]
[null,null,null,null,null,null,null,null,null,null,null,null,null,null,null,null,null,null,null,null,null,null,null,null,null,null,null,null,null,null,null,null,null,null,null,null,null,null,null,null,null,null,null,null,327,6.9683195614093363E-2,9.3052986025138367,5.0896748015291946]
[null,null,null,null,null,null,null,null,null,null,null,null,null,null,null,null,null,null,null,null,null,null,null,null,null,null,null,null,null,null,null,null,null,null,null,null,null,null,null,null,null,null,null,null,328,6.9896294071628826E-2,9.3372633711441537,5.1166410670150331]
[null,null,null,null,null,null,null,null,null,null,null,null,null,null,null,null,null,null,null,null,null,null,null,null,null,null,null,null,null,null,null,null,null,null,null,null,null,null,null,null,null,null,null,null,329,7.0109392529164274E-2,9.3692281397744708,5.1436391858815789]
[null,null,null,null,null,null,null,null,null,null,null,null,null,null,null,null,null,null,null,null,null,null,null,null,null,null,null,null,null,null,null,null,null,null,null,null,null,null,null,null,null,null,null,null,330,7.0322490986699723E-2,9.4011929084047914,5.1706689551404921]
[null,null,null,null,null,null,null,null,null,null,null,null,null,null,null,null,null,null,null,null,null,null,null,null,null,null,null,null,null,null,null,null,null,null,null,null,null,null,null,null,null,null,null,null,331,7.0535589444235186E-2,9.4331576770351084,5.19773017309699]
[null,null,null,null,null,null,null,null,null,null,null,null,null,null,null,null,null,null,null,null,null,null,null,null,null,null,null,null,null,null,null,null,null,null,null,null,null,null,null,null,null,null,null,null,332,7.0748687901770635E-2,9.4651224456654255,5.2248226393416095]
[null,null,null,null,null,null,null,null,null,null,null,null,null,null,null,null,null,null,null,null,null,null,null,null,null,null,null,null,null,null,null,null,null,null,null,null,null,null,null,null,null,null,null,null,333,7.0961786359306084E-2,9.4970872142957425,5.2519461547420123]
[null,null,null,null,null,null,null,null,null,null,null,null,null,null,null,null,null,null,null,null,null,null,null,null,null,null,null,null,null,null,null,null,null,null,null,null,null,null,null,null,null,null,null,null,334,7.1174884816841547E-2,9.5290519829260631,5.2791005214348479]
[null,null,null,null,null,null,null,null,null,null,null,null,null,null,null,null,null,null,null,null,null,null,null,null,null,null,null,null,null,null,null,null,null,null,null,null,null,null,null,null,null,null,null,null,335,7.1387983274376995E-2,9.5610167515563802,5.3062855428176654]
[null,null,null,null,null,null,null,null,null,null,null,null,null,null,null,null,null,null,null,null,null,null,null,null,null,null,null,null,null,null,null,null,null,null,null,null,null,null,null,null,null,null,null,null,336,7.1601081731912444E-2,9.5929815201866973,5.3335010235408822]
[null,null,null,null,null,null,null,null,null,null,null,null,null,null,null,null,null,null,null,null,null,null,null,null,null,null,null,null,null,null,null,null,null,null,null,null,null,null,null,null,null,null,null,null,337,7.1814180189447907E-2,9.6249462888170179,5.3607467694997952]
[null,null,null,null,null,null,null,null,null,null,null,null,null,null,null,null,null,null,null,null,null,null,null,null,null,null,null,null,null,null,null,null,null,null,null,null,null,null,null,null,null,null,null,null,338,7.2027278646983356E-2,9.6569110574473349,5.3880225878266499]
[null,null,null,null,null,null,null,null,null,null,null,null,null,null,null,null,null,null,null,null,null,null,null,null,null,null,null,null,null,null,null,null,null,null,null,null,null,null,null,null,null,null,null,null,339,7.2240377104518819E-2,9.6888758260776555,5.415328286882759]
[null,null,null,null,null,null,null,null,null,null,null,null,null,null,null,null,null,null,null,null,null,null,null,null,null,null,null,null,null,null,null,null,null,null,null,null,null,null,null,null,null,null,null,null,340,7.2453475562054268E-2,9.7208405947079726,5.4426636762506675]
[null,null,null,null,null,null,null,null,null,null,null,null,null,null,null,null,null,null,null,null,null,null,null,null,null,null,null,null,null,null,null,null,null,null,null,null,null,null,null,null,null,null,null,null,341,7.2666574019589716E-2,9.7528053633382896,5.4700285667263726]
[null,null,null,null,null,null,null,null,null,null,null,null,null,null,null,null,null,null,null,null,null,null,null,null,null,null,null,null,null,null,null,null,null,null,null,null,null,null,null,null,null,null,null,null,342,7.2879672477125179E-2,9.7847701319686067,5.4974227703115908]
[null,null,null,null,null,null,null,null,null,null,null,null,null,null,null,null,null,null,null,null,null,null,null,null,null,null,null,null,null,null,null,null,null,null,null,null,null,null,null,null,null,null,null,null,343,7.3092770934660628E-2,9.8167349005989237,5.5248461002060703]
[null,null,null,null,null,null,null,null,null,null,null,null,null,null,null,null,null,null,null,null,null,null,null,null,null,null,null,null,null,null,null,null,null,null,null,null,null,null,null,null,null,null,null,null,344,7.3305869392196077E-2,9.8486996692292443,5.5522983707999609]
[null,null,null,null,null,null,null,null,null,null,null,null,null,null,null,null,null,null,null,null,null,null,null,null,null,null,null,null,null,null,null,null,null,null,null,null,null,null,null,null,null,null,null,null,345,7.351896784973154E-2,9.8806644378595614,5.5797793976662282]
[null,null,null,null,null,null,null,null,null,null,null,null,null,null,null,null,null,null,null,null,null,null,null,null,null,null,null,null,null,null,null,null,null,null,null,null,null,null,null,null,null,null,null,null,346,7.3732066307266989E-2,9.9126292064898784,5.6072889975531135]
[null,null,null,null,null,null,null,null,null,null,null,null,null,null,null,null,null,null,null,null,null,null,null,null,null,null,null,null,null,null,null,null,null,null,null,null,null,null,null,null,null,null,null,null,347,7.3945164764802437E-2,9.9445939751201955,5.6348269883766449]
[null,null,null,null,null,null,null,null,null,null,null,null,null,null,null,null,null,null,null,null,null,null,null,null,null,null,null,null,null,null,null,null,null,null,null,null,null,null,null,null,null,null,null,null,348,7.41582632223379E-2,9.9765587437505161,5.6623931892131969]
[null,null,null,null,null,null,null,null,null,null,null,null,null,null,null,null,null,null,null,null,null,null,null,null,null,null,null,null,null,null,null,null,null,null,null,null,null,null,null,null,null,null,null,null,349,7.4371361679873349E-2,10.008523512380833,5.6899874202920939]
[null,null,null,null,null,null,null,null,null,null,null,null,null,null,null,null,null,null,null,null,null,null,null,null,null,null,null,null,null,null,null,null,null,null,null,null,null,null,null,null,null,null,null,null,350,7.4584460137408798E-2,10.04048828101115,5.7176095029882648]
[null,null,null,null,null,null,null,null,null,null,null,null,null,null,null,null,null,null,null,null,null,null,null,null,null,null,null,null,null,null,null,null,null,null,null,null,null,null,null,null,null,null,null,null,351,7.4797558594944261E-2,10.072453049641471,5.7452592598149419]
[null,null,null,null,null,null,null,null,null,null,null,null,null,null,null,null,null,null,null,null,null,null,null,null,null,null,null,null,null,null,null,null,null,null,null,null,null,null,null,null,null,null,null,null,352,7.5010657052479709E-2,10.104417818271788,5.7729365144164069]
[null,null,null,null,null,null,null,null,null,null,null,null,null,null,null,null,null,null,null,null,null,null,null,null,null,null,null,null,null,null,null,null,null,null,null,null,null,null,null,null,null,null,null,null,353,7.5223755510015158E-2,10.136382586902105,5.8006410915607818]
[null,null,null,null,null,null,null,null,null,null,null,null,null,null,null,null,null,null,null,null,null,null,null,null,null,null,null,null,null,null,null,null,null,null,null,null,null,null,null,null,null,null,null,null,354,7.5436853967550621E-2,10.168347355532426,5.8283728171328697]
[null,null,null,null,null,null,null,null,null,null,null,null,null,null,null,null,null,null,null,null,null,null,null,null,null,null,null,null,null,null,null,null,null,null,null,null,null,null,null,null,null,null,null,null,355,7.564995242508607E-2,10.200312124162743,5.8561315181270359]
[null,null,null,null,null,null,null,null,null,null,null,null,null,null,null,null,null,null,null,null,null,null,null,null,null,null,null,null,null,null,null,null,null,null,null,null,null,null,null,null,null,null,null,null,356,7.5863050882621519E-2,10.23227689279306,5.8839170226401407]
[null,null,null,null,null,null,null,null,null,null,null,null,null,null,null,null,null,null,null,null,null,null,null,null,null,null,null,null,null,null,null,null,null,null,null,null,null,null,null,null,null,null,null,null,357,7.6076149340156982E-2,10.264241661423377,5.9117291598645112]
[null,null,null,null,null,null,null,null,null,null,null,null,null,null,null,null,null,null,null,null,null,null,null,null,null,null,null,null,null,null,null,null,null,null,null,null,null,null,null,null,null,null,null,null,358,7.628924779769243E-2,10.296206430053697,5.9395677600809584]
[null,null,null,null,null,null,null,null,null,null,null,null,null,null,null,null,null,null,null,null,null,null,null,null,null,null,null,null,null,null,null,null,null,null,null,null,null,null,null,null,null,null,null,null,359,7.6502346255227893E-2,10.328171198684014,5.9674326546518461]
[null,null,null,null,null,null,null,null,null,null,null,null,null,null,null,null,null,null,null,null,null,null,null,null,null,null,null,null,null,null,null,null,null,null,null,null,null,null,null,null,null,null,null,null,360,7.6715444712763342E-2,10.360135967314331,5.9953236760141948]
[null,null,null,null,null,null,null,null,null,null,null,null,null,null,null,null,null,null,null,null,null,null,null,null,null,null,null,null,null,null,null,null,null,null,null,null,null,null,null,null,null,null,null,null,361,7.6928543170298791E-2,10.392100735944648,6.0232406576728321]
[null,null,null,null,null,null,null,null,null,null,null,null,null,null,null,null,null,null,null,null,null,null,null,null,null,null,null,null,null,null,null,null,null,null,null,null,null,null,null,null,null,null,null,null,362,7.7141641627834254E-2,10.424065504574969,6.0511834341935931]
[null,null,null,null,null,null,null,null,null,null,null,null,null,null,null,null,null,null,null,null,null,null,null,null,null,null,null,null,null,null,null,null,null,null,null,null,null,null,null,null,null,null,null,null,363,7.7354740085369703E-2,10.456030273205286,6.0791518411965537]
[null,null,null,null,null,null,null,null,null,null,null,null,null,null,null,null,null,null,null,null,null,null,null,null,null,null,null,null,null,null,null,null,null,null,null,null,null,null,null,null,null,null,null,null,364,7.7567838542905151E-2,10.487995041835603,6.1071457153493149]
[null,null,null,null,null,null,null,null,null,null,null,null,null,null,null,null,null,null,null,null,null,null,null,null,null,null,null,null,null,null,null,null,null,null,null,null,null,null,null,null,null,null,null,null,365,7.7780937000440614E-2,10.519959810465924,6.1351648943603285]
[null,null,null,null,null,null,null,null,null,null,null,null,null,null,null,null,null,null,null,null,null,null,null,null,null,null,null,null,null,null,null,null,null,null,null,null,null,null,null,null,null,null,null,null,366,7.7994035457976063E-2,10.551924579096241,6.1632092169722617]
[null,null,null,null,null,null,null,null,null,null,null,null,null,null,null,null,null,null,null,null,null,null,null,null,null,null,null,null,null,null,null,null,null,null,null,null,null,null,null,null,null,null,null,null,367,7.8207133915511512E-2,10.583889347726558,6.1912785229554084]
[null,null,null,null,null,null,null,null,null,null,null,null,null,null,null,null,null,null,null,null,null,null,null,null,null,null,null,null,null,null,null,null,null,null,null,null,null,null,null,null,null,null,null,null,368,7.8420232373046975E-2,10.615854116356878,6.2193726531011384]
[null,null,null,null,null,null,null,null,null,null,null,null,null,null,null,null,null,null,null,null,null,null,null,null,null,null,null,null,null,null,null,null,null,null,null,null,null,null,null,null,null,null,null,null,369,7.8633330830582424E-2,10.647818884987196,6.247491449215393]
[null,null,null,null,null,null,null,null,null,null,null,null,null,null,null,null,null,null,null,null,null,null,null,null,null,null,null,null,null,null,null,null,null,null,null,null,null,null,null,null,null,null,null,null,370,7.8846429288117872E-2,10.679783653617513,6.2756347541122173]
[null,null,null,null,null,null,null,null,null,null,null,null,null,null,null,null,null,null,null,null,null,null,null,null,null,null,null,null,null,null,null,null,null,null,null,null,null,null,null,null,null,null,null,null,371,7.9059527745653335E-2,10.711748422247833,6.3038024116073395]
[null,null,null,null,null,null,null,null,null,null,null,null,null,null,null,null,null,null,null,null,null,null,null,null,null,null,null,null,null,null,null,null,null,null,null,null,null,null,null,null,null,null,null,null,372,7.9272626203188784E-2,10.74371319087815,6.3319942665117832]
[null,null,null,null,null,null,null,null,null,null,null,null,null,null,null,null,null,null,null,null,null,null,null,null,null,null,null,null,null,null,null,null,null,null,null,null,null,null,null,null,null,null,null,null,373,7.9485724660724233E-2,10.775677959508467,6.360210164625526]
[null,null,null,null,null,null,null,null,null,null,null,null,null,null,null,null,null,null,null,null,null,null,null,null,null,null,null,null,null,null,null,null,null,null,null,null,null,null,null,null,null,null,null,null,374,7.9698823118259696E-2,10.807642728138784,6.3884499527311993]
[null,null,null,null,null,null,null,null,null,null,null,null,null,null,null,null,null,null,null,null,null,null,null,null,null,null,null,null,null,null,null,null,null,null,null,null,null,null,null,null,null,null,null,null,375,7.9911921575795145E-2,10.839607496769101,6.4167134785878259]
[null,null,null,null,null,null,null,null,null,null,null,null,null,null,null,null,null,null,null,null,null,null,null,null,null,null,null,null,null,null,null,null,null,null,null,null,null,null,null,null,null,null,null,null,376,8.0125020033330593E-2,10.871572265399418,6.4450005909245958]
[null,null,null,null,null,null,null,null,null,null,null,null,null,null,null,null,null,null,null,null,null,null,null,null,null,null,null,null,null,null,null,null,null,null,null,null,null,null,null,null,null,null,null,null,377,8.0338118490866056E-2,10.903537034029739,6.4733111394346841]
[null,null,null,null,null,null,null,null,null,null,null,null,null,null,null,null,null,null,null,null,null,null,null,null,null,null,null,null,null,null,null,null,null,null,null,null,null,null,null,null,null,null,null,null,378,8.0551216948401505E-2,10.935501802660056,6.5016449747691114]
[null,null,null,null,null,null,null,null,null,null,null,null,null,null,null,null,null,null,null,null,null,null,null,null,null,null,null,null,null,null,null,null,null,null,null,null,null,null,null,null,null,null,null,null,379,8.0764315405936968E-2,10.967466571290377,6.530001948530634]
[null,null,null,null,null,null,null,null,null,null,null,null,null,null,null,null,null,null,null,null,null,null,null,null,null,null,null,null,null,null,null,null,null,null,null,null,null,null,null,null,null,null,null,null,{"$f":"AS410+1","v":380},8.0977413863472417E-2,10.999431339920694,6.5583819132676853]
[null,null,null,null,null,null,null,null,null,null,null,null,null,null,null,null,null,null,null,null,null,null,null,null,null,null,null,null,null,null,null,null,null,null,null,null,null,null,null,null,null,null,null,null,381,8.1190512321007866E-2,11.031396108551011,6.5867847224683436]
[null,null,null,null,null,null,null,null,null,null,null,null,null,null,null,null,null,null,null,null,null,null,null,null,null,null,null,null,null,null,null,null,null,null,null,null,null,null,null,null,null,null,null,null,382,8.1403610778543328E-2,11.063360877181331,6.6152102305543492]
[null,null,null,null,null,null,null,null,null,null,null,null,null,null,null,null,null,null,null,null,null,null,null,null,null,null,null,null,null,null,null,null,null,null,null,null,null,null,null,null,null,null,null,null,383,8.1616709236078777E-2,11.095325645811648,6.6436582928751493]
[null,null,null,null,null,null,null,null,null,null,null,null,null,null,null,null,null,null,null,null,null,null,null,null,null,null,null,null,null,null,null,null,null,null,null,null,null,null,null,null,null,null,null,null,384,{"$f":"$AP$18/$N$7*AS415","v":8.1829807693614226E-2},11.127290414441966,6.6721287657019896]
[null,null,null,null,null,null,null,null,null,null,null,null,null,null,null,null,null,null,null,null,null,null,null,null,null,null,null,null,null,null,null,null,null,null,null,null,null,null,null,null,null,null,null,null,385,8.2042906151149689E-2,{"$f":"IF(($N$4*AT416^2/2)<=$AP$13,($N$4*AT416^2/2), IF(($AP$13+$N$6*(AT416-$AP$12))<=$AP$17, ($AP$13+$N$6*(AT416-$AP$12)), IF(AU415<$D$14, ($AP$17+($N$6-$N$5*(AT416-$AP$16)/2)*(AT416-$AP$16)), $D$14)))","v":11.159255183072286},6.7006215062220402]
[null,null,null,null,null,null,null,null,null,null,null,null,null,null,null,null,null,null,null,null,null,null,null,null,null,null,null,null,null,null,null,null,null,null,null,null,null,null,null,null,null,null,null,null,386,8.2256004608685138E-2,11.191219951702603,{"$f":"( $AP$6*AU417 + $AP$7*AU416 + $AP$9*AV416 )/$AP$8","v":6.7291363725325581}]
[null,null,null,null,null,null,null,null,null,null,null,null,null,null,null,null,null,null,null,null,null,null,null,null,null,null,null,null,null,null,null,null,null,null,null,null,null,null,null,null,null,null,null,null,387,8.2469103066220587E-2,11.22318472033292,6.7576732236350869]
[null,null,null,null,null,null,null,null,null,null,null,null,null,null,null,null,null,null,null,null,null,null,null,null,null,null,null,null,null,null,null,null,null,null,null,null,null,null,null,null,null,null,null,null,388,8.2682201523756049E-2,11.255149488963237,6.7862319194296949]
[null,null,null,null,null,null,null,null,null,null,null,null,null,null,null,null,null,null,null,null,null,null,null,null,null,null,null,null,null,null,null,null,null,null,null,null,null,null,null,null,null,null,null,null,389,8.2895299981291498E-2,11.287114257593554,6.8148123207092484]
[null,null,null,null,null,null,null,null,null,null,null,null,null,null,null,null,null,null,null,null,null,null,null,null,null,null,null,null,null,null,null,null,null,null,null,null,null,null,null,null,null,null,null,null,390,8.3108398438826947E-2,11.319079026223875,6.8434142891537242]
[null,null,null,null,null,null,null,null,null,null,null,null,null,null,null,null,null,null,null,null,null,null,null,null,null,null,null,null,null,null,null,null,null,null,null,null,null,null,null,null,null,null,null,null,391,8.332149689636241E-2,11.351043794854192,6.8720376873245534]
[null,null,null,null,null,null,null,null,null,null,null,null,null,null,null,null,null,null,null,null,null,null,null,null,null,null,null,null,null,null,null,null,null,null,null,null,null,null,null,null,null,null,null,null,392,8.3534595353897859E-2,11.383008563484509,6.9006823786590079]
[null,null,null,null,null,null,null,null,null,null,null,null,null,null,null,null,null,null,null,null,null,null,null,null,null,null,null,null,null,null,null,null,null,null,null,null,null,null,null,null,null,null,null,null,393,8.3747693811433307E-2,11.414973332114826,6.9293482274646143]
[null,null,null,null,null,null,null,null,null,null,null,null,null,null,null,null,null,null,null,null,null,null,null,null,null,null,null,null,null,null,null,null,null,null,null,null,null,null,null,null,null,null,null,null,394,8.396079226896877E-2,11.446938100745147,6.958035098913613]
[null,null,null,null,null,null,null,null,null,null,null,null,null,null,null,null,null,null,null,null,null,null,null,null,null,null,null,null,null,null,null,null,null,null,null,null,null,null,null,null,null,null,null,null,395,8.4173890726504219E-2,11.478902869375464,6.9867428590374452]
[null,null,null,null,null,null,null,null,null,null,null,null,null,null,null,null,null,null,null,null,null,null,null,null,null,null,null,null,null,null,null,null,null,null,null,null,null,null,null,null,null,null,null,null,396,8.4386989184039668E-2,11.510867638005781,7.0154713747212769]
[null,null,null,null,null,null,null,null,null,null,null,null,null,null,null,null,null,null,null,null,null,null,null,null,null,null,null,null,null,null,null,null,null,null,null,null,null,null,null,null,null,null,null,null,397,8.4600087641575131E-2,11.542832406636101,7.0442205136985603]
[null,null,null,null,null,null,null,null,null,null,null,null,null,null,null,null,null,null,null,null,null,null,null,null,null,null,null,null,null,null,null,null,null,null,null,null,null,null,null,null,null,null,null,null,398,8.481318609911058E-2,11.574797175266418,7.0729901445456278]
[null,null,null,null,null,null,null,null,null,null,null,null,null,null,null,null,null,null,null,null,null,null,null,null,null,null,null,null,null,null,null,null,null,null,null,null,null,null,null,null,null,null,null,null,399,8.5026284556646028E-2,11.606761943896736,7.1017801366763198]
[null,null,null,null,null,null,null,null,null,null,null,null,null,null,null,null,null,null,null,null,null,null,null,null,null,null,null,null,null,null,null,null,null,null,null,null,null,null,null,null,null,null,null,null,400,8.5239383014181491E-2,11.638726712527056,7.1305903603366492]
[null,null,null,null,null,null,null,null,null,null,null,null,null,null,null,null,null,null,null,null,null,null,null,null,null,null,null,null,null,null,null,null,null,null,null,null,null,null,null,null,null,null,null,null,{"$f":"AS431+1","v":401},8.545248147171694E-2,11.670691481157373,7.1594206865994945]
[null,null,null,null,null,null,null,null,null,null,null,null,null,null,null,null,null,null,null,null,null,null,null,null,null,null,null,null,null,null,null,null,null,null,null,null,null,null,null,null,null,null,null,null,402,8.5665579929252403E-2,11.70265624978769,7.1882709873593349]
[null,null,null,null,null,null,null,null,null,null,null,null,null,null,null,null,null,null,null,null,null,null,null,null,null,null,null,null,null,null,null,null,null,null,null,null,null,null,null,null,null,null,null,null,403,8.5878678386787852E-2,11.734621018418007,7.2171411353270116]
[null,null,null,null,null,null,null,null,null,null,null,null,null,null,null,null,null,null,null,null,null,null,null,null,null,null,null,null,null,null,null,null,null,null,null,null,null,null,null,null,null,null,null,null,404,8.6091776844323301E-2,11.766585787048328,7.2460310040245277]
[null,null,null,null,null,null,null,null,null,null,null,null,null,null,null,null,null,null,null,null,null,null,null,null,null,null,null,null,null,null,null,null,null,null,null,null,null,null,null,null,null,null,null,null,405,8.6304875301858763E-2,11.798550555678645,7.274940467779877]
[null,null,null,null,null,null,null,null,null,null,null,null,null,null,null,null,null,null,null,null,null,null,null,null,null,null,null,null,null,null,null,null,null,null,null,null,null,null,null,null,null,null,null,null,406,8.6517973759394212E-2,11.830515324308962,7.3038694017219097]
[null,null,null,null,null,null,null,null,null,null,null,null,null,null,null,null,null,null,null,null,null,null,null,null,null,null,null,null,null,null,null,null,null,null,null,null,null,null,null,null,null,null,null,null,407,8.6731072216929661E-2,11.862480092939279,7.3328176817752277]
[null,null,null,null,null,null,null,null,null,null,null,null,null,null,null,null,null,null,null,null,null,null,null,null,null,null,null,null,null,null,null,null,null,null,null,null,null,null,null,null,null,null,null,null,408,8.6944170674465124E-2,11.8944448615696,7.3617851846551137]
[null,null,null,null,null,null,null,null,null,null,null,null,null,null,null,null,null,null,null,null,null,null,null,null,null,null,null,null,null,null,null,null,null,null,null,null,null,null,null,null,null,null,null,null,409,8.7157269132000573E-2,11.926409630199917,7.3907717878624917]
[null,null,null,null,null,null,null,null,null,null,null,null,null,null,null,null,null,null,null,null,null,null,null,null,null,null,null,null,null,null,null,null,null,null,null,null,null,null,null,null,null,null,null,null,410,8.7370367589536022E-2,11.958374398830234,7.419777369678922]
[null,null,null,null,null,null,null,null,null,null,null,null,null,null,null,null,null,null,null,null,null,null,null,null,null,null,null,null,null,null,null,null,null,null,null,null,null,null,null,null,null,null,null,null,411,8.7583466047071484E-2,11.990339167460554,7.4488018091616262]
[null,null,null,null,null,null,null,null,null,null,null,null,null,null,null,null,null,null,null,null,null,null,null,null,null,null,null,null,null,null,null,null,null,null,null,null,null,null,null,null,null,null,null,null,412,8.7796564504606933E-2,12.022303936090871,7.4778449861385443]
[null,null,null,null,null,null,null,null,null,null,null,null,null,null,null,null,null,null,null,null,null,null,null,null,null,null,null,null,null,null,null,null,null,null,null,null,null,null,null,null,null,null,null,null,413,8.8009662962142382E-2,12.054268704721188,7.5069067812034218]
[null,null,null,null,null,null,null,null,null,null,null,null,null,null,null,null,null,null,null,null,null,null,null,null,null,null,null,null,null,null,null,null,null,null,null,null,null,null,null,null,null,null,null,null,414,8.8222761419677845E-2,12.086233473351509,7.5359870757109313]
[null,null,null,null,null,null,null,null,null,null,null,null,null,null,null,null,null,null,null,null,null,null,null,null,null,null,null,null,null,null,null,null,null,null,null,null,null,null,null,null,null,null,null,null,415,8.8435859877213294E-2,12.118198241981826,7.5650857517718215]
[null,null,null,null,null,null,null,null,null,null,null,null,null,null,null,null,null,null,null,null,null,null,null,null,null,null,null,null,null,null,null,null,null,null,null,null,null,null,null,null,null,null,null,null,416,8.8648958334748743E-2,12.150163010612143,7.5942026922481016]
[null,null,null,null,null,null,null,null,null,null,null,null,null,null,null,null,null,null,null,null,null,null,null,null,null,null,null,null,null,null,null,null,null,null,null,null,null,null,null,null,null,null,null,null,417,8.8862056792284205E-2,12.18212777924246,7.6233377807482521]
[null,null,null,null,null,null,null,null,null,null,null,null,null,null,null,null,null,null,null,null,null,null,null,null,null,null,null,null,null,null,null,null,null,null,null,null,null,null,null,null,null,null,null,null,418,8.9075155249819654E-2,12.214092547872781,7.6524909016224676]
[null,null,null,null,null,null,null,null,null,null,null,null,null,null,null,null,null,null,null,null,null,null,null,null,null,null,null,null,null,null,null,null,null,null,null,null,null,null,null,null,null,null,null,null,419,8.9288253707355103E-2,12.246057316503098,7.6816619399579311]
[null,null,null,null,null,null,null,null,null,null,null,null,null,null,null,null,null,null,null,null,null,null,null,null,null,null,null,null,null,null,null,null,null,null,null,null,null,null,null,null,null,null,null,null,420,8.9501352164890566E-2,12.278022085133415,7.7108507815741172]
[null,null,null,null,null,null,null,null,null,null,null,null,null,null,null,null,null,null,null,null,null,null,null,null,null,null,null,null,null,null,null,null,null,null,null,null,null,null,null,null,null,null,null,null,421,8.9714450622426015E-2,12.309986853763732,7.7400573130181263]
[null,null,null,null,null,null,null,null,null,null,null,null,null,null,null,null,null,null,null,null,null,null,null,null,null,null,null,null,null,null,null,null,null,null,null,null,null,null,null,null,null,null,null,null,422,8.9927549079961477E-2,12.341951622394053,7.7692814215600468]
[null,null,null,null,null,null,null,null,null,null,null,null,null,null,null,null,null,null,null,null,null,null,null,null,null,null,null,null,null,null,null,null,null,null,null,null,null,null,null,null,null,null,null,null,423,9.0140647537496926E-2,12.37391639102437,7.7985229951883479]
[null,null,null,null,null,null,null,null,null,null,null,null,null,null,null,null,null,null,null,null,null,null,null,null,null,null,null,null,null,null,null,null,null,null,null,null,null,null,null,null,null,null,null,null,424,9.0353745995032375E-2,12.405881159654687,7.8277819226052996]
[null,null,null,null,null,null,null,null,null,null,null,null,null,null,null,null,null,null,null,null,null,null,null,null,null,null,null,null,null,null,null,null,null,null,null,null,null,null,null,null,null,null,null,null,425,9.0566844452567838E-2,12.437845928285007,7.8570580932224274]
[null,null,null,null,null,null,null,null,null,null,null,null,null,null,null,null,null,null,null,null,null,null,null,null,null,null,null,null,null,null,null,null,null,null,null,null,null,null,null,null,null,null,null,null,426,9.0779942910103287E-2,12.469810696915324,7.886351397155992]
[null,null,null,null,null,null,null,null,null,null,null,null,null,null,null,null,null,null,null,null,null,null,null,null,null,null,null,null,null,null,null,null,null,null,null,null,null,null,null,null,null,null,null,null,427,9.0993041367638736E-2,12.501775465545641,7.9156617252224963]
[null,null,null,null,null,null,null,null,null,null,null,null,null,null,null,null,null,null,null,null,null,null,null,null,null,null,null,null,null,null,null,null,null,null,null,null,null,null,null,null,null,null,null,null,428,9.1206139825174198E-2,12.533740234175962,7.9449889689342248]
[null,null,null,null,null,null,null,null,null,null,null,null,null,null,null,null,null,null,null,null,null,null,null,null,null,null,null,null,null,null,null,null,null,null,null,null,null,null,null,null,null,null,null,null,429,9.1419238282709647E-2,12.565705002806279,7.9743330204948091]
[null,null,null,null,null,null,null,null,null,null,null,null,null,null,null,null,null,null,null,null,null,null,null,null,null,null,null,null,null,null,null,null,null,null,null,null,null,null,null,null,null,null,null,null,430,9.1632336740245096E-2,12.597669771436596,8.0036937727948239]
[null,null,null,null,null,null,null,null,null,null,null,null,null,null,null,null,null,null,null,null,null,null,null,null,null,null,null,null,null,null,null,null,null,null,null,null,null,null,null,null,null,null,null,null,431,9.1845435197780559E-2,12.629634540066913,8.0330711194074027]
[null,null,null,null,null,null,null,null,null,null,null,null,null,null,null,null,null,null,null,null,null,null,null,null,null,null,null,null,null,null,null,null,null,null,null,null,null,null,null,null,null,null,null,null,432,9.2058533655316008E-2,12.661599308697234,8.0624649545838984]
[null,null,null,null,null,null,null,null,null,null,null,null,null,null,null,null,null,null,null,null,null,null,null,null,null,null,null,null,null,null,null,null,null,null,null,null,null,null,null,null,null,null,null,null,433,9.2271632112851457E-2,12.693564077327551,8.0918751732495515]
[null,null,null,null,null,null,null,null,null,null,null,null,null,null,null,null,null,null,null,null,null,null,null,null,null,null,null,null,null,null,null,null,null,null,null,null,null,null,null,null,null,null,null,null,434,9.2484730570386919E-2,12.725528845957868,8.1213016709992054]
[null,null,null,null,null,null,null,null,null,null,null,null,null,null,null,null,null,null,null,null,null,null,null,null,null,null,null,null,null,null,null,null,null,null,null,null,null,null,null,null,null,null,null,null,435,9.2697829027922368E-2,12.757493614588185,8.1507443440930292]
[null,null,null,null,null,null,null,null,null,null,null,null,null,null,null,null,null,null,null,null,null,null,null,null,null,null,null,null,null,null,null,null,null,null,null,null,null,null,null,null,null,null,null,null,436,9.2910927485457817E-2,12.789458383218502,8.1802030894522879]
[null,null,null,null,null,null,null,null,null,null,null,null,null,null,null,null,null,null,null,null,null,null,null,null,null,null,null,null,null,null,null,null,null,null,null,null,null,null,null,null,null,null,null,null,437,9.312402594299328E-2,12.821423151848823,8.2096778046551169]
[null,null,null,null,null,null,null,null,null,null,null,null,null,null,null,null,null,null,null,null,null,null,null,null,null,null,null,null,null,null,null,null,null,null,null,null,null,null,null,null,null,null,null,null,438,9.3337124400528729E-2,12.85338792047914,8.2391683879323523]
[null,null,null,null,null,null,null,null,null,null,null,null,null,null,null,null,null,null,null,null,null,null,null,null,null,null,null,null,null,null,null,null,null,null,null,null,null,null,null,null,null,null,null,null,439,9.3550222858064178E-2,12.885352689109457,8.2686747381633587]
[null,null,null,null,null,null,null,null,null,null,null,null,null,null,null,null,null,null,null,null,null,null,null,null,null,null,null,null,null,null,null,null,null,null,null,null,null,null,null,null,null,null,null,null,440,9.376332131559964E-2,12.917317457739777,8.2981967548718956]
[null,null,null,null,null,null,null,null,null,null,null,null,null,null,null,null,null,null,null,null,null,null,null,null,null,null,null,null,null,null,null,null,null,null,null,null,null,null,null,null,null,null,null,null,441,9.3976419773135089E-2,12.949282226370094,8.3277343382220241]
[null,null,null,null,null,null,null,null,null,null,null,null,null,null,null,null,null,null,null,null,null,null,null,null,null,null,null,null,null,null,null,null,null,null,null,null,null,null,null,null,null,null,null,null,442,9.4189518230670552E-2,12.981246995000415,8.3572873890140134]
[null,null,null,null,null,null,null,null,null,null,null,null,null,null,null,null,null,null,null,null,null,null,null,null,null,null,null,null,null,null,null,null,null,null,null,null,null,null,null,null,null,null,null,null,443,9.4402616688206001E-2,13.013211763630732,8.3868558086802913]
[null,null,null,null,null,null,null,null,null,null,null,null,null,null,null,null,null,null,null,null,null,null,null,null,null,null,null,null,null,null,null,null,null,null,null,null,null,null,null,null,null,null,null,null,444,9.461571514574145E-2,13.045176532261049,8.4164394992814184]
[null,null,null,null,null,null,null,null,null,null,null,null,null,null,null,null,null,null,null,null,null,null,null,null,null,null,null,null,null,null,null,null,null,null,null,null,null,null,null,null,null,null,null,null,445,9.4828813603276912E-2,13.07714130089137,8.4460383635020797]
[null,null,null,null,null,null,null,null,null,null,null,null,null,null,null,null,null,null,null,null,null,null,null,null,null,null,null,null,null,null,null,null,null,null,null,null,null,null,null,null,null,null,null,null,446,9.5041912060812361E-2,13.109106069521687,8.4756523046471131]
[null,null,null,null,null,null,null,null,null,null,null,null,null,null,null,null,null,null,null,null,null,null,null,null,null,null,null,null,null,null,null,null,null,null,null,null,null,null,null,null,null,null,null,null,447,9.525501051834781E-2,13.141070838152004,8.5052812266375515]
[null,null,null,null,null,null,null,null,null,null,null,null,null,null,null,null,null,null,null,null,null,null,null,null,null,null,null,null,null,null,null,null,null,null,null,null,null,null,null,null,null,null,null,null,448,{"$f":"$AP$18/$N$7*AS479","v":9.5468108975883273E-2},13.173035606782321,8.5349250340067027]
[null,null,null,null,null,null,null,null,null,null,null,null,null,null,null,null,null,null,null,null,null,null,null,null,null,null,null,null,null,null,null,null,null,null,null,null,null,null,null,null,null,null,null,null,449,9.5681207433418722E-2,{"$f":"IF(($N$4*AT480^2/2)<=$AP$13,($N$4*AT480^2/2), IF(($AP$13+$N$6*(AT480-$AP$12))<=$AP$17, ($AP$13+$N$6*(AT480-$AP$12)), IF(AU479<$D$14, ($AP$17+($N$6-$N$5*(AT480-$AP$16)/2)*(AT480-$AP$16)), $D$14)))","v":13.205000375412638},8.5645836318962392]
[null,null,null,null,null,null,null,null,null,null,null,null,null,null,null,null,null,null,null,null,null,null,null,null,null,null,null,null,null,null,null,null,null,null,null,null,null,null,null,null,null,null,null,null,450,9.5894305890954171E-2,13.236965144042955,{"$f":"( $AP$6*AU481 + $AP$7*AU480 + $AP$9*AV480 )/$AP$8","v":8.5942569260523314}]
[null,null,null,null,null,null,null,null,null,null,null,null,null,null,null,null,null,null,null,null,null,null,null,null,null,null,null,null,null,null,null,null,null,null,null,null,null,null,null,null,null,null,null,null,451,9.6107404348489633E-2,13.268929912673276,8.6239448228217856]
[null,null,null,null,null,null,null,null,null,null,null,null,null,null,null,null,null,null,null,null,null,null,null,null,null,null,null,null,null,null,null,null,null,null,null,null,null,null,null,null,null,null,null,null,452,9.6320502806025082E-2,13.300894681303593,8.6536472291482234]
[null,null,null,null,null,null,null,null,null,null,null,null,null,null,null,null,null,null,null,null,null,null,null,null,null,null,null,null,null,null,null,null,null,null,null,null,null,null,null,null,null,null,null,null,453,9.6533601263560531E-2,13.33285944993391,8.6833640525682743]
[null,null,null,null,null,null,null,null,null,null,null,null,null,null,null,null,null,null,null,null,null,null,null,null,null,null,null,null,null,null,null,null,null,null,null,null,null,null,null,null,null,null,null,null,454,9.6746699721095994E-2,13.36482421856423,8.7130952012077998]
[null,null,null,null,null,null,null,null,null,null,null,null,null,null,null,null,null,null,null,null,null,null,null,null,null,null,null,null,null,null,null,null,null,null,null,null,null,null,null,null,null,null,null,null,455,9.6959798178631443E-2,13.396788987194547,8.742840583778138]
[null,null,null,null,null,null,null,null,null,null,null,null,null,null,null,null,null,null,null,null,null,null,null,null,null,null,null,null,null,null,null,null,null,null,null,null,null,null,null,null,null,null,null,null,456,9.7172896636166892E-2,13.428753755824864,8.7726001095723696]
[null,null,null,null,null,null,null,null,null,null,null,null,null,null,null,null,null,null,null,null,null,null,null,null,null,null,null,null,null,null,null,null,null,null,null,null,null,null,null,null,null,null,null,null,457,9.7385995093702354E-2,13.460718524455185,8.8023736884616159]
[null,null,null,null,null,null,null,null,null,null,null,null,null,null,null,null,null,null,null,null,null,null,null,null,null,null,null,null,null,null,null,null,null,null,null,null,null,null,null,null,null,null,null,null,458,9.7599093551237803E-2,13.492683293085502,8.832161230891348]
[null,null,null,null,null,null,null,null,null,null,null,null,null,null,null,null,null,null,null,null,null,null,null,null,null,null,null,null,null,null,null,null,null,null,null,null,null,null,null,null,null,null,null,null,459,9.7812192008773252E-2,13.524648061715819,8.861962647877732]
[null,null,null,null,null,null,null,null,null,null,null,null,null,null,null,null,null,null,null,null,null,null,null,null,null,null,null,null,null,null,null,null,null,null,null,null,null,null,null,null,null,null,null,null,460,9.8025290466308715E-2,13.55661283034614,8.8917778510039902]
[null,null,null,null,null,null,null,null,null,null,null,null,null,null,null,null,null,null,null,null,null,null,null,null,null,null,null,null,null,null,null,null,null,null,null,null,null,null,null,null,null,null,null,null,461,9.8238388923844164E-2,13.588577598976457,8.9216067524167908]
[null,null,null,null,null,null,null,null,null,null,null,null,null,null,null,null,null,null,null,null,null,null,null,null,null,null,null,null,null,null,null,null,null,null,null,null,null,null,null,null,null,null,null,null,462,9.8451487381379627E-2,13.620542367606774,8.9514492648226547]
[null,null,null,null,null,null,null,null,null,null,null,null,null,null,null,null,null,null,null,null,null,null,null,null,null,null,null,null,null,null,null,null,null,null,null,null,null,null,null,null,null,null,null,null,463,9.8664585838915075E-2,13.652507136237091,8.9813053014843849]
[null,null,null,null,null,null,null,null,null,null,null,null,null,null,null,null,null,null,null,null,null,null,null,null,null,null,null,null,null,null,null,null,null,null,null,null,null,null,null,null,null,null,null,null,464,9.8877684296450524E-2,13.684471904867411,9.0111747762175263]
[null,null,null,null,null,null,null,null,null,null,null,null,null,null,null,null,null,null,null,null,null,null,null,null,null,null,null,null,null,null,null,null,null,null,null,null,null,null,null,null,null,null,null,null,{"$f":"AS495+1","v":465},9.9090782753985987E-2,13.716436673497729,9.0410576033868431]
[null,null,null,null,null,null,null,null,null,null,null,null,null,null,null,null,null,null,null,null,null,null,null,null,null,null,null,null,null,null,null,null,null,null,null,null,null,null,null,null,null,null,null,null,466,9.9303881211521436E-2,13.748401442128046,9.0709536979028123]
[null,null,null,null,null,null,null,null,null,null,null,null,null,null,null,null,null,null,null,null,null,null,null,null,null,null,null,null,null,null,null,null,null,null,null,null,null,null,null,null,null,null,null,null,467,9.9516979669056885E-2,13.780366210758363,9.1008629752181562]
[null,null,null,null,null,null,null,null,null,null,null,null,null,null,null,null,null,null,null,null,null,null,null,null,null,null,null,null,null,null,null,null,null,null,null,null,null,null,null,null,null,null,null,null,468,9.9730078126592347E-2,13.812330979388683,9.1307853513243789]
[null,null,null,null,null,null,null,null,null,null,null,null,null,null,null,null,null,null,null,null,null,null,null,null,null,null,null,null,null,null,null,null,null,null,null,null,null,null,null,null,null,null,null,null,469,9.9943176584127796E-2,13.844295748019,9.160720742748337]
[null,null,null,null,null,null,null,null,null,null,null,null,null,null,null,null,null,null,null,null,null,null,null,null,null,null,null,null,null,null,null,null,null,null,null,null,null,null,null,null,null,null,null,null,470,0.10015627504166325,13.876260516649317,9.1906690665488249]
[null,null,null,null,null,null,null,null,null,null,null,null,null,null,null,null,null,null,null,null,null,null,null,null,null,null,null,null,null,null,null,null,null,null,null,null,null,null,null,null,null,null,null,null,476,0.10143486578687597,14.068049128431227,9.3706260107261272]
[null,null,null,null,null,null,null,null,null,null,null,null,null,null,null,null,null,null,null,null,null,null,null,null,null,null,null,null,null,null,null,null,null,null,null,null,null,null,null,null,null,null,null,null,481,0.10250035807455324,14.227872971582816,9.5209309664199022]
[null,null,null,null,null,null,null,null,null,null,null,null,null,null,null,null,null,null,null,null,null,null,null,null,null,null,null,null,null,null,null,null,null,null,null,null,null,null,null,null,null,null,null,null,487,0.10377894881976596,14.419661583364725,9.7016913641634446]
[null,null,null,null,null,null,null,null,null,null,null,null,null,null,null,null,null,null,null,null,null,null,null,null,null,null,null,null,null,null,null,null,null,null,null,null,null,null,null,null,null,null,null,null,495,0.10548373648004959,14.675379732407269,9.9433480798652916]
[null,null,null,null,null,null,null,null,null,null,null,null,null,null,null,null,null,null,null,null,null,null,null,null,null,null,null,null,null,null,null,null,null,null,null,null,null,null,null,null,null,null,null,null,498,0.10612303185265595,14.771274038298223,10.034152010515053]
[null,null,null,null,null,null,null,null,null,null,null,null,null,null,null,null,null,null,null,null,null,null,null,null,null,null,null,null,null,null,null,null,null,null,null,null,null,null,null,null,null,null,null,null,504,0.10740162259786867,14.963062650080133,10.216048127996677]
[null,null,null,null,null,null,null,null,null,null,null,null,null,null,null,null,null,null,null,null,null,null,null,null,null,null,null,null,null,null,null,null,null,null,null,null,null,null,null,null,null,null,null,null,509,0.10846711488554595,15.122886493231722,10.367913199564383]
[null,null,null,null,null,null,null,null,null,null,null,null,null,null,null,null,null,null,null,null,null,null,null,null,null,null,null,null,null,null,null,null,null,null,null,null,null,null,null,null,null,null,null,null,515,0.10974570563075867,15.314675105013631,10.550481087086391]
[null,null,null,null,null,null,null,null,null,null,null,null,null,null,null,null,null,null,null,null,null,null,null,null,null,null,null,null,null,null,null,null,null,null,null,null,null,null,null,null,null,null,null,null,520,0.11081119791843594,15.474498948165223,10.702886615301937]
[null,null,null,null,null,null,null,null,null,null,null,null,null,null,null,null,null,null,null,null,null,null,null,null,null,null,null,null,null,null,null,null,null,null,null,null,null,null,null,null,null,null,null,null,526,0.11208978866364866,15.666287559947129,10.886080654947001]
[null,null,null,null,null,null,null,null,null,null,null,null,null,null,null,null,null,null,null,null,null,null,null,null,null,null,null,null,null,null,null,null,null,null,null,null,null,null,null,null,null,null,null,null,527,0.11230288712118411,15.698252328577446,10.916644773636806]
[null,null,null,null,null,null,null,null,null,null,null,null,null,null,null,null,null,null,null,null,null,null,null,null,null,null,null,null,null,null,null,null,null,null,null,null,null,null,null,null,null,null,null,null,532,0.11336837940886138,15.858076171729039,11.069598121295188]
[null,null,null,null,null,null,null,null,null,null,null,null,null,null,null,null,null,null,null,null,null,null,null,null,null,null,null,null,null,null,null,null,null,null,null,null,null,null,null,null,null,null,null,null,537,0.11443387169653865,16.017900014880627,11.222767610626001]
[null,null,null,null,null,null,null,null,null,null,null,null,null,null,null,null,null,null,null,null,null,null,null,null,null,null,null,null,null,null,null,null,null,null,null,null,null,null,null,null,null,null,null,null,545,0.11613865935682229,16.273618163923175,11.468271476506381]
[null,null,null,null,null,null,null,null,null,null,null,null,null,null,null,null,null,null,null,null,null,null,null,null,null,null,null,null,null,null,null,null,null,null,null,null,null,null,null,null,null,null,null,null,549,0.11699105318696409,16.401477238444446,11.591216000603835]
[null,null,null,null,null,null,null,null,null,null,null,null,null,null,null,null,null,null,null,null,null,null,null,null,null,null,null,null,null,null,null,null,null,null,null,null,null,null,null,null,null,null,null,null,555,0.11826964393217682,16.593265850226352,11.775864456794251]
[null,null,null,null,null,null,null,null,null,null,null,null,null,null,null,null,null,null,null,null,null,null,null,null,null,null,null,null,null,null,null,null,null,null,null,null,null,null,null,null,null,null,null,null,560,0.11933513621985409,16.753089693377945,11.929943857169215]
[null,null,null,null,null,null,null,null,null,null,null,null,null,null,null,null,null,null,null,null,null,null,null,null,null,null,null,null,null,null,null,null,null,null,null,null,null,null,null,null,null,null,null,null,564,0.1201875300499959,16.880948767899216,12.053337769017013]
[null,null,null,null,null,null,null,null,null,null,null,null,null,null,null,null,null,null,null,null,null,null,null,null,null,null,null,null,null,null,null,null,null,null,null,null,null,null,null,null,null,null,null,null,572,0.12189231771027953,17.13666691694176,12.300460951808043]
[null,null,null,null,null,null,null,null,null,null,null,null,null,null,null,null,null,null,null,null,null,null,null,null,null,null,null,null,null,null,null,null,null,null,null,null,null,null,null,null,null,null,null,null,577,0.1229578099979568,{"$f":"IF(($N$4*AT608^2/2)<=$AP$13,($N$4*AT608^2/2), IF(($AP$13+$N$6*(AT608-$AP$12))<=$AP$17, ($AP$13+$N$6*(AT608-$AP$12)), IF(AU607<$D$14, ($AP$17+($N$6-$N$5*(AT608-$AP$16)/2)*(AT608-$AP$16)), $D$14)))","v":17.296490760093352},12.455131932743829]
[null,null,null,null,null,null,null,null,null,null,null,null,null,null,null,null,null,null,null,null,null,null,null,null,null,null,null,null,null,null,null,null,null,null,null,null,null,null,null,null,null,null,null,null,583,0.12423640074316952,17.488279371875262,12.640950638097294]
[null,null,null,null,null,null,null,null,null,null,null,null,null,null,null,null,null,null,null,null,null,null,null,null,null,null,null,null,null,null,null,null,null,null,null,null,null,null,null,null,null,null,null,null,588,0.12530189303084679,17.64810321502685,12.795971534671517]
[null,null,null,null,null,null,null,null,null,null,null,null,null,null,null,null,null,null,null,null,null,null,null,null,null,null,null,null,null,null,null,null,null,null,null,null,null,null,null,null,null,null,null,null,589,0.12551499148838224,17.680067983657167,12.826994000027412]
[null,null,null,null,null,null,null,null,null,null,null,null,null,null,null,null,null,null,null,null,null,null,null,null,null,null,null,null,null,null,null,null,null,null,null,null,null,null,null,null,null,null,null,null,595,0.12679358223359496,17.871856595439077,13.013253564368609]
[null,null,null,null,null,null,null,null,null,null,null,null,null,null,null,null,null,null,null,null,null,null,null,null,null,null,null,null,null,null,null,null,null,null,null,null,null,null,null,null,null,null,null,null,600,0.12785907452127224,18.031680438590669,13.168629143581768]
[null,null,null,null,null,null,null,null,null,null,null,null,null,null,null,null,null,null,null,null,null,null,null,null,null,null,null,null,null,null,null,null,null,null,null,null,null,null,null,null,null,null,null,null,605,0.12892456680894951,18.191504281742258,13.324144662513691]
[null,null,null,null,null,null,null,null,null,null,null,null,null,null,null,null,null,null,null,null,null,null,null,null,null,null,null,null,null,null,null,null,null,null,null,null,null,null,null,null,null,null,null,null,611,0.13020315755416223,18.383292893524168,13.510941816853563]
[null,null,null,null,null,null,null,null,null,null,null,null,null,null,null,null,null,null,null,null,null,null,null,null,null,null,null,null,null,null,null,null,null,null,null,null,null,null,null,null,null,null,null,null,620,0.1321210436719813,18.670975811197028,13.791487521555212]
[null,null,null,null,null,null,null,null,null,null,null,null,null,null,null,null,null,null,null,null,null,null,null,null,null,null,null,null,null,null,null,null,null,null,null,null,null,null,null,null,null,null,null,null,623,0.13276033904458767,18.766870117087983,13.885092565178814]
[null,null,null,null,null,null,null,null,null,null,null,null,null,null,null,null,null,null,null,null,null,null,null,null,null,null,null,null,null,null,null,null,null,null,null,null,null,null,null,null,null,null,null,null,628,0.13382583133226494,18.926693960239575,14.041197200934823]
[null,null,null,null,null,null,null,null,null,null,null,null,null,null,null,null,null,null,null,null,null,null,null,null,null,null,null,null,null,null,null,null,null,null,null,null,null,null,null,null,null,null,null,null,633,0.13489132361994222,19.086517803391164,14.197418840727499]
[null,null,null,null,null,null,null,null,null,null,null,null,null,null,null,null,null,null,null,null,null,null,null,null,null,null,null,null,null,null,null,null,null,null,null,null,null,null,null,null,null,null,null,null,639,0.13616991436515494,19.278306415173073,14.385034079326054]
[null,null,null,null,null,null,null,null,null,null,null,null,null,null,null,null,null,null,null,null,null,null,null,null,null,null,null,null,null,null,null,null,null,null,null,null,null,null,null,null,null,null,null,null,645,0.13744850511036766,19.470095026954979,14.572806368247543]
[null,null,null,null,null,null,null,null,null,null,null,null,null,null,null,null,null,null,null,null,null,null,null,null,null,null,null,null,null,null,null,null,null,null,null,null,null,null,null,null,null,null,null,null,650,0.13851399739804493,19.629918870106572,14.729398974131472]
[null,null,null,null,null,null,null,null,null,null,null,null,null,null,null,null,null,null,null,null,null,null,null,null,null,null,null,null,null,null,null,null,null,null,null,null,null,null,null,null,null,null,null,null,656,0.13979258814325765,19.821707481888481,14.917443999663998]
[null,null,null,null,null,null,null,null,null,null,null,null,null,null,null,null,null,null,null,null,null,null,null,null,null,null,null,null,null,null,null,null,null,null,null,null,null,null,null,null,null,null,null,null,661,0.14085808043093492,19.98153132504007,15.074256029317498]
[null,null,null,null,null,null,null,null,null,null,null,null,null,null,null,null,null,null,null,null,null,null,null,null,null,null,null,null,null,null,null,null,null,null,null,null,null,null,null,null,null,null,null,null,662,0.14107117888847037,20.013496093670387,15.105629901989369]
[null,null,null,null,null,null,null,null,null,null,null,null,null,null,null,null,null,null,null,null,null,null,null,null,null,null,null,null,null,null,null,null,null,null,null,null,null,null,null,null,null,null,null,null,668,0.14234976963368309,20.205284705452296,15.293951379701536]
[null,null,null,null,null,null,null,null,null,null,null,null,null,null,null,null,null,null,null,null,null,null,null,null,null,null,null,null,null,null,null,null,null,null,null,null,null,null,null,null,null,null,null,null,673,0.14341526192136037,20.365108548603885,15.450985822397167]
[null,null,null,null,null,null,null,null,null,null,null,null,null,null,null,null,null,null,null,null,null,null,null,null,null,null,null,null,null,null,null,null,null,null,null,null,null,null,null,null,null,null,null,null,679,0.14469385266657309,20.556897160385795,15.639542742933298]
[null,null,null,null,null,null,null,null,null,null,null,null,null,null,null,null,null,null,null,null,null,null,null,null,null,null,null,null,null,null,null,null,null,null,null,null,null,null,null,null,null,null,null,null,684,0.14575934495425036,20.716721003537387,15.796766605566924]
[null,null,null,null,null,null,null,null,null,null,null,null,null,null,null,null,null,null,null,null,null,null,null,null,null,null,null,null,null,null,null,null,null,null,null,null,null,null,null,null,null,null,null,null,693,0.14767723107206943,21.004403921210248,16.079973946837011]
[null,null,null,null,null,null,null,null,null,null,null,null,null,null,null,null,null,null,null,null,null,null,null,null,null,null,null,null,null,null,null,null,null,null,null,null,null,null,null,null,null,null,null,null,696,0.1483165264446758,21.100298227101202,16.174432710839991]
[null,null,null,null,null,null,null,null,null,null,null,null,null,null,null,null,null,null,null,null,null,null,null,null,null,null,null,null,null,null,null,null,null,null,null,null,null,null,null,null,null,null,null,null,701,0.14938201873235307,21.260122070252795,16.331924327543554]
[null,null,null,null,null,null,null,null,null,null,null,null,null,null,null,null,null,null,null,null,null,null,null,null,null,null,null,null,null,null,null,null,null,null,null,null,null,null,null,null,null,null,null,null,707,0.15066060947756579,21.451910682034701,16.521010912164325]
[null,null,null,null,null,null,null,null,null,null,null,null,null,null,null,null,null,null,null,null,null,null,null,null,null,null,null,null,null,null,null,null,null,null,null,null,null,null,null,null,null,null,null,null,712,0.15172610176524304,21.611734525186289,16.678660903470654]
[null,null,null,null,null,null,null,null,null,null,null,null,null,null,null,null,null,null,null,null,null,null,null,null,null,null,null,null,null,null,null,null,null,null,null,null,null,null,null,null,null,null,null,null,714,0.15215229868031396,21.675664062446927,16.741740170677158]
[null,null,null,null,null,null,null,null,null,null,null,null,null,null,null,null,null,null,null,null,null,null,null,null,null,null,null,null,null,null,null,null,null,null,null,null,null,null,null,null,null,null,null,null,724,0.15428328325566851,21.995311748750108,17.057295822538293]
[null,null,null,null,null,null,null,null,null,null,null,null,null,null,null,null,null,null,null,null,null,null,null,null,null,null,null,null,null,null,null,null,null,null,null,null,null,null,null,null,null,null,null,null,729,0.15534877554334575,22.155135591901693,17.215169683860179]
[null,null,null,null,null,null,null,null,null,null,null,null,null,null,null,null,null,null,null,null,null,null,null,null,null,null,null,null,null,null,null,null,null,null,null,null,null,null,null,null,null,null,null,null,730,0.15556187400088123,22.187100360532018,17.24675188020209]
[null,null,null,null,null,null,null,null,null,null,null,null,null,null,null,null,null,null,null,null,null,null,null,null,null,null,null,null,null,null,null,null,null,null,null,null,null,null,null,null,null,null,null,null,737,0.1570535632036294,22.410853740944241,17.467894654736043]
[null,null,null,null,null,null,null,null,null,null,null,null,null,null,null,null,null,null,null,null,null,null,null,null,null,null,null,null,null,null,null,null,null,null,null,null,null,null,null,null,null,null,null,null,741,0.15790595703377122,22.538712815465516,17.594313576796875]
[null,null,null,null,null,null,null,null,null,null,null,null,null,null,null,null,null,null,null,null,null,null,null,null,null,null,null,null,null,null,null,null,null,null,null,null,null,null,null,null,null,null,null,null,747,0.15918454777898394,22.730501427247422,17.784009848129255]
[null,null,null,null,null,null,null,null,null,null,null,null,null,null,null,null,null,null,null,null,null,null,null,null,null,null,null,null,null,null,null,null,null,null,null,null,null,null,null,null,null,null,null,null,752,0.16025004006666119,22.890325270399011,17.942150348414216]
[null,null,null,null,null,null,null,null,null,null,null,null,null,null,null,null,null,null,null,null,null,null,null,null,null,null,null,null,null,null,null,null,null,null,null,null,null,null,null,null,null,null,null,null,758,0.16152863081187394,23.082113882180924,18.131988704400435]
[null,null,null,null,null,null,null,null,null,null,null,null,null,null,null,null,null,null,null,null,null,null,null,null,null,null,null,null,null,null,null,null,null,null,null,null,null,null,null,null,null,null,null,null,762,0.16238102464201573,23.209972956702192,18.258588553864485]
[null,null,null,null,null,null,null,null,null,null,null,null,null,null,null,null,null,null,null,null,null,null,null,null,null,null,null,null,null,null,null,null,null,null,null,null,null,null,null,null,null,null,null,null,769,0.1638727138447639,{"$f":"IF(($N$4*AT800^2/2)<=$AP$13,($N$4*AT800^2/2), IF(($AP$13+$N$6*(AT800-$AP$12))<=$AP$17, ($AP$13+$N$6*(AT800-$AP$12)), IF(AU799<$D$14, ($AP$17+($N$6-$N$5*(AT800-$AP$16)/2)*(AT800-$AP$16)), $D$14)))","v":23.433726337114418},18.480214307613899]
[null,null,null,null,null,null,null,null,null,null,null,null,null,null,null,null,null,null,null,null,null,null,null,null,null,null,null,null,null,null,null,null,null,null,null,null,null,null,null,null,null,null,null,null,775,0.16515130458997662,23.625514948896324,18.670253506999934]
[null,null,null,null,null,null,null,null,null,null,null,null,null,null,null,null,null,null,null,null,null,null,null,null,null,null,null,null,null,null,null,null,null,null,null,null,null,null,null,null,null,null,null,null,780,0.16621679687765389,23.785338792047916,18.828669901914303]
[null,null,null,null,null,null,null,null,null,null,null,null,null,null,null,null,null,null,null,null,null,null,null,null,null,null,null,null,null,null,null,null,null,null,null,null,null,null,null,null,null,null,null,null,{"$f":"AS815+1","v":785},0.16728228916533117,23.945162635199505,18.987130574307077]
[null,null,null,null,null,null,null,null,null,null,null,null,null,null,null,null,null,null,null,null,null,null,null,null,null,null,null,null,null,null,null,null,null,null,null,null,null,null,null,null,null,null,null,null,787,0.16770848608040209,24.009092172460146,19.050526927451504]
[null,null,null,null,null,null,null,null,null,null,null,null,null,null,null,null,null,null,null,null,null,null,null,null,null,null,null,null,null,null,null,null,null,null,null,null,null,null,null,null,null,null,null,null,797,0.16983947065575661,24.328739858763324,19.367608596338354]
[null,null,null,null,null,null,null,null,null,null,null,null,null,null,null,null,null,null,null,null,null,null,null,null,null,null,null,null,null,null,null,null,null,null,null,null,null,null,null,null,null,null,null,null,798,0.17005256911329206,24.360704627393641,19.399325670677037]
[null,null,null,null,null,null,null,null,null,null,null,null,null,null,null,null,null,null,null,null,null,null,null,null,null,null,null,null,null,null,null,null,null,null,null,null,null,null,null,null,null,null,null,null,803,0.17111806140096933,24.52052847054523,19.55793451894294]
[null,null,null,null,null,null,null,null,null,null,null,null,null,null,null,null,null,null,null,null,null,null,null,null,null,null,null,null,null,null,null,null,null,null,null,null,null,null,null,null,null,null,null,null,808,0.1721835536886466,24.680352313696822,19.716581590220102]
[null,null,null,null,null,null,null,null,null,null,null,null,null,null,null,null,null,null,null,null,null,null,null,null,null,null,null,null,null,null,null,null,null,null,null,null,null,null,null,null,null,null,null,null,818,0.17431453826400115,25.000000000000004,20.033985629745139]
[null,null,null,null,null,null,null,null,null,null,null,null,null,null,null,null,null,null,null,null,null,null,null,null,null,null,null,null,null,null,null,null,null,null,null,null,null,null,null,null,null,null,null,null,820,0.17474073517907204,25.063929537260638,20.097483394601774]
[null,null,null,null,null,null,null,null,null,null,null,null,null,null,null,null,null,null,null,null,null,null,null,null,null,null,null,null,null,null,null,null,null,null,null,null,null,null,null,null,null,null,null,null,825,0.17580622746674932,25.22375338041223,20.256251653501916]
[null,null,null,null,null,null,null,null,null,null,null,null,null,null,null,null,null,null,null,null,null,null,null,null,null,null,null,null,null,null,null,null,null,null,null,null,null,null,null,null,null,null,null,null,831,0.17708481821196204,25.415541992194136,20.446817306286558]
[null,null,null,null,null,null,null,null,null,null,null,null,null,null,null,null,null,null,null,null,null,null,null,null,null,null,null,null,null,null,null,null,null,null,null,null,null,null,null,null,null,null,null,null,837,0.17836340895717476,25.607330603976045,20.637428980861486]
[null,null,null,null,null,null,null,null,null,null,null,null,null,null,null,null,null,null,null,null,null,null,null,null,null,null,null,null,null,null,null,null,null,null,null,null,null,null,null,null,null,null,null,null,843,0.17964199970238748,25.799119215757955,20.828084945357382]
[null,null,null,null,null,null,null,null,null,null,null,null,null,null,null,null,null,null,null,null,null,null,null,null,null,null,null,null,null,null,null,null,null,null,null,null,null,null,null,null,null,null,null,null,848,0.18070749199006475,25.958943058909544,20.98699754400775]
[null,null,null,null,null,null,null,null,null,null,null,null,null,null,null,null,null,null,null,null,null,null,null,null,null,null,null,null,null,null,null,null,null,null,null,null,null,null,null,null,null,null,null,null,853,0.18177298427774202,26.118766902061136,21.145938809864244]
[null,null,null,null,null,null,null,null,null,null,null,null,null,null,null,null,null,null,null,null,null,null,null,null,null,null,null,null,null,null,null,null,null,null,null,null,null,null,null,null,null,null,null,null,859,0.18305157502295474,26.310555513843042,21.336704901802438]
[null,null,null,null,null,null,null,null,null,null,null,null,null,null,null,null,null,null,null,null,null,null,null,null,null,null,null,null,null,null,null,null,null,null,null,null,null,null,null,null,null,null,null,null,862,0.18369087039556112,26.406449819734,21.432102469185647]
[null,null,null,null,null,null,null,null,null,null,null,null,null,null,null,null,null,null,null,null,null,null,null,null,null,null,null,null,null,null,null,null,null,null,null,null,null,null,null,null,null,null,null,null,866,0.18454326422570291,26.534308894255268,21.559313873047937]
[null,null,null,null,null,null,null,null,null,null,null,null,null,null,null,null,null,null,null,null,null,null,null,null,null,null,null,null,null,null,null,null,null,null,null,null,null,null,null,null,null,null,null,null,871,0.18560875651338019,26.694132737406861,21.718351074545996]
[null,null,null,null,null,null,null,null,null,null,null,null,null,null,null,null,null,null,null,null,null,null,null,null,null,null,null,null,null,null,null,null,null,null,null,null,null,null,null,null,null,null,null,null,876,0.18667424880105746,26.853956580558449,21.877413023319228]
[null,null,null,null,null,null,null,null,null,null,null,null,null,null,null,null,null,null,null,null,null,null,null,null,null,null,null,null,null,null,null,null,null,null,null,null,null,null,null,null,null,null,null,null,882,0.18795283954627018,27.045745192340359,22.068318933806857]
[null,null,null,null,null,null,null,null,null,null,null,null,null,null,null,null,null,null,null,null,null,null,null,null,null,null,null,null,null,null,null,null,null,null,null,null,null,null,null,null,null,null,null,null,887,0.18901833183394745,27.205569035491951,22.22743262057476]
[null,null,null,null,null,null,null,null,null,null,null,null,null,null,null,null,null,null,null,null,null,null,null,null,null,null,null,null,null,null,null,null,null,null,null,null,null,null,null,null,null,null,null,null,893,0.19029692257916017,27.397357647273857,22.418398472697543]
[null,null,null,null,null,null,null,null,null,null,null,null,null,null,null,null,null,null,null,null,null,null,null,null,null,null,null,null,null,null,null,null,null,null,null,null,null,null,null,null,null,null,null,null,899,0.19157551332437289,27.589146259055767,22.609395286506349]
[null,null,null,null,null,null,null,null,null,null,null,null,null,null,null,null,null,null,null,null,null,null,null,null,null,null,null,null,null,null,null,null,null,null,null,null,null,null,null,null,null,null,null,null,904,0.19264100561205016,27.748970102207355,22.76858210738456]
[null,null,null,null,null,null,null,null,null,null,null,null,null,null,null,null,null,null,null,null,null,null,null,null,null,null,null,null,null,null,null,null,null,null,null,null,null,null,null,null,null,null,null,null,910,0.19391959635726289,27.940758713989265,22.959632689852743]
[null,null,null,null,null,null,null,null,null,null,null,null,null,null,null,null,null,null,null,null,null,null,null,null,null,null,null,null,null,null,null,null,null,null,null,null,null,null,null,null,null,null,null,null,916,0.19519818710247561,28.132547325771174,23.150711045476349]
[null,null,null,null,null,null,null,null,null,null,null,null,null,null,null,null,null,null,null,null,null,null,null,null,null,null,null,null,null,null,null,null,null,null,null,null,null,null,null,null,null,null,null,null,921,0.19626367939015288,28.292371168922763,23.309963468887027]
[null,null,null,null,null,null,null,null,null,null,null,null,null,null,null,null,null,null,null,null,null,null,null,null,null,null,null,null,null,null,null,null,null,null,null,null,null,null,null,null,null,null,null,null,927,0.1975422701353656,28.484159780704672,23.501090055906435]
[null,null,null,null,null,null,null,null,null,null,null,null,null,null,null,null,null,null,null,null,null,null,null,null,null,null,null,null,null,null,null,null,null,null,null,null,null,null,null,null,null,null,null,null,932,0.19860776242304287,28.643983623856261,23.660381282742303]
[null,null,null,null,null,null,null,null,null,null,null,null,null,null,null,null,null,null,null,null,null,null,null,null,null,null,null,null,null,null,null,null,null,null,null,null,null,null,null,null,null,null,null,null,937,0.19967325471072014,28.803807467007854,23.8196892653684]
[null,null,null,null,null,null,null,null,null,null,null,null,null,null,null,null,null,null,null,null,null,null,null,null,null,null,null,null,null,null,null,null,null,null,null,null,null,null,null,null,null,null,null,null,939,0.20009945162579104,28.867737004268488,23.883417031400747]
[null,null,null,null,null,null,null,null,null,null,null,null,null,null,null,null,null,null,null,null,null,null,null,null,null,null,null,null,null,null,null,null,null,null,null,null,null,null,null,null,null,null,null,null,944,0.20116494391346831,29.02756084742008,24.04274759029191]
[null,null,null,null,null,null,null,null,null,null,null,null,null,null,null,null,null,null,null,null,null,null,null,null,null,null,null,null,null,null,null,null,null,null,null,null,null,null,null,null,null,null,null,null,950,0.20244353465868103,29.219349459201986,24.233964702050329]
[null,null,null,null,null,null,null,null,null,null,null,null,null,null,null,null,null,null,null,null,null,null,null,null,null,null,null,null,null,null,null,null,null,null,null,null,null,null,null,null,null,null,null,null,955,0.20350902694635831,29.379173302353578,24.393328758417205]
[null,null,null,null,null,null,null,null,null,null,null,null,null,null,null,null,null,null,null,null,null,null,null,null,null,null,null,null,null,null,null,null,null,null,null,null,null,null,null,null,null,null,null,null,962,0.20500071614910648,29.602926682765805,{"$f":"( $AP$6*AU993 + $AP$7*AU992 + $AP$9*AV992 )/$AP$8","v":24.616462635470377}]
[null,null,null,null,null,null,null,null,null,null,null,null,null,null,null,null,null,null,null,null,null,null,null,null,null,null,null,null,null,null,null,null,null,null,null,null,null,null,null,null,null,null,null,null,967,0.20606620843678375,29.762750525917394,24.775860645658625]
[null,null,null,null,null,null,null,null,null,null,null,null,null,null,null,null,null,null,null,null,null,null,null,null,null,null,null,null,null,null,null,null,null,null,null,null,null,null,null,null,null,null,null,null,972,0.20713170072446102,29.922574369068986,24.935272052296803]
[null,null,null,null,null,null,null,null,null,null,null,null,null,null,null,null,null,null,null,null,null,null,null,null,null,null,null,null,null,null,null,null,null,null,null,null,null,null,null,null,null,null,null,null,978,0.20841029146967374,30.114362980850892,25.126582831121102]
[null,null,null,null,null,null,null,null,null,null,null,null,null,null,null,null,null,null,null,null,null,null,null,null,null,null,null,null,null,null,null,null,null,null,null,null,null,null,null,null,null,null,null,null,983,0.20947578375735101,30.274186824002484,25.286022245103524]
[null,null,null,null,null,null,null,null,null,null,null,null,null,null,null,null,null,null,null,null,null,null,null,null,null,null,null,null,null,null,null,null,null,null,null,null,null,null,null,null,null,null,null,null,987,0.21032817758749284,30.402045898523756,25.413582502342859]
[null,null,null,null,null,null,null,null,null,null,null,null,null,null,null,null,null,null,null,null,null,null,null,null,null,null,null,null,null,null,null,null,null,null,null,null,null,null,null,null,null,null,null,null,995,0.21203296524777646,30.6577640475663,25.668725459697786]
[null,null,null,null,null,null,null,null,null,null,null,null,null,null,null,null,null,null,null,null,null,null,null,null,null,null,null,null,null,null,null,null,null,null,null,null,null,null,null,null,null,null,null,null,1000,0.21309845753545373,30.817587890717892,25.828204463390183]
[null,null,null,null,null,null,null,null,null,null,null,null,null,null,null,null,null,null,null,null,null,null,null,null,null,null,null,null,null,null,null,null,null,null,null,null,null,null,null,null,null,null,null,null,1005,0.214163949823131,30.977411733869481,25.987694315525388]
[null,null,null,null,null,null,null,null,null,null,null,null,null,null,null,null,null,null,null,null,null,null,null,null,null,null,null,null,null,null,null,null,null,null,null,null,null,null,null,null,null,null,null,null,1010,0.21522944211080827,31.137235577021073,26.147194674817896]
[null,null,null,null,null,null,null,null,null,null,null,null,null,null,null,null,null,null,null,null,null,null,null,null,null,null,null,null,null,null,null,null,null,null,null,null,null,null,null,null,null,null,null,null,1012,0.21565563902587917,31.201165114281707,26.210997686143028]
[null,null,null,null,null,null,null,null,null,null,null,null,null,null,null,null,null,null,null,null,null,null,null,null,null,null,null,null,null,null,null,null,null,null,null,null,null,null,null,null,null,null,null,null,1018,0.21693422977109189,31.392953726063617,26.402416283426309]
[null,null,null,null,null,null,null,null,null,null,null,null,null,null,null,null,null,null,null,null,null,null,null,null,null,null,null,null,null,null,null,null,null,null,null,null,null,null,null,null,null,null,null,null,1023,0.21799972205876916,31.552777569215205,26.561942440191842]
[null,null,null,null,null,null,null,null,null,null,null,null,null,null,null,null,null,null,null,null,null,null,null,null,null,null,null,null,null,null,null,null,null,null,null,null,null,null,null,null,null,null,null,null,1028,0.21906521434644644,31.712601412366798,26.721477961992754]
[null,null,null,null,null,null,null,null,null,null,null,null,null,null,null,null,null,null,null,null,null,null,null,null,null,null,null,null,null,null,null,null,null,null,null,null,null,null,null,null,null,null,null,null,1035,0.22055690354919461,31.936354792779024,26.944842866591468]
[null,null,null,null,null,null,null,null,null,null,null,null,null,null,null,null,null,null,null,null,null,null,null,null,null,null,null,null,null,null,null,null,null,null,null,null,null,null,null,null,null,null,null,null,1040,0.22162239583687188,32.096178635930613,27.104399680025729]
[null,null,null,null,null,null,null,null,null,null,null,null,null,null,null,null,null,null,null,null,null,null,null,null,null,null,null,null,null,null,null,null,null,null,null,null,null,null,null,null,null,null,null,null,1046,0.2229009865820846,32.287967247712523,27.295878921527713]
[null,null,null,null,null,null,null,null,null,null,null,null,null,null,null,null,null,null,null,null,null,null,null,null,null,null,null,null,null,null,null,null,null,null,null,null,null,null,null,null,null,null,null,null,1051,0.22396647886976187,32.447791090864108,27.455453868160593]
[null,null,null,null,null,null,null,null,null,null,null,null,null,null,null,null,null,null,null,null,null,null,null,null,null,null,null,null,null,null,null,null,null,null,null,null,null,null,null,null,null,null,null,null,1056,0.22503197115743914,32.6076149340157,27.615036644928846]
[null,null,null,null,null,null,null,null,null,null,null,null,null,null,null,null,null,null,null,null,null,null,null,null,null,null,null,null,null,null,null,null,null,null,null,null,null,null,null,null,null,null,null,null,1060,0.22588436498758094,32.735474008536968,27.742708338243872]
[null,null,null,null,null,null,null,null,null,null,null,null,null,null,null,null,null,null,null,null,null,null,null,null,null,null,null,null,null,null,null,null,null,null,null,null,null,null,null,null,null,null,null,null,1068,0.22758915264786458,32.991192157579519,27.998065798267533]
[null,null,null,null,null,null,null,null,null,null,null,null,null,null,null,null,null,null,null,null,null,null,null,null,null,null,null,null,null,null,null,null,null,null,null,null,null,null,null,null,null,null,null,null,1073,0.22865464493554186,33.151016000731104,28.157673400800753]
[null,null,null,null,null,null,null,null,null,null,null,null,null,null,null,null,null,null,null,null,null,null,null,null,null,null,null,null,null,null,null,null,null,null,null,null,null,null,null,null,null,null,null,null,1074,0.22886774339307731,33.182980769361421,28.189595744590516]
[null,null,null,null,null,null,null,null,null,null,null,null,null,null,null,null,null,null,null,null,null,null,null,null,null,null,null,null,null,null,null,null,null,null,null,null,null,null,null,null,null,null,null,null,1079,0.22993323568075458,33.342804612513014,28.349211484584121]
[null,null,null,null,null,null,null,null,null,null,null,null,null,null,null,null,null,null,null,null,null,null,null,null,null,null,null,null,null,null,null,null,null,null,null,null,null,null,null,null,null,null,null,null,1086,0.23142492488350275,33.56655799292524,28.572684472845697]
[null,null,null,null,null,null,null,null,null,null,null,null,null,null,null,null,null,null,null,null,null,null,null,null,null,null,null,null,null,null,null,null,null,null,null,null,null,null,null,null,null,null,null,null,1091,0.23249041717118002,33.726381836076833,28.732315580609082]
[null,null,null,null,null,null,null,null,null,null,null,null,null,null,null,null,null,null,null,null,null,null,null,null,null,null,null,null,null,null,null,null,null,null,null,null,null,null,null,null,null,null,null,null,1096,0.23355590945885729,33.886205679228425,28.891952751712317]
[null,null,null,null,null,null,null,null,null,null,null,null,null,null,null,null,null,null,null,null,null,null,null,null,null,null,null,null,null,null,null,null,null,null,null,null,null,null,null,null,null,null,null,null,1102,0.23483450020407001,34.077994291010327,29.083525092494778]
[null,null,null,null,null,null,null,null,null,null,null,null,null,null,null,null,null,null,null,null,null,null,null,null,null,null,null,null,null,null,null,null,null,null,null,null,null,null,null,null,null,null,null,null,1110,0.23653928786435363,34.333712440052871,29.338967486983421]
[null,null,null,null,null,null,null,null,null,null,null,null,null,null,null,null,null,null,null,null,null,null,null,null,null,null,null,null,null,null,null,null,null,null,null,null,null,null,null,null,null,null,null,null,1113,0.23717858323696001,34.429606745943829,29.434761967051521]
[null,null,null,null,null,null,null,null,null,null,null,null,null,null,null,null,null,null,null,null,null,null,null,null,null,null,null,null,null,null,null,null,null,null,null,null,null,null,null,null,null,null,null,null,1119,0.23845717398217273,34.621395357725739,29.626356580093294]
[null,null,null,null,null,null,null,null,null,null,null,null,null,null,null,null,null,null,null,null,null,null,null,null,null,null,null,null,null,null,null,null,null,null,null,null,null,null,null,null,null,null,null,null,1124,0.23952266626984997,34.781219200877324,29.786024346161245]
[null,null,null,null,null,null,null,null,null,null,null,null,null,null,null,null,null,null,null,null,null,null,null,null,null,null,null,null,null,null,null,null,null,null,null,null,null,null,null,null,null,null,null,null,1130,0.24080125701506272,34.973007812659233,29.977632133083905]
[null,null,null,null,null,null,null,null,null,null,null,null,null,null,null,null,null,null,null,null,null,null,null,null,null,null,null,null,null,null,null,null,null,null,null,null,null,null,null,null,null,null,null,null,1135,0.24186674930273996,35.132831655810826,30.137310497885153]
[null,null,null,null,null,null,null,null,null,null,null,null,null,null,null,null,null,null,null,null,null,null,null,null,null,null,null,null,null,null,null,null,null,null,null,null,null,null,null,null,null,null,null,null,1141,0.24314534004795268,35.324620267592728,30.328930564089379]
[null,null,null,null,null,null,null,null,null,null,null,null,null,null,null,null,null,null,null,null,null,null,null,null,null,null,null,null,null,null,null,null,null,null,null,null,null,null,null,null,null,null,null,null,1142,0.24335843850548816,35.356585036223052,30.360867864993601]
[null,null,null,null,null,null,null,null,null,null,null,null,null,null,null,null,null,null,null,null,null,null,null,null,null,null,null,null,null,null,null,null,null,null,null,null,null,null,null,null,null,null,null,null,1147,0.24442393079316543,35.516408879374644,30.520556972917724]
[null,null,null,null,null,null,null,null,null,null,null,null,null,null,null,null,null,null,null,null,null,null,null,null,null,null,null,null,null,null,null,null,null,null,null,null,null,null,null,null,null,null,null,null,1153,0.24570252153837815,{"$f":"IF(($N$4*AT1184^2/2)<=$AP$13,($N$4*AT1184^2/2), IF(($AP$13+$N$6*(AT1184-$AP$12))<=$AP$17, ($AP$13+$N$6*(AT1184-$AP$12)), IF(AU1183<$D$14, ($AP$17+($N$6-$N$5*(AT1184-$AP$16)/2)*(AT1184-$AP$16)), $D$14)))","v":35.708197491156554},30.712189485687677]
[null,null,null,null,null,null,null,null,null,null,null,null,null,null,null,null,null,null,null,null,null,null,null,null,null,null,null,null,null,null,null,null,null,null,null,null,null,null,null,null,null,null,null,null,1160,0.24719421074112632,35.93195087156878,30.935768159328884]
[null,null,null,null,null,null,null,null,null,null,null,null,null,null,null,null,null,null,null,null,null,null,null,null,null,null,null,null,null,null,null,null,null,null,null,null,null,null,null,null,null,null,null,null,1164,0.24804660457126812,36.059809946090049,31.063530856075086]
[null,null,null,null,null,null,null,null,null,null,null,null,null,null,null,null,null,null,null,null,null,null,null,null,null,null,null,null,null,null,null,null,null,null,null,null,null,null,null,null,null,null,null,null,1170,0.24932519531648087,36.251598557871958,31.255179444406171]
[null,null,null,null,null,null,null,null,null,null,null,null,null,null,null,null,null,null,null,null,null,null,null,null,null,null,null,null,null,null,null,null,null,null,null,null,null,null,null,null,null,null,null,null,1175,0.25039068760415811,36.411422401023543,31.414890635012547]
[null,null,null,null,null,null,null,null,null,null,null,null,null,null,null,null,null,null,null,null,null,null,null,null,null,null,null,null,null,null,null,null,null,null,null,null,null,null,null,null,null,null,null,null,1179,0.25124308143429996,36.539281475544826,31.542662144567203]
[null,null,null,null,null,null,null,null,null,null,null,null,null,null,null,null,null,null,null,null,null,null,null,null,null,null,null,null,null,null,null,null,null,null,null,null,null,null,null,null,null,null,null,null,1187,0.25294786909458356,36.794999624587362,31.798211740303206]
[null,null,null,null,null,null,null,null,null,null,null,null,null,null,null,null,null,null,null,null,null,null,null,null,null,null,null,null,null,null,null,null,null,null,null,null,null,null,null,null,null,null,null,null,1192,0.25401336138226083,36.954823467738954,31.957934532218605]
[null,null,null,null,null,null,null,null,null,null,null,null,null,null,null,null,null,null,null,null,null,null,null,null,null,null,null,null,null,null,null,null,null,null,null,null,null,null,null,null,null,null,null,null,1198,0.25529195212747358,37.146612079520864,32.149606069955205]
[null,null,null,null,null,null,null,null,null,null,null,null,null,null,null,null,null,null,null,null,null,null,null,null,null,null,null,null,null,null,null,null,null,null,null,null,null,null,null,null,null,null,null,null,1203,0.25635744441515085,37.306435922672456,32.309335723961304]
[null,null,null,null,null,null,null,null,null,null,null,null,null,null,null,null,null,null,null,null,null,null,null,null,null,null,null,null,null,null,null,null,null,null,null,null,null,null,null,null,null,null,null,null,1204,0.25657054287268627,37.338400691302766,32.341282013364591]
[null,null,null,null,null,null,null,null,null,null,null,null,null,null,null,null,null,null,null,null,null,null,null,null,null,null,null,null,null,null,null,null,null,null,null,null,null,null,null,null,null,null,null,null,1210,0.25784913361789902,37.530189303084683,32.532962196654658]
[null,null,null,null,null,null,null,null,null,null,null,null,null,null,null,null,null,null,null,null,null,null,null,null,null,null,null,null,null,null,null,null,null,null,null,null,null,null,null,null,null,null,null,null,1215,0.25891462590557629,37.690013146236275,32.692698806235661]
[null,null,null,null,null,null,null,null,null,null,null,null,null,null,null,null,null,null,null,null,null,null,null,null,null,null,null,null,null,null,null,null,null,null,null,null,null,null,null,null,null,null,null,null,1221,0.26019321665078898,37.881801758018177,32.884386352584023]
[null,null,null,null,null,null,null,null,null,null,null,null,null,null,null,null,null,null,null,null,null,null,null,null,null,null,null,null,null,null,null,null,null,null,null,null,null,null,null,null,null,null,null,null,1226,0.26125870893846626,38.04162560116977,33.044128885938889]
[null,null,null,null,null,null,null,null,null,null,null,null,null,null,null,null,null,null,null,null,null,null,null,null,null,null,null,null,null,null,null,null,null,null,null,null,null,null,null,null,null,null,null,null,1235,0.26317659505628532,38.32930851884263,33.331671837867788]
[null,null,null,null,null,null,null,null,null,null,null,null,null,null,null,null,null,null,null,null,null,null,null,null,null,null,null,null,null,null,null,null,null,null,null,null,null,null,null,null,null,null,null,null,1238,0.2638158904288917,38.425202824733582,33.427521249722702]
[null,null,null,null,null,null,null,null,null,null,null,null,null,null,null,null,null,null,null,null,null,null,null,null,null,null,null,null,null,null,null,null,null,null,null,null,null,null,null,null,null,null,null,null,1243,0.26488138271656897,38.585026667885174,33.587272156613004]
[null,null,null,null,null,null,null,null,null,null,null,null,null,null,null,null,null,null,null,null,null,null,null,null,null,null,null,null,null,null,null,null,null,null,null,null,null,null,null,null,null,null,null,null,1248,0.26594687500424624,38.744850511036766,33.747025358034399]
[null,null,null,null,null,null,null,null,null,null,null,null,null,null,null,null,null,null,null,null,null,null,null,null,null,null,null,null,null,null,null,null,null,null,null,null,null,null,null,null,null,null,null,null,1252,0.26679926883438804,38.872709585558034,33.87482952264898]
[null,null,null,null,null,null,null,null,null,null,null,null,null,null,null,null,null,null,null,null,null,null,null,null,null,null,null,null,null,null,null,null,null,null,null,null,null,null,null,null,null,null,null,null,1260,0.26850405649467168,39.128427734600578,34.130441975924214]
[null,null,null,null,null,null,null,null,null,null,null,null,null,null,null,null,null,null,null,null,null,null,null,null,null,null,null,null,null,null,null,null,null,null,null,null,null,null,null,null,null,null,null,null,1266,0.26978264723988443,39.320216346382495,34.322154788769303]
[null,null,null,null,null,null,null,null,null,null,null,null,null,null,null,null,null,null,null,null,null,null,null,null,null,null,null,null,null,null,null,null,null,null,null,null,null,null,null,null,null,null,null,null,1271,0.2708481395275617,39.480040189534087,34.481917649684647]
[null,null,null,null,null,null,null,null,null,null,null,null,null,null,null,null,null,null,null,null,null,null,null,null,null,null,null,null,null,null,null,null,null,null,null,null,null,null,null,null,null,null,null,null,1276,0.27191363181523898,39.639864032685672,34.641682429064616]
[null,null,null,null,null,null,null,null,null,null,null,null,null,null,null,null,null,null,null,null,null,null,null,null,null,null,null,null,null,null,null,null,null,null,null,null,null,null,null,null,null,null,null,null,1277,0.2721267302727744,39.671828801315989,34.673635609811434]
[null,null,null,null,null,null,null,null,null,null,null,null,null,null,null,null,null,null,null,null,null,null,null,null,null,null,null,null,null,null,null,null,null,null,null,null,null,null,null,null,null,null,null,null,1283,0.27340532101798715,39.863617413097899,34.865356228666485]
[null,null,null,null,null,null,null,null,null,null,null,null,null,null,null,null,null,null,null,null,null,null,null,null,null,null,null,null,null,null,null,null,null,null,null,null,null,null,null,null,null,null,null,null,1288,0.27447081330566442,40.023441256249491,35.025125369721941]
[null,null,null,null,null,null,null,null,null,null,null,null,null,null,null,null,null,null,null,null,null,null,null,null,null,null,null,null,null,null,null,null,null,null,null,null,null,null,null,null,null,null,null,null,1294,0.27574940405087711,40.215229868031393,35.216850605775626]
[null,null,null,null,null,null,null,null,null,null,null,null,null,null,null,null,null,null,null,null,null,null,null,null,null,null,null,null,null,null,null,null,null,null,null,null,null,null,null,null,null,null,null,null,1299,0.27681489633855438,40.375053711182986,35.376623461488713]
[null,null,null,null,null,null,null,null,null,null,null,null,null,null,null,null,null,null,null,null,null,null,null,null,null,null,null,null,null,null,null,null,null,null,null,null,null,null,null,null,null,null,null,null,1308,0.27873278245637345,40.662736628855846,35.664218609974434]
[null,null,null,null,null,null,null,null,null,null,null,null,null,null,null,null,null,null,null,null,null,null,null,null,null,null,null,null,null,null,null,null,null,null,null,null,null,null,null,null,null,null,null,null,1311,0.27937207782897983,40.758630934746805,35.760084763883775]
[null,null,null,null,null,null,null,null,null,null,null,null,null,null,null,null,null,null,null,null,null,null,null,null,null,null,null,null,null,null,null,null,null,null,null,null,null,null,null,null,null,null,null,null,1316,0.2804375701166571,40.91845477789839,35.919862870441648]
[null,null,null,null,null,null,null,null,null,null,null,null,null,null,null,null,null,null,null,null,null,null,null,null,null,null,null,null,null,null,null,null,null,null,null,null,null,null,null,null,null,null,null,null,1322,0.28171616086186985,41.110243389680306,36.111598493578917]
[null,null,null,null,null,null,null,null,null,null,null,null,null,null,null,null,null,null,null,null,null,null,null,null,null,null,null,null,null,null,null,null,null,null,null,null,null,null,null,null,null,null,null,null,1327,0.28278165314954706,41.270067232831884,36.271379705973665]
[null,null,null,null,null,null,null,null,null,null,null,null,null,null,null,null,null,null,null,null,null,null,null,null,null,null,null,null,null,null,null,null,null,null,null,null,null,null,null,null,null,null,null,null,1333,0.28406024389475981,41.461855844613801,36.46311892741312]
[null,null,null,null,null,null,null,null,null,null,null,null,null,null,null,null,null,null,null,null,null,null,null,null,null,null,null,null,null,null,null,null,null,null,null,null,null,null,null,null,null,null,null,null,1339,0.28533883463997256,41.65364445639571,36.65486000748561]
[null,null,null,null,null,null,null,null,null,null,null,null,null,null,null,null,null,null,null,null,null,null,null,null,null,null,null,null,null,null,null,null,null,null,null,null,null,null,null,null,null,null,null,null,1344,{"$f":"$AP$18/$N$7*AS1375","v":0.28640432692764978},41.813468299547296,36.81464561012811]
[null,null,null,null,null,null,null,null,null,null,null,null,null,null,null,null,null,null,null,null,null,null,null,null,null,null,null,null,null,null,null,null,null,null,null,null,null,null,null,null,null,null,null,null,1345,0.28661742538518525,{"$f":"IF(($N$4*AT1376^2/2)<=$AP$13,($N$4*AT1376^2/2), IF(($AP$13+$N$6*(AT1376-$AP$12))<=$AP$17, ($AP$13+$N$6*(AT1376-$AP$12)), IF(AU1375<$D$14, ($AP$17+($N$6-$N$5*(AT1376-$AP$16)/2)*(AT1376-$AP$16)), $D$14)))","v":41.84543306817762},36.846602876247971]
[null,null,null,null,null,null,null,null,null,null,null,null,null,null,null,null,null,null,null,null,null,null,null,null,null,null,null,null,null,null,null,null,null,null,null,null,null,null,null,null,null,null,null,null,1352,0.28810911458793342,42.069186448589839,37.070305060850927]
[null,null,null,null,null,null,null,null,null,null,null,null,null,null,null,null,null,null,null,null,null,null,null,null,null,null,null,null,null,null,null,null,null,null,null,null,null,null,null,null,null,null,null,null,1356,0.28896150841807527,42.197045523111122,37.198135892974022]
[null,null,null,null,null,null,null,null,null,null,null,null,null,null,null,null,null,null,null,null,null,null,null,null,null,null,null,null,null,null,null,null,null,null,null,null,null,null,null,null,null,null,null,null,1362,0.29024009916328797,42.388834134893024,37.389883472494631]
[null,null,null,null,null,null,null,null,null,null,null,null,null,null,null,null,null,null,null,null,null,null,null,null,null,null,null,null,null,null,null,null,null,null,null,null,null,null,null,null,null,null,null,null,1367,0.29130559145096524,42.548657978044616,37.549674304113886]
[null,null,null,null,null,null,null,null,null,null,null,null,null,null,null,null,null,null,null,null,null,null,null,null,null,null,null,null,null,null,null,null,null,null,null,null,null,null,null,null,null,null,null,null,1373,0.29258418219617799,42.740446589826526,37.741424670014034]
[null,null,null,null,null,null,null,null,null,null,null,null,null,null,null,null,null,null,null,null,null,null,null,null,null,null,null,null,null,null,null,null,null,null,null,null,null,null,null,null,null,null,null,null,{"$f":"AS1407+1","v":1377},0.29343657602631978,42.868305664347794,37.869259050250207]
[null,null,null,null,null,null,null,null,null,null,null,null,null,null,null,null,null,null,null,null,null,null,null,null,null,null,null,null,null,null,null,null,null,null,null,null,null,null,null,null,null,null,null,null,1384,0.29492826522906795,43.09205904476002,38.092970706413766]
[null,null,null,null,null,null,null,null,null,null,null,null,null,null,null,null,null,null,null,null,null,null,null,null,null,null,null,null,null,null,null,null,null,null,null,null,null,null,null,null,null,null,null,null,1390,0.29620685597428065,43.283847656541923,38.284725010993633]
[null,null,null,null,null,null,null,null,null,null,null,null,null,null,null,null,null,null,null,null,null,null,null,null,null,null,null,null,null,null,null,null,null,null,null,null,null,null,null,null,null,null,null,null,1395,0.29727234826195792,43.443671499693515,38.444521253099772]
[null,null,null,null,null,null,null,null,null,null,null,null,null,null,null,null,null,null,null,null,null,null,null,null,null,null,null,null,null,null,null,null,null,null,null,null,null,null,null,null,null,null,null,null,1400,0.29833784054963519,43.603495342845108,38.604318363518267]
[null,null,null,null,null,null,null,null,null,null,null,null,null,null,null,null,null,null,null,null,null,null,null,null,null,null,null,null,null,null,null,null,null,null,null,null,null,null,null,null,null,null,null,null,1402,0.29876403746470614,43.667424880105749,38.668237444665031]
[null,null,null,null,null,null,null,null,null,null,null,null,null,null,null,null,null,null,null,null,null,null,null,null,null,null,null,null,null,null,null,null,null,null,null,null,null,null,null,null,null,null,null,null,1412,0.30089502204006063,43.987072566408926,38.987834809569911]
[null,null,null,null,null,null,null,null,null,null,null,null,null,null,null,null,null,null,null,null,null,null,null,null,null,null,null,null,null,null,null,null,null,null,null,null,null,null,null,null,null,null,null,null,1413,0.30110812049759611,44.019037335039243,39.019794720741729]
[null,null,null,null,null,null,null,null,null,null,null,null,null,null,null,null,null,null,null,null,null,null,null,null,null,null,null,null,null,null,null,null,null,null,null,null,null,null,null,null,null,null,null,null,1418,0.30217361278527338,44.178861178190836,39.179594736992854]
[null,null,null,null,null,null,null,null,null,null,null,null,null,null,null,null,null,null,null,null,null,null,null,null,null,null,null,null,null,null,null,null,null,null,null,null,null,null,null,null,null,null,null,null,1427,0.30409149890309245,44.466544095863696,39.467236639314727]
[null,null,null,null,null,null,null,null,null,null,null,null,null,null,null,null,null,null,null,null,null,null,null,null,null,null,null,null,null,null,null,null,null,null,null,null,null,null,null,null,null,null,null,null,1430,0.30473079427569882,44.562438401754655,39.563117789524924]
[null,null,null,null,null,null,null,null,null,null,null,null,null,null,null,null,null,null,null,null,null,null,null,null,null,null,null,null,null,null,null,null,null,null,null,null,null,null,null,null,null,null,null,null,1435,0.3057962865633761,44.72226224490624,39.722920259544267]
[null,null,null,null,null,null,null,null,null,null,null,null,null,null,null,null,null,null,null,null,null,null,null,null,null,null,null,null,null,null,null,null,null,null,null,null,null,null,null,null,null,null,null,null,{"$f":"AS1471+1","v":1441},0.30707487730858879,44.914050856688149,39.914684109243623]
[null,null,null,null,null,null,null,null,null,null,null,null,null,null,null,null,null,null,null,null,null,null,null,null,null,null,null,null,null,null,null,null,null,null,null,null,null,null,null,null,null,null,null,null,1446,0.30814036959626606,45.073874699839735,40.074488030649192]
[null,null,null,null,null,null,null,null,null,null,null,null,null,null,null,null,null,null,null,null,null,null,null,null,null,null,null,null,null,null,null,null,null,null,null,null,null,null,null,null,null,null,null,null,1452,0.30941896034147881,45.265663311621651,40.266253561868353]
[null,null,null,null,null,null,null,null,null,null,null,null,null,null,null,null,null,null,null,null,null,null,null,null,null,null,null,null,null,null,null,null,null,null,null,null,null,null,null,null,null,null,null,null,1458,0.3106975510866915,45.457451923403553,40.458019961643878]
[null,null,null,null,null,null,null,null,null,null,null,null,null,null,null,null,null,null,null,null,null,null,null,null,null,null,null,null,null,null,null,null,null,null,null,null,null,null,null,null,null,null,null,null,1463,0.31176304337436878,45.617275766555146,40.617825934652728]
[null,null,null,null,null,null,null,null,null,null,null,null,null,null,null,null,null,null,null,null,null,null,null,null,null,null,null,null,null,null,null,null,null,null,null,null,null,null,null,null,null,null,null,null,1468,0.31282853566204605,45.777099609706738,40.777632469845571]
[null,null,null,null,null,null,null,null,null,null,null,null,null,null,null,null,null,null,null,null,null,null,null,null,null,null,null,null,null,null,null,null,null,null,null,null,null,null,null,null,null,null,null,null,1474,0.3141071264072588,45.968888221488648,{"$f":"( $AP$6*AU1505 + $AP$7*AU1504 + $AP$9*AV1504 )/$AP$8","v":40.969401029297352}]
[null,null,null,null,null,null,null,null,null,null,null,null,null,null,null,null,null,null,null,null,null,null,null,null,null,null,null,null,null,null,null,null,null,null,null,null,null,null,null,null,null,null,null,null,1477,0.31474642177986517,46.064782527379606,41.06528559379835]
[null,null,null,null,null,null,null,null,null,null,null,null,null,null,null,null,null,null,null,null,null,null,null,null,null,null,null,null,null,null,null,null,null,null,null,null,null,null,null,null,null,null,null,null,1481,0.31559881561000697,46.192641601900874,41.193131967044479]
[null,null,null,null,null,null,null,null,null,null,null,null,null,null,null,null,null,null,null,null,null,null,null,null,null,null,null,null,null,null,null,null,null,null,null,null,null,null,null,null,null,null,null,null,1486,0.31666430789768424,46.352465445052466,41.352940383602437]
[null,null,null,null,null,null,null,null,null,null,null,null,null,null,null,null,null,null,null,null,null,null,null,null,null,null,null,null,null,null,null,null,null,null,null,null,null,null,null,null,null,null,null,null,1491,0.31772980018536151,46.512289288204052,41.51274928547177]
[null,null,null,null,null,null,null,null,null,null,null,null,null,null,null,null,null,null,null,null,null,null,null,null,null,null,null,null,null,null,null,null,null,null,null,null,null,null,null,null,null,null,null,null,1497,0.3190083909305742,46.704077899985961,41.704520586863218]
[null,null,null,null,null,null,null,null,null,null,null,null,null,null,null,null,null,null,null,null,null,null,null,null,null,null,null,null,null,null,null,null,null,null,null,null,null,null,null,null,null,null,null,null,1502,0.32007388321825148,46.863901743137546,41.86433050335085]
[null,null,null,null,null,null,null,null,null,null,null,null,null,null,null,null,null,null,null,null,null,null,null,null,null,null,null,null,null,null,null,null,null,null,null,null,null,null,null,null,null,null,null,null,1509,0.32156557242099965,47.087655123549773,42.088065119380566]
[null,null,null,null,null,null,null,null,null,null,null,null,null,null,null,null,null,null,null,null,null,null,null,null,null,null,null,null,null,null,null,null,null,null,null,null,null,null,null,null,null,null,null,null,1514,0.32263106470867692,47.247478966701365,42.247876064308954]
[null,null,null,null,null,null,null,null,null,null,null,null,null,null,null,null,null,null,null,null,null,null,null,null,null,null,null,null,null,null,null,null,null,null,null,null,null,null,null,null,null,null,null,null,1519,0.32369655699635419,47.407302809852958,42.407687415007707]
[null,null,null,null,null,null,null,null,null,null,null,null,null,null,null,null,null,null,null,null,null,null,null,null,null,null,null,null,null,null,null,null,null,null,null,null,null,null,null,null,null,null,null,null,1525,0.32497514774156694,47.599091421634867,42.59946155351799]
[null,null,null,null,null,null,null,null,null,null,null,null,null,null,null,null,null,null,null,null,null,null,null,null,null,null,null,null,null,null,null,null,null,null,null,null,null,null,null,null,null,null,null,null,1531,0.32625373848677963,47.790880033416776,42.791236236679318]
[null,null,null,null,null,null,null,null,null,null,null,null,null,null,null,null,null,null,null,null,null,null,null,null,null,null,null,null,null,null,null,null,null,null,null,null,null,null,null,null,null,null,null,null,1536,{"$f":"$AP$18/$N$7*AS1567","v":0.3273192307744569},47.950703876568362,42.951048873889668]
[null,null,null,null,null,null,null,null,null,null,null,null,null,null,null,null,null,null,null,null,null,null,null,null,null,null,null,null,null,null,null,null,null,null,null,null,null,null,null,null,null,null,null,null,1542,0.32859782151966965,48.142492488350278,43.142824502902428]
[null,null,null,null,null,null,null,null,null,null,null,null,null,null,null,null,null,null,null,null,null,null,null,null,null,null,null,null,null,null,null,null,null,null,null,null,null,null,null,null,null,null,null,null,1547,0.32966331380734692,48.302316331501871,43.302637901075116]
[null,null,null,null,null,null,null,null,null,null,null,null,null,null,null,null,null,null,null,null,null,null,null,null,null,null,null,null,null,null,null,null,null,null,null,null,null,null,null,null,null,null,null,null,1550,0.33030260917995324,48.398210637392815,43.398526098372258]
[null,null,null,null,null,null,null,null,null,null,null,null,null,null,null,null,null,null,null,null,null,null,null,null,null,null,null,null,null,null,null,null,null,null,null,null,null,null,null,null,null,null,null,null,1554,0.33115500301009509,48.52606971191409,43.526377208226151]
[null,null,null,null,null,null,null,null,null,null,null,null,null,null,null,null,null,null,null,null,null,null,null,null,null,null,null,null,null,null,null,null,null,null,null,null,null,null,null,null,null,null,null,null,1559,0.33222049529777237,48.685893555065682,43.686191377728008]
[null,null,null,null,null,null,null,null,null,null,null,null,null,null,null,null,null,null,null,null,null,null,null,null,null,null,null,null,null,null,null,null,null,null,null,null,null,null,null,null,null,null,null,null,1565,0.33349908604298506,48.877547453088958,43.877968352756923]
[null,null,null,null,null,null,null,null,null,null,null,null,null,null,null,null,null,null,null,null,null,null,null,null,null,null,null,null,null,null,null,null,null,null,null,null,null,null,null,null,null,null,null,null,1570,0.33456457833066233,49.030072744625173,44.037691582671592]
[null,null,null,null,null,null,null,null,null,null,null,null,null,null,null,null,null,null,null,null,null,null,null,null,null,null,null,null,null,null,null,null,null,null,null,null,null,null,null,null,null,null,null,null,1577,0.3360562675334105,49.224904321405013,44.260551991060161]
[null,null,null,null,null,null,null,null,null,null,null,null,null,null,null,null,null,null,null,null,null,null,null,null,null,null,null,null,null,null,null,null,null,null,null,null,null,null,null,null,null,null,null,null,1582,0.33712175982108777,49.350709853839994,44.418744564581942]
[null,null,null,null,null,null,null,null,null,null,null,null,null,null,null,null,null,null,null,null,null,null,null,null,null,null,null,null,null,null,null,null,null,null,null,null,null,null,null,null,null,null,null,null,1587,0.33818725210876505,49.465382153316128,44.575742243146088]
[null,null,null,null,null,null,null,null,null,null,null,null,null,null,null,null,null,null,null,null,null,null,null,null,null,null,null,null,null,null,null,null,null,null,null,null,null,null,null,null,null,null,null,null,1593,0.3394658428539778,49.588293045181807,44.762122674988767]
[null,null,null,null,null,null,null,null,null,null,null,null,null,null,null,null,null,null,null,null,null,null,null,null,null,null,null,null,null,null,null,null,null,null,null,null,null,null,null,null,null,null,null,null,1600,{"$f":"$AP$18/$N$7*AS1631","v":0.34095753205672596},49.71142660170667,44.976128618954633]
[null,null,null,null,null,null,null,null,null,null,null,null,null,null,null,null,null,null,null,null,null,null,null,null,null,null,null,null,null,null,null,null,null,null,null,null,null,null,null,null,null,null,null,null,1604,0.34180992588686776,49.7719913890028,45.096465720359475]
[null,null,null,null,null,null,null,null,null,null,null,null,null,null,null,null,null,null,null,null,null,null,null,null,null,null,null,null,null,null,null,null,null,null,null,null,null,null,null,null,null,null,null,null,1610,0.34308851663208051,49.849478690396381,45.273928719465694]
[null,null,null,null,null,null,null,null,null,null,null,null,null,null,null,null,null,null,null,null,null,null,null,null,null,null,null,null,null,null,null,null,null,null,null,null,null,null,null,null,null,null,null,null,1615,0.34415400891975778,49.901804885302965,45.418728084565686]
[null,null,null,null,null,null,null,null,null,null,null,null,null,null,null,null,null,null,null,null,null,null,null,null,null,null,null,null,null,null,null,null,null,null,null,null,null,null,null,null,null,null,null,null,1616,0.3443671073772932,49.910934136329217,45.447325956108152]
[null,null,null,null,null,null,null,null,null,null,null,null,null,null,null,null,null,null,null,null,null,null,null,null,null,null,null,null,null,null,null,null,null,null,null,null,null,null,null,null,null,null,null,null,1625,0.34628499349511233,49.97305757623959,45.698818121727754]
[null,null,null,null,null,null,null,null,null,null,null,null,null,null,null,null,null,null,null,null,null,null,null,null,null,null,null,null,null,null,null,null,null,null,null,null,null,null,null,null,null,null,null,null,1627,0.34671119041018322,49.981964162606673,45.753178526724305]
[null,null,null,null,null,null,null,null,null,null,null,null,null,null,null,null,null,null,null,null,null,null,null,null,null,null,null,null,null,null,null,null,null,null,null,null,null,null,null,null,null,null,null,null,1633,0.34798978115539592,49.997996018067411,45.912666507682843]
[null,null,null,null,null,null,null,null,null,null,null,null,null,null,null,null,null,null,null,null,null,null,null,null,null,null,null,null,null,null,null,null,null,null,null,null,null,null,null,null,null,null,null,null,1638,0.34905527344307319,50,46.041238400073738]
[null,null,null,null,null,null,null,null,null,null,null,null,null,null,null,null,null,null,null,null,null,null,null,null,null,null,null,null,null,null,null,null,null,null,null,null,null,null,null,null,null,null,null,null,1643,0.35012076573075046,50,46.165778668504807]
[null,null,null,null,null,null,null,null,null,null,null,null,null,null,null,null,null,null,null,null,null,null,null,null,null,null,null,null,null,null,null,null,null,null,null,null,null,null,null,null,null,null,null,null,1650,0.35161245493349863,50,46.333580608874577]
[null,null,null,null,null,null,null,null,null,null,null,null,null,null,null,null,null,null,null,null,null,null,null,null,null,null,null,null,null,null,null,null,null,null,null,null,null,null,null,null,null,null,null,null,1655,0.3526779472211759,50,46.448923966544839]
[null,null,null,null,null,null,null,null,null,null,null,null,null,null,null,null,null,null,null,null,null,null,null,null,null,null,null,null,null,null,null,null,null,null,null,null,null,null,null,null,null,null,null,null,1661,0.35395653796638865,50,46.582556309812752]
[null,null,null,null,null,null,null,null,null,null,null,null,null,null,null,null,null,null,null,null,null,null,null,null,null,null,null,null,null,null,null,null,null,null,null,null,null,null,null,null,null,null,null,null,1666,0.35502203025406592,50,{"$f":"( $AP$6*AU1697 + $AP$7*AU1696 + $AP$9*AV1696 )/$AP$8","v":46.690067041080802}]
[null,null,null,null,null,null,null,null,null,null,null,null,null,null,null,null,null,null,null,null,null,null,null,null,null,null,null,null,null,null,null,null,null,null,null,null,null,null,null,null,null,null,null,null,1671,0.3560875225417432,50,46.794195549147645]
[null,null,null,null,null,null,null,null,null,null,null,null,null,null,null,null,null,null,null,null,null,null,null,null,null,null,null,null,null,null,null,null,null,null,null,null,null,null,null,null,null,null,null,null,1675,0.35693991637188499,50,46.875134770851865]
[null,null,null,null,null,null,null,null,null,null,null,null,null,null,null,null,null,null,null,null,null,null,null,null,null,null,null,null,null,null,null,null,null,null,null,null,null,null,null,null,null,null,null,null,1683,0.35864470403216864,50,47.03093421867581]
[null,null,null,null,null,null,null,null,null,null,null,null,null,null,null,null,null,null,null,null,null,null,null,null,null,null,null,null,null,null,null,null,null,null,null,null,null,null,null,null,null,null,null,null,1688,0.35971019631984591,50,47.124339249532547]
[null,null,null,null,null,null,null,null,null,null,null,null,null,null,null,null,null,null,null,null,null,null,null,null,null,null,null,null,null,null,null,null,null,null,null,null,null,null,null,null,null,null,null,null,1689,0.35992329477738133,50,47.142664638958834]
[null,null,null,null,null,null,null,null,null,null,null,null,null,null,null,null,null,null,null,null,null,null,null,null,null,null,null,null,null,null,null,null,null,null,null,null,null,null,null,null,null,null,null,null,1694,0.3609887870650586,50,47.232554697725767]
[null,null,null,null,null,null,null,null,null,null,null,null,null,null,null,null,null,null,null,null,null,null,null,null,null,null,null,null,null,null,null,null,null,null,null,null,null,null,null,null,null,null,null,null,1701,0.36248047626780677,50,47.353669952021157]
[null,null,null,null,null,null,null,null,null,null,null,null,null,null,null,null,null,null,null,null,null,null,null,null,null,null,null,null,null,null,null,null,null,null,null,null,null,null,null,null,null,null,null,null,1706,0.36354596855548404,50,47.436921910042223]
[null,null,null,null,null,null,null,null,null,null,null,null,null,null,null,null,null,null,null,null,null,null,null,null,null,null,null,null,null,null,null,null,null,null,null,null,null,null,null,null,null,null,null,null,1711,0.36461146084316132,50,47.517554811336169]
[null,null,null,null,null,null,null,null,null,null,null,null,null,null,null,null,null,null,null,null,null,null,null,null,null,null,null,null,null,null,null,null,null,null,null,null,null,null,null,null,null,null,null,null,1717,0.36589005158837407,50,47.610972965290074]
[null,null,null,null,null,null,null,null,null,null,null,null,null,null,null,null,null,null,null,null,null,null,null,null,null,null,null,null,null,null,null,null,null,null,null,null,null,null,null,null,null,null,null,null,1725,0.36759483924865766,50,47.730085011906496]
[null,null,null,null,null,null,null,null,null,null,null,null,null,null,null,null,null,null,null,null,null,null,null,null,null,null,null,null,null,null,null,null,null,null,null,null,null,null,null,null,null,null,null,null,{"$f":"AS1759+1","v":1729},0.36844723307879951,{"$f":"IF(($N$4*AT1760^2/2)<=$AP$13,($N$4*AT1760^2/2), IF(($AP$13+$N$6*(AT1760-$AP$12))<=$AP$17, ($AP$13+$N$6*(AT1760-$AP$12)), IF(AU1759<$D$14, ($AP$17+($N$6-$N$5*(AT1760-$AP$16)/2)*(AT1760-$AP$16)), $D$14)))","v":50},47.787395167684153]
[null,null,null,null,null,null,null,null,null,null,null,null,null,null,null,null,null,null,null,null,null,null,null,null,null,null,null,null,null,null,null,null,null,null,null,null,null,null,null,null,null,null,null,null,1734,0.36951272536647678,50,47.857002390244268]
[null,null,null,null,null,null,null,null,null,null,null,null,null,null,null,null,null,null,null,null,null,null,null,null,null,null,null,null,null,null,null,null,null,null,null,null,null,null,null,null,null,null,null,null,1739,0.370578217654154,50,47.924419811280963]
[null,null,null,null,null,null,null,null,null,null,null,null,null,null,null,null,null,null,null,null,null,null,null,null,null,null,null,null,null,null,null,null,null,null,null,null,null,null,null,null,null,null,null,null,1745,0.37185680839936675,50,48.002527022066069]
[null,null,null,null,null,null,null,null,null,null,null,null,null,null,null,null,null,null,null,null,null,null,null,null,null,null,null,null,null,null,null,null,null,null,null,null,null,null,null,null,null,null,null,null,1750,0.37292230068704402,50,48.065366325362426]
[null,null,null,null,null,null,null,null,null,null,null,null,null,null,null,null,null,null,null,null,null,null,null,null,null,null,null,null,null,null,null,null,null,null,null,null,null,null,null,null,null,null,null,null,1756,0.37420089143225671,50,48.138169506390163]
[null,null,null,null,null,null,null,null,null,null,null,null,null,null,null,null,null,null,null,null,null,null,null,null,null,null,null,null,null,null,null,null,null,null,null,null,null,null,null,null,null,null,null,null,1757,0.37441398988979219,50,48.150034177435103]
[null,null,null,null,null,null,null,null,null,null,null,null,null,null,null,null,null,null,null,null,null,null,null,null,null,null,null,null,null,null,null,null,null,null,null,null,null,null,null,null,null,null,null,null,1762,0.37547948217746946,50,48.208232993987927]
[null,null,null,null,null,null,null,null,null,null,null,null,null,null,null,null,null,null,null,null,null,null,null,null,null,null,null,null,null,null,null,null,null,null,null,null,null,null,null,null,null,null,null,null,1767,0.37654497446514673,50,48.264600910636112]
[null,null,null,null,null,null,null,null,null,null,null,null,null,null,null,null,null,null,null,null,null,null,null,null,null,null,null,null,null,null,null,null,null,null,null,null,null,null,null,null,null,null,null,null,1774,0.3780366636678949,50,48.340549404302671]
[null,null,null,null,null,null,null,null,null,null,null,null,null,null,null,null,null,null,null,null,null,null,null,null,null,null,null,null,null,null,null,null,null,null,null,null,null,null,null,null,null,null,null,null,1779,0.37910215595557217,50,48.392754725946723]
[null,null,null,null,null,null,null,null,null,null,null,null,null,null,null,null,null,null,null,null,null,null,null,null,null,null,null,null,null,null,null,null,null,null,null,null,null,null,null,null,null,null,null,null,1785,0.38038074670078492,50,48.453237788025525]
[null,null,null,null,null,null,null,null,null,null,null,null,null,null,null,null,null,null,null,null,null,null,null,null,null,null,null,null,null,null,null,null,null,null,null,null,null,null,null,null,null,null,null,null,1790,0.38144623898846214,50,48.501898000623804]
[null,null,null,null,null,null,null,null,null,null,null,null,null,null,null,null,null,null,null,null,null,null,null,null,null,null,null,null,null,null,null,null,null,null,null,null,null,null,null,null,null,null,null,null,1798,0.38315102664874578,50,48.576590330427223]
[null,null,null,null,null,null,null,null,null,null,null,null,null,null,null,null,null,null,null,null,null,null,null,null,null,null,null,null,null,null,null,null,null,null,null,null,null,null,null,null,null,null,null,null,1802,0.38400342047888758,50,48.61252816524771]
[null,null,null,null,null,null,null,null,null,null,null,null,null,null,null,null,null,null,null,null,null,null,null,null,null,null,null,null,null,null,null,null,null,null,null,null,null,null,null,null,null,null,null,null,1807,0.38506891276656485,50,48.65617719800175]
[null,null,null,null,null,null,null,null,null,null,null,null,null,null,null,null,null,null,null,null,null,null,null,null,null,null,null,null,null,null,null,null,null,null,null,null,null,null,null,null,null,null,null,null,1813,0.3863475035117776,50,48.7067472754307]
[null,null,null,null,null,null,null,null,null,null,null,null,null,null,null,null,null,null,null,null,null,null,null,null,null,null,null,null,null,null,null,null,null,null,null,null,null,null,null,null,null,null,null,null,1818,0.38741299579945487,50,48.74743223142049]
[null,null,null,null,null,null,null,null,null,null,null,null,null,null,null,null,null,null,null,null,null,null,null,null,null,null,null,null,null,null,null,null,null,null,null,null,null,null,null,null,null,null,null,null,1819,0.38762609425699029,50,48.755414324627523]
[null,null,null,null,null,null,null,null,null,null,null,null,null,null,null,null,null,null,null,null,null,null,null,null,null,null,null,null,null,null,null,null,null,null,null,null,null,null,null,null,null,null,null,null,1825,0.38890468500220304,50,48.802249959412826]
[null,null,null,null,null,null,null,null,null,null,null,null,null,null,null,null,null,null,null,null,null,null,null,null,null,null,null,null,null,null,null,null,null,null,null,null,null,null,null,null,null,null,null,null,1830,0.38997017728988032,50,48.83993045817558]
[null,null,null,null,null,null,null,null,null,null,null,null,null,null,null,null,null,null,null,null,null,null,null,null,null,null,null,null,null,null,null,null,null,null,null,null,null,null,null,null,null,null,null,null,1836,0.39124876803509301,50,48.883585623474005]
[null,null,null,null,null,null,null,null,null,null,null,null,null,null,null,null,null,null,null,null,null,null,null,null,null,null,null,null,null,null,null,null,null,null,null,null,null,null,null,null,null,null,null,null,1841,0.39231426032277028,50,48.918707350969655]
[null,null,null,null,null,null,null,null,null,null,null,null,null,null,null,null,null,null,null,null,null,null,null,null,null,null,null,null,null,null,null,null,null,null,null,null,null,null,null,null,null,null,null,null,1850,0.3942321464405894,50,48.979165486605005]
[null,null,null,null,null,null,null,null,null,null,null,null,null,null,null,null,null,null,null,null,null,null,null,null,null,null,null,null,null,null,null,null,null,null,null,null,null,null,null,null,null,null,null,null,1853,0.39487144181319572,50,48.998557443832937]
[null,null,null,null,null,null,null,null,null,null,null,null,null,null,null,null,null,null,null,null,null,null,null,null,null,null,null,null,null,null,null,null,null,null,null,null,null,null,null,null,null,null,null,null,1858,0.39593693410087299,50,{"$f":"( $AP$6*AU1889 + $AP$7*AU1888 + $AP$9*AV1888 )/$AP$8","v":49.030062226734167}]
[null,null,null,null,null,null,null,null,null,null,null,null,null,null,null,null,null,null,null,null,null,null,null,null,null,null,null,null,null,null,null,null,null,null,null,null,null,null,null,null,null,null,null,null,1863,0.39700242638855027,50,49.060575888038308]
[null,null,null,null,null,null,null,null,null,null,null,null,null,null,null,null,null,null,null,null,null,null,null,null,null,null,null,null,null,null,null,null,null,null,null,null,null,null,null,null,null,null,null,null,1867,0.39785482021869212,50,49.084294195763576]
[null,null,null,null,null,null,null,null,null,null,null,null,null,null,null,null,null,null,null,null,null,null,null,null,null,null,null,null,null,null,null,null,null,null,null,null,null,null,null,null,null,null,null,null,1875,0.39955960787897571,50,49.129949431496136]
[null,null,null,null,null,null,null,null,null,null,null,null,null,null,null,null,null,null,null,null,null,null,null,null,null,null,null,null,null,null,null,null,null,null,null,null,null,null,null,null,null,null,null,null,1881,0.40083819862418846,50,49.162690745716226]
[null,null,null,null,null,null,null,null,null,null,null,null,null,null,null,null,null,null,null,null,null,null,null,null,null,null,null,null,null,null,null,null,null,null,null,null,null,null,null,null,null,null,null,null,1886,0.40190369091186573,50,49.189031993264514]
[null,null,null,null,null,null,null,null,null,null,null,null,null,null,null,null,null,null,null,null,null,null,null,null,null,null,null,null,null,null,null,null,null,null,null,null,null,null,null,null,null,null,null,null,1891,0.402969183199543,50,49.214544560944702]
[null,null,null,null,null,null,null,null,null,null,null,null,null,null,null,null,null,null,null,null,null,null,null,null,null,null,null,null,null,null,null,null,null,null,null,null,null,null,null,null,null,null,null,null,1892,0.40318228165707842,50,49.219549941636892]
[null,null,null,null,null,null,null,null,null,null,null,null,null,null,null,null,null,null,null,null,null,null,null,null,null,null,null,null,null,null,null,null,null,null,null,null,null,null,null,null,null,null,null,null,1898,0.40446087240229117,50,49.248919453615819]
[null,null,null,null,null,null,null,null,null,null,null,null,null,null,null,null,null,null,null,null,null,null,null,null,null,null,null,null,null,null,null,null,null,null,null,null,null,null,null,null,null,null,null,null,1904,0.40573946314750386,50,49.277183746593693]
[null,null,null,null,null,null,null,null,null,null,null,null,null,null,null,null,null,null,null,null,null,null,null,null,null,null,null,null,null,null,null,null,null,null,null,null,null,null,null,null,null,null,null,null,1909,0.40680495543518114,50,49.299923112921604]
[null,null,null,null,null,null,null,null,null,null,null,null,null,null,null,null,null,null,null,null,null,null,null,null,null,null,null,null,null,null,null,null,null,null,null,null,null,null,null,null,null,null,null,null,1914,0.40787044772285841,50,49.321947112406903]
[null,null,null,null,null,null,null,null,null,null,null,null,null,null,null,null,null,null,null,null,null,null,null,null,null,null,null,null,null,null,null,null,null,null,null,null,null,null,null,null,null,null,null,null,1923,0.40978833384067753,50,49.359858970480467]
[null,null,null,null,null,null,null,null,null,null,null,null,null,null,null,null,null,null,null,null,null,null,null,null,null,null,null,null,null,null,null,null,null,null,null,null,null,null,null,null,null,null,null,null,1926,0.41042762921328385,50,49.372019205368105]
[null,null,null,null,null,null,null,null,null,null,null,null,null,null,null,null,null,null,null,null,null,null,null,null,null,null,null,null,null,null,null,null,null,null,null,null,null,null,null,null,null,null,null,null,1931,0.41149312150096112,50,49.391775104974315]
[null,null,null,null,null,null,null,null,null,null,null,null,null,null,null,null,null,null,null,null,null,null,null,null,null,null,null,null,null,null,null,null,null,null,null,null,null,null,null,null,null,null,null,null,1937,0.41277171224617387,50,49.414663524481668]
[null,null,null,null,null,null,null,null,null,null,null,null,null,null,null,null,null,null,null,null,null,null,null,null,null,null,null,null,null,null,null,null,null,null,null,null,null,null,null,null,null,null,null,null,1942,0.41383720453385114,50,49.433077859354697]
[null,null,null,null,null,null,null,null,null,null,null,null,null,null,null,null,null,null,null,null,null,null,null,null,null,null,null,null,null,null,null,null,null,null,null,null,null,null,null,null,null,null,null,null,1948,0.41511579527906384,50,49.454411993963816]
[null,null,null,null,null,null,null,null,null,null,null,null,null,null,null,null,null,null,null,null,null,null,null,null,null,null,null,null,null,null,null,null,null,null,null,null,null,null,null,null,null,null,null,null,1954,0.41639438602427659,50,49.474943292933091]
[null,null,null,null,null,null,null,null,null,null,null,null,null,null,null,null,null,null,null,null,null,null,null,null,null,null,null,null,null,null,null,null,null,null,null,null,null,null,null,null,null,null,null,null,1959,0.41745987831195386,50,49.491461262401344]
[null,null,null,null,null,null,null,null,null,null,null,null,null,null,null,null,null,null,null,null,null,null,null,null,null,null,null,null,null,null,null,null,null,null,null,null,null,null,null,null,null,null,null,null,1960,0.41767297676948928,50,49.494701968177694]
[null,null,null,null,null,null,null,null,null,null,null,null,null,null,null,null,null,null,null,null,null,null,null,null,null,null,null,null,null,null,null,null,null,null,null,null,null,null,null,null,null,null,null,null,1967,0.41916466597223745,50,49.516815973310457]
[null,null,null,null,null,null,null,null,null,null,null,null,null,null,null,null,null,null,null,null,null,null,null,null,null,null,null,null,null,null,null,null,null,null,null,null,null,null,null,null,null,null,null,null,1972,0.42023015825991472,50,49.532016653337941]
[null,null,null,null,null,null,null,null,null,null,null,null,null,null,null,null,null,null,null,null,null,null,null,null,null,null,null,null,null,null,null,null,null,null,null,null,null,null,null,null,null,null,null,null,1977,0.42129565054759199,50,49.54673912907775]
[null,null,null,null,null,null,null,null,null,null,null,null,null,null,null,null,null,null,null,null,null,null,null,null,null,null,null,null,null,null,null,null,null,null,null,null,null,null,null,null,null,null,null,null,1982,0.42236114283526927,50,49.560998444550307]
[null,null,null,null,null,null,null,null,null,null,null,null,null,null,null,null,null,null,null,null,null,null,null,null,null,null,null,null,null,null,null,null,null,null,null,null,null,null,null,null,null,null,null,null,1988,0.42363973358048201,50,49.577518734738504]
[null,null,null,null,null,null,null,null,null,null,null,null,null,null,null,null,null,null,null,null,null,null,null,null,null,null,null,null,null,null,null,null,null,null,null,null,null,null,null,null,null,null,null,null,1992,0.42449212741062381,50,49.588185419284962]
[null,null,null,null,null,null,null,null,null,null,null,null,null,null,null,null,null,null,null,null,null,null,null,null,null,null,null,null,null,null,null,null,null,null,null,null,null,null,null,null,null,null,null,null,1999,0.42598381661337198,50,49.606208188379938]
[null,null,null,null,null,null,null,null,null,null,null,null,null,null,null,null,null,null,null,null,null,null,null,null,null,null,null,null,null,null,null,null,null,null,null,null,null,null,null,null,null,null,null,null,2005,0.42726240735858473,50,49.621027167768368]
[null,null,null,null,null,null,null,null,null,null,null,null,null,null,null,null,null,null,null,null,null,null,null,null,null,null,null,null,null,null,null,null,null,null,null,null,null,null,null,null,null,null,null,null,2010,0.428327899646262,50,49.632949426046096]
[null,null,null,null,null,null,null,null,null,null,null,null,null,null,null,null,null,null,null,null,null,null,null,null,null,null,null,null,null,null,null,null,null,null,null,null,null,null,null,null,null,null,null,null,2016,0.42960649039147469,50,49.646762092357157]
[null,null,null,null,null,null,null,null,null,null,null,null,null,null,null,null,null,null,null,null,null,null,null,null,null,null,null,null,null,null,null,null,null,null,null,null,null,null,null,null,null,null,null,null,2017,0.42981958884901017,50,49.649013130563468]
[null,null,null,null,null,null,null,null,null,null,null,null,null,null,null,null,null,null,null,null,null,null,null,null,null,null,null,null,null,null,null,null,null,null,null,null,null,null,null,null,null,null,null,null,2027,0.43195057342436471,50,49.670749434303438]
[null,null,null,null,null,null,null,null,null,null,null,null,null,null,null,null,null,null,null,null,null,null,null,null,null,null,null,null,null,null,null,null,null,null,null,null,null,null,null,null,null,null,null,null,2028,0.43216367188190014,50,49.672847611160442]
[null,null,null,null,null,null,null,null,null,null,null,null,null,null,null,null,null,null,null,null,null,null,null,null,null,null,null,null,null,null,null,null,null,null,null,null,null,null,null,null,null,null,null,null,2033,0.43322916416957741,50,49.683139629332167]
[null,null,null,null,null,null,null,null,null,null,null,null,null,null,null,null,null,null,null,null,null,null,null,null,null,null,null,null,null,null,null,null,null,null,null,null,null,null,null,null,null,null,null,null,2042,0.43514705028739648,50,49.700856190417156]
[null,null,null,null,null,null,null,null,null,null,null,null,null,null,null,null,null,null,null,null,null,null,null,null,null,null,null,null,null,null,null,null,null,null,null,null,null,null,null,null,null,null,null,null,2045,0.43578634566000285,50,49.706538780380875]
[null,null,null,null,null,null,null,null,null,null,null,null,null,null,null,null,null,null,null,null,null,null,null,null,null,null,null,null,null,null,null,null,null,null,null,null,null,null,null,null,null,null,null,null,2050,0.43685183794768012,50,{"$f":"( $AP$6*AU2081 + $AP$7*AU2080 + $AP$9*AV2080 )/$AP$8","v":49.715770894551675}]
[null,null,null,null,null,null,null,null,null,null,null,null,null,null,null,null,null,null,null,null,null,null,null,null,null,null,null,null,null,null,null,null,null,null,null,null,null,null,null,null,null,null,null,null,2056,0.43813042869289287,50,49.726466864175585]
[null,null,null,null,null,null,null,null,null,null,null,null,null,null,null,null,null,null,null,null,null,null,null,null,null,null,null,null,null,null,null,null,null,null,null,null,null,null,null,null,null,null,null,null,2061,0.43919592098057014,50,49.735072052768146]
[null,null,null,null,null,null,null,null,null,null,null,null,null,null,null,null,null,null,null,null,null,null,null,null,null,null,null,null,null,null,null,null,null,null,null,null,null,null,null,null,null,null,null,null,2067,0.44047451172578284,50,49.74504169071794]
[null,null,null,null,null,null,null,null,null,null,null,null,null,null,null,null,null,null,null,null,null,null,null,null,null,null,null,null,null,null,null,null,null,null,null,null,null,null,null,null,null,null,null,null,2073,0.44175310247099558,50,49.754636156165603]
[null,null,null,null,null,null,null,null,null,null,null,null,null,null,null,null,null,null,null,null,null,null,null,null,null,null,null,null,null,null,null,null,null,null,null,null,null,null,null,null,null,null,null,null,2078,0.44281859475867286,50,49.762355155707034]
[null,null,null,null,null,null,null,null,null,null,null,null,null,null,null,null,null,null,null,null,null,null,null,null,null,null,null,null,null,null,null,null,null,null,null,null,null,null,null,null,null,null,null,null,2084,0.44409718550388555,50,49.771298089372557]
[null,null,null,null,null,null,null,null,null,null,null,null,null,null,null,null,null,null,null,null,null,null,null,null,null,null,null,null,null,null,null,null,null,null,null,null,null,null,null,null,null,null,null,null,2089,0.44516267779156282,50,49.778492914476644]
[null,null,null,null,null,null,null,null,null,null,null,null,null,null,null,null,null,null,null,null,null,null,null,null,null,null,null,null,null,null,null,null,null,null,null,null,null,null,null,null,null,null,null,null,2092,0.4458019731641692,50,49.782700703174804]
[null,null,null,null,null,null,null,null,null,null,null,null,null,null,null,null,null,null,null,null,null,null,null,null,null,null,null,null,null,null,null,null,null,null,null,null,null,null,null,null,null,null,null,null,2096,0.44665436699431099,50,49.788187012845768]
[null,null,null,null,null,null,null,null,null,null,null,null,null,null,null,null,null,null,null,null,null,null,null,null,null,null,null,null,null,null,null,null,null,null,null,null,null,null,null,null,null,null,null,null,2101,0.44771985928198826,50,49.794850522534723]
[null,null,null,null,null,null,null,null,null,null,null,null,null,null,null,null,null,null,null,null,null,null,null,null,null,null,null,null,null,null,null,null,null,null,null,null,null,null,null,null,null,null,null,null,2106,0.44878535156966554,50,49.801304402200657]
[null,null,null,null,null,null,null,null,null,null,null,null,null,null,null,null,null,null,null,null,null,null,null,null,null,null,null,null,null,null,null,null,null,null,null,null,null,null,null,null,null,null,null,null,2112,{"$f":"$AP$18/$N$7*AS2143","v":0.45006394231487828},50,49.808781617016912]
[null,null,null,null,null,null,null,null,null,null,null,null,null,null,null,null,null,null,null,null,null,null,null,null,null,null,null,null,null,null,null,null,null,null,null,null,null,null,null,null,null,null,null,null,2117,0.45112943460255556,50,49.814797232795875]
[null,null,null,null,null,null,null,null,null,null,null,null,null,null,null,null,null,null,null,null,null,null,null,null,null,null,null,null,null,null,null,null,null,null,null,null,null,null,null,null,null,null,null,null,2124,0.45262112380530373,50,49.822902498770873]
[null,null,null,null,null,null,null,null,null,null,null,null,null,null,null,null,null,null,null,null,null,null,null,null,null,null,null,null,null,null,null,null,null,null,null,null,null,null,null,null,null,null,null,null,2129,0.453686616092981,50,49.828473880068998]
[null,null,null,null,null,null,null,null,null,null,null,null,null,null,null,null,null,null,null,null,null,null,null,null,null,null,null,null,null,null,null,null,null,null,null,null,null,null,null,null,null,null,null,null,2134,0.45475210838065827,50,49.833869989049028]
[null,null,null,null,null,null,null,null,null,null,null,null,null,null,null,null,null,null,null,null,null,null,null,null,null,null,null,null,null,null,null,null,null,null,null,null,null,null,null,null,null,null,null,null,2140,0.45603069912587096,50,49.840121711749802]
[null,null,null,null,null,null,null,null,null,null,null,null,null,null,null,null,null,null,null,null,null,null,null,null,null,null,null,null,null,null,null,null,null,null,null,null,null,null,null,null,null,null,null,null,2146,0.45730928987108371,50,49.846138172702844]
[null,null,null,null,null,null,null,null,null,null,null,null,null,null,null,null,null,null,null,null,null,null,null,null,null,null,null,null,null,null,null,null,null,null,null,null,null,null,null,null,null,null,null,null,2151,0.45837478215876098,50,49.850978573618441]
[null,null,null,null,null,null,null,null,null,null,null,null,null,null,null,null,null,null,null,null,null,null,null,null,null,null,null,null,null,null,null,null,null,null,null,null,null,null,null,null,null,null,null,null,2157,0.45965337290397368,50,49.856586474496069]
[null,null,null,null,null,null,null,null,null,null,null,null,null,null,null,null,null,null,null,null,null,null,null,null,null,null,null,null,null,null,null,null,null,null,null,null,null,null,null,null,null,null,null,null,2162,0.46071886519165095,50,49.861098178096327]
[null,null,null,null,null,null,null,null,null,null,null,null,null,null,null,null,null,null,null,null,null,null,null,null,null,null,null,null,null,null,null,null,null,null,null,null,null,null,null,null,null,null,null,null,2165,0.46135816056425732,50,49.863736782251941]
[null,null,null,null,null,null,null,null,null,null,null,null,null,null,null,null,null,null,null,null,null,null,null,null,null,null,null,null,null,null,null,null,null,null,null,null,null,null,null,null,null,null,null,null,2169,0.46221055439439912,50,49.867177116483347]
[null,null,null,null,null,null,null,null,null,null,null,null,null,null,null,null,null,null,null,null,null,null,null,null,null,null,null,null,null,null,null,null,null,null,null,null,null,null,null,null,null,null,null,null,2174,0.46327604668207639,50,49.87135564483102]
[null,null,null,null,null,null,null,null,null,null,null,null,null,null,null,null,null,null,null,null,null,null,null,null,null,null,null,null,null,null,null,null,null,null,null,null,null,null,null,null,null,null,null,null,2180,0.46455463742728914,50,49.876196725806899]
[null,null,null,null,null,null,null,null,null,null,null,null,null,null,null,null,null,null,null,null,null,null,null,null,null,null,null,null,null,null,null,null,null,null,null,null,null,null,null,null,null,null,null,null,2185,0.46562012971496636,50,49.880091502648469]
[null,null,null,null,null,null,null,null,null,null,null,null,null,null,null,null,null,null,null,null,null,null,null,null,null,null,null,null,null,null,null,null,null,null,null,null,null,null,null,null,null,null,null,null,2190,0.46668562200264363,50,49.883863752143768]
[null,null,null,null,null,null,null,null,null,null,null,null,null,null,null,null,null,null,null,null,null,null,null,null,null,null,null,null,null,null,null,null,null,null,null,null,null,null,null,null,null,null,null,null,2197,0.46817731120539186,50,49.888946371547469]
[null,null,null,null,null,null,null,null,null,null,null,null,null,null,null,null,null,null,null,null,null,null,null,null,null,null,null,null,null,null,null,null,null,null,null,null,null,null,null,null,null,null,null,null,2202,0.46924280349306907,50,49.892440052171743]
[null,null,null,null,null,null,null,null,null,null,null,null,null,null,null,null,null,null,null,null,null,null,null,null,null,null,null,null,null,null,null,null,null,null,null,null,null,null,null,null,null,null,null,null,2208,0.47052139423828182,50,49.896487695121273]
[null,null,null,null,null,null,null,null,null,null,null,null,null,null,null,null,null,null,null,null,null,null,null,null,null,null,null,null,null,null,null,null,null,null,null,null,null,null,null,null,null,null,null,null,2215,0.47201308344102999,50,49.901017836735207]
[null,null,null,null,null,null,null,null,null,null,null,null,null,null,null,null,null,null,null,null,null,null,null,null,null,null,null,null,null,null,null,null,null,null,null,null,null,null,null,null,null,null,null,null,2219,0.47286547727117179,50,49.903516909707406]
[null,null,null,null,null,null,null,null,null,null,null,null,null,null,null,null,null,null,null,null,null,null,null,null,null,null,null,null,null,null,null,null,null,null,null,null,null,null,null,null,null,null,null,null,2225,0.47414406801638453,50,49.907147713813011]
[null,null,null,null,null,null,null,null,null,null,null,null,null,null,null,null,null,null,null,null,null,null,null,null,null,null,null,null,null,null,null,null,null,null,null,null,null,null,null,null,null,null,null,null,2230,0.47520956030406181,50,49.91006879111314]
[null,null,null,null,null,null,null,null,null,null,null,null,null,null,null,null,null,null,null,null,null,null,null,null,null,null,null,null,null,null,null,null,null,null,null,null,null,null,null,null,null,null,null,null,2231,0.47542265876159723,50,49.910641885287809]
[null,null,null,null,null,null,null,null,null,null,null,null,null,null,null,null,null,null,null,null,null,null,null,null,null,null,null,null,null,null,null,null,null,null,null,null,null,null,null,null,null,null,null,null,2240,{"$f":"$AP$18/$N$7*AS2271","v":0.47734054487941635},50,49.915638150659859]
[null,null,null,null,null,null,null,null,null,null,null,null,null,null,null,null,null,null,null,null,null,null,null,null,null,null,null,null,null,null,null,null,null,null,null,null,null,null,null,null,null,null,null,null,2242,0.47776674179448725,50,{"$f":"( $AP$6*AU2273 + $AP$7*AU2272 + $AP$9*AV2272 )/$AP$8","v":49.916709930667146}]
[null,null,null,null,null,null,null,null,null,null,null,null,null,null,null,null,null,null,null,null,null,null,null,null,null,null,null,null,null,null,null,null,null,null,null,null,null,null,null,null,null,null,null,null,2248,0.47904533253969994,50,49.919844261509709]
[null,null,null,null,null,null,null,null,null,null,null,null,null,null,null,null,null,null,null,null,null,null,null,null,null,null,null,null,null,null,null,null,null,null,null,null,null,null,null,null,null,null,null,null,2253,0.48011082482737721,50,49.922365913025196]
[null,null,null,null,null,null,null,null,null,null,null,null,null,null,null,null,null,null,null,null,null,null,null,null,null,null,null,null,null,null,null,null,null,null,null,null,null,null,null,null,null,null,null,null,2259,0.48138941557258996,50,49.925287400727008]
[null,null,null,null,null,null,null,null,null,null,null,null,null,null,null,null,null,null,null,null,null,null,null,null,null,null,null,null,null,null,null,null,null,null,null,null,null,null,null,null,null,null,null,null,2265,0.48266800631780266,50,49.92809894844337]
[null,null,null,null,null,null,null,null,null,null,null,null,null,null,null,null,null,null,null,null,null,null,null,null,null,null,null,null,null,null,null,null,null,null,null,null,null,null,null,null,null,null,null,null,2270,0.48373349860547993,50,49.930360912452898]
[null,null,null,null,null,null,null,null,null,null,null,null,null,null,null,null,null,null,null,null,null,null,null,null,null,null,null,null,null,null,null,null,null,null,null,null,null,null,null,null,null,null,null,null,2276,0.48501208935069268,50,49.932981536276301]
[null,null,null,null,null,null,null,null,null,null,null,null,null,null,null,null,null,null,null,null,null,null,null,null,null,null,null,null,null,null,null,null,null,null,null,null,null,null,null,null,null,null,null,null,2281,0.48607758163836995,50,49.935089896997532]
[null,null,null,null,null,null,null,null,null,null,null,null,null,null,null,null,null,null,null,null,null,null,null,null,null,null,null,null,null,null,null,null,null,null,null,null,null,null,null,null,null,null,null,null,2286,0.48714307392604722,50,49.937131929953502]
[null,null,null,null,null,null,null,null,null,null,null,null,null,null,null,null,null,null,null,null,null,null,null,null,null,null,null,null,null,null,null,null,null,null,null,null,null,null,null,null,null,null,null,null,2290,0.48799546775618902,50,49.938719204766315]
[null,null,null,null,null,null,null,null,null,null,null,null,null,null,null,null,null,null,null,null,null,null,null,null,null,null,null,null,null,null,null,null,null,null,null,null,null,null,null,null,null,null,null,null,2298,0.48970025541647266,50,49.941774541031883]
[null,null,null,null,null,null,null,null,null,null,null,null,null,null,null,null,null,null,null,null,null,null,null,null,null,null,null,null,null,null,null,null,null,null,null,null,null,null,null,null,null,null,null,null,2299,0.48991335387400808,50,49.942145587654799]
[null,null,null,null,null,null,null,null,null,null,null,null,null,null,null,null,null,null,null,null,null,null,null,null,null,null,null,null,null,null,null,null,null,null,null,null,null,null,null,null,null,null,null,null,2304,{"$f":"$AP$18/$N$7*AS2335","v":0.49097884616168536},50,49.94396565280941]
[null,null,null,null,null,null,null,null,null,null,null,null,null,null,null,null,null,null,null,null,null,null,null,null,null,null,null,null,null,null,null,null,null,null,null,null,null,null,null,null,null,null,null,null,2309,0.49204433844936263,50,49.945728459804563]
[null,null,null,null,null,null,null,null,null,null,null,null,null,null,null,null,null,null,null,null,null,null,null,null,null,null,null,null,null,null,null,null,null,null,null,null,null,null,null,null,null,null,null,null,2316,0.4935360276521108,50,49.948103614748511]
[null,null,null,null,null,null,null,null,null,null,null,null,null,null,null,null,null,null,null,null,null,null,null,null,null,null,null,null,null,null,null,null,null,null,null,null,null,null,null,null,null,null,null,null,2321,0.49460151993978807,50,49.949736243939917]
[null,null,null,null,null,null,null,null,null,null,null,null,null,null,null,null,null,null,null,null,null,null,null,null,null,null,null,null,null,null,null,null,null,null,null,null,null,null,null,null,null,null,null,null,2326,0.49566701222746534,50,49.951317511594986]
[null,null,null,null,null,null,null,null,null,null,null,null,null,null,null,null,null,null,null,null,null,null,null,null,null,null,null,null,null,null,null,null,null,null,null,null,null,null,null,null,null,null,null,null,2332,0.49694560297267809,50,49.953149507007197]
[null,null,null,null,null,null,null,null,null,null,null,null,null,null,null,null,null,null,null,null,null,null,null,null,null,null,null,null,null,null,null,null,null,null,null,null,null,null,null,null,null,null,null,null,2340,0.49865039063296174,50,49.955485377645871]
[null,null,null,null,null,null,null,null,null,null,null,null,null,null,null,null,null,null,null,null,null,null,null,null,null,null,null,null,null,null,null,null,null,null,null,null,null,null,null,null,null,null,null,null,2344,0.49950278446310353,50,49.956609269930333]
[null,null,null,null,null,null,null,null,null,null,null,null,null,null,null,null,null,null,null,null,null,null,null,null,null,null,null,null,null,null,null,null,null,null,null,null,null,null,null,null,null,null,null,null,2349,0.50056827675078075,50,49.957974316305055]
[null,null,null,null,null,null,null,null,null,null,null,null,null,null,null,null,null,null,null,null,null,null,null,null,null,null,null,null,null,null,null,null,null,null,null,null,null,null,null,null,null,null,null,null,2354,0.50163376903845802,50,49.959296419138546]
[null,null,null,null,null,null,null,null,null,null,null,null,null,null,null,null,null,null,null,null,null,null,null,null,null,null,null,null,null,null,null,null,null,null,null,null,null,null,null,null,null,null,null,null,2360,0.50291235978367077,50,49.960828156234214]
[null,null,null,null,null,null,null,null,null,null,null,null,null,null,null,null,null,null,null,null,null,null,null,null,null,null,null,null,null,null,null,null,null,null,null,null,null,null,null,null,null,null,null,null,2365,0.50397785207134804,50,49.962060478973136]
[null,null,null,null,null,null,null,null,null,null,null,null,null,null,null,null,null,null,null,null,null,null,null,null,null,null,null,null,null,null,null,null,null,null,null,null,null,null,null,null,null,null,null,null,2367,0.504404048986419,50,49.962542483818233]
[null,null,null,null,null,null,null,null,null,null,null,null,null,null,null,null,null,null,null,null,null,null,null,null,null,null,null,null,null,null,null,null,null,null,null,null,null,null,null,null,null,null,null,null,2372,0.50546954127409627,50,49.963720874838337]
[null,null,null,null,null,null,null,null,null,null,null,null,null,null,null,null,null,null,null,null,null,null,null,null,null,null,null,null,null,null,null,null,null,null,null,null,null,null,null,null,null,null,null,null,2377,0.50653503356177354,50,49.96486219438286]
[null,null,null,null,null,null,null,null,null,null,null,null,null,null,null,null,null,null,null,null,null,null,null,null,null,null,null,null,null,null,null,null,null,null,null,null,null,null,null,null,null,null,null,null,2382,0.50760052584945081,50,49.965967608698215]
[null,null,null,null,null,null,null,null,null,null,null,null,null,null,null,null,null,null,null,null,null,null,null,null,null,null,null,null,null,null,null,null,null,null,null,null,null,null,null,null,null,null,null,null,2389,0.50909221505219893,50,49.967457011839606]
[null,null,null,null,null,null,null,null,null,null,null,null,null,null,null,null,null,null,null,null,null,null,null,null,null,null,null,null,null,null,null,null,null,null,null,null,null,null,null,null,null,null,null,null,2394,0.5101577073398762,50,49.96848079475221]
[null,null,null,null,null,null,null,null,null,null,null,null,null,null,null,null,null,null,null,null,null,null,null,null,null,null,null,null,null,null,null,null,null,null,null,null,null,null,null,null,null,null,null,null,2400,0.51143629808508895,50,49.969666909950966]
[null,null,null,null,null,null,null,null,null,null,null,null,null,null,null,null,null,null,null,null,null,null,null,null,null,null,null,null,null,null,null,null,null,null,null,null,null,null,null,null,null,null,null,null,2405,0.51250179037276622,50,49.970621170792825]
[null,null,null,null,null,null,null,null,null,null,null,null,null,null,null,null,null,null,null,null,null,null,null,null,null,null,null,null,null,null,null,null,null,null,null,null,null,null,null,null,null,null,null,null,2413,0.51420657803304981,50,49.972085939681271]
[null,null,null,null,null,null,null,null,null,null,null,null,null,null,null,null,null,null,null,null,null,null,null,null,null,null,null,null,null,null,null,null,null,null,null,null,null,null,null,null,null,null,null,null,2417,0.51505897186319161,50,49.972790705786458]
[null,null,null,null,null,null,null,null,null,null,null,null,null,null,null,null,null,null,null,null,null,null,null,null,null,null,null,null,null,null,null,null,null,null,null,null,null,null,null,null,null,null,null,null,2422,0.51612446415086888,50,49.97364669388265]
[null,null,null,null,null,null,null,null,null,null,null,null,null,null,null,null,null,null,null,null,null,null,null,null,null,null,null,null,null,null,null,null,null,null,null,null,null,null,null,null,null,null,null,null,2428,0.51740305489608163,50,49.974638408511161]
[null,null,null,null,null,null,null,null,null,null,null,null,null,null,null,null,null,null,null,null,null,null,null,null,null,null,null,null,null,null,null,null,null,null,null,null,null,null,null,null,null,null,null,null,{"$f":"AS2463+1","v":2433},0.5184685471837589,{"$f":"IF(($N$4*AT2464^2/2)<=$AP$13,($N$4*AT2464^2/2), IF(($AP$13+$N$6*(AT2464-$AP$12))<=$AP$17, ($AP$13+$N$6*(AT2464-$AP$12)), IF(AU2463<$D$14, ($AP$17+($N$6-$N$5*(AT2464-$AP$16)/2)*(AT2464-$AP$16)), $D$14)))","v":50},49.975436268986513]
[null,null,null,null,null,null,null,null,null,null,null,null,null,null,null,null,null,null,null,null,null,null,null,null,null,null,null,null,null,null,null,null,null,null,null,null,null,null,null,null,null,null,null,null,2438,0.51953403947143617,50,49.976209029249262]
[null,null,null,null,null,null,null,null,null,null,null,null,null,null,null,null,null,null,null,null,null,null,null,null,null,null,null,null,null,null,null,null,null,null,null,null,null,null,null,null,null,null,null,null,2440,0.51996023638650712,50,49.976511283016869]
[null,null,null,null,null,null,null,null,null,null,null,null,null,null,null,null,null,null,null,null,null,null,null,null,null,null,null,null,null,null,null,null,null,null,null,null,null,null,null,null,null,null,null,null,2445,0.5210257286741844,50,49.97725022398221]
[null,null,null,null,null,null,null,null,null,null,null,null,null,null,null,null,null,null,null,null,null,null,null,null,null,null,null,null,null,null,null,null,null,null,null,null,null,null,null,null,null,null,null,null,2451,0.52230431941939703,50,49.978106332341881]
[null,null,null,null,null,null,null,null,null,null,null,null,null,null,null,null,null,null,null,null,null,null,null,null,null,null,null,null,null,null,null,null,null,null,null,null,null,null,null,null,null,null,null,null,2456,0.52336981170707431,50,49.978795094010977]
[null,null,null,null,null,null,null,null,null,null,null,null,null,null,null,null,null,null,null,null,null,null,null,null,null,null,null,null,null,null,null,null,null,null,null,null,null,null,null,null,null,null,null,null,2465,0.52528769782489337,50,49.979980720384717]
[null,null,null,null,null,null,null,null,null,null,null,null,null,null,null,null,null,null,null,null,null,null,null,null,null,null,null,null,null,null,null,null,null,null,null,null,null,null,null,null,null,null,null,null,2468,0.5259269931974998,50,49.980361010244579]
[null,null,null,null,null,null,null,null,null,null,null,null,null,null,null,null,null,null,null,null,null,null,null,null,null,null,null,null,null,null,null,null,null,null,null,null,null,null,null,null,null,null,null,null,2473,0.52699248548517708,50,49.980978841097517]
[null,null,null,null,null,null,null,null,null,null,null,null,null,null,null,null,null,null,null,null,null,null,null,null,null,null,null,null,null,null,null,null,null,null,null,null,null,null,null,null,null,null,null,null,2479,0.52827107623038982,50,49.981694635975437]
[null,null,null,null,null,null,null,null,null,null,null,null,null,null,null,null,null,null,null,null,null,null,null,null,null,null,null,null,null,null,null,null,null,null,null,null,null,null,null,null,null,null,null,null,2482,0.52891037160299614,50,49.982042367984448]
[null,null,null,null,null,null,null,null,null,null,null,null,null,null,null,null,null,null,null,null,null,null,null,null,null,null,null,null,null,null,null,null,null,null,null,null,null,null,null,null,null,null,null,null,2490,0.53061515926327973,50,49.98293769912582]
[null,null,null,null,null,null,null,null,null,null,null,null,null,null,null,null,null,null,null,null,null,null,null,null,null,null,null,null,null,null,null,null,null,null,null,null,null,null,null,null,null,null,null,null,2496,{"$f":"$AP$18/$N$7*AS2527","v":0.53189375000849248},50,49.983579779223774]
[null,null,null,null,null,null,null,null,null,null,null,null,null,null,null,null,null,null,null,null,null,null,null,null,null,null,null,null,null,null,null,null,null,null,null,null,null,null,null,null,null,null,null,null,2501,0.53295924229616976,50,49.984096349532848]
[null,null,null,null,null,null,null,null,null,null,null,null,null,null,null,null,null,null,null,null,null,null,null,null,null,null,null,null,null,null,null,null,null,null,null,null,null,null,null,null,null,null,null,null,2506,0.53402473458384703,50,49.984596668849456]
[null,null,null,null,null,null,null,null,null,null,null,null,null,null,null,null,null,null,null,null,null,null,null,null,null,null,null,null,null,null,null,null,null,null,null,null,null,null,null,null,null,null,null,null,2507,0.5342378330413825,50,49.984694827869696]
[null,null,null,null,null,null,null,null,null,null,null,null,null,null,null,null,null,null,null,null,null,null,null,null,null,null,null,null,null,null,null,null,null,null,null,null,null,null,null,null,null,null,null,null,2513,0.53551642378659525,50,49.985270784564698]
[null,null,null,null,null,null,null,null,null,null,null,null,null,null,null,null,null,null,null,null,null,null,null,null,null,null,null,null,null,null,null,null,null,null,null,null,null,null,null,null,null,null,null,null,2519,0.53679501453180789,50,49.985825067141185]
[null,null,null,null,null,null,null,null,null,null,null,null,null,null,null,null,null,null,null,null,null,null,null,null,null,null,null,null,null,null,null,null,null,null,null,null,null,null,null,null,null,null,null,null,2524,0.53786050681948516,50,49.986271002037419]
[null,null,null,null,null,null,null,null,null,null,null,null,null,null,null,null,null,null,null,null,null,null,null,null,null,null,null,null,null,null,null,null,null,null,null,null,null,null,null,null,null,null,null,null,2529,0.53892599910716243,50,49.986702908088951]
[null,null,null,null,null,null,null,null,null,null,null,null,null,null,null,null,null,null,null,null,null,null,null,null,null,null,null,null,null,null,null,null,null,null,null,null,null,null,null,null,null,null,null,null,2538,0.5408438852249815,50,49.98744638617238]
[null,null,null,null,null,null,null,null,null,null,null,null,null,null,null,null,null,null,null,null,null,null,null,null,null,null,null,null,null,null,null,null,null,null,null,null,null,null,null,null,null,null,null,null,2541,0.54148318059758793,50,49.987684856893353]
[null,null,null,null,null,null,null,null,null,null,null,null,null,null,null,null,null,null,null,null,null,null,null,null,null,null,null,null,null,null,null,null,null,null,null,null,null,null,null,null,null,null,null,null,2547,0.54276177134280068,50,49.98814829428968]
[null,null,null,null,null,null,null,null,null,null,null,null,null,null,null,null,null,null,null,null,null,null,null,null,null,null,null,null,null,null,null,null,null,null,null,null,null,null,null,null,null,null,null,null,2552,0.54382726363047795,50,49.98852114185155]
[null,null,null,null,null,null,null,null,null,null,null,null,null,null,null,null,null,null,null,null,null,null,null,null,null,null,null,null,null,null,null,null,null,null,null,null,null,null,null,null,null,null,null,null,2557,0.54489275591815511,50,49.988882259852474]
[null,null,null,null,null,null,null,null,null,null,null,null,null,null,null,null,null,null,null,null,null,null,null,null,null,null,null,null,null,null,null,null,null,null,null,null,null,null,null,null,null,null,null,null,2564,0.54638444512090334,50,49.989368819758141]
[null,null,null,null,null,null,null,null,null,null,null,null,null,null,null,null,null,null,null,null,null,null,null,null,null,null,null,null,null,null,null,null,null,null,null,null,null,null,null,null,null,null,null,null,2569,0.54744993740858061,50,49.989703270319936]
[null,null,null,null,null,null,null,null,null,null,null,null,null,null,null,null,null,null,null,null,null,null,null,null,null,null,null,null,null,null,null,null,null,null,null,null,null,null,null,null,null,null,null,null,2574,0.54851542969625788,50,49.990027199267395]
[null,null,null,null,null,null,null,null,null,null,null,null,null,null,null,null,null,null,null,null,null,null,null,null,null,null,null,null,null,null,null,null,null,null,null,null,null,null,null,null,null,null,null,null,2575,0.54872852815379336,50,49.990090751776869]
[null,null,null,null,null,null,null,null,null,null,null,null,null,null,null,null,null,null,null,null,null,null,null,null,null,null,null,null,null,null,null,null,null,null,null,null,null,null,null,null,null,null,null,null,2582,0.55022021735654147,50,49.990524422902162]
[null,null,null,null,null,null,null,null,null,null,null,null,null,null,null,null,null,null,null,null,null,null,null,null,null,null,null,null,null,null,null,null,null,null,null,null,null,null,null,null,null,null,null,null,2587,0.55128570964421875,50,49.990822518881309]
[null,null,null,null,null,null,null,null,null,null,null,null,null,null,null,null,null,null,null,null,null,null,null,null,null,null,null,null,null,null,null,null,null,null,null,null,null,null,null,null,null,null,null,null,2592,0.55235120193189602,50,49.991111236939531]
[null,null,null,null,null,null,null,null,null,null,null,null,null,null,null,null,null,null,null,null,null,null,null,null,null,null,null,null,null,null,null,null,null,null,null,null,null,null,null,null,null,null,null,null,2597,0.55341669421957329,50,49.991390872100595]
[null,null,null,null,null,null,null,null,null,null,null,null,null,null,null,null,null,null,null,null,null,null,null,null,null,null,null,null,null,null,null,null,null,null,null,null,null,null,null,null,null,null,null,null,2603,0.55469528496478604,50,49.991714846559006]
[null,null,null,null,null,null,null,null,null,null,null,null,null,null,null,null,null,null,null,null,null,null,null,null,null,null,null,null,null,null,null,null,null,null,null,null,null,null,null,null,null,null,null,null,2607,0.55554767879492783,50,49.991924027711981]
[null,null,null,null,null,null,null,null,null,null,null,null,null,null,null,null,null,null,null,null,null,null,null,null,null,null,null,null,null,null,null,null,null,null,null,null,null,null,null,null,null,null,null,null,2614,0.55703936799767606,50,49.992277466833826]
[null,null,null,null,null,null,null,null,null,null,null,null,null,null,null,null,null,null,null,null,null,null,null,null,null,null,null,null,null,null,null,null,null,null,null,null,null,null,null,null,null,null,null,null,2620,0.5583179587428887,50,49.992568077396164]
[null,null,null,null,null,null,null,null,null,null,null,null,null,null,null,null,null,null,null,null,null,null,null,null,null,null,null,null,null,null,null,null,null,null,null,null,null,null,null,null,null,null,null,null,{"$f":"AS2655+1","v":2625},0.55938345103056597,{"$f":"IF(($N$4*AT2656^2/2)<=$AP$13,($N$4*AT2656^2/2), IF(($AP$13+$N$6*(AT2656-$AP$12))<=$AP$17, ($AP$13+$N$6*(AT2656-$AP$12)), IF(AU2655<$D$14, ($AP$17+($N$6-$N$5*(AT2656-$AP$16)/2)*(AT2656-$AP$16)), $D$14)))","v":50},49.992801881229191]
[null,null,null,null,null,null,null,null,null,null,null,null,null,null,null,null,null,null,null,null,null,null,null,null,null,null,null,null,null,null,null,null,null,null,null,null,null,null,null,null,null,null,null,null,2631,0.56066204177577872,50,49.993072757287443]
[null,null,null,null,null,null,null,null,null,null,null,null,null,null,null,null,null,null,null,null,null,null,null,null,null,null,null,null,null,null,null,null,null,null,null,null,null,null,null,null,null,null,null,null,2632,0.5608751402333142,50,49.993116901722892]
[null,null,null,null,null,null,null,null,null,null,null,null,null,null,null,null,null,null,null,null,null,null,null,null,null,null,null,null,null,null,null,null,null,null,null,null,null,null,null,null,null,null,null,null,2642,0.56300612480866874,50,49.993543165859407]
[null,null,null,null,null,null,null,null,null,null,null,null,null,null,null,null,null,null,null,null,null,null,null,null,null,null,null,null,null,null,null,null,null,null,null,null,null,null,null,null,null,null,null,null,2643,0.56321922326620422,50,49.993584312576758]
[null,null,null,null,null,null,null,null,null,null,null,null,null,null,null,null,null,null,null,null,null,null,null,null,null,null,null,null,null,null,null,null,null,null,null,null,null,null,null,null,null,null,null,null,2648,0.56428471555388149,50,49.993786146259772]
[null,null,null,null,null,null,null,null,null,null,null,null,null,null,null,null,null,null,null,null,null,null,null,null,null,null,null,null,null,null,null,null,null,null,null,null,null,null,null,null,null,null,null,null,2655,0.5657764047566296,50,49.994058091101941]
[null,null,null,null,null,null,null,null,null,null,null,null,null,null,null,null,null,null,null,null,null,null,null,null,null,null,null,null,null,null,null,null,null,null,null,null,null,null,null,null,null,null,null,null,2660,0.56684189704430687,50,49.99424501999637]
[null,null,null,null,null,null,null,null,null,null,null,null,null,null,null,null,null,null,null,null,null,null,null,null,null,null,null,null,null,null,null,null,null,null,null,null,null,null,null,null,null,null,null,null,2665,0.56790738933198415,50,49.994426068219774]
[null,null,null,null,null,null,null,null,null,null,null,null,null,null,null,null,null,null,null,null,null,null,null,null,null,null,null,null,null,null,null,null,null,null,null,null,null,null,null,null,null,null,null,null,2671,0.5691859800771969,50,49.994635823673619]
[null,null,null,null,null,null,null,null,null,null,null,null,null,null,null,null,null,null,null,null,null,null,null,null,null,null,null,null,null,null,null,null,null,null,null,null,null,null,null,null,null,null,null,null,2676,0.57025147236487417,50,49.994804577447439]
[null,null,null,null,null,null,null,null,null,null,null,null,null,null,null,null,null,null,null,null,null,null,null,null,null,null,null,null,null,null,null,null,null,null,null,null,null,null,null,null,null,null,null,null,2682,0.57153006311008692,50,49.995000089028572]
[null,null,null,null,null,null,null,null,null,null,null,null,null,null,null,null,null,null,null,null,null,null,null,null,null,null,null,null,null,null,null,null,null,null,null,null,null,null,null,null,null,null,null,null,2688,{"$f":"$AP$18/$N$7*AS2719","v":0.57280865385529955},50,49.99518824321423]
[null,null,null,null,null,null,null,null,null,null,null,null,null,null,null,null,null,null,null,null,null,null,null,null,null,null,null,null,null,null,null,null,null,null,null,null,null,null,null,null,null,null,null,null,2693,0.57387414614297683,50,49.995339618200227]
[null,null,null,null,null,null,null,null,null,null,null,null,null,null,null,null,null,null,null,null,null,null,null,null,null,null,null,null,null,null,null,null,null,null,null,null,null,null,null,null,null,null,null,null,2699,0.57515273688818958,50,49.995514995391417]
[null,null,null,null,null,null,null,null,null,null,null,null,null,null,null,null,null,null,null,null,null,null,null,null,null,null,null,null,null,null,null,null,null,null,null,null,null,null,null,null,null,null,null,null,2704,0.57621822917586685,50,49.995656090949666]
[null,null,null,null,null,null,null,null,null,null,null,null,null,null,null,null,null,null,null,null,null,null,null,null,null,null,null,null,null,null,null,null,null,null,null,null,null,null,null,null,null,null,null,null,2707,0.57685752454847328,50,49.995738608632408]
[null,null,null,null,null,null,null,null,null,null,null,null,null,null,null,null,null,null,null,null,null,null,null,null,null,null,null,null,null,null,null,null,null,null,null,null,null,null,null,null,null,null,null,null,2711,0.57770991837861507,50,49.995846199006671]
[null,null,null,null,null,null,null,null,null,null,null,null,null,null,null,null,null,null,null,null,null,null,null,null,null,null,null,null,null,null,null,null,null,null,null,null,null,null,null,null,null,null,null,null,2716,0.57877541066629234,50,49.995976875097597]
[null,null,null,null,null,null,null,null,null,null,null,null,null,null,null,null,null,null,null,null,null,null,null,null,null,null,null,null,null,null,null,null,null,null,null,null,null,null,null,null,null,null,null,null,2722,0.58005400141150498,50,49.996128271351267]
[null,null,null,null,null,null,null,null,null,null,null,null,null,null,null,null,null,null,null,null,null,null,null,null,null,null,null,null,null,null,null,null,null,null,null,null,null,null,null,null,null,null,null,null,2730,0.58175878907178868,50,49.996321307895698]
[null,null,null,null,null,null,null,null,null,null,null,null,null,null,null,null,null,null,null,null,null,null,null,null,null,null,null,null,null,null,null,null,null,null,null,null,null,null,null,null,null,null,null,null,2733,0.582398084444395,50,49.996391188996903]
[null,null,null,null,null,null,null,null,null,null,null,null,null,null,null,null,null,null,null,null,null,null,null,null,null,null,null,null,null,null,null,null,null,null,null,null,null,null,null,null,null,null,null,null,2739,0.58367667518960775,50,49.996526993994102]
[null,null,null,null,null,null,null,null,null,null,null,null,null,null,null,null,null,null,null,null,null,null,null,null,null,null,null,null,null,null,null,null,null,null,null,null,null,null,null,null,null,null,null,null,2744,0.58474216747728502,50,49.996636252682535]
[null,null,null,null,null,null,null,null,null,null,null,null,null,null,null,null,null,null,null,null,null,null,null,null,null,null,null,null,null,null,null,null,null,null,null,null,null,null,null,null,null,null,null,null,2749,0.5858076597649623,50,49.996742074158085]
[null,null,null,null,null,null,null,null,null,null,null,null,null,null,null,null,null,null,null,null,null,null,null,null,null,null,null,null,null,null,null,null,null,null,null,null,null,null,null,null,null,null,null,null,2755,0.58708625051017505,50,49.996864674817822]
[null,null,null,null,null,null,null,null,null,null,null,null,null,null,null,null,null,null,null,null,null,null,null,null,null,null,null,null,null,null,null,null,null,null,null,null,null,null,null,null,null,null,null,null,2761,0.58836484125538768,50,49.996982661829954]
[null,null,null,null,null,null,null,null,null,null,null,null,null,null,null,null,null,null,null,null,null,null,null,null,null,null,null,null,null,null,null,null,null,null,null,null,null,null,null,null,null,null,null,null,2767,0.58964343200060043,50,49.997096208812991]
[null,null,null,null,null,null,null,null,null,null,null,null,null,null,null,null,null,null,null,null,null,null,null,null,null,null,null,null,null,null,null,null,null,null,null,null,null,null,null,null,null,null,null,null,2772,0.5907089242882777,50,49.99718756034423]
[null,null,null,null,null,null,null,null,null,null,null,null,null,null,null,null,null,null,null,null,null,null,null,null,null,null,null,null,null,null,null,null,null,null,null,null,null,null,null,null,null,null,null,null,2777,0.59177441657595498,50,49.997276038011002]
[null,null,null,null,null,null,null,null,null,null,null,null,null,null,null,null,null,null,null,null,null,null,null,null,null,null,null,null,null,null,null,null,null,null,null,null,null,null,null,null,null,null,null,null,2780,0.59241371194856129,50,49.997327782886103]
[null,null,null,null,null,null,null,null,null,null,null,null,null,null,null,null,null,null,null,null,null,null,null,null,null,null,null,null,null,null,null,null,null,null,null,null,null,null,null,null,null,null,null,null,2784,0.5932661057787032,50,49.997395250249376]
[null,null,null,null,null,null,null,null,null,null,null,null,null,null,null,null,null,null,null,null,null,null,null,null,null,null,null,null,null,null,null,null,null,null,null,null,null,null,null,null,null,null,null,null,2789,0.59433159806638047,50,49.997477194116151]
[null,null,null,null,null,null,null,null,null,null,null,null,null,null,null,null,null,null,null,null,null,null,null,null,null,null,null,null,null,null,null,null,null,null,null,null,null,null,null,null,null,null,null,null,2795,0.59561018881159311,50,49.997572131103887]
[null,null,null,null,null,null,null,null,null,null,null,null,null,null,null,null,null,null,null,null,null,null,null,null,null,null,null,null,null,null,null,null,null,null,null,null,null,null,null,null,null,null,null,null,2800,0.59667568109927038,50,49.997648510404943]
[null,null,null,null,null,null,null,null,null,null,null,null,null,null,null,null,null,null,null,null,null,null,null,null,null,null,null,null,null,null,null,null,null,null,null,null,null,null,null,null,null,null,null,null,2805,0.59774117338694766,50,49.997722486858947]
[null,null,null,null,null,null,null,null,null,null,null,null,null,null,null,null,null,null,null,null,null,null,null,null,null,null,null,null,null,null,null,null,null,null,null,null,null,null,null,null,null,null,null,null,2812,0.59923286258969588,50,49.997822160584406]
[null,null,null,null,null,null,null,null,null,null,null,null,null,null,null,null,null,null,null,null,null,null,null,null,null,null,null,null,null,null,null,null,null,null,null,null,null,null,null,null,null,null,null,null,{"$f":"AS2847+1","v":2817},0.60029835487737315,{"$f":"IF(($N$4*AT2848^2/2)<=$AP$13,($N$4*AT2848^2/2), IF(($AP$13+$N$6*(AT2848-$AP$12))<=$AP$17, ($AP$13+$N$6*(AT2848-$AP$12)), IF(AU2847<$D$14, ($AP$17+($N$6-$N$5*(AT2848-$AP$16)/2)*(AT2848-$AP$16)), $D$14)))","v":50},49.997890674107794]
[null,null,null,null,null,null,null,null,null,null,null,null,null,null,null,null,null,null,null,null,null,null,null,null,null,null,null,null,null,null,null,null,null,null,null,null,null,null,null,null,null,null,null,null,2823,0.6015769456225859,50,49.997970051220285]
[null,null,null,null,null,null,null,null,null,null,null,null,null,null,null,null,null,null,null,null,null,null,null,null,null,null,null,null,null,null,null,null,null,null,null,null,null,null,null,null,null,null,null,null,2830,0.60306863482533402,50,49.998058890469423]
[null,null,null,null,null,null,null,null,null,null,null,null,null,null,null,null,null,null,null,null,null,null,null,null,null,null,null,null,null,null,null,null,null,null,null,null,null,null,null,null,null,null,null,null,2835,0.60413412711301129,50,49.998119956612435]
[null,null,null,null,null,null,null,null,null,null,null,null,null,null,null,null,null,null,null,null,null,null,null,null,null,null,null,null,null,null,null,null,null,null,null,null,null,null,null,null,null,null,null,null,2840,0.60519961940068856,50,49.998179101651182]
[null,null,null,null,null,null,null,null,null,null,null,null,null,null,null,null,null,null,null,null,null,null,null,null,null,null,null,null,null,null,null,null,null,null,null,null,null,null,null,null,null,null,null,null,2845,0.60626511168836583,50,49.99823638602242]
[null,null,null,null,null,null,null,null,null,null,null,null,null,null,null,null,null,null,null,null,null,null,null,null,null,null,null,null,null,null,null,null,null,null,null,null,null,null,null,null,null,null,null,null,2846,0.60647821014590131,50,49.998247624800477]
[null,null,null,null,null,null,null,null,null,null,null,null,null,null,null,null,null,null,null,null,null,null,null,null,null,null,null,null,null,null,null,null,null,null,null,null,null,null,null,null,null,null,null,null,2855,0.60839609626372038,50,49.998345605062923]
[null,null,null,null,null,null,null,null,null,null,null,null,null,null,null,null,null,null,null,null,null,null,null,null,null,null,null,null,null,null,null,null,null,null,null,null,null,null,null,null,null,null,null,null,2857,0.60882229317879133,50,49.998366623419344]
[null,null,null,null,null,null,null,null,null,null,null,null,null,null,null,null,null,null,null,null,null,null,null,null,null,null,null,null,null,null,null,null,null,null,null,null,null,null,null,null,null,null,null,null,2863,0.61010088392400397,50,49.998428089841887]
[null,null,null,null,null,null,null,null,null,null,null,null,null,null,null,null,null,null,null,null,null,null,null,null,null,null,null,null,null,null,null,null,null,null,null,null,null,null,null,null,null,null,null,null,2868,0.61116637621168124,50,49.998477541193807]
[null,null,null,null,null,null,null,null,null,null,null,null,null,null,null,null,null,null,null,null,null,null,null,null,null,null,null,null,null,null,null,null,null,null,null,null,null,null,null,null,null,null,null,null,2874,0.61244496695689399,50,49.99853483361332]
[null,null,null,null,null,null,null,null,null,null,null,null,null,null,null,null,null,null,null,null,null,null,null,null,null,null,null,null,null,null,null,null,null,null,null,null,null,null,null,null,null,null,null,null,2880,{"$f":"$AP$18/$N$7*AS2911","v":0.61372355770210674},50,49.998589970032739]
[null,null,null,null,null,null,null,null,null,null,null,null,null,null,null,null,null,null,null,null,null,null,null,null,null,null,null,null,null,null,null,null,null,null,null,null,null,null,null,null,null,null,null,null,2885,0.61478904998978401,50,49.998634328730837]
[null,null,null,null,null,null,null,null,null,null,null,null,null,null,null,null,null,null,null,null,null,null,null,null,null,null,null,null,null,null,null,null,null,null,null,null,null,null,null,null,null,null,null,null,2891,0.61606764073499676,50,49.998685720999028]
[null,null,null,null,null,null,null,null,null,null,null,null,null,null,null,null,null,null,null,null,null,null,null,null,null,null,null,null,null,null,null,null,null,null,null,null,null,null,null,null,null,null,null,null,2896,0.61713313302267403,50,49.998727067429087]
[null,null,null,null,null,null,null,null,null,null,null,null,null,null,null,null,null,null,null,null,null,null,null,null,null,null,null,null,null,null,null,null,null,null,null,null,null,null,null,null,null,null,null,null,2899,0.61777242839528035,50,49.998751248286659]
[null,null,null,null,null,null,null,null,null,null,null,null,null,null,null,null,null,null,null,null,null,null,null,null,null,null,null,null,null,null,null,null,null,null,null,null,null,null,null,null,null,null,null,null,2908,0.61969031451309942,50,49.998821069533051]
[null,null,null,null,null,null,null,null,null,null,null,null,null,null,null,null,null,null,null,null,null,null,null,null,null,null,null,null,null,null,null,null,null,null,null,null,null,null,null,null,null,null,null,null,2913,0.62075580680077669,50,49.998858157979313]
[null,null,null,null,null,null,null,null,null,null,null,null,null,null,null,null,null,null,null,null,null,null,null,null,null,null,null,null,null,null,null,null,null,null,null,null,null,null,null,null,null,null,null,null,2914,0.62096890525831216,50,49.998865434463404]
[null,null,null,null,null,null,null,null,null,null,null,null,null,null,null,null,null,null,null,null,null,null,null,null,null,null,null,null,null,null,null,null,null,null,null,null,null,null,null,null,null,null,null,null,2919,0.62203439754598944,50,49.998901127215532]
[null,null,null,null,null,null,null,null,null,null,null,null,null,null,null,null,null,null,null,null,null,null,null,null,null,null,null,null,null,null,null,null,null,null,null,null,null,null,null,null,null,null,null,null,2924,0.62309988983366671,50,49.99893569709505]
[null,null,null,null,null,null,null,null,null,null,null,null,null,null,null,null,null,null,null,null,null,null,null,null,null,null,null,null,null,null,null,null,null,null,null,null,null,null,null,null,null,null,null,null,2931,0.62459157903641482,50,49.998982275546631]
[null,null,null,null,null,null,null,null,null,null,null,null,null,null,null,null,null,null,null,null,null,null,null,null,null,null,null,null,null,null,null,null,null,null,null,null,null,null,null,null,null,null,null,null,2936,0.6256570713240921,50,49.999014292548274]
[null,null,null,null,null,null,null,null,null,null,null,null,null,null,null,null,null,null,null,null,null,null,null,null,null,null,null,null,null,null,null,null,null,null,null,null,null,null,null,null,null,null,null,null,2942,0.62693566206930484,50,49.999051386205338]
[null,null,null,null,null,null,null,null,null,null,null,null,null,null,null,null,null,null,null,null,null,null,null,null,null,null,null,null,null,null,null,null,null,null,null,null,null,null,null,null,null,null,null,null,2947,0.62800115435698212,50,49.999081229027055]
[null,null,null,null,null,null,null,null,null,null,null,null,null,null,null,null,null,null,null,null,null,null,null,null,null,null,null,null,null,null,null,null,null,null,null,null,null,null,null,null,null,null,null,null,2955,0.62970594201726571,50,49.999127037085906]
[null,null,null,null,null,null,null,null,null,null,null,null,null,null,null,null,null,null,null,null,null,null,null,null,null,null,null,null,null,null,null,null,null,null,null,null,null,null,null,null,null,null,null,null,2959,0.63055833584740761,50,49.999149077400567]
[null,null,null,null,null,null,null,null,null,null,null,null,null,null,null,null,null,null,null,null,null,null,null,null,null,null,null,null,null,null,null,null,null,null,null,null,null,null,null,null,null,null,null,null,2964,0.63162382813508489,50,49.999175846915811]
[null,null,null,null,null,null,null,null,null,null,null,null,null,null,null,null,null,null,null,null,null,null,null,null,null,null,null,null,null,null,null,null,null,null,null,null,null,null,null,null,null,null,null,null,2969,0.63268932042276205,50,49.999201774278141]
[null,null,null,null,null,null,null,null,null,null,null,null,null,null,null,null,null,null,null,null,null,null,null,null,null,null,null,null,null,null,null,null,null,null,null,null,null,null,null,null,null,null,null,null,2975,0.6339679111679748,50,49.999231812715131]
[null,null,null,null,null,null,null,null,null,null,null,null,null,null,null,null,null,null,null,null,null,null,null,null,null,null,null,null,null,null,null,null,null,null,null,null,null,null,null,null,null,null,null,null,2980,0.63503340345565207,50,49.999255979426934]
[null,null,null,null,null,null,null,null,null,null,null,null,null,null,null,null,null,null,null,null,null,null,null,null,null,null,null,null,null,null,null,null,null,null,null,null,null,null,null,null,null,null,null,null,2982,0.63545960037072302,50,49.999265431879458]
[null,null,null,null,null,null,null,null,null,null,null,null,null,null,null,null,null,null,null,null,null,null,null,null,null,null,null,null,null,null,null,null,null,null,null,null,null,null,null,null,null,null,null,null,2987,0.63652509265840029,50,49.999288540952499]
[null,null,null,null,null,null,null,null,null,null,null,null,null,null,null,null,null,null,null,null,null,null,null,null,null,null,null,null,null,null,null,null,null,null,null,null,null,null,null,null,null,null,null,null,2992,0.63759058494607757,50,49.999310923027934]
[null,null,null,null,null,null,null,null,null,null,null,null,null,null,null,null,null,null,null,null,null,null,null,null,null,null,null,null,null,null,null,null,null,null,null,null,null,null,null,null,null,null,null,null,2997,0.63865607723375484,50,49.9993326009767]
[null,null,null,null,null,null,null,null,null,null,null,null,null,null,null,null,null,null,null,null,null,null,null,null,null,null,null,null,null,null,null,null,null,null,null,null,null,null,null,null,null,null,null,null,3004,0.64014776643650295,50,49.999361809215223]
[null,null,null,null,null,null,null,null,null,null,null,null,null,null,null,null,null,null,null,null,null,null,null,null,null,null,null,null,null,null,null,null,null,null,null,null,null,null,null,null,null,null,null,null,3010,0.6414263571817157,50,{"$f":"( $AP$6*AU3041 + $AP$7*AU3040 + $AP$9*AV3040 )/$AP$8","v":49.999385825296329}]
[null,null,null,null,null,null,null,null,null,null,null,null,null,null,null,null,null,null,null,null,null,null,null,null,null,null,null,null,null,null,null,null,null,null,null,null,null,null,null,null,null,null,null,null,3015,0.64249184946939297,50,49.999405146864596]
[null,null,null,null,null,null,null,null,null,null,null,null,null,null,null,null,null,null,null,null,null,null,null,null,null,null,null,null,null,null,null,null,null,null,null,null,null,null,null,null,null,null,null,null,3020,0.64355734175707024,50,49.999423860587903]
[null,null,null,null,null,null,null,null,null,null,null,null,null,null,null,null,null,null,null,null,null,null,null,null,null,null,null,null,null,null,null,null,null,null,null,null,null,null,null,null,null,null,null,null,3028,0.64526212941735384,50,49.999452585731461]
[null,null,null,null,null,null,null,null,null,null,null,null,null,null,null,null,null,null,null,null,null,null,null,null,null,null,null,null,null,null,null,null,null,null,null,null,null,null,null,null,null,null,null,null,3032,0.64611452324749574,50,49.999466406688278]
[null,null,null,null,null,null,null,null,null,null,null,null,null,null,null,null,null,null,null,null,null,null,null,null,null,null,null,null,null,null,null,null,null,null,null,null,null,null,null,null,null,null,null,null,3037,0.6471800155351729,50,49.999483193214232]
[null,null,null,null,null,null,null,null,null,null,null,null,null,null,null,null,null,null,null,null,null,null,null,null,null,null,null,null,null,null,null,null,null,null,null,null,null,null,null,null,null,null,null,null,3043,0.64845860628038565,50,49.999502641432521]
[null,null,null,null,null,null,null,null,null,null,null,null,null,null,null,null,null,null,null,null,null,null,null,null,null,null,null,null,null,null,null,null,null,null,null,null,null,null,null,null,null,null,null,null,3048,0.64952409856806292,50,49.999518288035119]
[null,null,null,null,null,null,null,null,null,null,null,null,null,null,null,null,null,null,null,null,null,null,null,null,null,null,null,null,null,null,null,null,null,null,null,null,null,null,null,null,null,null,null,null,3053,0.6505895908557402,50,49.999533442404974]
[null,null,null,null,null,null,null,null,null,null,null,null,null,null,null,null,null,null,null,null,null,null,null,null,null,null,null,null,null,null,null,null,null,null,null,null,null,null,null,null,null,null,null,null,3055,0.65101578777081115,50,49.999539369813007]
[null,null,null,null,null,null,null,null,null,null,null,null,null,null,null,null,null,null,null,null,null,null,null,null,null,null,null,null,null,null,null,null,null,null,null,null,null,null,null,null,null,null,null,null,3060,0.65208128005848842,50,49.999553860962756]
[null,null,null,null,null,null,null,null,null,null,null,null,null,null,null,null,null,null,null,null,null,null,null,null,null,null,null,null,null,null,null,null,null,null,null,null,null,null,null,null,null,null,null,null,3066,0.65335987080370106,50,49.999570649847143]
[null,null,null,null,null,null,null,null,null,null,null,null,null,null,null,null,null,null,null,null,null,null,null,null,null,null,null,null,null,null,null,null,null,null,null,null,null,null,null,null,null,null,null,null,3072,{"$f":"$AP$18/$N$7*AS3103","v":0.65463846154891381},50,49.999586806940499]
[null,null,null,null,null,null,null,null,null,null,null,null,null,null,null,null,null,null,null,null,null,null,null,null,null,null,null,null,null,null,null,null,null,null,null,null,null,null,null,null,null,null,null,null,3076,0.6554908553790556,50,49.999597239119126]
[null,null,null,null,null,null,null,null,null,null,null,null,null,null,null,null,null,null,null,null,null,null,null,null,null,null,null,null,null,null,null,null,null,null,null,null,null,null,null,null,null,null,null,null,3077,0.65570395383659108,50,49.999599805746641]
[null,null,null,null,null,null,null,null,null,null,null,null,null,null,null,null,null,null,null,null,null,null,null,null,null,null,null,null,null,null,null,null,null,null,null,null,null,null,null,null,null,null,null,null,3078,0.65591705229412656,50,49.999602356018102]
[null,null,null,null,null,null,null,null,null,null,null,null,null,null,null,null,null,null,null,null,null,null,null,null,null,null,null,null,null,null,null,null,null,null,null,null,null,null,null,null,null,null,null,null,3079,0.65613015075166203,50,49.999604890037745]
[null,null,null,null,null,null,null,null,null,null,null,null,null,null,null,null,null,null,null,null,null,null,null,null,null,null,null,null,null,null,null,null,null,null,null,null,null,null,null,null,null,null,null,null,3080,0.65634324920919751,50,49.999607407909139]
[null,null,null,null,null,null,null,null,null,null,null,null,null,null,null,null,null,null,null,null,null,null,null,null,null,null,null,null,null,null,null,null,null,null,null,null,null,null,null,null,null,null,null,null,3081,0.65655634766673288,50,49.999609909735184]
[null,null,null,null,null,null,null,null,null,null,null,null,null,null,null,null,null,null,null,null,null,null,null,null,null,null,null,null,null,null,null,null,null,null,null,null,null,null,null,null,null,null,null,null,3082,0.65676944612426835,50,49.999612395618129]
[null,null,null,null,null,null,null,null,null,null,null,null,null,null,null,null,null,null,null,null,null,null,null,null,null,null,null,null,null,null,null,null,null,null,null,null,null,null,null,null,null,null,null,null,3083,0.65698254458180383,50,49.999614865659574]
[null,null,null,null,null,null,null,null,null,null,null,null,null,null,null,null,null,null,null,null,null,null,null,null,null,null,null,null,null,null,null,null,null,null,null,null,null,null,null,null,null,null,null,null,3084,0.65719564303933931,50,49.999617319960471]
[null,null,null,null,null,null,null,null,null,null,null,null,null,null,null,null,null,null,null,null,null,null,null,null,null,null,null,null,null,null,null,null,null,null,null,null,null,null,null,null,null,null,null,null,3085,0.65740874149687478,50,49.99961975862113]
[null,null,null,null,null,null,null,null,null,null,null,null,null,null,null,null,null,null,null,null,null,null,null,null,null,null,null,null,null,null,null,null,null,null,null,null,null,null,null,null,null,null,null,null,3086,0.65762183995441015,50,49.999622181741231]
[null,null,null,null,null,null,null,null,null,null,null,null,null,null,null,null,null,null,null,null,null,null,null,null,null,null,null,null,null,null,null,null,null,null,null,null,null,null,null,null,null,null,null,null,3087,0.65783493841194562,50,49.999624589419788]
[null,null,null,null,null,null,null,null,null,null,null,null,null,null,null,null,null,null,null,null,null,null,null,null,null,null,null,null,null,null,null,null,null,null,null,null,null,null,null,null,null,null,null,null,3088,0.6580480368694811,50,49.999626981755213]
[null,null,null,null,null,null,null,null,null,null,null,null,null,null,null,null,null,null,null,null,null,null,null,null,null,null,null,null,null,null,null,null,null,null,null,null,null,null,null,null,null,null,null,null,3089,0.65826113532701658,50,49.999629358845283]
[null,null,null,null,null,null,null,null,null,null,null,null,null,null,null,null,null,null,null,null,null,null,null,null,null,null,null,null,null,null,null,null,null,null,null,null,null,null,null,null,null,null,null,null,3090,0.65847423378455205,50,49.999631720787143]
[null,null,null,null,null,null,null,null,null,null,null,null,null,null,null,null,null,null,null,null,null,null,null,null,null,null,null,null,null,null,null,null,null,null,null,null,null,null,null,null,null,null,null,null,3091,0.65868733224208742,50,49.999634067677327]
[null,null,null,null,null,null,null,null,null,null,null,null,null,null,null,null,null,null,null,null,null,null,null,null,null,null,null,null,null,null,null,null,null,null,null,null,null,null,null,null,null,null,null,null,3092,0.6589004306996229,50,49.999636399611759]
[null,null,null,null,null,null,null,null,null,null,null,null,null,null,null,null,null,null,null,null,null,null,null,null,null,null,null,null,null,null,null,null,null,null,null,null,null,null,null,null,null,null,null,null,3093,0.65911352915715837,50,49.999638716685745]
[null,null,null,null,null,null,null,null,null,null,null,null,null,null,null,null,null,null,null,null,null,null,null,null,null,null,null,null,null,null,null,null,null,null,null,null,null,null,null,null,null,null,null,null,3094,0.65932662761469385,50,49.999641018993977]
[null,null,null,null,null,null,null,null,null,null,null,null,null,null,null,null,null,null,null,null,null,null,null,null,null,null,null,null,null,null,null,null,null,null,null,null,null,null,null,null,null,null,null,null,3095,0.65953972607222933,50,49.99964330663056]
[null,null,null,null,null,null,null,null,null,null,null,null,null,null,null,null,null,null,null,null,null,null,null,null,null,null,null,null,null,null,null,null,null,null,null,null,null,null,null,null,null,null,null,null,3096,0.65975282452976469,50,49.999645579688988]
[null,null,null,null,null,null,null,null,null,null,null,null,null,null,null,null,null,null,null,null,null,null,null,null,null,null,null,null,null,null,null,null,null,null,null,null,null,null,null,null,null,null,null,null,3097,0.65996592298730017,50,49.999647838262156]
[null,null,null,null,null,null,null,null,null,null,null,null,null,null,null,null,null,null,null,null,null,null,null,null,null,null,null,null,null,null,null,null,null,null,null,null,null,null,null,null,null,null,null,null,3098,0.66017902144483565,50,49.999650082442379]
[null,null,null,null,null,null,null,null,null,null,null,null,null,null,null,null,null,null,null,null,null,null,null,null,null,null,null,null,null,null,null,null,null,null,null,null,null,null,null,null,null,null,null,null,3099,0.66039211990237112,50,49.999652312321373]
[null,null,null,null,null,null,null,null,null,null,null,null,null,null,null,null,null,null,null,null,null,null,null,null,null,null,null,null,null,null,null,null,null,null,null,null,null,null,null,null,null,null,null,null,3100,0.66060521835990649,50,49.99965452799028]
[null,null,null,null,null,null,null,null,null,null,null,null,null,null,null,null,null,null,null,null,null,null,null,null,null,null,null,null,null,null,null,null,null,null,null,null,null,null,null,null,null,null,null,null,3101,0.66081831681744196,50,49.999656729539652]
[null,null,null,null,null,null,null,null,null,null,null,null,null,null,null,null,null,null,null,null,null,null,null,null,null,null,null,null,null,null,null,null,null,null,null,null,null,null,null,null,null,null,null,null,3102,0.66103141527497744,50,49.99965891705947]
[null,null,null,null,null,null,null,null,null,null,null,null,null,null,null,null,null,null,null,null,null,null,null,null,null,null,null,null,null,null,null,null,null,null,null,null,null,null,null,null,null,null,null,null,3103,0.66124451373251292,50,49.99966109063913]
[null,null,null,null,null,null,null,null,null,null,null,null,null,null,null,null,null,null,null,null,null,null,null,null,null,null,null,null,null,null,null,null,null,null,null,null,null,null,null,null,null,null,null,null,3104,0.66145761219004839,50,49.999663250367469]
[null,null,null,null,null,null,null,null,null,null,null,null,null,null,null,null,null,null,null,null,null,null,null,null,null,null,null,null,null,null,null,null,null,null,null,null,null,null,null,null,null,null,null,null,3105,0.66167071064758376,50,49.999665396332759]
[null,null,null,null,null,null,null,null,null,null,null,null,null,null,null,null,null,null,null,null,null,null,null,null,null,null,null,null,null,null,null,null,null,null,null,null,null,null,null,null,null,null,null,null,3106,0.66188380910511924,50,49.999667528622702]
[null,null,null,null,null,null,null,null,null,null,null,null,null,null,null,null,null,null,null,null,null,null,null,null,null,null,null,null,null,null,null,null,null,null,null,null,null,null,null,null,null,null,null,null,3107,0.66209690756265471,50,49.999669647324453]
[null,null,null,null,null,null,null,null,null,null,null,null,null,null,null,null,null,null,null,null,null,null,null,null,null,null,null,null,null,null,null,null,null,null,null,null,null,null,null,null,null,null,null,null,3108,0.66231000602019019,50,49.999671752524598]
[null,null,null,null,null,null,null,null,null,null,null,null,null,null,null,null,null,null,null,null,null,null,null,null,null,null,null,null,null,null,null,null,null,null,null,null,null,null,null,null,null,null,null,null,3109,0.66252310447772567,50,49.999673844309186]
[null,null,null,null,null,null,null,null,null,null,null,null,null,null,null,null,null,null,null,null,null,null,null,null,null,null,null,null,null,null,null,null,null,null,null,null,null,null,null,null,null,null,null,null,3110,0.66273620293526103,50,49.999675922763693]
[null,null,null,null,null,null,null,null,null,null,null,null,null,null,null,null,null,null,null,null,null,null,null,null,null,null,null,null,null,null,null,null,null,null,null,null,null,null,null,null,null,null,null,null,3111,0.66294930139279651,50,49.999677987973079]
[null,null,null,null,null,null,null,null,null,null,null,null,null,null,null,null,null,null,null,null,null,null,null,null,null,null,null,null,null,null,null,null,null,null,null,null,null,null,null,null,null,null,null,null,3112,0.66316239985033199,50,49.999680040021744]
[null,null,null,null,null,null,null,null,null,null,null,null,null,null,null,null,null,null,null,null,null,null,null,null,null,null,null,null,null,null,null,null,null,null,null,null,null,null,null,null,null,null,null,null,3113,0.66337549830786746,50,49.999682078993551]
[null,null,null,null,null,null,null,null,null,null,null,null,null,null,null,null,null,null,null,null,null,null,null,null,null,null,null,null,null,null,null,null,null,null,null,null,null,null,null,null,null,null,null,null,3114,0.66358859676540294,50,49.999684104971848]
[null,null,null,null,null,null,null,null,null,null,null,null,null,null,null,null,null,null,null,null,null,null,null,null,null,null,null,null,null,null,null,null,null,null,null,null,null,null,null,null,null,null,null,null,3115,0.6638016952229383,50,49.999686118039428]
[null,null,null,null,null,null,null,null,null,null,null,null,null,null,null,null,null,null,null,null,null,null,null,null,null,null,null,null,null,null,null,null,null,null,null,null,null,null,null,null,null,null,null,null,3116,0.66401479368047378,50,49.999688118278563]
[null,null,null,null,null,null,null,null,null,null,null,null,null,null,null,null,null,null,null,null,null,null,null,null,null,null,null,null,null,null,null,null,null,null,null,null,null,null,null,null,null,null,null,null,3117,0.66422789213800926,50,49.999690105771002]
[null,null,null,null,null,null,null,null,null,null,null,null,null,null,null,null,null,null,null,null,null,null,null,null,null,null,null,null,null,null,null,null,null,null,null,null,null,null,null,null,null,null,null,null,3118,0.66444099059554473,50,49.999692080597974]
[null,null,null,null,null,null,null,null,null,null,null,null,null,null,null,null,null,null,null,null,null,null,null,null,null,null,null,null,null,null,null,null,null,null,null,null,null,null,null,null,null,null,null,null,3119,0.66465408905308021,50,49.999694042840204]
[null,null,null,null,null,null,null,null,null,null,null,null,null,null,null,null,null,null,null,null,null,null,null,null,null,null,null,null,null,null,null,null,null,null,null,null,null,null,null,null,null,null,null,null,3120,0.66486718751061558,50,49.999695992577877]
[null,null,null,null,null,null,null,null,null,null,null,null,null,null,null,null,null,null,null,null,null,null,null,null,null,null,null,null,null,null,null,null,null,null,null,null,null,null,null,null,null,null,null,null,3121,0.66508028596815105,50,49.999697929890687]
[null,null,null,null,null,null,null,null,null,null,null,null,null,null,null,null,null,null,null,null,null,null,null,null,null,null,null,null,null,null,null,null,null,null,null,null,null,null,null,null,null,null,null,null,3122,0.66529338442568653,50,49.999699854857809]
[null,null,null,null,null,null,null,null,null,null,null,null,null,null,null,null,null,null,null,null,null,null,null,null,null,null,null,null,null,null,null,null,null,null,null,null,null,null,null,null,null,null,null,null,3123,0.66550648288322201,50,49.999701767557916]
[null,null,null,null,null,null,null,null,null,null,null,null,null,null,null,null,null,null,null,null,null,null,null,null,null,null,null,null,null,null,null,null,null,null,null,null,null,null,null,null,null,null,null,null,3124,0.66571958134075748,50,49.999703668069181]
[null,null,null,null,null,null,null,null,null,null,null,null,null,null,null,null,null,null,null,null,null,null,null,null,null,null,null,null,null,null,null,null,null,null,null,null,null,null,null,null,null,null,null,null,3125,0.66593267979829285,50,49.999705556469273]
[null,null,null,null,null,null,null,null,null,null,null,null,null,null,null,null,null,null,null,null,null,null,null,null,null,null,null,null,null,null,null,null,null,null,null,null,null,null,null,null,null,null,null,null,3126,0.66614577825582832,50,49.999707432835386]
[null,null,null,null,null,null,null,null,null,null,null,null,null,null,null,null,null,null,null,null,null,null,null,null,null,null,null,null,null,null,null,null,null,null,null,null,null,null,null,null,null,null,null,null,3127,0.6663588767133638,50,49.999709297244195]
[null,null,null,null,null,null,null,null,null,null,null,null,null,null,null,null,null,null,null,null,null,null,null,null,null,null,null,null,null,null,null,null,null,null,null,null,null,null,null,null,null,null,null,null,3128,0.66657197517089928,50,49.999711149771898]
[null,null,null,null,null,null,null,null,null,null,null,null,null,null,null,null,null,null,null,null,null,null,null,null,null,null,null,null,null,null,null,null,null,null,null,null,null,null,null,null,null,null,null,null,3129,0.66678507362843464,50,49.99971299049421]
[null,null,null,null,null,null,null,null,null,null,null,null,null,null,null,null,null,null,null,null,null,null,null,null,null,null,null,null,null,null,null,null,null,null,null,null,null,null,null,null,null,null,null,null,3130,0.66699817208597012,50,49.999714819486364]
[null,null,null,null,null,null,null,null,null,null,null,null,null,null,null,null,null,null,null,null,null,null,null,null,null,null,null,null,null,null,null,null,null,null,null,null,null,null,null,null,null,null,null,null,3131,0.6672112705435056,50,49.999716636823123]
[null,null,null,null,null,null,null,null,null,null,null,null,null,null,null,null,null,null,null,null,null,null,null,null,null,null,null,null,null,null,null,null,null,null,null,null,null,null,null,null,null,null,null,null,3132,0.66742436900104107,50,49.999718442578747]
[null,null,null,null,null,null,null,null,null,null,null,null,null,null,null,null,null,null,null,null,null,null,null,null,null,null,null,null,null,null,null,null,null,null,null,null,null,null,null,null,null,null,null,null,3133,0.66763746745857655,50,49.999720236827038]
[null,null,null,null,null,null,null,null,null,null,null,null,null,null,null,null,null,null,null,null,null,null,null,null,null,null,null,null,null,null,null,null,null,null,null,null,null,null,null,null,null,null,null,null,3134,0.66785056591611192,50,49.999722019641332]
[null,null,null,null,null,null,null,null,null,null,null,null,null,null,null,null,null,null,null,null,null,null,null,null,null,null,null,null,null,null,null,null,null,null,null,null,null,null,null,null,null,null,null,null,3135,0.66806366437364739,50,49.999723791094496]
[null,null,null,null,null,null,null,null,null,null,null,null,null,null,null,null,null,null,null,null,null,null,null,null,null,null,null,null,null,null,null,null,null,null,null,null,null,null,null,null,null,null,null,null,3136,{"$f":"$AP$18/$N$7*AS3167","v":0.66827676283118287},50,49.999725551258926]
[null,null,null,null,null,null,null,null,null,null,null,null,null,null,null,null,null,null,null,null,null,null,null,null,null,null,null,null,null,null,null,null,null,null,null,null,null,null,null,null,null,null,null,null,{"$f":"AS3167+1","v":3137},0.66848986128871835,{"$f":"IF(($N$4*AT3168^2/2)<=$AP$13,($N$4*AT3168^2/2), IF(($AP$13+$N$6*(AT3168-$AP$12))<=$AP$17, ($AP$13+$N$6*(AT3168-$AP$12)), IF(AU3167<$D$14, ($AP$17+($N$6-$N$5*(AT3168-$AP$16)/2)*(AT3168-$AP$16)), $D$14)))","v":50},49.999727300206558]
[null,null,null,null,null,null,null,null,null,null,null,null,null,null,null,null,null,null,null,null,null,null,null,null,null,null,null,null,null,null,null,null,null,null,null,null,null,null,null,null,null,null,null,null,3138,0.66870295974625382,50,{"$f":"( $AP$6*AU3169 + $AP$7*AU3168 + $AP$9*AV3168 )/$AP$8","v":49.999729038008873}]
[null,null,null,null,null,null,null,null,null,null,null,null,null,null,null,null,null,null,null,null,null,null,null,null,null,null,null,null,null,null,null,null,null,null,null,null,null,null,null,null,null,null,null,null,3139,0.66891605820378919,50,49.999730764736896]
[null,null,null,null,null,null,null,null,null,null,null,null,null,null,null,null,null,null,null,null,null,null,null,null,null,null,null,null,null,null,null,null,null,null,null,null,null,null,null,null,null,null,null,null,3140,0.66912915666132466,50,49.999732480461198]
[null,null,null,null,null,null,null,null,null,null,null,null,null,null,null,null,null,null,null,null,null,null,null,null,null,null,null,null,null,null,null,null,null,null,null,null,null,null,null,null,null,null,null,null,3141,0.66934225511886014,50,49.99973418525191]
[null,null,null,null,null,null,null,null,null,null,null,null,null,null,null,null,null,null,null,null,null,null,null,null,null,null,null,null,null,null,null,null,null,null,null,null,null,null,null,null,null,null,null,null,3142,0.66955535357639562,50,49.999735879178694]
[null,null,null,null,null,null,null,null,null,null,null,null,null,null,null,null,null,null,null,null,null,null,null,null,null,null,null,null,null,null,null,null,null,null,null,null,null,null,null,null,null,null,null,null,3143,0.66976845203393109,50,49.999737562310791]
[null,null,null,null,null,null,null,null,null,null,null,null,null,null,null,null,null,null,null,null,null,null,null,null,null,null,null,null,null,null,null,null,null,null,null,null,null,null,null,null,null,null,null,null,3144,0.66998155049146646,50,49.999739234716991]
[null,null,null,null,null,null,null,null,null,null,null,null,null,null,null,null,null,null,null,null,null,null,null,null,null,null,null,null,null,null,null,null,null,null,null,null,null,null,null,null,null,null,null,null,3145,0.67019464894900194,50,49.999740896465639]
[null,null,null,null,null,null,null,null,null,null,null,null,null,null,null,null,null,null,null,null,null,null,null,null,null,null,null,null,null,null,null,null,null,null,null,null,null,null,null,null,null,null,null,null,3146,0.67040774740653741,50,49.999742547624656]
[null,null,null,null,null,null,null,null,null,null,null,null,null,null,null,null,null,null,null,null,null,null,null,null,null,null,null,null,null,null,null,null,null,null,null,null,null,null,null,null,null,null,null,null,3147,0.67062084586407289,50,49.999744188261523]
[null,null,null,null,null,null,null,null,null,null,null,null,null,null,null,null,null,null,null,null,null,null,null,null,null,null,null,null,null,null,null,null,null,null,null,null,null,null,null,null,null,null,null,null,3148,0.67083394432160837,50,49.999745818443294]
[null,null,null,null,null,null,null,null,null,null,null,null,null,null,null,null,null,null,null,null,null,null,null,null,null,null,null,null,null,null,null,null,null,null,null,null,null,null,null,null,null,null,null,null,3149,0.67104704277914373,50,49.999747438236597]
[null,null,null,null,null,null,null,null,null,null,null,null,null,null,null,null,null,null,null,null,null,null,null,null,null,null,null,null,null,null,null,null,null,null,null,null,null,null,null,null,null,null,null,null,3150,0.67126014123667921,50,49.999749047707624]
[null,null,null,null,null,null,null,null,null,null,null,null,null,null,null,null,null,null,null,null,null,null,null,null,null,null,null,null,null,null,null,null,null,null,null,null,null,null,null,null,null,null,null,null,3151,0.67147323969421469,50,49.999750646922166]
[null,null,null,null,null,null,null,null,null,null,null,null,null,null,null,null,null,null,null,null,null,null,null,null,null,null,null,null,null,null,null,null,null,null,null,null,null,null,null,null,null,null,null,null,3152,0.67168633815175016,50,49.999752235945579]
[null,null,null,null,null,null,null,null,null,null,null,null,null,null,null,null,null,null,null,null,null,null,null,null,null,null,null,null,null,null,null,null,null,null,null,null,null,null,null,null,null,null,null,null,3153,0.67189943660928564,50,49.999753814842805]
[null,null,null,null,null,null,null,null,null,null,null,null,null,null,null,null,null,null,null,null,null,null,null,null,null,null,null,null,null,null,null,null,null,null,null,null,null,null,null,null,null,null,null,null,3154,0.672112535066821,50,49.999755383678384]
[null,null,null,null,null,null,null,null,null,null,null,null,null,null,null,null,null,null,null,null,null,null,null,null,null,null,null,null,null,null,null,null,null,null,null,null,null,null,null,null,null,null,null,null,3155,0.67232563352435648,50,49.99975694251642]
[null,null,null,null,null,null,null,null,null,null,null,null,null,null,null,null,null,null,null,null,null,null,null,null,null,null,null,null,null,null,null,null,null,null,null,null,null,null,null,null,null,null,null,null,3156,0.67253873198189196,50,49.999758491420629]
[null,null,null,null,null,null,null,null,null,null,null,null,null,null,null,null,null,null,null,null,null,null,null,null,null,null,null,null,null,null,null,null,null,null,null,null,null,null,null,null,null,null,null,null,3157,0.67275183043942743,50,49.999760030454318]
[null,null,null,null,null,null,null,null,null,null,null,null,null,null,null,null,null,null,null,null,null,null,null,null,null,null,null,null,null,null,null,null,null,null,null,null,null,null,null,null,null,null,null,null,3158,0.67296492889696291,50,49.999761559680387]
[null,null,null,null,null,null,null,null,null,null,null,null,null,null,null,null,null,null,null,null,null,null,null,null,null,null,null,null,null,null,null,null,null,null,null,null,null,null,null,null,null,null,null,null,3159,0.67317802735449828,50,49.999763079161333]
[null,null,null,null,null,null,null,null,null,null,null,null,null,null,null,null,null,null,null,null,null,null,null,null,null,null,null,null,null,null,null,null,null,null,null,null,null,null,null,null,null,null,null,null,3160,0.67339112581203375,50,49.999764588959259]
[null,null,null,null,null,null,null,null,null,null,null,null,null,null,null,null,null,null,null,null,null,null,null,null,null,null,null,null,null,null,null,null,null,null,null,null,null,null,null,null,null,null,null,null,3161,0.67360422426956923,50,49.999766089135868]
[null,null,null,null,null,null,null,null,null,null,null,null,null,null,null,null,null,null,null,null,null,null,null,null,null,null,null,null,null,null,null,null,null,null,null,null,null,null,null,null,null,null,null,null,3162,0.67381732272710471,50,49.999767579752479]
[null,null,null,null,null,null,null,null,null,null,null,null,null,null,null,null,null,null,null,null,null,null,null,null,null,null,null,null,null,null,null,null,null,null,null,null,null,null,null,null,null,null,null,null,3163,0.67403042118464007,50,49.999769060870015]
[null,null,null,null,null,null,null,null,null,null,null,null,null,null,null,null,null,null,null,null,null,null,null,null,null,null,null,null,null,null,null,null,null,null,null,null,null,null,null,null,null,null,null,null,3164,0.67424351964217555,50,49.999770532549]
[null,null,null,null,null,null,null,null,null,null,null,null,null,null,null,null,null,null,null,null,null,null,null,null,null,null,null,null,null,null,null,null,null,null,null,null,null,null,null,null,null,null,null,null,3165,0.67445661809971102,50,49.999771994849588]
[null,null,null,null,null,null,null,null,null,null,null,null,null,null,null,null,null,null,null,null,null,null,null,null,null,null,null,null,null,null,null,null,null,null,null,null,null,null,null,null,null,null,null,null,3166,0.6746697165572465,50,49.999773447831544]
[null,null,null,null,null,null,null,null,null,null,null,null,null,null,null,null,null,null,null,null,null,null,null,null,null,null,null,null,null,null,null,null,null,null,null,null,null,null,null,null,null,null,null,null,3167,0.67488281501478198,50,49.999774891554246]
[null,null,null,null,null,null,null,null,null,null,null,null,null,null,null,null,null,null,null,null,null,null,null,null,null,null,null,null,null,null,null,null,null,null,null,null,null,null,null,null,null,null,null,null,3168,0.67509591347231734,50,49.999776326076706]
[null,null,null,null,null,null,null,null,null,null,null,null,null,null,null,null,null,null,null,null,null,null,null,null,null,null,null,null,null,null,null,null,null,null,null,null,null,null,null,null,null,null,null,null,3169,0.67530901192985282,50,49.99977775145755]
[null,null,null,null,null,null,null,null,null,null,null,null,null,null,null,null,null,null,null,null,null,null,null,null,null,null,null,null,null,null,null,null,null,null,null,null,null,null,null,null,null,null,null,null,3170,0.6755221103873883,50,49.999779167755037]
[null,null,null,null,null,null,null,null,null,null,null,null,null,null,null,null,null,null,null,null,null,null,null,null,null,null,null,null,null,null,null,null,null,null,null,null,null,null,null,null,null,null,null,null,3171,0.67573520884492377,50,49.999780575027053]
[null,null,null,null,null,null,null,null,null,null,null,null,null,null,null,null,null,null,null,null,null,null,null,null,null,null,null,null,null,null,null,null,null,null,null,null,null,null,null,null,null,null,null,null,3172,0.67594830730245925,50,49.99978197333111]
[null,null,null,null,null,null,null,null,null,null,null,null,null,null,null,null,null,null,null,null,null,null,null,null,null,null,null,null,null,null,null,null,null,null,null,null,null,null,null,null,null,null,null,null,3173,0.67616140575999462,50,49.999783362724358]
[null,null,null,null,null,null,null,null,null,null,null,null,null,null,null,null,null,null,null,null,null,null,null,null,null,null,null,null,null,null,null,null,null,null,null,null,null,null,null,null,null,null,null,null,3174,0.67637450421753009,50,49.999784743263575]
[null,null,null,null,null,null,null,null,null,null,null,null,null,null,null,null,null,null,null,null,null,null,null,null,null,null,null,null,null,null,null,null,null,null,null,null,null,null,null,null,null,null,null,null,3175,0.67658760267506557,50,49.999786115005193]
[null,null,null,null,null,null,null,null,null,null,null,null,null,null,null,null,null,null,null,null,null,null,null,null,null,null,null,null,null,null,null,null,null,null,null,null,null,null,null,null,null,null,null,null,3176,0.67680070113260105,50,49.999787478005267]
[null,null,null,null,null,null,null,null,null,null,null,null,null,null,null,null,null,null,null,null,null,null,null,null,null,null,null,null,null,null,null,null,null,null,null,null,null,null,null,null,null,null,null,null,3177,0.67701379959013652,50,49.99978883231951]
[null,null,null,null,null,null,null,null,null,null,null,null,null,null,null,null,null,null,null,null,null,null,null,null,null,null,null,null,null,null,null,null,null,null,null,null,null,null,null,null,null,null,null,null,3178,0.67722689804767189,50,49.999790178003273]
[null,null,null,null,null,null,null,null,null,null,null,null,null,null,null,null,null,null,null,null,null,null,null,null,null,null,null,null,null,null,null,null,null,null,null,null,null,null,null,null,null,null,null,null,3179,0.67743999650520736,50,49.999791515111554]
[null,null,null,null,null,null,null,null,null,null,null,null,null,null,null,null,null,null,null,null,null,null,null,null,null,null,null,null,null,null,null,null,null,null,null,null,null,null,null,null,null,null,null,null,3180,0.67765309496274284,50,49.999792843698998]
[null,null,null,null,null,null,null,null,null,null,null,null,null,null,null,null,null,null,null,null,null,null,null,null,null,null,null,null,null,null,null,null,null,null,null,null,null,null,null,null,null,null,null,null,3181,0.67786619342027832,50,49.999794163819907]
[null,null,null,null,null,null,null,null,null,null,null,null,null,null,null,null,null,null,null,null,null,null,null,null,null,null,null,null,null,null,null,null,null,null,null,null,null,null,null,null,null,null,null,null,3182,0.67807929187781379,50,49.999795475528238]
[null,null,null,null,null,null,null,null,null,null,null,null,null,null,null,null,null,null,null,null,null,null,null,null,null,null,null,null,null,null,null,null,null,null,null,null,null,null,null,null,null,null,null,null,3183,0.67829239033534916,50,49.999796778877595]
[null,null,null,null,null,null,null,null,null,null,null,null,null,null,null,null,null,null,null,null,null,null,null,null,null,null,null,null,null,null,null,null,null,null,null,null,null,null,null,null,null,null,null,null,3184,0.67850548879288464,50,49.999798073921255]
[null,null,null,null,null,null,null,null,null,null,null,null,null,null,null,null,null,null,null,null,null,null,null,null,null,null,null,null,null,null,null,null,null,null,null,null,null,null,null,null,null,null,null,null,3185,0.67871858725042011,50,49.999799360712139]
[null,null,null,null,null,null,null,null,null,null,null,null,null,null,null,null,null,null,null,null,null,null,null,null,null,null,null,null,null,null,null,null,null,null,null,null,null,null,null,null,null,null,null,null,3186,0.67893168570795559,50,49.99980063930284]
[null,null,null,null,null,null,null,null,null,null,null,null,null,null,null,null,null,null,null,null,null,null,null,null,null,null,null,null,null,null,null,null,null,null,null,null,null,null,null,null,null,null,null,null,3187,0.67914478416549107,50,49.999801909745614]
[null,null,null,null,null,null,null,null,null,null,null,null,null,null,null,null,null,null,null,null,null,null,null,null,null,null,null,null,null,null,null,null,null,null,null,null,null,null,null,null,null,null,null,null,3188,0.67935788262302643,50,49.999803172092378]
[null,null,null,null,null,null,null,null,null,null,null,null,null,null,null,null,null,null,null,null,null,null,null,null,null,null,null,null,null,null,null,null,null,null,null,null,null,null,null,null,null,null,null,null,3189,0.67957098108056191,50,49.999804426394739]
[null,null,null,null,null,null,null,null,null,null,null,null,null,null,null,null,null,null,null,null,null,null,null,null,null,null,null,null,null,null,null,null,null,null,null,null,null,null,null,null,null,null,null,null,3190,0.67978407953809739,50,49.99980567270395]
[null,null,null,null,null,null,null,null,null,null,null,null,null,null,null,null,null,null,null,null,null,null,null,null,null,null,null,null,null,null,null,null,null,null,null,null,null,null,null,null,null,null,null,null,3191,0.67999717799563286,50,49.999806911070948]
[null,null,null,null,null,null,null,null,null,null,null,null,null,null,null,null,null,null,null,null,null,null,null,null,null,null,null,null,null,null,null,null,null,null,null,null,null,null,null,null,null,null,null,null,3192,0.68021027645316823,50,49.999808141546346]
[null,null,null,null,null,null,null,null,null,null,null,null,null,null,null,null,null,null,null,null,null,null,null,null,null,null,null,null,null,null,null,null,null,null,null,null,null,null,null,null,null,null,null,null,3193,0.6804233749107037,50,49.999809364180443]
[null,null,null,null,null,null,null,null,null,null,null,null,null,null,null,null,null,null,null,null,null,null,null,null,null,null,null,null,null,null,null,null,null,null,null,null,null,null,null,null,null,null,null,null,3194,0.68063647336823918,50,49.999810579023197]
[null,null,null,null,null,null,null,null,null,null,null,null,null,null,null,null,null,null,null,null,null,null,null,null,null,null,null,null,null,null,null,null,null,null,null,null,null,null,null,null,null,null,null,null,3195,0.68084957182577466,50,49.999811786124269]
[null,null,null,null,null,null,null,null,null,null,null,null,null,null,null,null,null,null,null,null,null,null,null,null,null,null,null,null,null,null,null,null,null,null,null,null,null,null,null,null,null,null,null,null,3196,0.68106267028331013,50,49.999812985532991]
[null,null,null,null,null,null,null,null,null,null,null,null,null,null,null,null,null,null,null,null,null,null,null,null,null,null,null,null,null,null,null,null,null,null,null,null,null,null,null,null,null,null,null,null,3197,0.6812757687408455,50,49.999814177298376]
[null,null,null,null,null,null,null,null,null,null,null,null,null,null,null,null,null,null,null,null,null,null,null,null,null,null,null,null,null,null,null,null,null,null,null,null,null,null,null,null,null,null,null,null,3198,0.68148886719838098,50,49.999815361469132]
[null,null,null,null,null,null,null,null,null,null,null,null,null,null,null,null,null,null,null,null,null,null,null,null,null,null,null,null,null,null,null,null,null,null,null,null,null,null,null,null,null,null,null,null,3199,0.68170196565591645,50,49.999816538093661]
[null,null,null,null,null,null,null,null,null,null,null,null,null,null,null,null,null,null,null,null,null,null,null,null,null,null,null,null,null,null,null,null,null,null,null,null,null,null,null,null,null,null,null,null,3200,{"$f":"$AP$18/$N$7*AS3231","v":0.68191506411345193},50,49.999817707220053]

{"sheet":"DataSerch","index":1,"n_rows":338,"n_cols":20,"rows_kept":338,"cut":false,"hidden":true,"merged":[[124,17,124,18],[23,1,23,2],[57,1,57,2],[23,3,23,4],[112,14,112,18]]}
["選択型式","メカ機種データレコード",null,null,null,null,null,null,null,null,null,null,"$87","：「メカ機種データ」範囲検索",null,null,null,"$87","➡➡➡","$87"]
[{"$f":"CycleTime!C6","v":"RCS4-SA4C-60"},"№",{"$f":"ModelData!$B$2","v":"ｱｸﾁｭｴｰﾀ型式"},null,null,null,null,{"$f":"ModelData!$C$2","v":"最小ｽﾄﾛｰｸ"},{"$f":"ModelData!$D$2","v":"最大ｽﾄﾛｰｸ"},{"$f":"ModelData!$E$2","v":"動作種別"},null,null,"$63","：「モータ機種データ」範囲検索",null,null,null,"$63","➡➡➡","$63"]
[null,{"$f":"MATCH(A2,ModelData!$B$4:$B$87,0)","v":69},{"$f":"LOOKUP(B3,ModelData!$A$4:$A$87,ModelData!$B$4:$B$87)","v":"RCS4-SA4C-60"},null,null,null,null,{"$f":"LOOKUP(B3,ModelData!$A$4:$A$87,ModelData!$C$4:$C$87)","v":50},{"$f":"LOOKUP(B3,ModelData!$A$4:$A$87,ModelData!$D$4:$D$87)","v":500},{"$f":"LOOKUP(B3,ModelData!$A$4:$A$87,ModelData!$E$4:$E$87)","v":0},null,null,"$288","：「リードデータ」範囲検索",null,null,null,"$288","➡➡➡","$288"]
["リード",null,null,null,"[kg]","[mm]","[mm]","[mm]","[mm]","0/1","[K]",null,"$2036","：「ストロークデータ」範囲検索",null,null,null,"$2036","➡➡➡","$2036"]
[{"$f":"CycleTime!C8","v":2.5},null,null,null,{"$f":"E3/10","v":0},{"$f":"F3/10","v":0},{"$f":"G3","v":0},{"$f":"H3","v":50},{"$f":"I3","v":500},{"$f":"J3","v":0},null,null,"$4056","：「搬送負荷データ」範囲検索",null,null,null,"$4056","➡➡➡","$4056"]
[null,null,null,null,null,null,null,null,null,null,null,null,"$4497","：「加減速・速度データ」範囲検索",null,null,null,"$4497","➡➡➡","$4497"]
["ストローク","モータ機種レコード"]
[{"$f":"CycleTime!C10","v":50}]
[]
["設置姿勢",null,null,"[Nm/A]","[A]","[kgm^2]","[Nm]","[Nm]","[rad/s]","[rad/s]","[rad/s]","[Nm/(rad/s)]","[K]","[K]","[s]"]
[{"$f":"IF(CycleTime!C12=CycleTime!AE20,0,1)","v":0},null,null,{"$f":"D9/10000","v":0},{"$f":"E9/1000","v":0},{"$f":"F9*0.000000001","v":0},{"$f":"G9/1000","v":0},{"$f":"H9/1000","v":0},{"$f":"I9/1000","v":0},{"$f":"J9/1000","v":0},{"$f":"K9/1000","v":0},{"$f":"L9*0.000001","v":0},{"$f":"M9/10","v":0},{"$f":"N9/10","v":0},{"$f":"O9/100","v":0}]
[]
["搬送負荷質量","リレーション",null,null,null,"リードデータレコード",null,null,{"$f":"LOOKUP(C15,LeadData!$A$4:$A$288,LeadData!$J$4:$J$288)","v":"RCS4-SA4C-60"}]
[{"$f":"CycleTime!B31","v":11},null,"ﾘｰﾄﾞ№","ｽﾄﾛｰｸ№","負荷№",{"$f":"LeadData!$B$2","v":"ﾘｰﾄﾞ長"},null,{"$f":"LeadData!$C$2","v":"水平定格加速度"},{"$f":"LeadData!$D$2","v":"垂直定格加速度"},{"$f":"LeadData!$E$2","v":"水平最大加速度"},{"$f":"LeadData!$F$2","v":"垂直最大加速度"},null,null,null,{"$f":"LeadData!$G$2","v":"ｷﾞｱ比分子"},{"$f":"LeadData!$H$2","v":"ｷﾞｱ比分母"},null,{"$f":"LeadData!$I$2","v":"ｽﾄﾛｰｸ刻み"}]
[null,{"$f":"ModelData!$F$2","v":"リンク[0]"},{"$f":"LOOKUP(B3,ModelData!$A$4:$A$87,ModelData!$F$4:$F$87)","v":212},{"$f":"LOOKUP(B3,ModelData!$A$4:$A$87,ModelData!$G$4:$G$87)","v":1484},{"$f":"LOOKUP(B3,ModelData!$A$4:$A$87,ModelData!$H$4:$H$87)","v":2977},{"$f":"LOOKUP(C15,LeadData!$A$4:$A$288,LeadData!$B$4:$B$288)","v":2500},null,{"$f":"LOOKUP(C15,LeadData!$A$4:$A$288,LeadData!$C$4:$C$288)","v":2941995},{"$f":"LOOKUP(C15,LeadData!$A$4:$A$288,LeadData!$D$4:$D$288)","v":2941995},{"$f":"LOOKUP(C15,LeadData!$A$4:$A$288,LeadData!$E$4:$E$288)","v":14709975},{"$f":"LOOKUP(C15,LeadData!$A$4:$A$288,LeadData!$F$4:$F$288)","v":14709975},null,null,null,{"$f":"LOOKUP(C15,LeadData!$A$4:$A$288,LeadData!$G$4:$G$288)","v":1},{"$f":"LOOKUP(C15,LeadData!$A$4:$A$288,LeadData!$H$4:$H$288)","v":1},null,{"$f":"LOOKUP(C15,LeadData!$A$4:$A$288,LeadData!$I$4:$I$288)","v":50}]
[null,{"$f":"ModelData!$I$2","v":"リンク[1]"},{"$f":"LOOKUP(B3,ModelData!$A$4:$A$87,ModelData!$I$4:$I$87)","v":213},{"$f":"LOOKUP(B3,ModelData!$A$4:$A$87,ModelData!$J$4:$J$87)","v":1486},{"$f":"LOOKUP(B3,ModelData!$A$4:$A$87,ModelData!$K$4:$K$87)","v":2985},{"$f":"LOOKUP(C16,LeadData!$A$4:$A$288,LeadData!$B$4:$B$288)","v":5000},null,{"$f":"LOOKUP(C16,LeadData!$A$4:$A$288,LeadData!$C$4:$C$288)","v":2941995},{"$f":"LOOKUP(C16,LeadData!$A$4:$A$288,LeadData!$D$4:$D$288)","v":2941995},{"$f":"LOOKUP(C16,LeadData!$A$4:$A$288,LeadData!$E$4:$E$288)","v":44129925},{"$f":"LOOKUP(C16,LeadData!$A$4:$A$288,LeadData!$F$4:$F$288)","v":29419950},null,null,null,{"$f":"LOOKUP(C16,LeadData!$A$4:$A$288,LeadData!$G$4:$G$288)","v":1},{"$f":"LOOKUP(C16,LeadData!$A$4:$A$288,LeadData!$H$4:$H$288)","v":1},null,{"$f":"LOOKUP(C16,LeadData!$A$4:$A$288,LeadData!$I$4:$I$288)","v":50}]
[null,{"$f":"ModelData!$L$2","v":"リンク[2]"},{"$f":"LOOKUP(B3,ModelData!$A$4:$A$87,ModelData!$L$4:$L$87)","v":214},{"$f":"LOOKUP(B3,ModelData!$A$4:$A$87,ModelData!$M$4:$M$87)","v":1488},{"$f":"LOOKUP(B3,ModelData!$A$4:$A$87,ModelData!$N$4:$N$87)","v":3009},{"$f":"LOOKUP(C17,LeadData!$A$4:$A$288,LeadData!$B$4:$B$288)","v":10000},null,{"$f":"LOOKUP(C17,LeadData!$A$4:$A$288,LeadData!$C$4:$C$288)","v":2941995},{"$f":"LOOKUP(C17,LeadData!$A$4:$A$288,LeadData!$D$4:$D$288)","v":2941995},{"$f":"LOOKUP(C17,LeadData!$A$4:$A$288,LeadData!$E$4:$E$288)","v":44129925},{"$f":"LOOKUP(C17,LeadData!$A$4:$A$288,LeadData!$F$4:$F$288)","v":29419950},null,null,null,{"$f":"LOOKUP(C17,LeadData!$A$4:$A$288,LeadData!$G$4:$G$288)","v":1},{"$f":"LOOKUP(C17,LeadData!$A$4:$A$288,LeadData!$H$4:$H$288)","v":1},null,{"$f":"LOOKUP(C17,LeadData!$A$4:$A$288,LeadData!$I$4:$I$288)","v":50}]
[null,{"$f":"ModelData!$O$2","v":"リンク[3]"},{"$f":"LOOKUP(B3,ModelData!$A$4:$A$87,ModelData!$O$4:$O$87)","v":215},{"$f":"LOOKUP(B3,ModelData!$A$4:$A$87,ModelData!$P$4:$P$87)","v":1490},{"$f":"LOOKUP(B3,ModelData!$A$4:$A$87,ModelData!$Q$4:$Q$87)","v":3030},{"$f":"LOOKUP(C18,LeadData!$A$4:$A$288,LeadData!$B$4:$B$288)","v":16000},null,{"$f":"LOOKUP(C18,LeadData!$A$4:$A$288,LeadData!$C$4:$C$288)","v":2941995},{"$f":"LOOKUP(C18,LeadData!$A$4:$A$288,LeadData!$D$4:$D$288)","v":2941995},{"$f":"LOOKUP(C18,LeadData!$A$4:$A$288,LeadData!$E$4:$E$288)","v":44129925},{"$f":"LOOKUP(C18,LeadData!$A$4:$A$288,LeadData!$F$4:$F$288)","v":29419950},null,null,null,{"$f":"LOOKUP(C18,LeadData!$A$4:$A$288,LeadData!$G$4:$G$288)","v":1},{"$f":"LOOKUP(C18,LeadData!$A$4:$A$288,LeadData!$H$4:$H$288)","v":1},null,{"$f":"LOOKUP(C18,LeadData!$A$4:$A$288,LeadData!$I$4:$I$288)","v":50}]
[null,{"$f":"ModelData!$R$2","v":"リンク[4]"},{"$f":"LOOKUP(B3,ModelData!$A$4:$A$87,ModelData!$R$4:$R$87)","v":-1},{"$f":"LOOKUP(B3,ModelData!$A$4:$A$87,ModelData!$S$4:$S$87)","v":-1},{"$f":"LOOKUP(B3,ModelData!$A$4:$A$87,ModelData!$T$4:$T$87)","v":-1},{"$f":"LOOKUP(C19,LeadData!$A$4:$A$288,LeadData!$B$4:$B$288)","v":{"$error":"#N/A"}},null,{"$f":"LOOKUP(C19,LeadData!$A$4:$A$288,LeadData!$C$4:$C$288)","v":{"$error":"#N/A"}},{"$f":"LOOKUP(C19,LeadData!$A$4:$A$288,LeadData!$D$4:$D$288)","v":{"$error":"#N/A"}},{"$f":"LOOKUP(C19,LeadData!$A$4:$A$288,LeadData!$E$4:$E$288)","v":{"$error":"#N/A"}},{"$f":"LOOKUP(C19,LeadData!$A$4:$A$288,LeadData!$F$4:$F$288)","v":{"$error":"#N/A"}},null,null,null,{"$f":"LOOKUP(C19,LeadData!$A$4:$A$288,LeadData!$G$4:$G$288)","v":{"$error":"#N/A"}},{"$f":"LOOKUP(C19,LeadData!$A$4:$A$288,LeadData!$H$4:$H$288)","v":{"$error":"#N/A"}},null,{"$f":"LOOKUP(C19,LeadData!$A$4:$A$288,LeadData!$I$4:$I$288)","v":{"$error":"#N/A"}}]
[null,{"$f":"ModelData!$U$2","v":"リンク[5]"},{"$f":"LOOKUP(B3,ModelData!$A$4:$A$87,ModelData!$U$4:$U$87)","v":-1},{"$f":"LOOKUP(B3,ModelData!$A$4:$A$87,ModelData!$V$4:$V$87)","v":-1},{"$f":"LOOKUP(B3,ModelData!$A$4:$A$87,ModelData!$W$4:$W$87)","v":-1},{"$f":"LOOKUP(C20,LeadData!$A$4:$A$288,LeadData!$B$4:$B$288)","v":{"$error":"#N/A"}},null,{"$f":"LOOKUP(C20,LeadData!$A$4:$A$288,LeadData!$C$4:$C$288)","v":{"$error":"#N/A"}},{"$f":"LOOKUP(C20,LeadData!$A$4:$A$288,LeadData!$D$4:$D$288)","v":{"$error":"#N/A"}},{"$f":"LOOKUP(C20,LeadData!$A$4:$A$288,LeadData!$E$4:$E$288)","v":{"$error":"#N/A"}},{"$f":"LOOKUP(C20,LeadData!$A$4:$A$288,LeadData!$F$4:$F$288)","v":{"$error":"#N/A"}},null,null,null,{"$f":"LOOKUP(C20,LeadData!$A$4:$A$288,LeadData!$G$4:$G$288)","v":{"$error":"#N/A"}},{"$f":"LOOKUP(C20,LeadData!$A$4:$A$288,LeadData!$H$4:$H$288)","v":{"$error":"#N/A"}},null,{"$f":"LOOKUP(C20,LeadData!$A$4:$A$288,LeadData!$I$4:$I$288)","v":{"$error":"#N/A"}}]
[null,{"$f":"ModelData!$X$2","v":"リンク[6]"},{"$f":"LOOKUP(B3,ModelData!$A$4:$A$87,ModelData!$X$4:$X$87)","v":-1},{"$f":"LOOKUP(B3,ModelData!$A$4:$A$87,ModelData!$Y$4:$Y$87)","v":-1},{"$f":"LOOKUP(B3,ModelData!$A$4:$A$87,ModelData!$Z$4:$Z$87)","v":-1},{"$f":"LOOKUP(C21,LeadData!$A$4:$A$288,LeadData!$B$4:$B$288)","v":{"$error":"#N/A"}},null,{"$f":"LOOKUP(C21,LeadData!$A$4:$A$288,LeadData!$C$4:$C$288)","v":{"$error":"#N/A"}},{"$f":"LOOKUP(C21,LeadData!$A$4:$A$288,LeadData!$D$4:$D$288)","v":{"$error":"#N/A"}},{"$f":"LOOKUP(C21,LeadData!$A$4:$A$288,LeadData!$E$4:$E$288)","v":{"$error":"#N/A"}},{"$f":"LOOKUP(C21,LeadData!$A$4:$A$288,LeadData!$F$4:$F$288)","v":{"$error":"#N/A"}},null,null,null,{"$f":"LOOKUP(C21,LeadData!$A$4:$A$288,LeadData!$G$4:$G$288)","v":{"$error":"#N/A"}},{"$f":"LOOKUP(C21,LeadData!$A$4:$A$288,LeadData!$H$4:$H$288)","v":{"$error":"#N/A"}},null,{"$f":"LOOKUP(C21,LeadData!$A$4:$A$288,LeadData!$I$4:$I$288)","v":{"$error":"#N/A"}}]
[null,{"$f":"ModelData!$AA$2","v":"リンク[7]"},{"$f":"LOOKUP(B3,ModelData!$A$4:$A$87,ModelData!$AA$4:$AA$87)","v":-1},{"$f":"LOOKUP(B3,ModelData!$A$4:$A$87,ModelData!$AB$4:$AB$87)","v":-1},{"$f":"LOOKUP(B3,ModelData!$A$4:$A$87,ModelData!$AC$4:$AC$87)","v":-1},{"$f":"LOOKUP(C22,LeadData!$A$4:$A$288,LeadData!$B$4:$B$288)","v":{"$error":"#N/A"}},null,{"$f":"LOOKUP(C22,LeadData!$A$4:$A$288,LeadData!$C$4:$C$288)","v":{"$error":"#N/A"}},{"$f":"LOOKUP(C22,LeadData!$A$4:$A$288,LeadData!$D$4:$D$288)","v":{"$error":"#N/A"}},{"$f":"LOOKUP(C22,LeadData!$A$4:$A$288,LeadData!$E$4:$E$288)","v":{"$error":"#N/A"}},{"$f":"LOOKUP(C22,LeadData!$A$4:$A$288,LeadData!$F$4:$F$288)","v":{"$error":"#N/A"}},null,null,null,{"$f":"LOOKUP(C22,LeadData!$A$4:$A$288,LeadData!$G$4:$G$288)","v":{"$error":"#N/A"}},{"$f":"LOOKUP(C22,LeadData!$A$4:$A$288,LeadData!$H$4:$H$288)","v":{"$error":"#N/A"}},null,{"$f":"LOOKUP(C22,LeadData!$A$4:$A$288,LeadData!$I$4:$I$288)","v":{"$error":"#N/A"}}]
[null,"リードリストとリレーション",null,null,null,"リードデータレコードの物理量変換"]
[null,"ﾘｰﾄﾞﾘｽﾄ",null,"リンク",null,{"$f":"LeadData!$B$2","v":"ﾘｰﾄﾞ長"},null,{"$f":"LeadData!$C$2","v":"水平定格加速度"},{"$f":"LeadData!$D$2","v":"垂直定格加速度"},{"$f":"LeadData!$E$2","v":"水平最大加速度"},{"$f":"LeadData!$F$2","v":"垂直最大加速度"},null,null,null,{"$f":"LeadData!$G$2","v":"ｷﾞｱ比分子"},{"$f":"LeadData!$H$2","v":"ｷﾞｱ比分母"},null,{"$f":"LeadData!$I$2","v":"ｽﾄﾛｰｸ刻み"}]
[null,"№","ﾃﾞｰﾀ",{"$f":"D14","v":"ｽﾄﾛｰｸ№"},{"$f":"E14","v":"負荷№"},"[mm]","[kgm^2]","[m/s^2]","[m/s^2]","[m/s^2]","[m/s^2]","[Nm]","[Nms]","[Nm]",null,null,null,"[mm]"]
[null,1,{"$f":"IF(C15=-1,\"- - -\",IF(F26<=0,P26/O26,F26))","v":2.5},{"$f":"D15","v":1484},2977,{"$f":"F15/1000","v":2.5},{"$f":"G15*0.000000001","v":0},{"$f":"H15*0.000001","v":2.9419949999999999},2.9419949999999999,14.709975,14.709975,null,null,null,{"$f":"O15","v":1},{"$f":"P15","v":1},null,{"$f":"R15","v":50}]
[null,{"$f":"B26+1","v":2},5,1486,2985,5,0,2.9419949999999999,2.9419949999999999,44.129925,29.41995,null,null,null,{"$f":"O16","v":1},1,null,{"$f":"R16","v":50}]
[null,{"$f":"B27+1","v":3},10,1488,3009,10,0,2.9419949999999999,2.9419949999999999,44.129925,29.41995,null,null,null,1,1,null,50]
[null,4,16,1490,3030,16,0,2.9419949999999999,2.9419949999999999,44.129925,29.41995,null,null,null,1,1,null,50]
[null,5,"- - -",-1,-1,{"$error":"#N/A"},0,{"$error":"#N/A"},{"$error":"#N/A"},{"$error":"#N/A"},{"$error":"#N/A"},null,null,null,{"$error":"#N/A"},{"$error":"#N/A"},null,{"$error":"#N/A"}]
[null,6,"- - -",-1,-1,{"$error":"#N/A"},0,{"$error":"#N/A"},{"$error":"#N/A"},{"$error":"#N/A"},{"$error":"#N/A"},null,null,null,{"$error":"#N/A"},{"$error":"#N/A"},null,{"$error":"#N/A"}]
[null,7,"- - -",-1,-1,{"$error":"#N/A"},0,{"$error":"#N/A"},{"$error":"#N/A"},{"$error":"#N/A"},{"$error":"#N/A"},null,null,null,{"$error":"#N/A"},{"$error":"#N/A"},null,{"$error":"#N/A"}]
[null,8,"- - -",-1,-1,{"$error":"#N/A"},0,{"$error":"#N/A"},{"$error":"#N/A"},{"$error":"#N/A"},{"$error":"#N/A"},null,null,null,{"$error":"#N/A"},{"$error":"#N/A"},null,{"$error":"#N/A"}]
[]
[null,"リードリスト選択№",null,{"$f":"MATCH(A5,C26:C33,0)","v":1},"ストロークデータレコード",null,null,{"$f":"LOOKUP(C37,StrokeData!$A$4:$A$2036,StrokeData!$M$4:$M$2036)","v":"RCS4-SA4C-60-2.5"}]
[null,"№","stﾚｺｰﾄﾞ№",{"$f":"StrokeData!$B$2","v":"ｽﾄﾛｰｸ長"},{"$f":"StrokeData!$C$2","v":"有効ｽﾄﾛｰｸ補正"},null,{"$f":"StrokeData!$D$2","v":"基準ｹﾞｲﾝ用搬送質量"},{"$f":"StrokeData!$E$2","v":"水平可搬質量"},{"$f":"StrokeData!$F$2","v":"垂直可搬質量"},{"$f":"StrokeData!$G$2","v":"最大速度"},{"$f":"StrokeData!$H$2","v":"位置ｹﾞｲﾝ"},{"$f":"StrokeData!$I$2","v":"FFｹﾞｲﾝ"},{"$f":"StrokeData!$J$2","v":"速度制御帯域"},null,null,null,null,null,{"$f":"StrokeData!$K$2","v":"前ﾃﾞｰﾀ№"},{"$f":"StrokeData!$L$2","v":"次ﾃﾞｰﾀ№"}]
[null,1,{"$f":"LOOKUP(D35,B26:B33,D26:D33)","v":1484},{"$f":"LOOKUP(C37,StrokeData!$A$4:$A$2036,StrokeData!$B$4:$B$2036)","v":450},{"$f":"LOOKUP(C37,StrokeData!$A$4:$A$2036,StrokeData!$C$4:$C$2036)","v":0},null,{"$f":"LOOKUP(C37,StrokeData!$A$4:$A$2036,StrokeData!$D$4:$D$2036)","v":20000},{"$f":"LOOKUP(C37,StrokeData!$A$4:$A$2036,StrokeData!$E$4:$E$2036)","v":20000},{"$f":"LOOKUP(C37,StrokeData!$A$4:$A$2036,StrokeData!$F$4:$F$2036)","v":12000},{"$f":"LOOKUP(C37,StrokeData!$A$4:$A$2036,StrokeData!$G$4:$G$2036)","v":150},{"$f":"LOOKUP(C37,StrokeData!$A$4:$A$2036,StrokeData!$H$4:$H$2036)","v":30},{"$f":"LOOKUP(C37,StrokeData!$A$4:$A$2036,StrokeData!$I$4:$I$2036)","v":0},{"$f":"LOOKUP(C37,StrokeData!$A$4:$A$2036,StrokeData!$J$4:$J$2036)","v":245},null,null,null,null,null,{"$f":"LOOKUP(C37,StrokeData!$A$4:$A$2036,StrokeData!$K$4:$K$2036)","v":-1},{"$f":"LOOKUP(C37,StrokeData!$A$4:$A$2036,StrokeData!$L$4:$L$2036)","v":1485}]
[null,{"$f":"B37+1","v":2},{"$f":"IF(C37=-1,-1,LOOKUP(C37,StrokeData!$A$4:$A$2036,StrokeData!$L$4:$L$2036))","v":1485},{"$f":"LOOKUP(C38,StrokeData!$A$4:$A$2036,StrokeData!$B$4:$B$2036)","v":500},{"$f":"LOOKUP(C38,StrokeData!$A$4:$A$2036,StrokeData!$C$4:$C$2036)","v":0},null,{"$f":"LOOKUP(C38,StrokeData!$A$4:$A$2036,StrokeData!$D$4:$D$2036)","v":20000},{"$f":"LOOKUP(C38,StrokeData!$A$4:$A$2036,StrokeData!$E$4:$E$2036)","v":20000},{"$f":"LOOKUP(C38,StrokeData!$A$4:$A$2036,StrokeData!$F$4:$F$2036)","v":12000},{"$f":"LOOKUP(C38,StrokeData!$A$4:$A$2036,StrokeData!$G$4:$G$2036)","v":135},{"$f":"LOOKUP(C38,StrokeData!$A$4:$A$2036,StrokeData!$H$4:$H$2036)","v":30},{"$f":"LOOKUP(C38,StrokeData!$A$4:$A$2036,StrokeData!$I$4:$I$2036)","v":0},{"$f":"LOOKUP(C38,StrokeData!$A$4:$A$2036,StrokeData!$J$4:$J$2036)","v":245},null,null,null,null,null,{"$f":"LOOKUP(C38,StrokeData!$A$4:$A$2036,StrokeData!$K$4:$K$2036)","v":1484},{"$f":"LOOKUP(C38,StrokeData!$A$4:$A$2036,StrokeData!$L$4:$L$2036)","v":-1}]
[null,{"$f":"B38+1","v":3},{"$f":"IF(C38=-1,-1,LOOKUP(C38,StrokeData!$A$4:$A$2036,StrokeData!$L$4:$L$2036))","v":-1},{"$f":"LOOKUP(C39,StrokeData!$A$4:$A$2036,StrokeData!$B$4:$B$2036)","v":{"$error":"#N/A"}},{"$f":"LOOKUP(C39,StrokeData!$A$4:$A$2036,StrokeData!$C$4:$C$2036)","v":{"$error":"#N/A"}},null,{"$f":"LOOKUP(C39,StrokeData!$A$4:$A$2036,StrokeData!$D$4:$D$2036)","v":{"$error":"#N/A"}},{"$f":"LOOKUP(C39,StrokeData!$A$4:$A$2036,StrokeData!$E$4:$E$2036)","v":{"$error":"#N/A"}},{"$f":"LOOKUP(C39,StrokeData!$A$4:$A$2036,StrokeData!$F$4:$F$2036)","v":{"$error":"#N/A"}},{"$f":"LOOKUP(C39,StrokeData!$A$4:$A$2036,StrokeData!$G$4:$G$2036)","v":{"$error":"#N/A"}},{"$f":"LOOKUP(C39,StrokeData!$A$4:$A$2036,StrokeData!$H$4:$H$2036)","v":{"$error":"#N/A"}},{"$f":"LOOKUP(C39,StrokeData!$A$4:$A$2036,StrokeData!$I$4:$I$2036)","v":{"$error":"#N/A"}},{"$f":"LOOKUP(C39,StrokeData!$A$4:$A$2036,StrokeData!$J$4:$J$2036)","v":{"$error":"#N/A"}},null,null,null,null,null,{"$f":"LOOKUP(C39,StrokeData!$A$4:$A$2036,StrokeData!$K$4:$K$2036)","v":{"$error":"#N/A"}},{"$f":"LOOKUP(C39,StrokeData!$A$4:$A$2036,StrokeData!$L$4:$L$2036)","v":{"$error":"#N/A"}}]
[null,4,{"$f":"IF(C39=-1,-1,LOOKUP(C39,StrokeData!$A$4:$A$2036,StrokeData!$L$4:$L$2036))","v":-1},{"$f":"LOOKUP(C40,StrokeData!$A$4:$A$2036,StrokeData!$B$4:$B$2036)","v":{"$error":"#N/A"}},{"$f":"LOOKUP(C40,StrokeData!$A$4:$A$2036,StrokeData!$C$4:$C$2036)","v":{"$error":"#N/A"}},null,{"$f":"LOOKUP(C40,StrokeData!$A$4:$A$2036,StrokeData!$D$4:$D$2036)","v":{"$error":"#N/A"}},{"$f":"LOOKUP(C40,StrokeData!$A$4:$A$2036,StrokeData!$E$4:$E$2036)","v":{"$error":"#N/A"}},{"$f":"LOOKUP(C40,StrokeData!$A$4:$A$2036,StrokeData!$F$4:$F$2036)","v":{"$error":"#N/A"}},{"$f":"LOOKUP(C40,StrokeData!$A$4:$A$2036,StrokeData!$G$4:$G$2036)","v":{"$error":"#N/A"}},{"$f":"LOOKUP(C40,StrokeData!$A$4:$A$2036,StrokeData!$H$4:$H$2036)","v":{"$error":"#N/A"}},{"$f":"LOOKUP(C40,StrokeData!$A$4:$A$2036,StrokeData!$I$4:$I$2036)","v":{"$error":"#N/A"}},{"$f":"LOOKUP(C40,StrokeData!$A$4:$A$2036,StrokeData!$J$4:$J$2036)","v":{"$error":"#N/A"}},null,null,null,null,null,{"$f":"LOOKUP(C40,StrokeData!$A$4:$A$2036,StrokeData!$K$4:$K$2036)","v":{"$error":"#N/A"}},{"$f":"LOOKUP(C40,StrokeData!$A$4:$A$2036,StrokeData!$L$4:$L$2036)","v":{"$error":"#N/A"}}]
[null,5,{"$f":"IF(C40=-1,-1,LOOKUP(C40,StrokeData!$A$4:$A$2036,StrokeData!$L$4:$L$2036))","v":-1},{"$f":"LOOKUP(C41,StrokeData!$A$4:$A$2036,StrokeData!$B$4:$B$2036)","v":{"$error":"#N/A"}},{"$f":"LOOKUP(C41,StrokeData!$A$4:$A$2036,StrokeData!$C$4:$C$2036)","v":{"$error":"#N/A"}},null,{"$f":"LOOKUP(C41,StrokeData!$A$4:$A$2036,StrokeData!$D$4:$D$2036)","v":{"$error":"#N/A"}},{"$f":"LOOKUP(C41,StrokeData!$A$4:$A$2036,StrokeData!$E$4:$E$2036)","v":{"$error":"#N/A"}},{"$f":"LOOKUP(C41,StrokeData!$A$4:$A$2036,StrokeData!$F$4:$F$2036)","v":{"$error":"#N/A"}},{"$f":"LOOKUP(C41,StrokeData!$A$4:$A$2036,StrokeData!$G$4:$G$2036)","v":{"$error":"#N/A"}},{"$f":"LOOKUP(C41,StrokeData!$A$4:$A$2036,StrokeData!$H$4:$H$2036)","v":{"$error":"#N/A"}},{"$f":"LOOKUP(C41,StrokeData!$A$4:$A$2036,StrokeData!$I$4:$I$2036)","v":{"$error":"#N/A"}},{"$f":"LOOKUP(C41,StrokeData!$A$4:$A$2036,StrokeData!$J$4:$J$2036)","v":{"$error":"#N/A"}},null,null,null,null,null,{"$f":"LOOKUP(C41,StrokeData!$A$4:$A$2036,StrokeData!$K$4:$K$2036)","v":{"$error":"#N/A"}},{"$f":"LOOKUP(C41,StrokeData!$A$4:$A$2036,StrokeData!$L$4:$L$2036)","v":{"$error":"#N/A"}}]
[null,6,{"$f":"IF(C41=-1,-1,LOOKUP(C41,StrokeData!$A$4:$A$2036,StrokeData!$L$4:$L$2036))","v":-1},{"$f":"LOOKUP(C42,StrokeData!$A$4:$A$2036,StrokeData!$B$4:$B$2036)","v":{"$error":"#N/A"}},{"$f":"LOOKUP(C42,StrokeData!$A$4:$A$2036,StrokeData!$C$4:$C$2036)","v":{"$error":"#N/A"}},null,{"$f":"LOOKUP(C42,StrokeData!$A$4:$A$2036,StrokeData!$D$4:$D$2036)","v":{"$error":"#N/A"}},{"$f":"LOOKUP(C42,StrokeData!$A$4:$A$2036,StrokeData!$E$4:$E$2036)","v":{"$error":"#N/A"}},{"$f":"LOOKUP(C42,StrokeData!$A$4:$A$2036,StrokeData!$F$4:$F$2036)","v":{"$error":"#N/A"}},{"$f":"LOOKUP(C42,StrokeData!$A$4:$A$2036,StrokeData!$G$4:$G$2036)","v":{"$error":"#N/A"}},{"$f":"LOOKUP(C42,StrokeData!$A$4:$A$2036,StrokeData!$H$4:$H$2036)","v":{"$error":"#N/A"}},{"$f":"LOOKUP(C42,StrokeData!$A$4:$A$2036,StrokeData!$I$4:$I$2036)","v":{"$error":"#N/A"}},{"$f":"LOOKUP(C42,StrokeData!$A$4:$A$2036,StrokeData!$J$4:$J$2036)","v":{"$error":"#N/A"}},null,null,null,null,null,{"$f":"LOOKUP(C42,StrokeData!$A$4:$A$2036,StrokeData!$K$4:$K$2036)","v":{"$error":"#N/A"}},{"$f":"LOOKUP(C42,StrokeData!$A$4:$A$2036,StrokeData!$L$4:$L$2036)","v":{"$error":"#N/A"}}]
[null,7,{"$f":"IF(C42=-1,-1,LOOKUP(C42,StrokeData!$A$4:$A$2036,StrokeData!$L$4:$L$2036))","v":-1},{"$f":"LOOKUP(C43,StrokeData!$A$4:$A$2036,StrokeData!$B$4:$B$2036)","v":{"$error":"#N/A"}},{"$f":"LOOKUP(C43,StrokeData!$A$4:$A$2036,StrokeData!$C$4:$C$2036)","v":{"$error":"#N/A"}},null,{"$f":"LOOKUP(C43,StrokeData!$A$4:$A$2036,StrokeData!$D$4:$D$2036)","v":{"$error":"#N/A"}},{"$f":"LOOKUP(C43,StrokeData!$A$4:$A$2036,StrokeData!$E$4:$E$2036)","v":{"$error":"#N/A"}},{"$f":"LOOKUP(C43,StrokeData!$A$4:$A$2036,StrokeData!$F$4:$F$2036)","v":{"$error":"#N/A"}},{"$f":"LOOKUP(C43,StrokeData!$A$4:$A$2036,StrokeData!$G$4:$G$2036)","v":{"$error":"#N/A"}},{"$f":"LOOKUP(C43,StrokeData!$A$4:$A$2036,StrokeData!$H$4:$H$2036)","v":{"$error":"#N/A"}},{"$f":"LOOKUP(C43,StrokeData!$A$4:$A$2036,StrokeData!$I$4:$I$2036)","v":{"$error":"#N/A"}},{"$f":"LOOKUP(C43,StrokeData!$A$4:$A$2036,StrokeData!$J$4:$J$2036)","v":{"$error":"#N/A"}},null,null,null,null,null,{"$f":"LOOKUP(C43,StrokeData!$A$4:$A$2036,StrokeData!$K$4:$K$2036)","v":{"$error":"#N/A"}},{"$f":"LOOKUP(C43,StrokeData!$A$4:$A$2036,StrokeData!$L$4:$L$2036)","v":{"$error":"#N/A"}}]
[null,8,{"$f":"IF(C43=-1,-1,LOOKUP(C43,StrokeData!$A$4:$A$2036,StrokeData!$L$4:$L$2036))","v":-1},{"$f":"LOOKUP(C44,StrokeData!$A$4:$A$2036,StrokeData!$B$4:$B$2036)","v":{"$error":"#N/A"}},{"$f":"LOOKUP(C44,StrokeData!$A$4:$A$2036,StrokeData!$C$4:$C$2036)","v":{"$error":"#N/A"}},null,{"$f":"LOOKUP(C44,StrokeData!$A$4:$A$2036,StrokeData!$D$4:$D$2036)","v":{"$error":"#N/A"}},{"$f":"LOOKUP(C44,StrokeData!$A$4:$A$2036,StrokeData!$E$4:$E$2036)","v":{"$error":"#N/A"}},{"$f":"LOOKUP(C44,StrokeData!$A$4:$A$2036,StrokeData!$F$4:$F$2036)","v":{"$error":"#N/A"}},{"$f":"LOOKUP(C44,StrokeData!$A$4:$A$2036,StrokeData!$G$4:$G$2036)","v":{"$error":"#N/A"}},{"$f":"LOOKUP(C44,StrokeData!$A$4:$A$2036,StrokeData!$H$4:$H$2036)","v":{"$error":"#N/A"}},{"$f":"LOOKUP(C44,StrokeData!$A$4:$A$2036,StrokeData!$I$4:$I$2036)","v":{"$error":"#N/A"}},{"$f":"LOOKUP(C44,StrokeData!$A$4:$A$2036,StrokeData!$J$4:$J$2036)","v":{"$error":"#N/A"}},null,null,null,null,null,{"$f":"LOOKUP(C44,StrokeData!$A$4:$A$2036,StrokeData!$K$4:$K$2036)","v":{"$error":"#N/A"}},{"$f":"LOOKUP(C44,StrokeData!$A$4:$A$2036,StrokeData!$L$4:$L$2036)","v":{"$error":"#N/A"}}]
[null,9,{"$f":"IF(C44=-1,-1,LOOKUP(C44,StrokeData!$A$4:$A$2036,StrokeData!$L$4:$L$2036))","v":-1},{"$f":"LOOKUP(C45,StrokeData!$A$4:$A$2036,StrokeData!$B$4:$B$2036)","v":{"$error":"#N/A"}},{"$f":"LOOKUP(C45,StrokeData!$A$4:$A$2036,StrokeData!$C$4:$C$2036)","v":{"$error":"#N/A"}},null,{"$f":"LOOKUP(C45,StrokeData!$A$4:$A$2036,StrokeData!$D$4:$D$2036)","v":{"$error":"#N/A"}},{"$f":"LOOKUP(C45,StrokeData!$A$4:$A$2036,StrokeData!$E$4:$E$2036)","v":{"$error":"#N/A"}},{"$f":"LOOKUP(C45,StrokeData!$A$4:$A$2036,StrokeData!$F$4:$F$2036)","v":{"$error":"#N/A"}},{"$f":"LOOKUP(C45,StrokeData!$A$4:$A$2036,StrokeData!$G$4:$G$2036)","v":{"$error":"#N/A"}},{"$f":"LOOKUP(C45,StrokeData!$A$4:$A$2036,StrokeData!$H$4:$H$2036)","v":{"$error":"#N/A"}},{"$f":"LOOKUP(C45,StrokeData!$A$4:$A$2036,StrokeData!$I$4:$I$2036)","v":{"$error":"#N/A"}},{"$f":"LOOKUP(C45,StrokeData!$A$4:$A$2036,StrokeData!$J$4:$J$2036)","v":{"$error":"#N/A"}},null,null,null,null,null,{"$f":"LOOKUP(C45,StrokeData!$A$4:$A$2036,StrokeData!$K$4:$K$2036)","v":{"$error":"#N/A"}},{"$f":"LOOKUP(C45,StrokeData!$A$4:$A$2036,StrokeData!$L$4:$L$2036)","v":{"$error":"#N/A"}}]
[null,10,{"$f":"IF(C45=-1,-1,LOOKUP(C45,StrokeData!$A$4:$A$2036,StrokeData!$L$4:$L$2036))","v":-1},{"$f":"LOOKUP(C46,StrokeData!$A$4:$A$2036,StrokeData!$B$4:$B$2036)","v":{"$error":"#N/A"}},{"$f":"LOOKUP(C46,StrokeData!$A$4:$A$2036,StrokeData!$C$4:$C$2036)","v":{"$error":"#N/A"}},null,{"$f":"LOOKUP(C46,StrokeData!$A$4:$A$2036,StrokeData!$D$4:$D$2036)","v":{"$error":"#N/A"}},{"$f":"LOOKUP(C46,StrokeData!$A$4:$A$2036,StrokeData!$E$4:$E$2036)","v":{"$error":"#N/A"}},{"$f":"LOOKUP(C46,StrokeData!$A$4:$A$2036,StrokeData!$F$4:$F$2036)","v":{"$error":"#N/A"}},{"$f":"LOOKUP(C46,StrokeData!$A$4:$A$2036,StrokeData!$G$4:$G$2036)","v":{"$error":"#N/A"}},{"$f":"LOOKUP(C46,StrokeData!$A$4:$A$2036,StrokeData!$H$4:$H$2036)","v":{"$error":"#N/A"}},{"$f":"LOOKUP(C46,StrokeData!$A$4:$A$2036,StrokeData!$I$4:$I$2036)","v":{"$error":"#N/A"}},{"$f":"LOOKUP(C46,StrokeData!$A$4:$A$2036,StrokeData!$J$4:$J$2036)","v":{"$error":"#N/A"}},null,null,null,null,null,{"$f":"LOOKUP(C46,StrokeData!$A$4:$A$2036,StrokeData!$K$4:$K$2036)","v":{"$error":"#N/A"}},{"$f":"LOOKUP(C46,StrokeData!$A$4:$A$2036,StrokeData!$L$4:$L$2036)","v":{"$error":"#N/A"}}]
[null,11,{"$f":"IF(C46=-1,-1,LOOKUP(C46,StrokeData!$A$4:$A$2036,StrokeData!$L$4:$L$2036))","v":-1},{"$f":"LOOKUP(C47,StrokeData!$A$4:$A$2036,StrokeData!$B$4:$B$2036)","v":{"$error":"#N/A"}},{"$f":"LOOKUP(C47,StrokeData!$A$4:$A$2036,StrokeData!$C$4:$C$2036)","v":{"$error":"#N/A"}},null,{"$f":"LOOKUP(C47,StrokeData!$A$4:$A$2036,StrokeData!$D$4:$D$2036)","v":{"$error":"#N/A"}},{"$f":"LOOKUP(C47,StrokeData!$A$4:$A$2036,StrokeData!$E$4:$E$2036)","v":{"$error":"#N/A"}},{"$f":"LOOKUP(C47,StrokeData!$A$4:$A$2036,StrokeData!$F$4:$F$2036)","v":{"$error":"#N/A"}},{"$f":"LOOKUP(C47,StrokeData!$A$4:$A$2036,StrokeData!$G$4:$G$2036)","v":{"$error":"#N/A"}},{"$f":"LOOKUP(C47,StrokeData!$A$4:$A$2036,StrokeData!$H$4:$H$2036)","v":{"$error":"#N/A"}},{"$f":"LOOKUP(C47,StrokeData!$A$4:$A$2036,StrokeData!$I$4:$I$2036)","v":{"$error":"#N/A"}},{"$f":"LOOKUP(C47,StrokeData!$A$4:$A$2036,StrokeData!$J$4:$J$2036)","v":{"$error":"#N/A"}},null,null,null,null,null,{"$f":"LOOKUP(C47,StrokeData!$A$4:$A$2036,StrokeData!$K$4:$K$2036)","v":{"$error":"#N/A"}},{"$f":"LOOKUP(C47,StrokeData!$A$4:$A$2036,StrokeData!$L$4:$L$2036)","v":{"$error":"#N/A"}}]
[null,12,{"$f":"IF(C47=-1,-1,LOOKUP(C47,StrokeData!$A$4:$A$2036,StrokeData!$L$4:$L$2036))","v":-1},{"$f":"LOOKUP(C48,StrokeData!$A$4:$A$2036,StrokeData!$B$4:$B$2036)","v":{"$error":"#N/A"}},{"$f":"LOOKUP(C48,StrokeData!$A$4:$A$2036,StrokeData!$C$4:$C$2036)","v":{"$error":"#N/A"}},null,{"$f":"LOOKUP(C48,StrokeData!$A$4:$A$2036,StrokeData!$D$4:$D$2036)","v":{"$error":"#N/A"}},{"$f":"LOOKUP(C48,StrokeData!$A$4:$A$2036,StrokeData!$E$4:$E$2036)","v":{"$error":"#N/A"}},{"$f":"LOOKUP(C48,StrokeData!$A$4:$A$2036,StrokeData!$F$4:$F$2036)","v":{"$error":"#N/A"}},{"$f":"LOOKUP(C48,StrokeData!$A$4:$A$2036,StrokeData!$G$4:$G$2036)","v":{"$error":"#N/A"}},{"$f":"LOOKUP(C48,StrokeData!$A$4:$A$2036,StrokeData!$H$4:$H$2036)","v":{"$error":"#N/A"}},{"$f":"LOOKUP(C48,StrokeData!$A$4:$A$2036,StrokeData!$I$4:$I$2036)","v":{"$error":"#N/A"}},{"$f":"LOOKUP(C48,StrokeData!$A$4:$A$2036,StrokeData!$J$4:$J$2036)","v":{"$error":"#N/A"}},null,null,null,null,null,{"$f":"LOOKUP(C48,StrokeData!$A$4:$A$2036,StrokeData!$K$4:$K$2036)","v":{"$error":"#N/A"}},{"$f":"LOOKUP(C48,StrokeData!$A$4:$A$2036,StrokeData!$L$4:$L$2036)","v":{"$error":"#N/A"}}]
[null,13,{"$f":"IF(C48=-1,-1,LOOKUP(C48,StrokeData!$A$4:$A$2036,StrokeData!$L$4:$L$2036))","v":-1},{"$f":"LOOKUP(C49,StrokeData!$A$4:$A$2036,StrokeData!$B$4:$B$2036)","v":{"$error":"#N/A"}},{"$f":"LOOKUP(C49,StrokeData!$A$4:$A$2036,StrokeData!$C$4:$C$2036)","v":{"$error":"#N/A"}},null,{"$f":"LOOKUP(C49,StrokeData!$A$4:$A$2036,StrokeData!$D$4:$D$2036)","v":{"$error":"#N/A"}},{"$f":"LOOKUP(C49,StrokeData!$A$4:$A$2036,StrokeData!$E$4:$E$2036)","v":{"$error":"#N/A"}},{"$f":"LOOKUP(C49,StrokeData!$A$4:$A$2036,StrokeData!$F$4:$F$2036)","v":{"$error":"#N/A"}},{"$f":"LOOKUP(C49,StrokeData!$A$4:$A$2036,StrokeData!$G$4:$G$2036)","v":{"$error":"#N/A"}},{"$f":"LOOKUP(C49,StrokeData!$A$4:$A$2036,StrokeData!$H$4:$H$2036)","v":{"$error":"#N/A"}},{"$f":"LOOKUP(C49,StrokeData!$A$4:$A$2036,StrokeData!$I$4:$I$2036)","v":{"$error":"#N/A"}},{"$f":"LOOKUP(C49,StrokeData!$A$4:$A$2036,StrokeData!$J$4:$J$2036)","v":{"$error":"#N/A"}},null,null,null,null,null,{"$f":"LOOKUP(C49,StrokeData!$A$4:$A$2036,StrokeData!$K$4:$K$2036)","v":{"$error":"#N/A"}},{"$f":"LOOKUP(C49,StrokeData!$A$4:$A$2036,StrokeData!$L$4:$L$2036)","v":{"$error":"#N/A"}}]
[null,14,{"$f":"IF(C49=-1,-1,LOOKUP(C49,StrokeData!$A$4:$A$2036,StrokeData!$L$4:$L$2036))","v":-1},{"$f":"LOOKUP(C50,StrokeData!$A$4:$A$2036,StrokeData!$B$4:$B$2036)","v":{"$error":"#N/A"}},{"$f":"LOOKUP(C50,StrokeData!$A$4:$A$2036,StrokeData!$C$4:$C$2036)","v":{"$error":"#N/A"}},null,{"$f":"LOOKUP(C50,StrokeData!$A$4:$A$2036,StrokeData!$D$4:$D$2036)","v":{"$error":"#N/A"}},{"$f":"LOOKUP(C50,StrokeData!$A$4:$A$2036,StrokeData!$E$4:$E$2036)","v":{"$error":"#N/A"}},{"$f":"LOOKUP(C50,StrokeData!$A$4:$A$2036,StrokeData!$F$4:$F$2036)","v":{"$error":"#N/A"}},{"$f":"LOOKUP(C50,StrokeData!$A$4:$A$2036,StrokeData!$G$4:$G$2036)","v":{"$error":"#N/A"}},{"$f":"LOOKUP(C50,StrokeData!$A$4:$A$2036,StrokeData!$H$4:$H$2036)","v":{"$error":"#N/A"}},{"$f":"LOOKUP(C50,StrokeData!$A$4:$A$2036,StrokeData!$I$4:$I$2036)","v":{"$error":"#N/A"}},{"$f":"LOOKUP(C50,StrokeData!$A$4:$A$2036,StrokeData!$J$4:$J$2036)","v":{"$error":"#N/A"}},null,null,null,null,null,{"$f":"LOOKUP(C50,StrokeData!$A$4:$A$2036,StrokeData!$K$4:$K$2036)","v":{"$error":"#N/A"}},{"$f":"LOOKUP(C50,StrokeData!$A$4:$A$2036,StrokeData!$L$4:$L$2036)","v":{"$error":"#N/A"}}]
[null,15,{"$f":"IF(C50=-1,-1,LOOKUP(C50,StrokeData!$A$4:$A$2036,StrokeData!$L$4:$L$2036))","v":-1},{"$f":"LOOKUP(C51,StrokeData!$A$4:$A$2036,StrokeData!$B$4:$B$2036)","v":{"$error":"#N/A"}},{"$f":"LOOKUP(C51,StrokeData!$A$4:$A$2036,StrokeData!$C$4:$C$2036)","v":{"$error":"#N/A"}},null,{"$f":"LOOKUP(C51,StrokeData!$A$4:$A$2036,StrokeData!$D$4:$D$2036)","v":{"$error":"#N/A"}},{"$f":"LOOKUP(C51,StrokeData!$A$4:$A$2036,StrokeData!$E$4:$E$2036)","v":{"$error":"#N/A"}},{"$f":"LOOKUP(C51,StrokeData!$A$4:$A$2036,StrokeData!$F$4:$F$2036)","v":{"$error":"#N/A"}},{"$f":"LOOKUP(C51,StrokeData!$A$4:$A$2036,StrokeData!$G$4:$G$2036)","v":{"$error":"#N/A"}},{"$f":"LOOKUP(C51,StrokeData!$A$4:$A$2036,StrokeData!$H$4:$H$2036)","v":{"$error":"#N/A"}},{"$f":"LOOKUP(C51,StrokeData!$A$4:$A$2036,StrokeData!$I$4:$I$2036)","v":{"$error":"#N/A"}},{"$f":"LOOKUP(C51,StrokeData!$A$4:$A$2036,StrokeData!$J$4:$J$2036)","v":{"$error":"#N/A"}},null,null,null,null,null,{"$f":"LOOKUP(C51,StrokeData!$A$4:$A$2036,StrokeData!$K$4:$K$2036)","v":{"$error":"#N/A"}},{"$f":"LOOKUP(C51,StrokeData!$A$4:$A$2036,StrokeData!$L$4:$L$2036)","v":{"$error":"#N/A"}}]
[null,16,{"$f":"IF(C51=-1,-1,LOOKUP(C51,StrokeData!$A$4:$A$2036,StrokeData!$L$4:$L$2036))","v":-1},{"$f":"LOOKUP(C52,StrokeData!$A$4:$A$2036,StrokeData!$B$4:$B$2036)","v":{"$error":"#N/A"}},{"$f":"LOOKUP(C52,StrokeData!$A$4:$A$2036,StrokeData!$C$4:$C$2036)","v":{"$error":"#N/A"}},null,{"$f":"LOOKUP(C52,StrokeData!$A$4:$A$2036,StrokeData!$D$4:$D$2036)","v":{"$error":"#N/A"}},{"$f":"LOOKUP(C52,StrokeData!$A$4:$A$2036,StrokeData!$E$4:$E$2036)","v":{"$error":"#N/A"}},{"$f":"LOOKUP(C52,StrokeData!$A$4:$A$2036,StrokeData!$F$4:$F$2036)","v":{"$error":"#N/A"}},{"$f":"LOOKUP(C52,StrokeData!$A$4:$A$2036,StrokeData!$G$4:$G$2036)","v":{"$error":"#N/A"}},{"$f":"LOOKUP(C52,StrokeData!$A$4:$A$2036,StrokeData!$H$4:$H$2036)","v":{"$error":"#N/A"}},{"$f":"LOOKUP(C52,StrokeData!$A$4:$A$2036,StrokeData!$I$4:$I$2036)","v":{"$error":"#N/A"}},{"$f":"LOOKUP(C52,StrokeData!$A$4:$A$2036,StrokeData!$J$4:$J$2036)","v":{"$error":"#N/A"}},null,null,null,null,null,{"$f":"LOOKUP(C52,StrokeData!$A$4:$A$2036,StrokeData!$K$4:$K$2036)","v":{"$error":"#N/A"}},{"$f":"LOOKUP(C52,StrokeData!$A$4:$A$2036,StrokeData!$L$4:$L$2036)","v":{"$error":"#N/A"}}]
[null,17,{"$f":"IF(C52=-1,-1,LOOKUP(C52,StrokeData!$A$4:$A$2036,StrokeData!$L$4:$L$2036))","v":-1},{"$f":"LOOKUP(C53,StrokeData!$A$4:$A$2036,StrokeData!$B$4:$B$2036)","v":{"$error":"#N/A"}},{"$f":"LOOKUP(C53,StrokeData!$A$4:$A$2036,StrokeData!$C$4:$C$2036)","v":{"$error":"#N/A"}},null,{"$f":"LOOKUP(C53,StrokeData!$A$4:$A$2036,StrokeData!$D$4:$D$2036)","v":{"$error":"#N/A"}},{"$f":"LOOKUP(C53,StrokeData!$A$4:$A$2036,StrokeData!$E$4:$E$2036)","v":{"$error":"#N/A"}},{"$f":"LOOKUP(C53,StrokeData!$A$4:$A$2036,StrokeData!$F$4:$F$2036)","v":{"$error":"#N/A"}},{"$f":"LOOKUP(C53,StrokeData!$A$4:$A$2036,StrokeData!$G$4:$G$2036)","v":{"$error":"#N/A"}},{"$f":"LOOKUP(C53,StrokeData!$A$4:$A$2036,StrokeData!$H$4:$H$2036)","v":{"$error":"#N/A"}},{"$f":"LOOKUP(C53,StrokeData!$A$4:$A$2036,StrokeData!$I$4:$I$2036)","v":{"$error":"#N/A"}},{"$f":"LOOKUP(C53,StrokeData!$A$4:$A$2036,StrokeData!$J$4:$J$2036)","v":{"$error":"#N/A"}},null,null,null,null,null,{"$f":"LOOKUP(C53,StrokeData!$A$4:$A$2036,StrokeData!$K$4:$K$2036)","v":{"$error":"#N/A"}},{"$f":"LOOKUP(C53,StrokeData!$A$4:$A$2036,StrokeData!$L$4:$L$2036)","v":{"$error":"#N/A"}}]
[null,18,{"$f":"IF(C53=-1,-1,LOOKUP(C53,StrokeData!$A$4:$A$2036,StrokeData!$L$4:$L$2036))","v":-1},{"$f":"LOOKUP(C54,StrokeData!$A$4:$A$2036,StrokeData!$B$4:$B$2036)","v":{"$error":"#N/A"}},{"$f":"LOOKUP(C54,StrokeData!$A$4:$A$2036,StrokeData!$C$4:$C$2036)","v":{"$error":"#N/A"}},null,{"$f":"LOOKUP(C54,StrokeData!$A$4:$A$2036,StrokeData!$D$4:$D$2036)","v":{"$error":"#N/A"}},{"$f":"LOOKUP(C54,StrokeData!$A$4:$A$2036,StrokeData!$E$4:$E$2036)","v":{"$error":"#N/A"}},{"$f":"LOOKUP(C54,StrokeData!$A$4:$A$2036,StrokeData!$F$4:$F$2036)","v":{"$error":"#N/A"}},{"$f":"LOOKUP(C54,StrokeData!$A$4:$A$2036,StrokeData!$G$4:$G$2036)","v":{"$error":"#N/A"}},{"$f":"LOOKUP(C54,StrokeData!$A$4:$A$2036,StrokeData!$H$4:$H$2036)","v":{"$error":"#N/A"}},{"$f":"LOOKUP(C54,StrokeData!$A$4:$A$2036,StrokeData!$I$4:$I$2036)","v":{"$error":"#N/A"}},{"$f":"LOOKUP(C54,StrokeData!$A$4:$A$2036,StrokeData!$J$4:$J$2036)","v":{"$error":"#N/A"}},null,null,null,null,null,{"$f":"LOOKUP(C54,StrokeData!$A$4:$A$2036,StrokeData!$K$4:$K$2036)","v":{"$error":"#N/A"}},{"$f":"LOOKUP(C54,StrokeData!$A$4:$A$2036,StrokeData!$L$4:$L$2036)","v":{"$error":"#N/A"}}]
[null,19,{"$f":"IF(C54=-1,-1,LOOKUP(C54,StrokeData!$A$4:$A$2036,StrokeData!$L$4:$L$2036))","v":-1},{"$f":"LOOKUP(C55,StrokeData!$A$4:$A$2036,StrokeData!$B$4:$B$2036)","v":{"$error":"#N/A"}},{"$f":"LOOKUP(C55,StrokeData!$A$4:$A$2036,StrokeData!$C$4:$C$2036)","v":{"$error":"#N/A"}},null,{"$f":"LOOKUP(C55,StrokeData!$A$4:$A$2036,StrokeData!$D$4:$D$2036)","v":{"$error":"#N/A"}},{"$f":"LOOKUP(C55,StrokeData!$A$4:$A$2036,StrokeData!$E$4:$E$2036)","v":{"$error":"#N/A"}},{"$f":"LOOKUP(C55,StrokeData!$A$4:$A$2036,StrokeData!$F$4:$F$2036)","v":{"$error":"#N/A"}},{"$f":"LOOKUP(C55,StrokeData!$A$4:$A$2036,StrokeData!$G$4:$G$2036)","v":{"$error":"#N/A"}},{"$f":"LOOKUP(C55,StrokeData!$A$4:$A$2036,StrokeData!$H$4:$H$2036)","v":{"$error":"#N/A"}},{"$f":"LOOKUP(C55,StrokeData!$A$4:$A$2036,StrokeData!$I$4:$I$2036)","v":{"$error":"#N/A"}},{"$f":"LOOKUP(C55,StrokeData!$A$4:$A$2036,StrokeData!$J$4:$J$2036)","v":{"$error":"#N/A"}},null,null,null,null,null,{"$f":"LOOKUP(C55,StrokeData!$A$4:$A$2036,StrokeData!$K$4:$K$2036)","v":{"$error":"#N/A"}},{"$f":"LOOKUP(C55,StrokeData!$A$4:$A$2036,StrokeData!$L$4:$L$2036)","v":{"$error":"#N/A"}}]
[null,20,{"$f":"IF(C55=-1,-1,LOOKUP(C55,StrokeData!$A$4:$A$2036,StrokeData!$L$4:$L$2036))","v":-1},{"$f":"LOOKUP(C56,StrokeData!$A$4:$A$2036,StrokeData!$B$4:$B$2036)","v":{"$error":"#N/A"}},{"$f":"LOOKUP(C56,StrokeData!$A$4:$A$2036,StrokeData!$C$4:$C$2036)","v":{"$error":"#N/A"}},null,{"$f":"LOOKUP(C56,StrokeData!$A$4:$A$2036,StrokeData!$D$4:$D$2036)","v":{"$error":"#N/A"}},{"$f":"LOOKUP(C56,StrokeData!$A$4:$A$2036,StrokeData!$E$4:$E$2036)","v":{"$error":"#N/A"}},{"$f":"LOOKUP(C56,StrokeData!$A$4:$A$2036,StrokeData!$F$4:$F$2036)","v":{"$error":"#N/A"}},{"$f":"LOOKUP(C56,StrokeData!$A$4:$A$2036,StrokeData!$G$4:$G$2036)","v":{"$error":"#N/A"}},{"$f":"LOOKUP(C56,StrokeData!$A$4:$A$2036,StrokeData!$H$4:$H$2036)","v":{"$error":"#N/A"}},{"$f":"LOOKUP(C56,StrokeData!$A$4:$A$2036,StrokeData!$I$4:$I$2036)","v":{"$error":"#N/A"}},{"$f":"LOOKUP(C56,StrokeData!$A$4:$A$2036,StrokeData!$J$4:$J$2036)","v":{"$error":"#N/A"}},null,null,null,null,null,{"$f":"LOOKUP(C56,StrokeData!$A$4:$A$2036,StrokeData!$K$4:$K$2036)","v":{"$error":"#N/A"}},{"$f":"LOOKUP(C56,StrokeData!$A$4:$A$2036,StrokeData!$L$4:$L$2036)","v":{"$error":"#N/A"}}]
[null,null,null,"ストローク",{"$f":"H5","v":50},"mm","～",{"$f":"I5","v":500},"mm",null,"刻み",{"$f":"LOOKUP(D35,B26:B33,R26:R33)","v":50},"mm",null,"慣性係数",{"$f":"IF($J$5=1,0.000001,0.001)","v":1E-3},"有効桁数",{"$f":"IF($J$5=1,6,3)","v":3}]
[null,"stﾘｽﾄ検索用(降順)",null,"№",{"$f":"StrokeData!$B$2","v":"ｽﾄﾛｰｸ長"},"stﾘｽﾄ№",{"$f":"StrokeData!$C$2","v":"有効ｽﾄﾛｰｸ補正"},null,{"$f":"StrokeData!$D$2","v":"基準ｹﾞｲﾝ用搬送質量"},{"$f":"StrokeData!$E$2","v":"水平可搬質量"},{"$f":"StrokeData!$F$2","v":"垂直可搬質量"},{"$f":"StrokeData!$G$2","v":"最大速度"},{"$f":"StrokeData!$H$2","v":"位置ｹﾞｲﾝ"},{"$f":"StrokeData!$I$2","v":"FFｹﾞｲﾝ"},{"$f":"StrokeData!$J$2","v":"速度制御帯域"}]
[null,{"$f":"B36","v":"№"},{"$f":"D36","v":"ｽﾄﾛｰｸ長"},0,{"$f":"H4","v":"[mm]"},null,"[mm]","[kg/mm]",{"$f":"IF(J5=1,\"[kgm^2]\",\"[kg]\")","v":"[kg]"},{"$f":"IF(J5=1,\"[kgm^2]\",\"[kg]\")","v":"[kg]"},{"$f":"IF(J5=1,\"[kgm^2]\",\"[kg]\")","v":"[kg]"},"[mm/s]","[1/s]","[%]","[rad/s]",null,"[s]",null,null,"[Nm/rad]"]
[null,{"$f":"B56","v":20},{"$f":"D56","v":{"$error":"#N/A"}},1,{"$f":"IF( (E57+L57*D59)<=H57,(E57+L57*D59),\"- - -\")","v":50},{"$f":"(B60+1)-MATCH(E60,C60:C79,-1)","v":1},{"$f":"LOOKUP(F60,B37:B56,E37:E56)","v":0},{"$f":"LOOKUP(F60,B37:B56,F37:F56)*0.001","v":0},{"$f":"LOOKUP(F60,B37:B56,G37:G56)*$P$57","v":20},{"$f":"LOOKUP(F60,B37:B56,H37:H56)*$P$57","v":20},{"$f":"LOOKUP(F60,B37:B56,I37:I56)*$P$57","v":12},{"$f":"LOOKUP(F60,B37:B56,J37:J56)","v":150},{"$f":"LOOKUP(F60,B37:B56,K37:K56)","v":30},{"$f":"LOOKUP(F60,B37:B56,L37:L56)","v":0},{"$f":"LOOKUP(F60,B37:B56,M37:M56)","v":245},{"$f":"LOOKUP(F60,B37:B56,N37:N56)","v":0},{"$f":"LOOKUP(F60,B37:B56,O37:O56)","v":0},{"$f":"LOOKUP(F60,B37:B56,P37:P56)","v":0},{"$f":"LOOKUP(F60,B37:B56,Q37:Q56)","v":0},{"$f":"LOOKUP(F60,B37:B56,R37:R56)","v":0}]
[null,{"$f":"B55","v":19},{"$f":"D55","v":{"$error":"#N/A"}},{"$f":"D60+1","v":2},{"$f":"IF( (E57+L57*D60)<=H57,(E57+L57*D60),\"- - -\")","v":100},{"$f":"(B60+1)-MATCH(E61,C60:C79,-1)","v":1},{"$f":"LOOKUP(F61,B37:B56,E37:E56)","v":0},{"$f":"LOOKUP(F61,B37:B56,F37:F56)*0.001","v":0},{"$f":"LOOKUP(F61,B37:B56,G37:G56)*$P$57","v":20},{"$f":"LOOKUP(F61,B37:B56,H37:H56)*$P$57","v":20},{"$f":"LOOKUP(F61,B37:B56,I37:I56)*$P$57","v":12},{"$f":"LOOKUP(F61,B37:B56,J37:J56)","v":150},{"$f":"LOOKUP(F61,B37:B56,K37:K56)","v":30},{"$f":"LOOKUP(F61,B37:B56,L37:L56)","v":0},{"$f":"LOOKUP(F61,B37:B56,M37:M56)","v":245},{"$f":"LOOKUP(F61,B37:B56,N37:N56)","v":0},{"$f":"LOOKUP(F61,B37:B56,O37:O56)","v":0},{"$f":"LOOKUP(F61,B37:B56,P37:P56)","v":0},{"$f":"LOOKUP(F61,B37:B56,Q37:Q56)","v":0},{"$f":"LOOKUP(F61,B37:B56,R37:R56)","v":0}]
[null,{"$f":"B54","v":18},{"$f":"D54","v":{"$error":"#N/A"}},{"$f":"D61+1","v":3},{"$f":"IF( (E57+L57*D61)<=H57,(E57+L57*D61),\"- - -\")","v":150},{"$f":"(B60+1)-MATCH(E62,C60:C79,-1)","v":1},{"$f":"LOOKUP(F62,B37:B56,E37:E56)","v":0},{"$f":"LOOKUP(F62,B37:B56,F37:F56)*0.001","v":0},{"$f":"LOOKUP(F62,B37:B56,G37:G56)*$P$57","v":20},{"$f":"LOOKUP(F62,B37:B56,H37:H56)*$P$57","v":20},{"$f":"LOOKUP(F62,B37:B56,I37:I56)*$P$57","v":12},{"$f":"LOOKUP(F62,B37:B56,J37:J56)","v":150},{"$f":"LOOKUP(F62,B37:B56,K37:K56)","v":30},{"$f":"LOOKUP(F62,B37:B56,L37:L56)","v":0},{"$f":"LOOKUP(F62,B37:B56,M37:M56)","v":245},{"$f":"LOOKUP(F62,B37:B56,N37:N56)","v":0},{"$f":"LOOKUP(F62,B37:B56,O37:O56)","v":0},{"$f":"LOOKUP(F62,B37:B56,P37:P56)","v":0},{"$f":"LOOKUP(F62,B37:B56,Q37:Q56)","v":0},{"$f":"LOOKUP(F62,B37:B56,R37:R56)","v":0}]
[null,{"$f":"B53","v":17},{"$f":"D53","v":{"$error":"#N/A"}},4,{"$f":"IF( (E57+L57*D62)<=H57,(E57+L57*D62),\"- - -\")","v":200},{"$f":"(B60+1)-MATCH(E63,C60:C79,-1)","v":1},{"$f":"LOOKUP(F63,B37:B56,E37:E56)","v":0},{"$f":"LOOKUP(F63,B37:B56,F37:F56)*0.001","v":0},{"$f":"LOOKUP(F63,B37:B56,G37:G56)*$P$57","v":20},{"$f":"LOOKUP(F63,B37:B56,H37:H56)*$P$57","v":20},{"$f":"LOOKUP(F63,B37:B56,I37:I56)*$P$57","v":12},{"$f":"LOOKUP(F63,B37:B56,J37:J56)","v":150},{"$f":"LOOKUP(F63,B37:B56,K37:K56)","v":30},{"$f":"LOOKUP(F63,B37:B56,L37:L56)","v":0},{"$f":"LOOKUP(F63,B37:B56,M37:M56)","v":245},{"$f":"LOOKUP(F63,B37:B56,N37:N56)","v":0},{"$f":"LOOKUP(F63,B37:B56,O37:O56)","v":0},{"$f":"LOOKUP(F63,B37:B56,P37:P56)","v":0},{"$f":"LOOKUP(F63,B37:B56,Q37:Q56)","v":0},{"$f":"LOOKUP(F63,B37:B56,R37:R56)","v":0}]
[null,{"$f":"B52","v":16},{"$f":"D52","v":{"$error":"#N/A"}},5,{"$f":"IF( (E57+L57*D63)<=H57,(E57+L57*D63),\"- - -\")","v":250},{"$f":"(B60+1)-MATCH(E64,C60:C79,-1)","v":1},{"$f":"LOOKUP(F64,B37:B56,E37:E56)","v":0},{"$f":"LOOKUP(F64,B37:B56,F37:F56)*0.001","v":0},{"$f":"LOOKUP(F64,B37:B56,G37:G56)*$P$57","v":20},{"$f":"LOOKUP(F64,B37:B56,H37:H56)*$P$57","v":20},{"$f":"LOOKUP(F64,B37:B56,I37:I56)*$P$57","v":12},{"$f":"LOOKUP(F64,B37:B56,J37:J56)","v":150},{"$f":"LOOKUP(F64,B37:B56,K37:K56)","v":30},{"$f":"LOOKUP(F64,B37:B56,L37:L56)","v":0},{"$f":"LOOKUP(F64,B37:B56,M37:M56)","v":245},{"$f":"LOOKUP(F64,B37:B56,N37:N56)","v":0},{"$f":"LOOKUP(F64,B37:B56,O37:O56)","v":0},{"$f":"LOOKUP(F64,B37:B56,P37:P56)","v":0},{"$f":"LOOKUP(F64,B37:B56,Q37:Q56)","v":0},{"$f":"LOOKUP(F64,B37:B56,R37:R56)","v":0}]
[null,{"$f":"B51","v":15},{"$f":"D51","v":{"$error":"#N/A"}},6,{"$f":"IF( (E57+L57*D64)<=H57,(E57+L57*D64),\"- - -\")","v":300},{"$f":"(B60+1)-MATCH(E65,C60:C79,-1)","v":1},{"$f":"LOOKUP(F65,B37:B56,E37:E56)","v":0},{"$f":"LOOKUP(F65,B37:B56,F37:F56)*0.001","v":0},{"$f":"LOOKUP(F65,B37:B56,G37:G56)*$P$57","v":20},{"$f":"LOOKUP(F65,B37:B56,H37:H56)*$P$57","v":20},{"$f":"LOOKUP(F65,B37:B56,I37:I56)*$P$57","v":12},{"$f":"LOOKUP(F65,B37:B56,J37:J56)","v":150},{"$f":"LOOKUP(F65,B37:B56,K37:K56)","v":30},{"$f":"LOOKUP(F65,B37:B56,L37:L56)","v":0},{"$f":"LOOKUP(F65,B37:B56,M37:M56)","v":245},{"$f":"LOOKUP(F65,B37:B56,N37:N56)","v":0},{"$f":"LOOKUP(F65,B37:B56,O37:O56)","v":0},{"$f":"LOOKUP(F65,B37:B56,P37:P56)","v":0},{"$f":"LOOKUP(F65,B37:B56,Q37:Q56)","v":0},{"$f":"LOOKUP(F65,B37:B56,R37:R56)","v":0}]
[null,{"$f":"B50","v":14},{"$f":"D50","v":{"$error":"#N/A"}},7,{"$f":"IF( (E57+L57*D65)<=H57,(E57+L57*D65),\"- - -\")","v":350},{"$f":"(B60+1)-MATCH(E66,C60:C79,-1)","v":1},{"$f":"LOOKUP(F66,B37:B56,E37:E56)","v":0},{"$f":"LOOKUP(F66,B37:B56,F37:F56)*0.001","v":0},{"$f":"LOOKUP(F66,B37:B56,G37:G56)*$P$57","v":20},{"$f":"LOOKUP(F66,B37:B56,H37:H56)*$P$57","v":20},{"$f":"LOOKUP(F66,B37:B56,I37:I56)*$P$57","v":12},{"$f":"LOOKUP(F66,B37:B56,J37:J56)","v":150},{"$f":"LOOKUP(F66,B37:B56,K37:K56)","v":30},{"$f":"LOOKUP(F66,B37:B56,L37:L56)","v":0},{"$f":"LOOKUP(F66,B37:B56,M37:M56)","v":245},{"$f":"LOOKUP(F66,B37:B56,N37:N56)","v":0},{"$f":"LOOKUP(F66,B37:B56,O37:O56)","v":0},{"$f":"LOOKUP(F66,B37:B56,P37:P56)","v":0},{"$f":"LOOKUP(F66,B37:B56,Q37:Q56)","v":0},{"$f":"LOOKUP(F66,B37:B56,R37:R56)","v":0}]
[null,{"$f":"B49","v":13},{"$f":"D49","v":{"$error":"#N/A"}},8,{"$f":"IF( (E57+L57*D66)<=H57,(E57+L57*D66),\"- - -\")","v":400},{"$f":"(B60+1)-MATCH(E67,C60:C79,-1)","v":1},{"$f":"LOOKUP(F67,B37:B56,E37:E56)","v":0},{"$f":"LOOKUP(F67,B37:B56,F37:F56)*0.001","v":0},{"$f":"LOOKUP(F67,B37:B56,G37:G56)*$P$57","v":20},{"$f":"LOOKUP(F67,B37:B56,H37:H56)*$P$57","v":20},{"$f":"LOOKUP(F67,B37:B56,I37:I56)*$P$57","v":12},{"$f":"LOOKUP(F67,B37:B56,J37:J56)","v":150},{"$f":"LOOKUP(F67,B37:B56,K37:K56)","v":30},{"$f":"LOOKUP(F67,B37:B56,L37:L56)","v":0},{"$f":"LOOKUP(F67,B37:B56,M37:M56)","v":245},{"$f":"LOOKUP(F67,B37:B56,N37:N56)","v":0},{"$f":"LOOKUP(F67,B37:B56,O37:O56)","v":0},{"$f":"LOOKUP(F67,B37:B56,P37:P56)","v":0},{"$f":"LOOKUP(F67,B37:B56,Q37:Q56)","v":0},{"$f":"LOOKUP(F67,B37:B56,R37:R56)","v":0}]
[null,{"$f":"B48","v":12},{"$f":"D48","v":{"$error":"#N/A"}},9,{"$f":"IF( (E57+L57*D67)<=H57,(E57+L57*D67),\"- - -\")","v":450},{"$f":"(B60+1)-MATCH(E68,C60:C79,-1)","v":1},{"$f":"LOOKUP(F68,B37:B56,E37:E56)","v":0},{"$f":"LOOKUP(F68,B37:B56,F37:F56)*0.001","v":0},{"$f":"LOOKUP(F68,B37:B56,G37:G56)*$P$57","v":20},{"$f":"LOOKUP(F68,B37:B56,H37:H56)*$P$57","v":20},{"$f":"LOOKUP(F68,B37:B56,I37:I56)*$P$57","v":12},{"$f":"LOOKUP(F68,B37:B56,J37:J56)","v":150},{"$f":"LOOKUP(F68,B37:B56,K37:K56)","v":30},{"$f":"LOOKUP(F68,B37:B56,L37:L56)","v":0},{"$f":"LOOKUP(F68,B37:B56,M37:M56)","v":245},{"$f":"LOOKUP(F68,B37:B56,N37:N56)","v":0},{"$f":"LOOKUP(F68,B37:B56,O37:O56)","v":0},{"$f":"LOOKUP(F68,B37:B56,P37:P56)","v":0},{"$f":"LOOKUP(F68,B37:B56,Q37:Q56)","v":0},{"$f":"LOOKUP(F68,B37:B56,R37:R56)","v":0}]
[null,{"$f":"B47","v":11},{"$f":"D47","v":{"$error":"#N/A"}},10,{"$f":"IF( (E57+L57*D68)<=H57,(E57+L57*D68),\"- - -\")","v":500},{"$f":"(B60+1)-MATCH(E69,C60:C79,-1)","v":2},{"$f":"LOOKUP(F69,B37:B56,E37:E56)","v":0},{"$f":"LOOKUP(F69,B37:B56,F37:F56)*0.001","v":0},{"$f":"LOOKUP(F69,B37:B56,G37:G56)*$P$57","v":20},{"$f":"LOOKUP(F69,B37:B56,H37:H56)*$P$57","v":20},{"$f":"LOOKUP(F69,B37:B56,I37:I56)*$P$57","v":12},{"$f":"LOOKUP(F69,B37:B56,J37:J56)","v":135},{"$f":"LOOKUP(F69,B37:B56,K37:K56)","v":30},{"$f":"LOOKUP(F69,B37:B56,L37:L56)","v":0},{"$f":"LOOKUP(F69,B37:B56,M37:M56)","v":245},{"$f":"LOOKUP(F69,B37:B56,N37:N56)","v":0},{"$f":"LOOKUP(F69,B37:B56,O37:O56)","v":0},{"$f":"LOOKUP(F69,B37:B56,P37:P56)","v":0},{"$f":"LOOKUP(F69,B37:B56,Q37:Q56)","v":0},{"$f":"LOOKUP(F69,B37:B56,R37:R56)","v":0}]
[null,{"$f":"B46","v":10},{"$f":"D46","v":{"$error":"#N/A"}},11,{"$f":"IF( (E57+L57*D69)<=H57,(E57+L57*D69),\"- - -\")","v":"- - -"},{"$f":"(B60+1)-MATCH(E70,C60:C79,-1)","v":{"$error":"#N/A"}},{"$f":"LOOKUP(F70,B37:B56,E37:E56)","v":{"$error":"#N/A"}},{"$f":"LOOKUP(F70,B37:B56,F37:F56)*0.001","v":{"$error":"#N/A"}},{"$f":"LOOKUP(F70,B37:B56,G37:G56)*$P$57","v":{"$error":"#N/A"}},{"$f":"LOOKUP(F70,B37:B56,H37:H56)*$P$57","v":{"$error":"#N/A"}},{"$f":"LOOKUP(F70,B37:B56,I37:I56)*$P$57","v":{"$error":"#N/A"}},{"$f":"LOOKUP(F70,B37:B56,J37:J56)","v":{"$error":"#N/A"}},{"$f":"LOOKUP(F70,B37:B56,K37:K56)","v":{"$error":"#N/A"}},{"$f":"LOOKUP(F70,B37:B56,L37:L56)","v":{"$error":"#N/A"}},{"$f":"LOOKUP(F70,B37:B56,M37:M56)","v":{"$error":"#N/A"}},{"$f":"LOOKUP(F70,B37:B56,N37:N56)","v":{"$error":"#N/A"}},{"$f":"LOOKUP(F70,B37:B56,O37:O56)","v":{"$error":"#N/A"}},{"$f":"LOOKUP(F70,B37:B56,P37:P56)","v":{"$error":"#N/A"}},{"$f":"LOOKUP(F70,B37:B56,Q37:Q56)","v":{"$error":"#N/A"}},{"$f":"LOOKUP(F70,B37:B56,R37:R56)","v":{"$error":"#N/A"}}]
[null,{"$f":"B45","v":9},{"$f":"D45","v":{"$error":"#N/A"}},12,{"$f":"IF( (E57+L57*D70)<=H57,(E57+L57*D70),\"- - -\")","v":"- - -"},{"$f":"(B60+1)-MATCH(E71,C60:C79,-1)","v":{"$error":"#N/A"}},{"$f":"LOOKUP(F71,B37:B56,E37:E56)","v":{"$error":"#N/A"}},{"$f":"LOOKUP(F71,B37:B56,F37:F56)*0.001","v":{"$error":"#N/A"}},{"$f":"LOOKUP(F71,B37:B56,G37:G56)*$P$57","v":{"$error":"#N/A"}},{"$f":"LOOKUP(F71,B37:B56,H37:H56)*$P$57","v":{"$error":"#N/A"}},{"$f":"LOOKUP(F71,B37:B56,I37:I56)*$P$57","v":{"$error":"#N/A"}},{"$f":"LOOKUP(F71,B37:B56,J37:J56)","v":{"$error":"#N/A"}},{"$f":"LOOKUP(F71,B37:B56,K37:K56)","v":{"$error":"#N/A"}},{"$f":"LOOKUP(F71,B37:B56,L37:L56)","v":{"$error":"#N/A"}},{"$f":"LOOKUP(F71,B37:B56,M37:M56)","v":{"$error":"#N/A"}},{"$f":"LOOKUP(F71,B37:B56,N37:N56)","v":{"$error":"#N/A"}},{"$f":"LOOKUP(F71,B37:B56,O37:O56)","v":{"$error":"#N/A"}},{"$f":"LOOKUP(F71,B37:B56,P37:P56)","v":{"$error":"#N/A"}},{"$f":"LOOKUP(F71,B37:B56,Q37:Q56)","v":{"$error":"#N/A"}},{"$f":"LOOKUP(F71,B37:B56,R37:R56)","v":{"$error":"#N/A"}}]
[null,{"$f":"B44","v":8},{"$f":"D44","v":{"$error":"#N/A"}},13,{"$f":"IF( (E57+L57*D71)<=H57,(E57+L57*D71),\"- - -\")","v":"- - -"},{"$f":"(B60+1)-MATCH(E72,C60:C79,-1)","v":{"$error":"#N/A"}},{"$f":"LOOKUP(F72,B37:B56,E37:E56)","v":{"$error":"#N/A"}},{"$f":"LOOKUP(F72,B37:B56,F37:F56)*0.001","v":{"$error":"#N/A"}},{"$f":"LOOKUP(F72,B37:B56,G37:G56)*$P$57","v":{"$error":"#N/A"}},{"$f":"LOOKUP(F72,B37:B56,H37:H56)*$P$57","v":{"$error":"#N/A"}},{"$f":"LOOKUP(F72,B37:B56,I37:I56)*$P$57","v":{"$error":"#N/A"}},{"$f":"LOOKUP(F72,B37:B56,J37:J56)","v":{"$error":"#N/A"}},{"$f":"LOOKUP(F72,B37:B56,K37:K56)","v":{"$error":"#N/A"}},{"$f":"LOOKUP(F72,B37:B56,L37:L56)","v":{"$error":"#N/A"}},{"$f":"LOOKUP(F72,B37:B56,M37:M56)","v":{"$error":"#N/A"}},{"$f":"LOOKUP(F72,B37:B56,N37:N56)","v":{"$error":"#N/A"}},{"$f":"LOOKUP(F72,B37:B56,O37:O56)","v":{"$error":"#N/A"}},{"$f":"LOOKUP(F72,B37:B56,P37:P56)","v":{"$error":"#N/A"}},{"$f":"LOOKUP(F72,B37:B56,Q37:Q56)","v":{"$error":"#N/A"}},{"$f":"LOOKUP(F72,B37:B56,R37:R56)","v":{"$error":"#N/A"}}]
[null,{"$f":"B43","v":7},{"$f":"D43","v":{"$error":"#N/A"}},14,{"$f":"IF( (E57+L57*D72)<=H57,(E57+L57*D72),\"- - -\")","v":"- - -"},{"$f":"(B60+1)-MATCH(E73,C60:C79,-1)","v":{"$error":"#N/A"}},{"$f":"LOOKUP(F73,B37:B56,E37:E56)","v":{"$error":"#N/A"}},{"$f":"LOOKUP(F73,B37:B56,F37:F56)*0.001","v":{"$error":"#N/A"}},{"$f":"LOOKUP(F73,B37:B56,G37:G56)*$P$57","v":{"$error":"#N/A"}},{"$f":"LOOKUP(F73,B37:B56,H37:H56)*$P$57","v":{"$error":"#N/A"}},{"$f":"LOOKUP(F73,B37:B56,I37:I56)*$P$57","v":{"$error":"#N/A"}},{"$f":"LOOKUP(F73,B37:B56,J37:J56)","v":{"$error":"#N/A"}},{"$f":"LOOKUP(F73,B37:B56,K37:K56)","v":{"$error":"#N/A"}},{"$f":"LOOKUP(F73,B37:B56,L37:L56)","v":{"$error":"#N/A"}},{"$f":"LOOKUP(F73,B37:B56,M37:M56)","v":{"$error":"#N/A"}},{"$f":"LOOKUP(F73,B37:B56,N37:N56)","v":{"$error":"#N/A"}},{"$f":"LOOKUP(F73,B37:B56,O37:O56)","v":{"$error":"#N/A"}},{"$f":"LOOKUP(F73,B37:B56,P37:P56)","v":{"$error":"#N/A"}},{"$f":"LOOKUP(F73,B37:B56,Q37:Q56)","v":{"$error":"#N/A"}},{"$f":"LOOKUP(F73,B37:B56,R37:R56)","v":{"$error":"#N/A"}}]
[null,{"$f":"B42","v":6},{"$f":"D42","v":{"$error":"#N/A"}},15,{"$f":"IF( (E57+L57*D73)<=H57,(E57+L57*D73),\"- - -\")","v":"- - -"},{"$f":"(B60+1)-MATCH(E74,C60:C79,-1)","v":{"$error":"#N/A"}},{"$f":"LOOKUP(F74,B37:B56,E37:E56)","v":{"$error":"#N/A"}},{"$f":"LOOKUP(F74,B37:B56,F37:F56)*0.001","v":{"$error":"#N/A"}},{"$f":"LOOKUP(F74,B37:B56,G37:G56)*$P$57","v":{"$error":"#N/A"}},{"$f":"LOOKUP(F74,B37:B56,H37:H56)*$P$57","v":{"$error":"#N/A"}},{"$f":"LOOKUP(F74,B37:B56,I37:I56)*$P$57","v":{"$error":"#N/A"}},{"$f":"LOOKUP(F74,B37:B56,J37:J56)","v":{"$error":"#N/A"}},{"$f":"LOOKUP(F74,B37:B56,K37:K56)","v":{"$error":"#N/A"}},{"$f":"LOOKUP(F74,B37:B56,L37:L56)","v":{"$error":"#N/A"}},{"$f":"LOOKUP(F74,B37:B56,M37:M56)","v":{"$error":"#N/A"}},{"$f":"LOOKUP(F74,B37:B56,N37:N56)","v":{"$error":"#N/A"}},{"$f":"LOOKUP(F74,B37:B56,O37:O56)","v":{"$error":"#N/A"}},{"$f":"LOOKUP(F74,B37:B56,P37:P56)","v":{"$error":"#N/A"}},{"$f":"LOOKUP(F74,B37:B56,Q37:Q56)","v":{"$error":"#N/A"}},{"$f":"LOOKUP(F74,B37:B56,R37:R56)","v":{"$error":"#N/A"}}]
[null,{"$f":"B41","v":5},{"$f":"D41","v":{"$error":"#N/A"}},16,{"$f":"IF( (E57+L57*D74)<=H57,(E57+L57*D74),\"- - -\")","v":"- - -"},{"$f":"(B60+1)-MATCH(E75,C60:C79,-1)","v":{"$error":"#N/A"}},{"$f":"LOOKUP(F75,B37:B56,E37:E56)","v":{"$error":"#N/A"}},{"$f":"LOOKUP(F75,B37:B56,F37:F56)*0.001","v":{"$error":"#N/A"}},{"$f":"LOOKUP(F75,B37:B56,G37:G56)*$P$57","v":{"$error":"#N/A"}},{"$f":"LOOKUP(F75,B37:B56,H37:H56)*$P$57","v":{"$error":"#N/A"}},{"$f":"LOOKUP(F75,B37:B56,I37:I56)*$P$57","v":{"$error":"#N/A"}},{"$f":"LOOKUP(F75,B37:B56,J37:J56)","v":{"$error":"#N/A"}},{"$f":"LOOKUP(F75,B37:B56,K37:K56)","v":{"$error":"#N/A"}},{"$f":"LOOKUP(F75,B37:B56,L37:L56)","v":{"$error":"#N/A"}},{"$f":"LOOKUP(F75,B37:B56,M37:M56)","v":{"$error":"#N/A"}},{"$f":"LOOKUP(F75,B37:B56,N37:N56)","v":{"$error":"#N/A"}},{"$f":"LOOKUP(F75,B37:B56,O37:O56)","v":{"$error":"#N/A"}},{"$f":"LOOKUP(F75,B37:B56,P37:P56)","v":{"$error":"#N/A"}},{"$f":"LOOKUP(F75,B37:B56,Q37:Q56)","v":{"$error":"#N/A"}},{"$f":"LOOKUP(F75,B37:B56,R37:R56)","v":{"$error":"#N/A"}}]
[null,{"$f":"B40","v":4},{"$f":"D40","v":{"$error":"#N/A"}},17,{"$f":"IF( (E57+L57*D75)<=H57,(E57+L57*D75),\"- - -\")","v":"- - -"},{"$f":"(B60+1)-MATCH(E76,C60:C79,-1)","v":{"$error":"#N/A"}},{"$f":"LOOKUP(F76,B37:B56,E37:E56)","v":{"$error":"#N/A"}},{"$f":"LOOKUP(F76,B37:B56,F37:F56)*0.001","v":{"$error":"#N/A"}},{"$f":"LOOKUP(F76,B37:B56,G37:G56)*$P$57","v":{"$error":"#N/A"}},{"$f":"LOOKUP(F76,B37:B56,H37:H56)*$P$57","v":{"$error":"#N/A"}},{"$f":"LOOKUP(F76,B37:B56,I37:I56)*$P$57","v":{"$error":"#N/A"}},{"$f":"LOOKUP(F76,B37:B56,J37:J56)","v":{"$error":"#N/A"}},{"$f":"LOOKUP(F76,B37:B56,K37:K56)","v":{"$error":"#N/A"}},{"$f":"LOOKUP(F76,B37:B56,L37:L56)","v":{"$error":"#N/A"}},{"$f":"LOOKUP(F76,B37:B56,M37:M56)","v":{"$error":"#N/A"}},{"$f":"LOOKUP(F76,B37:B56,N37:N56)","v":{"$error":"#N/A"}},{"$f":"LOOKUP(F76,B37:B56,O37:O56)","v":{"$error":"#N/A"}},{"$f":"LOOKUP(F76,B37:B56,P37:P56)","v":{"$error":"#N/A"}},{"$f":"LOOKUP(F76,B37:B56,Q37:Q56)","v":{"$error":"#N/A"}},{"$f":"LOOKUP(F76,B37:B56,R37:R56)","v":{"$error":"#N/A"}}]
[null,{"$f":"B39","v":3},{"$f":"D39","v":{"$error":"#N/A"}},18,{"$f":"IF( (E57+L57*D76)<=H57,(E57+L57*D76),\"- - -\")","v":"- - -"},{"$f":"(B60+1)-MATCH(E77,C60:C79,-1)","v":{"$error":"#N/A"}},{"$f":"LOOKUP(F77,B37:B56,E37:E56)","v":{"$error":"#N/A"}},{"$f":"LOOKUP(F77,B37:B56,F37:F56)*0.001","v":{"$error":"#N/A"}},{"$f":"LOOKUP(F77,B37:B56,G37:G56)*$P$57","v":{"$error":"#N/A"}},{"$f":"LOOKUP(F77,B37:B56,H37:H56)*$P$57","v":{"$error":"#N/A"}},{"$f":"LOOKUP(F77,B37:B56,I37:I56)*$P$57","v":{"$error":"#N/A"}},{"$f":"LOOKUP(F77,B37:B56,J37:J56)","v":{"$error":"#N/A"}},{"$f":"LOOKUP(F77,B37:B56,K37:K56)","v":{"$error":"#N/A"}},{"$f":"LOOKUP(F77,B37:B56,L37:L56)","v":{"$error":"#N/A"}},{"$f":"LOOKUP(F77,B37:B56,M37:M56)","v":{"$error":"#N/A"}},{"$f":"LOOKUP(F77,B37:B56,N37:N56)","v":{"$error":"#N/A"}},{"$f":"LOOKUP(F77,B37:B56,O37:O56)","v":{"$error":"#N/A"}},{"$f":"LOOKUP(F77,B37:B56,P37:P56)","v":{"$error":"#N/A"}},{"$f":"LOOKUP(F77,B37:B56,Q37:Q56)","v":{"$error":"#N/A"}},{"$f":"LOOKUP(F77,B37:B56,R37:R56)","v":{"$error":"#N/A"}}]
[null,{"$f":"B38","v":2},{"$f":"D38","v":500},19,{"$f":"IF( (E57+L57*D77)<=H57,(E57+L57*D77),\"- - -\")","v":"- - -"},{"$f":"(B60+1)-MATCH(E78,C60:C79,-1)","v":{"$error":"#N/A"}},{"$f":"LOOKUP(F78,B37:B56,E37:E56)","v":{"$error":"#N/A"}},{"$f":"LOOKUP(F78,B37:B56,F37:F56)*0.001","v":{"$error":"#N/A"}},{"$f":"LOOKUP(F78,B37:B56,G37:G56)*$P$57","v":{"$error":"#N/A"}},{"$f":"LOOKUP(F78,B37:B56,H37:H56)*$P$57","v":{"$error":"#N/A"}},{"$f":"LOOKUP(F78,B37:B56,I37:I56)*$P$57","v":{"$error":"#N/A"}},{"$f":"LOOKUP(F78,B37:B56,J37:J56)","v":{"$error":"#N/A"}},{"$f":"LOOKUP(F78,B37:B56,K37:K56)","v":{"$error":"#N/A"}},{"$f":"LOOKUP(F78,B37:B56,L37:L56)","v":{"$error":"#N/A"}},{"$f":"LOOKUP(F78,B37:B56,M37:M56)","v":{"$error":"#N/A"}},{"$f":"LOOKUP(F78,B37:B56,N37:N56)","v":{"$error":"#N/A"}},{"$f":"LOOKUP(F78,B37:B56,O37:O56)","v":{"$error":"#N/A"}},{"$f":"LOOKUP(F78,B37:B56,P37:P56)","v":{"$error":"#N/A"}},{"$f":"LOOKUP(F78,B37:B56,Q37:Q56)","v":{"$error":"#N/A"}},{"$f":"LOOKUP(F78,B37:B56,R37:R56)","v":{"$error":"#N/A"}}]
[null,{"$f":"B37","v":1},{"$f":"D37","v":450},20,{"$f":"IF( (E57+L57*D78)<=H57,(E57+L57*D78),\"- - -\")","v":"- - -"},{"$f":"(B60+1)-MATCH(E79,C60:C79,-1)","v":{"$error":"#N/A"}},{"$f":"LOOKUP(F79,B37:B56,E37:E56)","v":{"$error":"#N/A"}},{"$f":"LOOKUP(F79,B37:B56,F37:F56)*0.001","v":{"$error":"#N/A"}},{"$f":"LOOKUP(F79,B37:B56,G37:G56)*$P$57","v":{"$error":"#N/A"}},{"$f":"LOOKUP(F79,B37:B56,H37:H56)*$P$57","v":{"$error":"#N/A"}},{"$f":"LOOKUP(F79,B37:B56,I37:I56)*$P$57","v":{"$error":"#N/A"}},{"$f":"LOOKUP(F79,B37:B56,J37:J56)","v":{"$error":"#N/A"}},{"$f":"LOOKUP(F79,B37:B56,K37:K56)","v":{"$error":"#N/A"}},{"$f":"LOOKUP(F79,B37:B56,L37:L56)","v":{"$error":"#N/A"}},{"$f":"LOOKUP(F79,B37:B56,M37:M56)","v":{"$error":"#N/A"}},{"$f":"LOOKUP(F79,B37:B56,N37:N56)","v":{"$error":"#N/A"}},{"$f":"LOOKUP(F79,B37:B56,O37:O56)","v":{"$error":"#N/A"}},{"$f":"LOOKUP(F79,B37:B56,P37:P56)","v":{"$error":"#N/A"}},{"$f":"LOOKUP(F79,B37:B56,Q37:Q56)","v":{"$error":"#N/A"}},{"$f":"LOOKUP(F79,B37:B56,R37:R56)","v":{"$error":"#N/A"}}]
[null,null,null,21,{"$f":"IF( (E57+L57*D79)<=H57,(E57+L57*D79),\"- - -\")","v":"- - -"},{"$f":"(B60+1)-MATCH(E80,C60:C79,-1)","v":{"$error":"#N/A"}},{"$f":"LOOKUP(F80,B37:B56,E37:E56)","v":{"$error":"#N/A"}},{"$f":"LOOKUP(F80,B37:B56,F37:F56)*0.001","v":{"$error":"#N/A"}},{"$f":"LOOKUP(F80,B37:B56,G37:G56)*$P$57","v":{"$error":"#N/A"}},{"$f":"LOOKUP(F80,B37:B56,H37:H56)*$P$57","v":{"$error":"#N/A"}},{"$f":"LOOKUP(F80,B37:B56,I37:I56)*$P$57","v":{"$error":"#N/A"}},{"$f":"LOOKUP(F80,B37:B56,J37:J56)","v":{"$error":"#N/A"}},{"$f":"LOOKUP(F80,B37:B56,K37:K56)","v":{"$error":"#N/A"}},{"$f":"LOOKUP(F80,B37:B56,L37:L56)","v":{"$error":"#N/A"}},{"$f":"LOOKUP(F80,B37:B56,M37:M56)","v":{"$error":"#N/A"}},{"$f":"LOOKUP(F80,B37:B56,N37:N56)","v":{"$error":"#N/A"}},{"$f":"LOOKUP(F80,B37:B56,O37:O56)","v":{"$error":"#N/A"}},{"$f":"LOOKUP(F80,B37:B56,P37:P56)","v":{"$error":"#N/A"}},{"$f":"LOOKUP(F80,B37:B56,Q37:Q56)","v":{"$error":"#N/A"}},{"$f":"LOOKUP(F80,B37:B56,R37:R56)","v":{"$error":"#N/A"}}]
[null,null,null,22,{"$f":"IF( (E57+L57*D80)<=H57,(E57+L57*D80),\"- - -\")","v":"- - -"},{"$f":"(B60+1)-MATCH(E81,C60:C79,-1)","v":{"$error":"#N/A"}},{"$f":"LOOKUP(F81,B37:B56,E37:E56)","v":{"$error":"#N/A"}},{"$f":"LOOKUP(F81,B37:B56,F37:F56)*0.001","v":{"$error":"#N/A"}},{"$f":"LOOKUP(F81,B37:B56,G37:G56)*$P$57","v":{"$error":"#N/A"}},{"$f":"LOOKUP(F81,B37:B56,H37:H56)*$P$57","v":{"$error":"#N/A"}},{"$f":"LOOKUP(F81,B37:B56,I37:I56)*$P$57","v":{"$error":"#N/A"}},{"$f":"LOOKUP(F81,B37:B56,J37:J56)","v":{"$error":"#N/A"}},{"$f":"LOOKUP(F81,B37:B56,K37:K56)","v":{"$error":"#N/A"}},{"$f":"LOOKUP(F81,B37:B56,L37:L56)","v":{"$error":"#N/A"}},{"$f":"LOOKUP(F81,B37:B56,M37:M56)","v":{"$error":"#N/A"}},{"$f":"LOOKUP(F81,B37:B56,N37:N56)","v":{"$error":"#N/A"}},{"$f":"LOOKUP(F81,B37:B56,O37:O56)","v":{"$error":"#N/A"}},{"$f":"LOOKUP(F81,B37:B56,P37:P56)","v":{"$error":"#N/A"}},{"$f":"LOOKUP(F81,B37:B56,Q37:Q56)","v":{"$error":"#N/A"}},{"$f":"LOOKUP(F81,B37:B56,R37:R56)","v":{"$error":"#N/A"}}]
[null,null,null,23,{"$f":"IF( (E57+L57*D81)<=H57,(E57+L57*D81),\"- - -\")","v":"- - -"},{"$f":"(B60+1)-MATCH(E82,C60:C79,-1)","v":{"$error":"#N/A"}},{"$f":"LOOKUP(F82,B37:B56,E37:E56)","v":{"$error":"#N/A"}},{"$f":"LOOKUP(F82,B37:B56,F37:F56)*0.001","v":{"$error":"#N/A"}},{"$f":"LOOKUP(F82,B37:B56,G37:G56)*$P$57","v":{"$error":"#N/A"}},{"$f":"LOOKUP(F82,B37:B56,H37:H56)*$P$57","v":{"$error":"#N/A"}},{"$f":"LOOKUP(F82,B37:B56,I37:I56)*$P$57","v":{"$error":"#N/A"}},{"$f":"LOOKUP(F82,B37:B56,J37:J56)","v":{"$error":"#N/A"}},{"$f":"LOOKUP(F82,B37:B56,K37:K56)","v":{"$error":"#N/A"}},{"$f":"LOOKUP(F82,B37:B56,L37:L56)","v":{"$error":"#N/A"}},{"$f":"LOOKUP(F82,B37:B56,M37:M56)","v":{"$error":"#N/A"}},{"$f":"LOOKUP(F82,B37:B56,N37:N56)","v":{"$error":"#N/A"}},{"$f":"LOOKUP(F82,B37:B56,O37:O56)","v":{"$error":"#N/A"}},{"$f":"LOOKUP(F82,B37:B56,P37:P56)","v":{"$error":"#N/A"}},{"$f":"LOOKUP(F82,B37:B56,Q37:Q56)","v":{"$error":"#N/A"}},{"$f":"LOOKUP(F82,B37:B56,R37:R56)","v":{"$error":"#N/A"}}]
[null,null,null,24,{"$f":"IF( (E57+L57*D82)<=H57,(E57+L57*D82),\"- - -\")","v":"- - -"},{"$f":"(B60+1)-MATCH(E83,C60:C79,-1)","v":{"$error":"#N/A"}},{"$f":"LOOKUP(F83,B37:B56,E37:E56)","v":{"$error":"#N/A"}},{"$f":"LOOKUP(F83,B37:B56,F37:F56)*0.001","v":{"$error":"#N/A"}},{"$f":"LOOKUP(F83,B37:B56,G37:G56)*$P$57","v":{"$error":"#N/A"}},{"$f":"LOOKUP(F83,B37:B56,H37:H56)*$P$57","v":{"$error":"#N/A"}},{"$f":"LOOKUP(F83,B37:B56,I37:I56)*$P$57","v":{"$error":"#N/A"}},{"$f":"LOOKUP(F83,B37:B56,J37:J56)","v":{"$error":"#N/A"}},{"$f":"LOOKUP(F83,B37:B56,K37:K56)","v":{"$error":"#N/A"}},{"$f":"LOOKUP(F83,B37:B56,L37:L56)","v":{"$error":"#N/A"}},{"$f":"LOOKUP(F83,B37:B56,M37:M56)","v":{"$error":"#N/A"}},{"$f":"LOOKUP(F83,B37:B56,N37:N56)","v":{"$error":"#N/A"}},{"$f":"LOOKUP(F83,B37:B56,O37:O56)","v":{"$error":"#N/A"}},{"$f":"LOOKUP(F83,B37:B56,P37:P56)","v":{"$error":"#N/A"}},{"$f":"LOOKUP(F83,B37:B56,Q37:Q56)","v":{"$error":"#N/A"}},{"$f":"LOOKUP(F83,B37:B56,R37:R56)","v":{"$error":"#N/A"}}]
[null,null,null,25,{"$f":"IF( (E57+L57*D83)<=H57,(E57+L57*D83),\"- - -\")","v":"- - -"},{"$f":"(B60+1)-MATCH(E84,C60:C79,-1)","v":{"$error":"#N/A"}},{"$f":"LOOKUP(F84,B37:B56,E37:E56)","v":{"$error":"#N/A"}},{"$f":"LOOKUP(F84,B37:B56,F37:F56)*0.001","v":{"$error":"#N/A"}},{"$f":"LOOKUP(F84,B37:B56,G37:G56)*$P$57","v":{"$error":"#N/A"}},{"$f":"LOOKUP(F84,B37:B56,H37:H56)*$P$57","v":{"$error":"#N/A"}},{"$f":"LOOKUP(F84,B37:B56,I37:I56)*$P$57","v":{"$error":"#N/A"}},{"$f":"LOOKUP(F84,B37:B56,J37:J56)","v":{"$error":"#N/A"}},{"$f":"LOOKUP(F84,B37:B56,K37:K56)","v":{"$error":"#N/A"}},{"$f":"LOOKUP(F84,B37:B56,L37:L56)","v":{"$error":"#N/A"}},{"$f":"LOOKUP(F84,B37:B56,M37:M56)","v":{"$error":"#N/A"}},{"$f":"LOOKUP(F84,B37:B56,N37:N56)","v":{"$error":"#N/A"}},{"$f":"LOOKUP(F84,B37:B56,O37:O56)","v":{"$error":"#N/A"}},{"$f":"LOOKUP(F84,B37:B56,P37:P56)","v":{"$error":"#N/A"}},{"$f":"LOOKUP(F84,B37:B56,Q37:Q56)","v":{"$error":"#N/A"}},{"$f":"LOOKUP(F84,B37:B56,R37:R56)","v":{"$error":"#N/A"}}]
[null,null,null,26,{"$f":"IF( (E57+L57*D84)<=H57,(E57+L57*D84),\"- - -\")","v":"- - -"},{"$f":"(B60+1)-MATCH(E85,C60:C79,-1)","v":{"$error":"#N/A"}},{"$f":"LOOKUP(F85,B37:B56,E37:E56)","v":{"$error":"#N/A"}},{"$f":"LOOKUP(F85,B37:B56,F37:F56)*0.001","v":{"$error":"#N/A"}},{"$f":"LOOKUP(F85,B37:B56,G37:G56)*$P$57","v":{"$error":"#N/A"}},{"$f":"LOOKUP(F85,B37:B56,H37:H56)*$P$57","v":{"$error":"#N/A"}},{"$f":"LOOKUP(F85,B37:B56,I37:I56)*$P$57","v":{"$error":"#N/A"}},{"$f":"LOOKUP(F85,B37:B56,J37:J56)","v":{"$error":"#N/A"}},{"$f":"LOOKUP(F85,B37:B56,K37:K56)","v":{"$error":"#N/A"}},{"$f":"LOOKUP(F85,B37:B56,L37:L56)","v":{"$error":"#N/A"}},{"$f":"LOOKUP(F85,B37:B56,M37:M56)","v":{"$error":"#N/A"}},{"$f":"LOOKUP(F85,B37:B56,N37:N56)","v":{"$error":"#N/A"}},{"$f":"LOOKUP(F85,B37:B56,O37:O56)","v":{"$error":"#N/A"}},{"$f":"LOOKUP(F85,B37:B56,P37:P56)","v":{"$error":"#N/A"}},{"$f":"LOOKUP(F85,B37:B56,Q37:Q56)","v":{"$error":"#N/A"}},{"$f":"LOOKUP(F85,B37:B56,R37:R56)","v":{"$error":"#N/A"}}]
[null,null,null,27,{"$f":"IF( (E57+L57*D85)<=H57,(E57+L57*D85),\"- - -\")","v":"- - -"},{"$f":"(B60+1)-MATCH(E86,C60:C79,-1)","v":{"$error":"#N/A"}},{"$f":"LOOKUP(F86,B37:B56,E37:E56)","v":{"$error":"#N/A"}},{"$f":"LOOKUP(F86,B37:B56,F37:F56)*0.001","v":{"$error":"#N/A"}},{"$f":"LOOKUP(F86,B37:B56,G37:G56)*$P$57","v":{"$error":"#N/A"}},{"$f":"LOOKUP(F86,B37:B56,H37:H56)*$P$57","v":{"$error":"#N/A"}},{"$f":"LOOKUP(F86,B37:B56,I37:I56)*$P$57","v":{"$error":"#N/A"}},{"$f":"LOOKUP(F86,B37:B56,J37:J56)","v":{"$error":"#N/A"}},{"$f":"LOOKUP(F86,B37:B56,K37:K56)","v":{"$error":"#N/A"}},{"$f":"LOOKUP(F86,B37:B56,L37:L56)","v":{"$error":"#N/A"}},{"$f":"LOOKUP(F86,B37:B56,M37:M56)","v":{"$error":"#N/A"}},{"$f":"LOOKUP(F86,B37:B56,N37:N56)","v":{"$error":"#N/A"}},{"$f":"LOOKUP(F86,B37:B56,O37:O56)","v":{"$error":"#N/A"}},{"$f":"LOOKUP(F86,B37:B56,P37:P56)","v":{"$error":"#N/A"}},{"$f":"LOOKUP(F86,B37:B56,Q37:Q56)","v":{"$error":"#N/A"}},{"$f":"LOOKUP(F86,B37:B56,R37:R56)","v":{"$error":"#N/A"}}]
[null,null,null,28,{"$f":"IF( (E57+L57*D86)<=H57,(E57+L57*D86),\"- - -\")","v":"- - -"},{"$f":"(B60+1)-MATCH(E87,C60:C79,-1)","v":{"$error":"#N/A"}},{"$f":"LOOKUP(F87,B37:B56,E37:E56)","v":{"$error":"#N/A"}},{"$f":"LOOKUP(F87,B37:B56,F37:F56)*0.001","v":{"$error":"#N/A"}},{"$f":"LOOKUP(F87,B37:B56,G37:G56)*$P$57","v":{"$error":"#N/A"}},{"$f":"LOOKUP(F87,B37:B56,H37:H56)*$P$57","v":{"$error":"#N/A"}},{"$f":"LOOKUP(F87,B37:B56,I37:I56)*$P$57","v":{"$error":"#N/A"}},{"$f":"LOOKUP(F87,B37:B56,J37:J56)","v":{"$error":"#N/A"}},{"$f":"LOOKUP(F87,B37:B56,K37:K56)","v":{"$error":"#N/A"}},{"$f":"LOOKUP(F87,B37:B56,L37:L56)","v":{"$error":"#N/A"}},{"$f":"LOOKUP(F87,B37:B56,M37:M56)","v":{"$error":"#N/A"}},{"$f":"LOOKUP(F87,B37:B56,N37:N56)","v":{"$error":"#N/A"}},{"$f":"LOOKUP(F87,B37:B56,O37:O56)","v":{"$error":"#N/A"}},{"$f":"LOOKUP(F87,B37:B56,P37:P56)","v":{"$error":"#N/A"}},{"$f":"LOOKUP(F87,B37:B56,Q37:Q56)","v":{"$error":"#N/A"}},{"$f":"LOOKUP(F87,B37:B56,R37:R56)","v":{"$error":"#N/A"}}]
[null,null,null,29,{"$f":"IF( (E57+L57*D87)<=H57,(E57+L57*D87),\"- - -\")","v":"- - -"},{"$f":"(B60+1)-MATCH(E88,C60:C79,-1)","v":{"$error":"#N/A"}},{"$f":"LOOKUP(F88,B37:B56,E37:E56)","v":{"$error":"#N/A"}},{"$f":"LOOKUP(F88,B37:B56,F37:F56)*0.001","v":{"$error":"#N/A"}},{"$f":"LOOKUP(F88,B37:B56,G37:G56)*$P$57","v":{"$error":"#N/A"}},{"$f":"LOOKUP(F88,B37:B56,H37:H56)*$P$57","v":{"$error":"#N/A"}},{"$f":"LOOKUP(F88,B37:B56,I37:I56)*$P$57","v":{"$error":"#N/A"}},{"$f":"LOOKUP(F88,B37:B56,J37:J56)","v":{"$error":"#N/A"}},{"$f":"LOOKUP(F88,B37:B56,K37:K56)","v":{"$error":"#N/A"}},{"$f":"LOOKUP(F88,B37:B56,L37:L56)","v":{"$error":"#N/A"}},{"$f":"LOOKUP(F88,B37:B56,M37:M56)","v":{"$error":"#N/A"}},{"$f":"LOOKUP(F88,B37:B56,N37:N56)","v":{"$error":"#N/A"}},{"$f":"LOOKUP(F88,B37:B56,O37:O56)","v":{"$error":"#N/A"}},{"$f":"LOOKUP(F88,B37:B56,P37:P56)","v":{"$error":"#N/A"}},{"$f":"LOOKUP(F88,B37:B56,Q37:Q56)","v":{"$error":"#N/A"}},{"$f":"LOOKUP(F88,B37:B56,R37:R56)","v":{"$error":"#N/A"}}]
[null,null,null,30,{"$f":"IF( (E57+L57*D88)<=H57,(E57+L57*D88),\"- - -\")","v":"- - -"},{"$f":"(B60+1)-MATCH(E89,C60:C79,-1)","v":{"$error":"#N/A"}},{"$f":"LOOKUP(F89,B37:B56,E37:E56)","v":{"$error":"#N/A"}},{"$f":"LOOKUP(F89,B37:B56,F37:F56)*0.001","v":{"$error":"#N/A"}},{"$f":"LOOKUP(F89,B37:B56,G37:G56)*$P$57","v":{"$error":"#N/A"}},{"$f":"LOOKUP(F89,B37:B56,H37:H56)*$P$57","v":{"$error":"#N/A"}},{"$f":"LOOKUP(F89,B37:B56,I37:I56)*$P$57","v":{"$error":"#N/A"}},{"$f":"LOOKUP(F89,B37:B56,J37:J56)","v":{"$error":"#N/A"}},{"$f":"LOOKUP(F89,B37:B56,K37:K56)","v":{"$error":"#N/A"}},{"$f":"LOOKUP(F89,B37:B56,L37:L56)","v":{"$error":"#N/A"}},{"$f":"LOOKUP(F89,B37:B56,M37:M56)","v":{"$error":"#N/A"}},{"$f":"LOOKUP(F89,B37:B56,N37:N56)","v":{"$error":"#N/A"}},{"$f":"LOOKUP(F89,B37:B56,O37:O56)","v":{"$error":"#N/A"}},{"$f":"LOOKUP(F89,B37:B56,P37:P56)","v":{"$error":"#N/A"}},{"$f":"LOOKUP(F89,B37:B56,Q37:Q56)","v":{"$error":"#N/A"}},{"$f":"LOOKUP(F89,B37:B56,R37:R56)","v":{"$error":"#N/A"}}]
[null,null,null,{"$f":"D89+1","v":31},{"$f":"IF( (E57+L57*D89)<=H57,(E57+L57*D89),\"- - -\")","v":"- - -"},{"$f":"(B60+1)-MATCH(E90,C60:C79,-1)","v":{"$error":"#N/A"}},{"$f":"LOOKUP(F90,B37:B56,E37:E56)","v":{"$error":"#N/A"}},{"$f":"LOOKUP(F90,B37:B56,F37:F56)*0.001","v":{"$error":"#N/A"}},{"$f":"LOOKUP(F90,B37:B56,G37:G56)*$P$57","v":{"$error":"#N/A"}},{"$f":"LOOKUP(F90,B37:B56,H37:H56)*$P$57","v":{"$error":"#N/A"}},{"$f":"LOOKUP(F90,B37:B56,I37:I56)*$P$57","v":{"$error":"#N/A"}},{"$f":"LOOKUP(F90,B37:B56,J37:J56)","v":{"$error":"#N/A"}},{"$f":"LOOKUP(F90,B37:B56,K37:K56)","v":{"$error":"#N/A"}},{"$f":"LOOKUP(F90,B37:B56,L37:L56)","v":{"$error":"#N/A"}},{"$f":"LOOKUP(F90,B37:B56,M37:M56)","v":{"$error":"#N/A"}},{"$f":"LOOKUP(F90,B37:B56,N37:N56)","v":{"$error":"#N/A"}},{"$f":"LOOKUP(F90,B37:B56,O37:O56)","v":{"$error":"#N/A"}},{"$f":"LOOKUP(F90,B37:B56,P37:P56)","v":{"$error":"#N/A"}},{"$f":"LOOKUP(F90,B37:B56,Q37:Q56)","v":{"$error":"#N/A"}},{"$f":"LOOKUP(F90,B37:B56,R37:R56)","v":{"$error":"#N/A"}}]
[null,null,null,32,{"$f":"IF( (E57+L57*D90)<=H57,(E57+L57*D90),\"- - -\")","v":"- - -"},{"$f":"(B60+1)-MATCH(E91,C60:C79,-1)","v":{"$error":"#N/A"}},{"$f":"LOOKUP(F91,B37:B56,E37:E56)","v":{"$error":"#N/A"}},{"$f":"LOOKUP(F91,B37:B56,F37:F56)*0.001","v":{"$error":"#N/A"}},{"$f":"LOOKUP(F91,B37:B56,G37:G56)*$P$57","v":{"$error":"#N/A"}},{"$f":"LOOKUP(F91,B37:B56,H37:H56)*$P$57","v":{"$error":"#N/A"}},{"$f":"LOOKUP(F91,B37:B56,I37:I56)*$P$57","v":{"$error":"#N/A"}},{"$f":"LOOKUP(F91,B37:B56,J37:J56)","v":{"$error":"#N/A"}},{"$f":"LOOKUP(F91,B37:B56,K37:K56)","v":{"$error":"#N/A"}},{"$f":"LOOKUP(F91,B37:B56,L37:L56)","v":{"$error":"#N/A"}},{"$f":"LOOKUP(F91,B37:B56,M37:M56)","v":{"$error":"#N/A"}},{"$f":"LOOKUP(F91,B37:B56,N37:N56)","v":{"$error":"#N/A"}},{"$f":"LOOKUP(F91,B37:B56,O37:O56)","v":{"$error":"#N/A"}},{"$f":"LOOKUP(F91,B37:B56,P37:P56)","v":{"$error":"#N/A"}},{"$f":"LOOKUP(F91,B37:B56,Q37:Q56)","v":{"$error":"#N/A"}},{"$f":"LOOKUP(F91,B37:B56,R37:R56)","v":{"$error":"#N/A"}}]
[null,null,null,33,{"$f":"IF( (E57+L57*D91)<=H57,(E57+L57*D91),\"- - -\")","v":"- - -"},{"$f":"(B60+1)-MATCH(E92,C60:C79,-1)","v":{"$error":"#N/A"}},{"$f":"LOOKUP(F92,B37:B56,E37:E56)","v":{"$error":"#N/A"}},{"$f":"LOOKUP(F92,B37:B56,F37:F56)*0.001","v":{"$error":"#N/A"}},{"$f":"LOOKUP(F92,B37:B56,G37:G56)*$P$57","v":{"$error":"#N/A"}},{"$f":"LOOKUP(F92,B37:B56,H37:H56)*$P$57","v":{"$error":"#N/A"}},{"$f":"LOOKUP(F92,B37:B56,I37:I56)*$P$57","v":{"$error":"#N/A"}},{"$f":"LOOKUP(F92,B37:B56,J37:J56)","v":{"$error":"#N/A"}},{"$f":"LOOKUP(F92,B37:B56,K37:K56)","v":{"$error":"#N/A"}},{"$f":"LOOKUP(F92,B37:B56,L37:L56)","v":{"$error":"#N/A"}},{"$f":"LOOKUP(F92,B37:B56,M37:M56)","v":{"$error":"#N/A"}},{"$f":"LOOKUP(F92,B37:B56,N37:N56)","v":{"$error":"#N/A"}},{"$f":"LOOKUP(F92,B37:B56,O37:O56)","v":{"$error":"#N/A"}},{"$f":"LOOKUP(F92,B37:B56,P37:P56)","v":{"$error":"#N/A"}},{"$f":"LOOKUP(F92,B37:B56,Q37:Q56)","v":{"$error":"#N/A"}},{"$f":"LOOKUP(F92,B37:B56,R37:R56)","v":{"$error":"#N/A"}}]
[null,null,null,34,{"$f":"IF( (E57+L57*D92)<=H57,(E57+L57*D92),\"- - -\")","v":"- - -"},{"$f":"(B60+1)-MATCH(E93,C60:C79,-1)","v":{"$error":"#N/A"}},{"$f":"LOOKUP(F93,B37:B56,E37:E56)","v":{"$error":"#N/A"}},{"$f":"LOOKUP(F93,B37:B56,F37:F56)*0.001","v":{"$error":"#N/A"}},{"$f":"LOOKUP(F93,B37:B56,G37:G56)*$P$57","v":{"$error":"#N/A"}},{"$f":"LOOKUP(F93,B37:B56,H37:H56)*$P$57","v":{"$error":"#N/A"}},{"$f":"LOOKUP(F93,B37:B56,I37:I56)*$P$57","v":{"$error":"#N/A"}},{"$f":"LOOKUP(F93,B37:B56,J37:J56)","v":{"$error":"#N/A"}},{"$f":"LOOKUP(F93,B37:B56,K37:K56)","v":{"$error":"#N/A"}},{"$f":"LOOKUP(F93,B37:B56,L37:L56)","v":{"$error":"#N/A"}},{"$f":"LOOKUP(F93,B37:B56,M37:M56)","v":{"$error":"#N/A"}},{"$f":"LOOKUP(F93,B37:B56,N37:N56)","v":{"$error":"#N/A"}},{"$f":"LOOKUP(F93,B37:B56,O37:O56)","v":{"$error":"#N/A"}},{"$f":"LOOKUP(F93,B37:B56,P37:P56)","v":{"$error":"#N/A"}},{"$f":"LOOKUP(F93,B37:B56,Q37:Q56)","v":{"$error":"#N/A"}},{"$f":"LOOKUP(F93,B37:B56,R37:R56)","v":{"$error":"#N/A"}}]
[null,null,null,35,{"$f":"IF( (E57+L57*D93)<=H57,(E57+L57*D93),\"- - -\")","v":"- - -"},{"$f":"(B60+1)-MATCH(E94,C60:C79,-1)","v":{"$error":"#N/A"}},{"$f":"LOOKUP(F94,B37:B56,E37:E56)","v":{"$error":"#N/A"}},{"$f":"LOOKUP(F94,B37:B56,F37:F56)*0.001","v":{"$error":"#N/A"}},{"$f":"LOOKUP(F94,B37:B56,G37:G56)*$P$57","v":{"$error":"#N/A"}},{"$f":"LOOKUP(F94,B37:B56,H37:H56)*$P$57","v":{"$error":"#N/A"}},{"$f":"LOOKUP(F94,B37:B56,I37:I56)*$P$57","v":{"$error":"#N/A"}},{"$f":"LOOKUP(F94,B37:B56,J37:J56)","v":{"$error":"#N/A"}},{"$f":"LOOKUP(F94,B37:B56,K37:K56)","v":{"$error":"#N/A"}},{"$f":"LOOKUP(F94,B37:B56,L37:L56)","v":{"$error":"#N/A"}},{"$f":"LOOKUP(F94,B37:B56,M37:M56)","v":{"$error":"#N/A"}},{"$f":"LOOKUP(F94,B37:B56,N37:N56)","v":{"$error":"#N/A"}},{"$f":"LOOKUP(F94,B37:B56,O37:O56)","v":{"$error":"#N/A"}},{"$f":"LOOKUP(F94,B37:B56,P37:P56)","v":{"$error":"#N/A"}},{"$f":"LOOKUP(F94,B37:B56,Q37:Q56)","v":{"$error":"#N/A"}},{"$f":"LOOKUP(F94,B37:B56,R37:R56)","v":{"$error":"#N/A"}}]
[null,null,null,36,{"$f":"IF( (E57+L57*D94)<=H57,(E57+L57*D94),\"- - -\")","v":"- - -"},{"$f":"(B60+1)-MATCH(E95,C60:C79,-1)","v":{"$error":"#N/A"}},{"$f":"LOOKUP(F95,B37:B56,E37:E56)","v":{"$error":"#N/A"}},{"$f":"LOOKUP(F95,B37:B56,F37:F56)*0.001","v":{"$error":"#N/A"}},{"$f":"LOOKUP(F95,B37:B56,G37:G56)*$P$57","v":{"$error":"#N/A"}},{"$f":"LOOKUP(F95,B37:B56,H37:H56)*$P$57","v":{"$error":"#N/A"}},{"$f":"LOOKUP(F95,B37:B56,I37:I56)*$P$57","v":{"$error":"#N/A"}},{"$f":"LOOKUP(F95,B37:B56,J37:J56)","v":{"$error":"#N/A"}},{"$f":"LOOKUP(F95,B37:B56,K37:K56)","v":{"$error":"#N/A"}},{"$f":"LOOKUP(F95,B37:B56,L37:L56)","v":{"$error":"#N/A"}},{"$f":"LOOKUP(F95,B37:B56,M37:M56)","v":{"$error":"#N/A"}},{"$f":"LOOKUP(F95,B37:B56,N37:N56)","v":{"$error":"#N/A"}},{"$f":"LOOKUP(F95,B37:B56,O37:O56)","v":{"$error":"#N/A"}},{"$f":"LOOKUP(F95,B37:B56,P37:P56)","v":{"$error":"#N/A"}},{"$f":"LOOKUP(F95,B37:B56,Q37:Q56)","v":{"$error":"#N/A"}},{"$f":"LOOKUP(F95,B37:B56,R37:R56)","v":{"$error":"#N/A"}}]
[null,null,null,37,{"$f":"IF( (E57+L57*D95)<=H57,(E57+L57*D95),\"- - -\")","v":"- - -"},{"$f":"(B60+1)-MATCH(E96,C60:C79,-1)","v":{"$error":"#N/A"}},{"$f":"LOOKUP(F96,B37:B56,E37:E56)","v":{"$error":"#N/A"}},{"$f":"LOOKUP(F96,B37:B56,F37:F56)*0.001","v":{"$error":"#N/A"}},{"$f":"LOOKUP(F96,B37:B56,G37:G56)*$P$57","v":{"$error":"#N/A"}},{"$f":"LOOKUP(F96,B37:B56,H37:H56)*$P$57","v":{"$error":"#N/A"}},{"$f":"LOOKUP(F96,B37:B56,I37:I56)*$P$57","v":{"$error":"#N/A"}},{"$f":"LOOKUP(F96,B37:B56,J37:J56)","v":{"$error":"#N/A"}},{"$f":"LOOKUP(F96,B37:B56,K37:K56)","v":{"$error":"#N/A"}},{"$f":"LOOKUP(F96,B37:B56,L37:L56)","v":{"$error":"#N/A"}},{"$f":"LOOKUP(F96,B37:B56,M37:M56)","v":{"$error":"#N/A"}},{"$f":"LOOKUP(F96,B37:B56,N37:N56)","v":{"$error":"#N/A"}},{"$f":"LOOKUP(F96,B37:B56,O37:O56)","v":{"$error":"#N/A"}},{"$f":"LOOKUP(F96,B37:B56,P37:P56)","v":{"$error":"#N/A"}},{"$f":"LOOKUP(F96,B37:B56,Q37:Q56)","v":{"$error":"#N/A"}},{"$f":"LOOKUP(F96,B37:B56,R37:R56)","v":{"$error":"#N/A"}}]
[null,null,null,38,{"$f":"IF( (E57+L57*D96)<=H57,(E57+L57*D96),\"- - -\")","v":"- - -"},{"$f":"(B60+1)-MATCH(E97,C60:C79,-1)","v":{"$error":"#N/A"}},{"$f":"LOOKUP(F97,B37:B56,E37:E56)","v":{"$error":"#N/A"}},{"$f":"LOOKUP(F97,B37:B56,F37:F56)*0.001","v":{"$error":"#N/A"}},{"$f":"LOOKUP(F97,B37:B56,G37:G56)*$P$57","v":{"$error":"#N/A"}},{"$f":"LOOKUP(F97,B37:B56,H37:H56)*$P$57","v":{"$error":"#N/A"}},{"$f":"LOOKUP(F97,B37:B56,I37:I56)*$P$57","v":{"$error":"#N/A"}},{"$f":"LOOKUP(F97,B37:B56,J37:J56)","v":{"$error":"#N/A"}},{"$f":"LOOKUP(F97,B37:B56,K37:K56)","v":{"$error":"#N/A"}},{"$f":"LOOKUP(F97,B37:B56,L37:L56)","v":{"$error":"#N/A"}},{"$f":"LOOKUP(F97,B37:B56,M37:M56)","v":{"$error":"#N/A"}},{"$f":"LOOKUP(F97,B37:B56,N37:N56)","v":{"$error":"#N/A"}},{"$f":"LOOKUP(F97,B37:B56,O37:O56)","v":{"$error":"#N/A"}},{"$f":"LOOKUP(F97,B37:B56,P37:P56)","v":{"$error":"#N/A"}},{"$f":"LOOKUP(F97,B37:B56,Q37:Q56)","v":{"$error":"#N/A"}},{"$f":"LOOKUP(F97,B37:B56,R37:R56)","v":{"$error":"#N/A"}}]
[null,null,null,39,{"$f":"IF( (E57+L57*D97)<=H57,(E57+L57*D97),\"- - -\")","v":"- - -"},{"$f":"(B60+1)-MATCH(E98,C60:C79,-1)","v":{"$error":"#N/A"}},{"$f":"LOOKUP(F98,B37:B56,E37:E56)","v":{"$error":"#N/A"}},{"$f":"LOOKUP(F98,B37:B56,F37:F56)*0.001","v":{"$error":"#N/A"}},{"$f":"LOOKUP(F98,B37:B56,G37:G56)*$P$57","v":{"$error":"#N/A"}},{"$f":"LOOKUP(F98,B37:B56,H37:H56)*$P$57","v":{"$error":"#N/A"}},{"$f":"LOOKUP(F98,B37:B56,I37:I56)*$P$57","v":{"$error":"#N/A"}},{"$f":"LOOKUP(F98,B37:B56,J37:J56)","v":{"$error":"#N/A"}},{"$f":"LOOKUP(F98,B37:B56,K37:K56)","v":{"$error":"#N/A"}},{"$f":"LOOKUP(F98,B37:B56,L37:L56)","v":{"$error":"#N/A"}},{"$f":"LOOKUP(F98,B37:B56,M37:M56)","v":{"$error":"#N/A"}},{"$f":"LOOKUP(F98,B37:B56,N37:N56)","v":{"$error":"#N/A"}},{"$f":"LOOKUP(F98,B37:B56,O37:O56)","v":{"$error":"#N/A"}},{"$f":"LOOKUP(F98,B37:B56,P37:P56)","v":{"$error":"#N/A"}},{"$f":"LOOKUP(F98,B37:B56,Q37:Q56)","v":{"$error":"#N/A"}},{"$f":"LOOKUP(F98,B37:B56,R37:R56)","v":{"$error":"#N/A"}}]
[null,null,null,40,{"$f":"IF( (E57+L57*D98)<=H57,(E57+L57*D98),\"- - -\")","v":"- - -"},{"$f":"(B60+1)-MATCH(E99,C60:C79,-1)","v":{"$error":"#N/A"}},{"$f":"LOOKUP(F99,B37:B56,E37:E56)","v":{"$error":"#N/A"}},{"$f":"LOOKUP(F99,B37:B56,F37:F56)*0.001","v":{"$error":"#N/A"}},{"$f":"LOOKUP(F99,B37:B56,G37:G56)*$P$57","v":{"$error":"#N/A"}},{"$f":"LOOKUP(F99,B37:B56,H37:H56)*$P$57","v":{"$error":"#N/A"}},{"$f":"LOOKUP(F99,B37:B56,I37:I56)*$P$57","v":{"$error":"#N/A"}},{"$f":"LOOKUP(F99,B37:B56,J37:J56)","v":{"$error":"#N/A"}},{"$f":"LOOKUP(F99,B37:B56,K37:K56)","v":{"$error":"#N/A"}},{"$f":"LOOKUP(F99,B37:B56,L37:L56)","v":{"$error":"#N/A"}},{"$f":"LOOKUP(F99,B37:B56,M37:M56)","v":{"$error":"#N/A"}},{"$f":"LOOKUP(F99,B37:B56,N37:N56)","v":{"$error":"#N/A"}},{"$f":"LOOKUP(F99,B37:B56,O37:O56)","v":{"$error":"#N/A"}},{"$f":"LOOKUP(F99,B37:B56,P37:P56)","v":{"$error":"#N/A"}},{"$f":"LOOKUP(F99,B37:B56,Q37:Q56)","v":{"$error":"#N/A"}},{"$f":"LOOKUP(F99,B37:B56,R37:R56)","v":{"$error":"#N/A"}}]
[null,null,null,41,{"$f":"IF( (E57+L57*D99)<=H57,(E57+L57*D99),\"- - -\")","v":"- - -"},{"$f":"(B60+1)-MATCH(E100,C60:C79,-1)","v":{"$error":"#N/A"}},{"$f":"LOOKUP(F100,B37:B56,E37:E56)","v":{"$error":"#N/A"}},{"$f":"LOOKUP(F100,B37:B56,F37:F56)*0.001","v":{"$error":"#N/A"}},{"$f":"LOOKUP(F100,B37:B56,G37:G56)*$P$57","v":{"$error":"#N/A"}},{"$f":"LOOKUP(F100,B37:B56,H37:H56)*$P$57","v":{"$error":"#N/A"}},{"$f":"LOOKUP(F100,B37:B56,I37:I56)*$P$57","v":{"$error":"#N/A"}},{"$f":"LOOKUP(F100,B37:B56,J37:J56)","v":{"$error":"#N/A"}},{"$f":"LOOKUP(F100,B37:B56,K37:K56)","v":{"$error":"#N/A"}},{"$f":"LOOKUP(F100,B37:B56,L37:L56)","v":{"$error":"#N/A"}},{"$f":"LOOKUP(F100,B37:B56,M37:M56)","v":{"$error":"#N/A"}},{"$f":"LOOKUP(F100,B37:B56,N37:N56)","v":{"$error":"#N/A"}},{"$f":"LOOKUP(F100,B37:B56,O37:O56)","v":{"$error":"#N/A"}},{"$f":"LOOKUP(F100,B37:B56,P37:P56)","v":{"$error":"#N/A"}},{"$f":"LOOKUP(F100,B37:B56,Q37:Q56)","v":{"$error":"#N/A"}},{"$f":"LOOKUP(F100,B37:B56,R37:R56)","v":{"$error":"#N/A"}}]
[null,null,null,42,{"$f":"IF( (E57+L57*D100)<=H57,(E57+L57*D100),\"- - -\")","v":"- - -"},{"$f":"(B60+1)-MATCH(E101,C60:C79,-1)","v":{"$error":"#N/A"}},{"$f":"LOOKUP(F101,B37:B56,E37:E56)","v":{"$error":"#N/A"}},{"$f":"LOOKUP(F101,B37:B56,F37:F56)*0.001","v":{"$error":"#N/A"}},{"$f":"LOOKUP(F101,B37:B56,G37:G56)*$P$57","v":{"$error":"#N/A"}},{"$f":"LOOKUP(F101,B37:B56,H37:H56)*$P$57","v":{"$error":"#N/A"}},{"$f":"LOOKUP(F101,B37:B56,I37:I56)*$P$57","v":{"$error":"#N/A"}},{"$f":"LOOKUP(F101,B37:B56,J37:J56)","v":{"$error":"#N/A"}},{"$f":"LOOKUP(F101,B37:B56,K37:K56)","v":{"$error":"#N/A"}},{"$f":"LOOKUP(F101,B37:B56,L37:L56)","v":{"$error":"#N/A"}},{"$f":"LOOKUP(F101,B37:B56,M37:M56)","v":{"$error":"#N/A"}},{"$f":"LOOKUP(F101,B37:B56,N37:N56)","v":{"$error":"#N/A"}},{"$f":"LOOKUP(F101,B37:B56,O37:O56)","v":{"$error":"#N/A"}},{"$f":"LOOKUP(F101,B37:B56,P37:P56)","v":{"$error":"#N/A"}},{"$f":"LOOKUP(F101,B37:B56,Q37:Q56)","v":{"$error":"#N/A"}},{"$f":"LOOKUP(F101,B37:B56,R37:R56)","v":{"$error":"#N/A"}}]
[null,null,null,43,{"$f":"IF( (E57+L57*D101)<=H57,(E57+L57*D101),\"- - -\")","v":"- - -"},{"$f":"(B60+1)-MATCH(E102,C60:C79,-1)","v":{"$error":"#N/A"}},{"$f":"LOOKUP(F102,B37:B56,E37:E56)","v":{"$error":"#N/A"}},{"$f":"LOOKUP(F102,B37:B56,F37:F56)*0.001","v":{"$error":"#N/A"}},{"$f":"LOOKUP(F102,B37:B56,G37:G56)*$P$57","v":{"$error":"#N/A"}},{"$f":"LOOKUP(F102,B37:B56,H37:H56)*$P$57","v":{"$error":"#N/A"}},{"$f":"LOOKUP(F102,B37:B56,I37:I56)*$P$57","v":{"$error":"#N/A"}},{"$f":"LOOKUP(F102,B37:B56,J37:J56)","v":{"$error":"#N/A"}},{"$f":"LOOKUP(F102,B37:B56,K37:K56)","v":{"$error":"#N/A"}},{"$f":"LOOKUP(F102,B37:B56,L37:L56)","v":{"$error":"#N/A"}},{"$f":"LOOKUP(F102,B37:B56,M37:M56)","v":{"$error":"#N/A"}},{"$f":"LOOKUP(F102,B37:B56,N37:N56)","v":{"$error":"#N/A"}},{"$f":"LOOKUP(F102,B37:B56,O37:O56)","v":{"$error":"#N/A"}},{"$f":"LOOKUP(F102,B37:B56,P37:P56)","v":{"$error":"#N/A"}},{"$f":"LOOKUP(F102,B37:B56,Q37:Q56)","v":{"$error":"#N/A"}},{"$f":"LOOKUP(F102,B37:B56,R37:R56)","v":{"$error":"#N/A"}}]
[null,null,null,44,{"$f":"IF( (E57+L57*D102)<=H57,(E57+L57*D102),\"- - -\")","v":"- - -"},{"$f":"(B60+1)-MATCH(E103,C60:C79,-1)","v":{"$error":"#N/A"}},{"$f":"LOOKUP(F103,B37:B56,E37:E56)","v":{"$error":"#N/A"}},{"$f":"LOOKUP(F103,B37:B56,F37:F56)*0.001","v":{"$error":"#N/A"}},{"$f":"LOOKUP(F103,B37:B56,G37:G56)*$P$57","v":{"$error":"#N/A"}},{"$f":"LOOKUP(F103,B37:B56,H37:H56)*$P$57","v":{"$error":"#N/A"}},{"$f":"LOOKUP(F103,B37:B56,I37:I56)*$P$57","v":{"$error":"#N/A"}},{"$f":"LOOKUP(F103,B37:B56,J37:J56)","v":{"$error":"#N/A"}},{"$f":"LOOKUP(F103,B37:B56,K37:K56)","v":{"$error":"#N/A"}},{"$f":"LOOKUP(F103,B37:B56,L37:L56)","v":{"$error":"#N/A"}},{"$f":"LOOKUP(F103,B37:B56,M37:M56)","v":{"$error":"#N/A"}},{"$f":"LOOKUP(F103,B37:B56,N37:N56)","v":{"$error":"#N/A"}},{"$f":"LOOKUP(F103,B37:B56,O37:O56)","v":{"$error":"#N/A"}},{"$f":"LOOKUP(F103,B37:B56,P37:P56)","v":{"$error":"#N/A"}},{"$f":"LOOKUP(F103,B37:B56,Q37:Q56)","v":{"$error":"#N/A"}},{"$f":"LOOKUP(F103,B37:B56,R37:R56)","v":{"$error":"#N/A"}}]
[null,null,null,45,{"$f":"IF( (E57+L57*D103)<=H57,(E57+L57*D103),\"- - -\")","v":"- - -"},{"$f":"(B60+1)-MATCH(E104,C60:C79,-1)","v":{"$error":"#N/A"}},{"$f":"LOOKUP(F104,B37:B56,E37:E56)","v":{"$error":"#N/A"}},{"$f":"LOOKUP(F104,B37:B56,F37:F56)*0.001","v":{"$error":"#N/A"}},{"$f":"LOOKUP(F104,B37:B56,G37:G56)*$P$57","v":{"$error":"#N/A"}},{"$f":"LOOKUP(F104,B37:B56,H37:H56)*$P$57","v":{"$error":"#N/A"}},{"$f":"LOOKUP(F104,B37:B56,I37:I56)*$P$57","v":{"$error":"#N/A"}},{"$f":"LOOKUP(F104,B37:B56,J37:J56)","v":{"$error":"#N/A"}},{"$f":"LOOKUP(F104,B37:B56,K37:K56)","v":{"$error":"#N/A"}},{"$f":"LOOKUP(F104,B37:B56,L37:L56)","v":{"$error":"#N/A"}},{"$f":"LOOKUP(F104,B37:B56,M37:M56)","v":{"$error":"#N/A"}},{"$f":"LOOKUP(F104,B37:B56,N37:N56)","v":{"$error":"#N/A"}},{"$f":"LOOKUP(F104,B37:B56,O37:O56)","v":{"$error":"#N/A"}},{"$f":"LOOKUP(F104,B37:B56,P37:P56)","v":{"$error":"#N/A"}},{"$f":"LOOKUP(F104,B37:B56,Q37:Q56)","v":{"$error":"#N/A"}},{"$f":"LOOKUP(F104,B37:B56,R37:R56)","v":{"$error":"#N/A"}}]
[null,null,null,46,{"$f":"IF( (E57+L57*D104)<=H57,(E57+L57*D104),\"- - -\")","v":"- - -"},{"$f":"(B60+1)-MATCH(E105,C60:C79,-1)","v":{"$error":"#N/A"}},{"$f":"LOOKUP(F105,B37:B56,E37:E56)","v":{"$error":"#N/A"}},{"$f":"LOOKUP(F105,B37:B56,F37:F56)*0.001","v":{"$error":"#N/A"}},{"$f":"LOOKUP(F105,B37:B56,G37:G56)*$P$57","v":{"$error":"#N/A"}},{"$f":"LOOKUP(F105,B37:B56,H37:H56)*$P$57","v":{"$error":"#N/A"}},{"$f":"LOOKUP(F105,B37:B56,I37:I56)*$P$57","v":{"$error":"#N/A"}},{"$f":"LOOKUP(F105,B37:B56,J37:J56)","v":{"$error":"#N/A"}},{"$f":"LOOKUP(F105,B37:B56,K37:K56)","v":{"$error":"#N/A"}},{"$f":"LOOKUP(F105,B37:B56,L37:L56)","v":{"$error":"#N/A"}},{"$f":"LOOKUP(F105,B37:B56,M37:M56)","v":{"$error":"#N/A"}},{"$f":"LOOKUP(F105,B37:B56,N37:N56)","v":{"$error":"#N/A"}},{"$f":"LOOKUP(F105,B37:B56,O37:O56)","v":{"$error":"#N/A"}},{"$f":"LOOKUP(F105,B37:B56,P37:P56)","v":{"$error":"#N/A"}},{"$f":"LOOKUP(F105,B37:B56,Q37:Q56)","v":{"$error":"#N/A"}},{"$f":"LOOKUP(F105,B37:B56,R37:R56)","v":{"$error":"#N/A"}}]
[null,null,null,47,{"$f":"IF( (E57+L57*D105)<=H57,(E57+L57*D105),\"- - -\")","v":"- - -"},{"$f":"(B60+1)-MATCH(E106,C60:C79,-1)","v":{"$error":"#N/A"}},{"$f":"LOOKUP(F106,B37:B56,E37:E56)","v":{"$error":"#N/A"}},{"$f":"LOOKUP(F106,B37:B56,F37:F56)*0.001","v":{"$error":"#N/A"}},{"$f":"LOOKUP(F106,B37:B56,G37:G56)*$P$57","v":{"$error":"#N/A"}},{"$f":"LOOKUP(F106,B37:B56,H37:H56)*$P$57","v":{"$error":"#N/A"}},{"$f":"LOOKUP(F106,B37:B56,I37:I56)*$P$57","v":{"$error":"#N/A"}},{"$f":"LOOKUP(F106,B37:B56,J37:J56)","v":{"$error":"#N/A"}},{"$f":"LOOKUP(F106,B37:B56,K37:K56)","v":{"$error":"#N/A"}},{"$f":"LOOKUP(F106,B37:B56,L37:L56)","v":{"$error":"#N/A"}},{"$f":"LOOKUP(F106,B37:B56,M37:M56)","v":{"$error":"#N/A"}},{"$f":"LOOKUP(F106,B37:B56,N37:N56)","v":{"$error":"#N/A"}},{"$f":"LOOKUP(F106,B37:B56,O37:O56)","v":{"$error":"#N/A"}},{"$f":"LOOKUP(F106,B37:B56,P37:P56)","v":{"$error":"#N/A"}},{"$f":"LOOKUP(F106,B37:B56,Q37:Q56)","v":{"$error":"#N/A"}},{"$f":"LOOKUP(F106,B37:B56,R37:R56)","v":{"$error":"#N/A"}}]
[null,null,null,48,{"$f":"IF( (E57+L57*D106)<=H57,(E57+L57*D106),\"- - -\")","v":"- - -"},{"$f":"(B60+1)-MATCH(E107,C60:C79,-1)","v":{"$error":"#N/A"}},{"$f":"LOOKUP(F107,B37:B56,E37:E56)","v":{"$error":"#N/A"}},{"$f":"LOOKUP(F107,B37:B56,F37:F56)*0.001","v":{"$error":"#N/A"}},{"$f":"LOOKUP(F107,B37:B56,G37:G56)*$P$57","v":{"$error":"#N/A"}},{"$f":"LOOKUP(F107,B37:B56,H37:H56)*$P$57","v":{"$error":"#N/A"}},{"$f":"LOOKUP(F107,B37:B56,I37:I56)*$P$57","v":{"$error":"#N/A"}},{"$f":"LOOKUP(F107,B37:B56,J37:J56)","v":{"$error":"#N/A"}},{"$f":"LOOKUP(F107,B37:B56,K37:K56)","v":{"$error":"#N/A"}},{"$f":"LOOKUP(F107,B37:B56,L37:L56)","v":{"$error":"#N/A"}},{"$f":"LOOKUP(F107,B37:B56,M37:M56)","v":{"$error":"#N/A"}},{"$f":"LOOKUP(F107,B37:B56,N37:N56)","v":{"$error":"#N/A"}},{"$f":"LOOKUP(F107,B37:B56,O37:O56)","v":{"$error":"#N/A"}},{"$f":"LOOKUP(F107,B37:B56,P37:P56)","v":{"$error":"#N/A"}},{"$f":"LOOKUP(F107,B37:B56,Q37:Q56)","v":{"$error":"#N/A"}},{"$f":"LOOKUP(F107,B37:B56,R37:R56)","v":{"$error":"#N/A"}}]
[null,null,null,49,{"$f":"IF( (E57+L57*D107)<=H57,(E57+L57*D107),\"- - -\")","v":"- - -"},{"$f":"(B60+1)-MATCH(E108,C60:C79,-1)","v":{"$error":"#N/A"}},{"$f":"LOOKUP(F108,B37:B56,E37:E56)","v":{"$error":"#N/A"}},{"$f":"LOOKUP(F108,B37:B56,F37:F56)*0.001","v":{"$error":"#N/A"}},{"$f":"LOOKUP(F108,B37:B56,G37:G56)*$P$57","v":{"$error":"#N/A"}},{"$f":"LOOKUP(F108,B37:B56,H37:H56)*$P$57","v":{"$error":"#N/A"}},{"$f":"LOOKUP(F108,B37:B56,I37:I56)*$P$57","v":{"$error":"#N/A"}},{"$f":"LOOKUP(F108,B37:B56,J37:J56)","v":{"$error":"#N/A"}},{"$f":"LOOKUP(F108,B37:B56,K37:K56)","v":{"$error":"#N/A"}},{"$f":"LOOKUP(F108,B37:B56,L37:L56)","v":{"$error":"#N/A"}},{"$f":"LOOKUP(F108,B37:B56,M37:M56)","v":{"$error":"#N/A"}},{"$f":"LOOKUP(F108,B37:B56,N37:N56)","v":{"$error":"#N/A"}},{"$f":"LOOKUP(F108,B37:B56,O37:O56)","v":{"$error":"#N/A"}},{"$f":"LOOKUP(F108,B37:B56,P37:P56)","v":{"$error":"#N/A"}},{"$f":"LOOKUP(F108,B37:B56,Q37:Q56)","v":{"$error":"#N/A"}},{"$f":"LOOKUP(F108,B37:B56,R37:R56)","v":{"$error":"#N/A"}}]
[null,null,null,50,{"$f":"IF( (E57+L57*D108)<=H57,(E57+L57*D108),\"- - -\")","v":"- - -"},{"$f":"(B60+1)-MATCH(E109,C60:C79,-1)","v":{"$error":"#N/A"}},{"$f":"LOOKUP(F109,B37:B56,E37:E56)","v":{"$error":"#N/A"}},{"$f":"LOOKUP(F109,B37:B56,F37:F56)*0.001","v":{"$error":"#N/A"}},{"$f":"LOOKUP(F109,B37:B56,G37:G56)*$P$57","v":{"$error":"#N/A"}},{"$f":"LOOKUP(F109,B37:B56,H37:H56)*$P$57","v":{"$error":"#N/A"}},{"$f":"LOOKUP(F109,B37:B56,I37:I56)*$P$57","v":{"$error":"#N/A"}},{"$f":"LOOKUP(F109,B37:B56,J37:J56)","v":{"$error":"#N/A"}},{"$f":"LOOKUP(F109,B37:B56,K37:K56)","v":{"$error":"#N/A"}},{"$f":"LOOKUP(F109,B37:B56,L37:L56)","v":{"$error":"#N/A"}},{"$f":"LOOKUP(F109,B37:B56,M37:M56)","v":{"$error":"#N/A"}},{"$f":"LOOKUP(F109,B37:B56,N37:N56)","v":{"$error":"#N/A"}},{"$f":"LOOKUP(F109,B37:B56,O37:O56)","v":{"$error":"#N/A"}},{"$f":"LOOKUP(F109,B37:B56,P37:P56)","v":{"$error":"#N/A"}},{"$f":"LOOKUP(F109,B37:B56,Q37:Q56)","v":{"$error":"#N/A"}},{"$f":"LOOKUP(F109,B37:B56,R37:R56)","v":{"$error":"#N/A"}}]
[]
[]
[null,"搬送負荷データレコード",null,null,{"$f":"LOOKUP(C114,MassDataLink!$A$4:$A$4056,MassDataLink!$G$4:$G$4056)","v":"RCS4-SA4C-60-2.5-水平"},null,null,null,null,"設置姿勢で絞込み",null,"- - -",null,"加減速・速度データレコード"]
[null,"№","Ldﾚｺｰﾄﾞ№",{"$f":"MassDataLink!B2","v":"ｱｸﾁｭｴｰﾀ姿勢"},{"$f":"MassDataLink!C2","v":"搬送負荷質量"},{"$f":"MassDataLink!D2","v":"加減速・速度ﾃﾞｰﾀ"},{"$f":"MassDataLink!E2","v":"前ﾃﾞｰﾀ№"},{"$f":"MassDataLink!F2","v":"次ﾃﾞｰﾀ№"},null,"№","搬送負荷質量","avﾚｺｰﾄﾞ№",null,"備考",{"$f":"LOOKUP(O115,AccVelDataLink!$A$4:$A$4497,AccVelDataLink!$F$4:$F$4497)","v":"RCS4-SA4C-60-2.5-水平"}]
[null,1,{"$f":"LOOKUP(D35,B26:B33,E26:E33)","v":2977},{"$f":"LOOKUP(C114,MassDataLink!$A$4:$A$4056,MassDataLink!$B$4:$B$4056)","v":0},{"$f":"LOOKUP(C114,MassDataLink!$A$4:$A$4056,MassDataLink!$C$4:$C$4056)","v":11000},{"$f":"LOOKUP(C114,MassDataLink!$A$4:$A$4056,MassDataLink!$D$4:$D$4056)","v":2977},{"$f":"LOOKUP(C114,MassDataLink!$A$4:$A$4056,MassDataLink!$E$4:$E$4056)","v":-1},{"$f":"LOOKUP(C114,MassDataLink!$A$4:$A$4056,MassDataLink!$F$4:$F$4056)","v":2978},null,1,{"$f":"IF(C114=-1,$L$112,IF($A$11=D114,ROUND((E114*$P$57),$R$57),$L$112))","v":11},{"$f":"IF(K114=$L$112,$L$112,F114)","v":2977},null,"№","avﾚｺｰﾄﾞ№","加速度","速度","前ﾃﾞｰﾀ","次ﾃﾞｰﾀ"]
[null,{"$f":"B114+1","v":2},{"$f":"IF(C114=-1,-1,H114)","v":2978},{"$f":"LOOKUP(C115,MassDataLink!$A$4:$A$4056,MassDataLink!$B$4:$B$4056)","v":0},{"$f":"LOOKUP(C115,MassDataLink!$A$4:$A$4056,MassDataLink!$C$4:$C$4056)","v":17000},{"$f":"LOOKUP(C115,MassDataLink!$A$4:$A$4056,MassDataLink!$D$4:$D$4056)","v":2978},{"$f":"LOOKUP(C115,MassDataLink!$A$4:$A$4056,MassDataLink!$E$4:$E$4056)","v":2977},{"$f":"LOOKUP(C115,MassDataLink!$A$4:$A$4056,MassDataLink!$F$4:$F$4056)","v":2979},null,{"$f":"J114+1","v":2},{"$f":"IF(C115=-1,$L$112,IF($A$11=D115,ROUND((E115*$P$57),$R$57),$L$112))","v":17},{"$f":"IF(K115=$L$112,$L$112,F115)","v":2978},null,1,{"$f":"LOOKUP(A14,K114:K163,L114:L163)","v":2977},{"$f":"LOOKUP(O115,AccVelDataLink!$A$4:$A$4497,AccVelDataLink!$B$4:$B$4497)","v":14709975},{"$f":"LOOKUP(O115,AccVelDataLink!$A$4:$A$4497,AccVelDataLink!$C$4:$C$4497)","v":150},{"$f":"LOOKUP(O115,AccVelDataLink!$A$4:$A$4497,AccVelDataLink!$D$4:$D$4497)","v":-1},{"$f":"LOOKUP(O115,AccVelDataLink!$A$4:$A$4497,AccVelDataLink!$E$4:$E$4497)","v":-1}]
[null,{"$f":"B115+1","v":3},{"$f":"IF(C115=-1,-1,H115)","v":2979},{"$f":"LOOKUP(C116,MassDataLink!$A$4:$A$4056,MassDataLink!$B$4:$B$4056)","v":0},{"$f":"LOOKUP(C116,MassDataLink!$A$4:$A$4056,MassDataLink!$C$4:$C$4056)","v":20000},{"$f":"LOOKUP(C116,MassDataLink!$A$4:$A$4056,MassDataLink!$D$4:$D$4056)","v":2979},{"$f":"LOOKUP(C116,MassDataLink!$A$4:$A$4056,MassDataLink!$E$4:$E$4056)","v":2978},{"$f":"LOOKUP(C116,MassDataLink!$A$4:$A$4056,MassDataLink!$F$4:$F$4056)","v":2980},null,{"$f":"J115+1","v":3},20,2979,null,{"$f":"N115+1","v":2},{"$f":"IF(O115=-1,-1,S115)","v":-1},{"$f":"LOOKUP(O116,AccVelDataLink!$A$4:$A$4497,AccVelDataLink!$B$4:$B$4497)","v":{"$error":"#N/A"}},{"$f":"LOOKUP(O116,AccVelDataLink!$A$4:$A$4497,AccVelDataLink!$C$4:$C$4497)","v":{"$error":"#N/A"}},{"$f":"LOOKUP(O116,AccVelDataLink!$A$4:$A$4497,AccVelDataLink!$D$4:$D$4497)","v":{"$error":"#N/A"}},{"$f":"LOOKUP(O116,AccVelDataLink!$A$4:$A$4497,AccVelDataLink!$E$4:$E$4497)","v":{"$error":"#N/A"}}]
[null,{"$f":"B116+1","v":4},{"$f":"IF(C116=-1,-1,H116)","v":2980},{"$f":"LOOKUP(C117,MassDataLink!$A$4:$A$4056,MassDataLink!$B$4:$B$4056)","v":1},{"$f":"LOOKUP(C117,MassDataLink!$A$4:$A$4056,MassDataLink!$C$4:$C$4056)","v":6000},{"$f":"LOOKUP(C117,MassDataLink!$A$4:$A$4056,MassDataLink!$D$4:$D$4056)","v":2983},{"$f":"LOOKUP(C117,MassDataLink!$A$4:$A$4056,MassDataLink!$E$4:$E$4056)","v":2979},{"$f":"LOOKUP(C117,MassDataLink!$A$4:$A$4056,MassDataLink!$F$4:$F$4056)","v":2981},null,{"$f":"J116+1","v":4},"- - -","- - -",null,3,{"$f":"IF(O116=-1,-1,S116)","v":-1},{"$f":"LOOKUP(O117,AccVelDataLink!$A$4:$A$4497,AccVelDataLink!$B$4:$B$4497)","v":{"$error":"#N/A"}},{"$f":"LOOKUP(O117,AccVelDataLink!$A$4:$A$4497,AccVelDataLink!$C$4:$C$4497)","v":{"$error":"#N/A"}},{"$f":"LOOKUP(O117,AccVelDataLink!$A$4:$A$4497,AccVelDataLink!$D$4:$D$4497)","v":{"$error":"#N/A"}},{"$f":"LOOKUP(O117,AccVelDataLink!$A$4:$A$4497,AccVelDataLink!$E$4:$E$4497)","v":{"$error":"#N/A"}}]
[null,{"$f":"B117+1","v":5},{"$f":"IF(C117=-1,-1,H117)","v":2981},{"$f":"LOOKUP(C118,MassDataLink!$A$4:$A$4056,MassDataLink!$B$4:$B$4056)","v":1},{"$f":"LOOKUP(C118,MassDataLink!$A$4:$A$4056,MassDataLink!$C$4:$C$4056)","v":7000},{"$f":"LOOKUP(C118,MassDataLink!$A$4:$A$4056,MassDataLink!$D$4:$D$4056)","v":2984},{"$f":"LOOKUP(C118,MassDataLink!$A$4:$A$4056,MassDataLink!$E$4:$E$4056)","v":2980},{"$f":"LOOKUP(C118,MassDataLink!$A$4:$A$4056,MassDataLink!$F$4:$F$4056)","v":2982},null,{"$f":"J117+1","v":5},"- - -","- - -",null,4,-1,{"$f":"LOOKUP(O118,AccVelDataLink!$A$4:$A$4497,AccVelDataLink!$B$4:$B$4497)","v":{"$error":"#N/A"}},{"$f":"LOOKUP(O118,AccVelDataLink!$A$4:$A$4497,AccVelDataLink!$C$4:$C$4497)","v":{"$error":"#N/A"}},{"$f":"LOOKUP(O118,AccVelDataLink!$A$4:$A$4497,AccVelDataLink!$D$4:$D$4497)","v":{"$error":"#N/A"}},{"$f":"LOOKUP(O118,AccVelDataLink!$A$4:$A$4497,AccVelDataLink!$E$4:$E$4497)","v":{"$error":"#N/A"}}]
[null,{"$f":"B118+1","v":6},{"$f":"IF(C118=-1,-1,H118)","v":2982},{"$f":"LOOKUP(C119,MassDataLink!$A$4:$A$4056,MassDataLink!$B$4:$B$4056)","v":1},{"$f":"LOOKUP(C119,MassDataLink!$A$4:$A$4056,MassDataLink!$C$4:$C$4056)","v":8000},{"$f":"LOOKUP(C119,MassDataLink!$A$4:$A$4056,MassDataLink!$D$4:$D$4056)","v":2985},{"$f":"LOOKUP(C119,MassDataLink!$A$4:$A$4056,MassDataLink!$E$4:$E$4056)","v":2981},{"$f":"LOOKUP(C119,MassDataLink!$A$4:$A$4056,MassDataLink!$F$4:$F$4056)","v":2983},null,{"$f":"J118+1","v":6},"- - -","- - -",null,5,-1,{"$f":"LOOKUP(O119,AccVelDataLink!$A$4:$A$4497,AccVelDataLink!$B$4:$B$4497)","v":{"$error":"#N/A"}},{"$f":"LOOKUP(O119,AccVelDataLink!$A$4:$A$4497,AccVelDataLink!$C$4:$C$4497)","v":{"$error":"#N/A"}},{"$f":"LOOKUP(O119,AccVelDataLink!$A$4:$A$4497,AccVelDataLink!$D$4:$D$4497)","v":{"$error":"#N/A"}},{"$f":"LOOKUP(O119,AccVelDataLink!$A$4:$A$4497,AccVelDataLink!$E$4:$E$4497)","v":{"$error":"#N/A"}}]
[null,7,2983,{"$f":"LOOKUP(C120,MassDataLink!$A$4:$A$4056,MassDataLink!$B$4:$B$4056)","v":1},{"$f":"LOOKUP(C120,MassDataLink!$A$4:$A$4056,MassDataLink!$C$4:$C$4056)","v":10000},{"$f":"LOOKUP(C120,MassDataLink!$A$4:$A$4056,MassDataLink!$D$4:$D$4056)","v":2986},{"$f":"LOOKUP(C120,MassDataLink!$A$4:$A$4056,MassDataLink!$E$4:$E$4056)","v":2982},{"$f":"LOOKUP(C120,MassDataLink!$A$4:$A$4056,MassDataLink!$F$4:$F$4056)","v":2984},null,7,"- - -","- - -",null,6,-1,{"$f":"LOOKUP(O120,AccVelDataLink!$A$4:$A$4497,AccVelDataLink!$B$4:$B$4497)","v":{"$error":"#N/A"}},{"$f":"LOOKUP(O120,AccVelDataLink!$A$4:$A$4497,AccVelDataLink!$C$4:$C$4497)","v":{"$error":"#N/A"}},{"$f":"LOOKUP(O120,AccVelDataLink!$A$4:$A$4497,AccVelDataLink!$D$4:$D$4497)","v":{"$error":"#N/A"}},{"$f":"LOOKUP(O120,AccVelDataLink!$A$4:$A$4497,AccVelDataLink!$E$4:$E$4497)","v":{"$error":"#N/A"}}]
[null,8,2984,{"$f":"LOOKUP(C121,MassDataLink!$A$4:$A$4056,MassDataLink!$B$4:$B$4056)","v":1},{"$f":"LOOKUP(C121,MassDataLink!$A$4:$A$4056,MassDataLink!$C$4:$C$4056)","v":12000},{"$f":"LOOKUP(C121,MassDataLink!$A$4:$A$4056,MassDataLink!$D$4:$D$4056)","v":2987},{"$f":"LOOKUP(C121,MassDataLink!$A$4:$A$4056,MassDataLink!$E$4:$E$4056)","v":2983},{"$f":"LOOKUP(C121,MassDataLink!$A$4:$A$4056,MassDataLink!$F$4:$F$4056)","v":-1},null,8,"- - -","- - -",null,7,-1,{"$f":"LOOKUP(O121,AccVelDataLink!$A$4:$A$4497,AccVelDataLink!$B$4:$B$4497)","v":{"$error":"#N/A"}},{"$f":"LOOKUP(O121,AccVelDataLink!$A$4:$A$4497,AccVelDataLink!$C$4:$C$4497)","v":{"$error":"#N/A"}},{"$f":"LOOKUP(O121,AccVelDataLink!$A$4:$A$4497,AccVelDataLink!$D$4:$D$4497)","v":{"$error":"#N/A"}},{"$f":"LOOKUP(O121,AccVelDataLink!$A$4:$A$4497,AccVelDataLink!$E$4:$E$4497)","v":{"$error":"#N/A"}}]
[null,9,-1,{"$f":"LOOKUP(C122,MassDataLink!$A$4:$A$4056,MassDataLink!$B$4:$B$4056)","v":{"$error":"#N/A"}},{"$f":"LOOKUP(C122,MassDataLink!$A$4:$A$4056,MassDataLink!$C$4:$C$4056)","v":{"$error":"#N/A"}},{"$f":"LOOKUP(C122,MassDataLink!$A$4:$A$4056,MassDataLink!$D$4:$D$4056)","v":{"$error":"#N/A"}},{"$f":"LOOKUP(C122,MassDataLink!$A$4:$A$4056,MassDataLink!$E$4:$E$4056)","v":{"$error":"#N/A"}},{"$f":"LOOKUP(C122,MassDataLink!$A$4:$A$4056,MassDataLink!$F$4:$F$4056)","v":{"$error":"#N/A"}},null,9,"- - -","- - -",null,8,-1,{"$f":"LOOKUP(O122,AccVelDataLink!$A$4:$A$4497,AccVelDataLink!$B$4:$B$4497)","v":{"$error":"#N/A"}},{"$f":"LOOKUP(O122,AccVelDataLink!$A$4:$A$4497,AccVelDataLink!$C$4:$C$4497)","v":{"$error":"#N/A"}},{"$f":"LOOKUP(O122,AccVelDataLink!$A$4:$A$4497,AccVelDataLink!$D$4:$D$4497)","v":{"$error":"#N/A"}},{"$f":"LOOKUP(O122,AccVelDataLink!$A$4:$A$4497,AccVelDataLink!$E$4:$E$4497)","v":{"$error":"#N/A"}}]
[null,10,-1,{"$f":"LOOKUP(C123,MassDataLink!$A$4:$A$4056,MassDataLink!$B$4:$B$4056)","v":{"$error":"#N/A"}},{"$f":"LOOKUP(C123,MassDataLink!$A$4:$A$4056,MassDataLink!$C$4:$C$4056)","v":{"$error":"#N/A"}},{"$f":"LOOKUP(C123,MassDataLink!$A$4:$A$4056,MassDataLink!$D$4:$D$4056)","v":{"$error":"#N/A"}},{"$f":"LOOKUP(C123,MassDataLink!$A$4:$A$4056,MassDataLink!$E$4:$E$4056)","v":{"$error":"#N/A"}},{"$f":"LOOKUP(C123,MassDataLink!$A$4:$A$4056,MassDataLink!$F$4:$F$4056)","v":{"$error":"#N/A"}},null,10,"- - -","- - -",null,9,-1,{"$f":"LOOKUP(O123,AccVelDataLink!$A$4:$A$4497,AccVelDataLink!$B$4:$B$4497)","v":{"$error":"#N/A"}},{"$f":"LOOKUP(O123,AccVelDataLink!$A$4:$A$4497,AccVelDataLink!$C$4:$C$4497)","v":{"$error":"#N/A"}},{"$f":"LOOKUP(O123,AccVelDataLink!$A$4:$A$4497,AccVelDataLink!$D$4:$D$4497)","v":{"$error":"#N/A"}},{"$f":"LOOKUP(O123,AccVelDataLink!$A$4:$A$4497,AccVelDataLink!$E$4:$E$4497)","v":{"$error":"#N/A"}}]
[null,11,-1,{"$f":"LOOKUP(C124,MassDataLink!$A$4:$A$4056,MassDataLink!$B$4:$B$4056)","v":{"$error":"#N/A"}},{"$f":"LOOKUP(C124,MassDataLink!$A$4:$A$4056,MassDataLink!$C$4:$C$4056)","v":{"$error":"#N/A"}},{"$f":"LOOKUP(C124,MassDataLink!$A$4:$A$4056,MassDataLink!$D$4:$D$4056)","v":{"$error":"#N/A"}},{"$f":"LOOKUP(C124,MassDataLink!$A$4:$A$4056,MassDataLink!$E$4:$E$4056)","v":{"$error":"#N/A"}},{"$f":"LOOKUP(C124,MassDataLink!$A$4:$A$4056,MassDataLink!$F$4:$F$4056)","v":{"$error":"#N/A"}},null,11,"- - -","- - -",null,10,-1,{"$f":"LOOKUP(O124,AccVelDataLink!$A$4:$A$4497,AccVelDataLink!$B$4:$B$4497)","v":{"$error":"#N/A"}},{"$f":"LOOKUP(O124,AccVelDataLink!$A$4:$A$4497,AccVelDataLink!$C$4:$C$4497)","v":{"$error":"#N/A"}},{"$f":"LOOKUP(O124,AccVelDataLink!$A$4:$A$4497,AccVelDataLink!$D$4:$D$4497)","v":{"$error":"#N/A"}},{"$f":"LOOKUP(O124,AccVelDataLink!$A$4:$A$4497,AccVelDataLink!$E$4:$E$4497)","v":{"$error":"#N/A"}}]
[null,12,-1,{"$f":"LOOKUP(C125,MassDataLink!$A$4:$A$4056,MassDataLink!$B$4:$B$4056)","v":{"$error":"#N/A"}},{"$f":"LOOKUP(C125,MassDataLink!$A$4:$A$4056,MassDataLink!$C$4:$C$4056)","v":{"$error":"#N/A"}},{"$f":"LOOKUP(C125,MassDataLink!$A$4:$A$4056,MassDataLink!$D$4:$D$4056)","v":{"$error":"#N/A"}},{"$f":"LOOKUP(C125,MassDataLink!$A$4:$A$4056,MassDataLink!$E$4:$E$4056)","v":{"$error":"#N/A"}},{"$f":"LOOKUP(C125,MassDataLink!$A$4:$A$4056,MassDataLink!$F$4:$F$4056)","v":{"$error":"#N/A"}},null,12,"- - -","- - -",null,null,"加速度系数",9.9999999999999995E-7]
[null,13,-1,{"$f":"LOOKUP(C126,MassDataLink!$A$4:$A$4056,MassDataLink!$B$4:$B$4056)","v":{"$error":"#N/A"}},{"$f":"LOOKUP(C126,MassDataLink!$A$4:$A$4056,MassDataLink!$C$4:$C$4056)","v":{"$error":"#N/A"}},{"$f":"LOOKUP(C126,MassDataLink!$A$4:$A$4056,MassDataLink!$D$4:$D$4056)","v":{"$error":"#N/A"}},{"$f":"LOOKUP(C126,MassDataLink!$A$4:$A$4056,MassDataLink!$E$4:$E$4056)","v":{"$error":"#N/A"}},{"$f":"LOOKUP(C126,MassDataLink!$A$4:$A$4056,MassDataLink!$F$4:$F$4056)","v":{"$error":"#N/A"}},null,13,"- - -","- - -",null,"G","№","加速度","速度"]
[null,14,-1,{"$f":"LOOKUP(C127,MassDataLink!$A$4:$A$4056,MassDataLink!$B$4:$B$4056)","v":{"$error":"#N/A"}},{"$f":"LOOKUP(C127,MassDataLink!$A$4:$A$4056,MassDataLink!$C$4:$C$4056)","v":{"$error":"#N/A"}},{"$f":"LOOKUP(C127,MassDataLink!$A$4:$A$4056,MassDataLink!$D$4:$D$4056)","v":{"$error":"#N/A"}},{"$f":"LOOKUP(C127,MassDataLink!$A$4:$A$4056,MassDataLink!$E$4:$E$4056)","v":{"$error":"#N/A"}},{"$f":"LOOKUP(C127,MassDataLink!$A$4:$A$4056,MassDataLink!$F$4:$F$4056)","v":{"$error":"#N/A"}},null,14,"- - -","- - -",null,{"$f":"LeadData!A1","v":9.8066499999999994},1,{"$f":"IF(O115=-1,$L$112,(P115/$N$127)*$P$125)","v":1.5},{"$f":"IF(O115=-1,$L$112,Q115)","v":150}]
[null,15,-1,{"$f":"LOOKUP(C128,MassDataLink!$A$4:$A$4056,MassDataLink!$B$4:$B$4056)","v":{"$error":"#N/A"}},{"$f":"LOOKUP(C128,MassDataLink!$A$4:$A$4056,MassDataLink!$C$4:$C$4056)","v":{"$error":"#N/A"}},{"$f":"LOOKUP(C128,MassDataLink!$A$4:$A$4056,MassDataLink!$D$4:$D$4056)","v":{"$error":"#N/A"}},{"$f":"LOOKUP(C128,MassDataLink!$A$4:$A$4056,MassDataLink!$E$4:$E$4056)","v":{"$error":"#N/A"}},{"$f":"LOOKUP(C128,MassDataLink!$A$4:$A$4056,MassDataLink!$F$4:$F$4056)","v":{"$error":"#N/A"}},null,15,"- - -","- - -",null,null,{"$f":"O127+1","v":2},{"$f":"IF(O116=-1,$L$112,(P116/$N$127)*$P$125)","v":"- - -"},{"$f":"IF(O116=-1,$L$112,Q116)","v":"- - -"}]
[null,16,-1,{"$f":"LOOKUP(C129,MassDataLink!$A$4:$A$4056,MassDataLink!$B$4:$B$4056)","v":{"$error":"#N/A"}},{"$f":"LOOKUP(C129,MassDataLink!$A$4:$A$4056,MassDataLink!$C$4:$C$4056)","v":{"$error":"#N/A"}},{"$f":"LOOKUP(C129,MassDataLink!$A$4:$A$4056,MassDataLink!$D$4:$D$4056)","v":{"$error":"#N/A"}},{"$f":"LOOKUP(C129,MassDataLink!$A$4:$A$4056,MassDataLink!$E$4:$E$4056)","v":{"$error":"#N/A"}},{"$f":"LOOKUP(C129,MassDataLink!$A$4:$A$4056,MassDataLink!$F$4:$F$4056)","v":{"$error":"#N/A"}},null,16,"- - -","- - -",null,null,3,"- - -","- - -"]
[null,17,-1,{"$f":"LOOKUP(C130,MassDataLink!$A$4:$A$4056,MassDataLink!$B$4:$B$4056)","v":{"$error":"#N/A"}},{"$f":"LOOKUP(C130,MassDataLink!$A$4:$A$4056,MassDataLink!$C$4:$C$4056)","v":{"$error":"#N/A"}},{"$f":"LOOKUP(C130,MassDataLink!$A$4:$A$4056,MassDataLink!$D$4:$D$4056)","v":{"$error":"#N/A"}},{"$f":"LOOKUP(C130,MassDataLink!$A$4:$A$4056,MassDataLink!$E$4:$E$4056)","v":{"$error":"#N/A"}},{"$f":"LOOKUP(C130,MassDataLink!$A$4:$A$4056,MassDataLink!$F$4:$F$4056)","v":{"$error":"#N/A"}},null,17,"- - -","- - -",null,null,4,"- - -","- - -"]
[null,18,-1,{"$f":"LOOKUP(C131,MassDataLink!$A$4:$A$4056,MassDataLink!$B$4:$B$4056)","v":{"$error":"#N/A"}},{"$f":"LOOKUP(C131,MassDataLink!$A$4:$A$4056,MassDataLink!$C$4:$C$4056)","v":{"$error":"#N/A"}},{"$f":"LOOKUP(C131,MassDataLink!$A$4:$A$4056,MassDataLink!$D$4:$D$4056)","v":{"$error":"#N/A"}},{"$f":"LOOKUP(C131,MassDataLink!$A$4:$A$4056,MassDataLink!$E$4:$E$4056)","v":{"$error":"#N/A"}},{"$f":"LOOKUP(C131,MassDataLink!$A$4:$A$4056,MassDataLink!$F$4:$F$4056)","v":{"$error":"#N/A"}},null,18,"- - -","- - -",null,null,5,"- - -","- - -"]
[null,19,-1,{"$f":"LOOKUP(C132,MassDataLink!$A$4:$A$4056,MassDataLink!$B$4:$B$4056)","v":{"$error":"#N/A"}},{"$f":"LOOKUP(C132,MassDataLink!$A$4:$A$4056,MassDataLink!$C$4:$C$4056)","v":{"$error":"#N/A"}},{"$f":"LOOKUP(C132,MassDataLink!$A$4:$A$4056,MassDataLink!$D$4:$D$4056)","v":{"$error":"#N/A"}},{"$f":"LOOKUP(C132,MassDataLink!$A$4:$A$4056,MassDataLink!$E$4:$E$4056)","v":{"$error":"#N/A"}},{"$f":"LOOKUP(C132,MassDataLink!$A$4:$A$4056,MassDataLink!$F$4:$F$4056)","v":{"$error":"#N/A"}},null,19,"- - -","- - -",null,null,6,"- - -","- - -"]
[null,20,-1,{"$f":"LOOKUP(C133,MassDataLink!$A$4:$A$4056,MassDataLink!$B$4:$B$4056)","v":{"$error":"#N/A"}},{"$f":"LOOKUP(C133,MassDataLink!$A$4:$A$4056,MassDataLink!$C$4:$C$4056)","v":{"$error":"#N/A"}},{"$f":"LOOKUP(C133,MassDataLink!$A$4:$A$4056,MassDataLink!$D$4:$D$4056)","v":{"$error":"#N/A"}},{"$f":"LOOKUP(C133,MassDataLink!$A$4:$A$4056,MassDataLink!$E$4:$E$4056)","v":{"$error":"#N/A"}},{"$f":"LOOKUP(C133,MassDataLink!$A$4:$A$4056,MassDataLink!$F$4:$F$4056)","v":{"$error":"#N/A"}},null,20,"- - -","- - -",null,null,7,"- - -","- - -"]
[null,21,-1,{"$f":"LOOKUP(C134,MassDataLink!$A$4:$A$4056,MassDataLink!$B$4:$B$4056)","v":{"$error":"#N/A"}},{"$f":"LOOKUP(C134,MassDataLink!$A$4:$A$4056,MassDataLink!$C$4:$C$4056)","v":{"$error":"#N/A"}},{"$f":"LOOKUP(C134,MassDataLink!$A$4:$A$4056,MassDataLink!$D$4:$D$4056)","v":{"$error":"#N/A"}},{"$f":"LOOKUP(C134,MassDataLink!$A$4:$A$4056,MassDataLink!$E$4:$E$4056)","v":{"$error":"#N/A"}},{"$f":"LOOKUP(C134,MassDataLink!$A$4:$A$4056,MassDataLink!$F$4:$F$4056)","v":{"$error":"#N/A"}},null,21,"- - -","- - -",null,null,8,"- - -","- - -"]
[null,22,-1,{"$f":"LOOKUP(C135,MassDataLink!$A$4:$A$4056,MassDataLink!$B$4:$B$4056)","v":{"$error":"#N/A"}},{"$f":"LOOKUP(C135,MassDataLink!$A$4:$A$4056,MassDataLink!$C$4:$C$4056)","v":{"$error":"#N/A"}},{"$f":"LOOKUP(C135,MassDataLink!$A$4:$A$4056,MassDataLink!$D$4:$D$4056)","v":{"$error":"#N/A"}},{"$f":"LOOKUP(C135,MassDataLink!$A$4:$A$4056,MassDataLink!$E$4:$E$4056)","v":{"$error":"#N/A"}},{"$f":"LOOKUP(C135,MassDataLink!$A$4:$A$4056,MassDataLink!$F$4:$F$4056)","v":{"$error":"#N/A"}},null,22,"- - -","- - -",null,null,9,"- - -","- - -"]
[null,23,-1,{"$f":"LOOKUP(C136,MassDataLink!$A$4:$A$4056,MassDataLink!$B$4:$B$4056)","v":{"$error":"#N/A"}},{"$f":"LOOKUP(C136,MassDataLink!$A$4:$A$4056,MassDataLink!$C$4:$C$4056)","v":{"$error":"#N/A"}},{"$f":"LOOKUP(C136,MassDataLink!$A$4:$A$4056,MassDataLink!$D$4:$D$4056)","v":{"$error":"#N/A"}},{"$f":"LOOKUP(C136,MassDataLink!$A$4:$A$4056,MassDataLink!$E$4:$E$4056)","v":{"$error":"#N/A"}},{"$f":"LOOKUP(C136,MassDataLink!$A$4:$A$4056,MassDataLink!$F$4:$F$4056)","v":{"$error":"#N/A"}},null,23,"- - -","- - -",null,null,10,"- - -","- - -"]
[null,{"$f":"B136+1","v":24},{"$f":"IF(C136=-1,-1,H136)","v":-1},{"$f":"LOOKUP(C137,MassDataLink!$A$4:$A$4056,MassDataLink!$B$4:$B$4056)","v":{"$error":"#N/A"}},{"$f":"LOOKUP(C137,MassDataLink!$A$4:$A$4056,MassDataLink!$C$4:$C$4056)","v":{"$error":"#N/A"}},{"$f":"LOOKUP(C137,MassDataLink!$A$4:$A$4056,MassDataLink!$D$4:$D$4056)","v":{"$error":"#N/A"}},{"$f":"LOOKUP(C137,MassDataLink!$A$4:$A$4056,MassDataLink!$E$4:$E$4056)","v":{"$error":"#N/A"}},{"$f":"LOOKUP(C137,MassDataLink!$A$4:$A$4056,MassDataLink!$F$4:$F$4056)","v":{"$error":"#N/A"}},null,24,"- - -","- - -"]
[null,25,-1,{"$f":"LOOKUP(C138,MassDataLink!$A$4:$A$4056,MassDataLink!$B$4:$B$4056)","v":{"$error":"#N/A"}},{"$f":"LOOKUP(C138,MassDataLink!$A$4:$A$4056,MassDataLink!$C$4:$C$4056)","v":{"$error":"#N/A"}},{"$f":"LOOKUP(C138,MassDataLink!$A$4:$A$4056,MassDataLink!$D$4:$D$4056)","v":{"$error":"#N/A"}},{"$f":"LOOKUP(C138,MassDataLink!$A$4:$A$4056,MassDataLink!$E$4:$E$4056)","v":{"$error":"#N/A"}},{"$f":"LOOKUP(C138,MassDataLink!$A$4:$A$4056,MassDataLink!$F$4:$F$4056)","v":{"$error":"#N/A"}},null,25,"- - -","- - -"]
[null,26,-1,{"$f":"LOOKUP(C139,MassDataLink!$A$4:$A$4056,MassDataLink!$B$4:$B$4056)","v":{"$error":"#N/A"}},{"$f":"LOOKUP(C139,MassDataLink!$A$4:$A$4056,MassDataLink!$C$4:$C$4056)","v":{"$error":"#N/A"}},{"$f":"LOOKUP(C139,MassDataLink!$A$4:$A$4056,MassDataLink!$D$4:$D$4056)","v":{"$error":"#N/A"}},{"$f":"LOOKUP(C139,MassDataLink!$A$4:$A$4056,MassDataLink!$E$4:$E$4056)","v":{"$error":"#N/A"}},{"$f":"LOOKUP(C139,MassDataLink!$A$4:$A$4056,MassDataLink!$F$4:$F$4056)","v":{"$error":"#N/A"}},null,26,"- - -","- - -"]
[null,27,-1,{"$f":"LOOKUP(C140,MassDataLink!$A$4:$A$4056,MassDataLink!$B$4:$B$4056)","v":{"$error":"#N/A"}},{"$f":"LOOKUP(C140,MassDataLink!$A$4:$A$4056,MassDataLink!$C$4:$C$4056)","v":{"$error":"#N/A"}},{"$f":"LOOKUP(C140,MassDataLink!$A$4:$A$4056,MassDataLink!$D$4:$D$4056)","v":{"$error":"#N/A"}},{"$f":"LOOKUP(C140,MassDataLink!$A$4:$A$4056,MassDataLink!$E$4:$E$4056)","v":{"$error":"#N/A"}},{"$f":"LOOKUP(C140,MassDataLink!$A$4:$A$4056,MassDataLink!$F$4:$F$4056)","v":{"$error":"#N/A"}},null,27,"- - -","- - -"]
[null,28,-1,{"$f":"LOOKUP(C141,MassDataLink!$A$4:$A$4056,MassDataLink!$B$4:$B$4056)","v":{"$error":"#N/A"}},{"$f":"LOOKUP(C141,MassDataLink!$A$4:$A$4056,MassDataLink!$C$4:$C$4056)","v":{"$error":"#N/A"}},{"$f":"LOOKUP(C141,MassDataLink!$A$4:$A$4056,MassDataLink!$D$4:$D$4056)","v":{"$error":"#N/A"}},{"$f":"LOOKUP(C141,MassDataLink!$A$4:$A$4056,MassDataLink!$E$4:$E$4056)","v":{"$error":"#N/A"}},{"$f":"LOOKUP(C141,MassDataLink!$A$4:$A$4056,MassDataLink!$F$4:$F$4056)","v":{"$error":"#N/A"}},null,28,"- - -","- - -"]
[null,29,-1,{"$f":"LOOKUP(C142,MassDataLink!$A$4:$A$4056,MassDataLink!$B$4:$B$4056)","v":{"$error":"#N/A"}},{"$f":"LOOKUP(C142,MassDataLink!$A$4:$A$4056,MassDataLink!$C$4:$C$4056)","v":{"$error":"#N/A"}},{"$f":"LOOKUP(C142,MassDataLink!$A$4:$A$4056,MassDataLink!$D$4:$D$4056)","v":{"$error":"#N/A"}},{"$f":"LOOKUP(C142,MassDataLink!$A$4:$A$4056,MassDataLink!$E$4:$E$4056)","v":{"$error":"#N/A"}},{"$f":"LOOKUP(C142,MassDataLink!$A$4:$A$4056,MassDataLink!$F$4:$F$4056)","v":{"$error":"#N/A"}},null,29,"- - -","- - -"]
[null,30,-1,{"$f":"LOOKUP(C143,MassDataLink!$A$4:$A$4056,MassDataLink!$B$4:$B$4056)","v":{"$error":"#N/A"}},{"$f":"LOOKUP(C143,MassDataLink!$A$4:$A$4056,MassDataLink!$C$4:$C$4056)","v":{"$error":"#N/A"}},{"$f":"LOOKUP(C143,MassDataLink!$A$4:$A$4056,MassDataLink!$D$4:$D$4056)","v":{"$error":"#N/A"}},{"$f":"LOOKUP(C143,MassDataLink!$A$4:$A$4056,MassDataLink!$E$4:$E$4056)","v":{"$error":"#N/A"}},{"$f":"LOOKUP(C143,MassDataLink!$A$4:$A$4056,MassDataLink!$F$4:$F$4056)","v":{"$error":"#N/A"}},null,30,"- - -","- - -"]
[null,{"$f":"B143+1","v":31},{"$f":"IF(C143=-1,-1,H143)","v":-1},{"$f":"LOOKUP(C144,MassDataLink!$A$4:$A$4056,MassDataLink!$B$4:$B$4056)","v":{"$error":"#N/A"}},{"$f":"LOOKUP(C144,MassDataLink!$A$4:$A$4056,MassDataLink!$C$4:$C$4056)","v":{"$error":"#N/A"}},{"$f":"LOOKUP(C144,MassDataLink!$A$4:$A$4056,MassDataLink!$D$4:$D$4056)","v":{"$error":"#N/A"}},{"$f":"LOOKUP(C144,MassDataLink!$A$4:$A$4056,MassDataLink!$E$4:$E$4056)","v":{"$error":"#N/A"}},{"$f":"LOOKUP(C144,MassDataLink!$A$4:$A$4056,MassDataLink!$F$4:$F$4056)","v":{"$error":"#N/A"}},null,31,"- - -","- - -"]
[null,32,-1,{"$f":"LOOKUP(C145,MassDataLink!$A$4:$A$4056,MassDataLink!$B$4:$B$4056)","v":{"$error":"#N/A"}},{"$f":"LOOKUP(C145,MassDataLink!$A$4:$A$4056,MassDataLink!$C$4:$C$4056)","v":{"$error":"#N/A"}},{"$f":"LOOKUP(C145,MassDataLink!$A$4:$A$4056,MassDataLink!$D$4:$D$4056)","v":{"$error":"#N/A"}},{"$f":"LOOKUP(C145,MassDataLink!$A$4:$A$4056,MassDataLink!$E$4:$E$4056)","v":{"$error":"#N/A"}},{"$f":"LOOKUP(C145,MassDataLink!$A$4:$A$4056,MassDataLink!$F$4:$F$4056)","v":{"$error":"#N/A"}},null,32,"- - -","- - -"]
[null,33,-1,{"$f":"LOOKUP(C146,MassDataLink!$A$4:$A$4056,MassDataLink!$B$4:$B$4056)","v":{"$error":"#N/A"}},{"$f":"LOOKUP(C146,MassDataLink!$A$4:$A$4056,MassDataLink!$C$4:$C$4056)","v":{"$error":"#N/A"}},{"$f":"LOOKUP(C146,MassDataLink!$A$4:$A$4056,MassDataLink!$D$4:$D$4056)","v":{"$error":"#N/A"}},{"$f":"LOOKUP(C146,MassDataLink!$A$4:$A$4056,MassDataLink!$E$4:$E$4056)","v":{"$error":"#N/A"}},{"$f":"LOOKUP(C146,MassDataLink!$A$4:$A$4056,MassDataLink!$F$4:$F$4056)","v":{"$error":"#N/A"}},null,33,"- - -","- - -"]
[null,34,-1,{"$f":"LOOKUP(C147,MassDataLink!$A$4:$A$4056,MassDataLink!$B$4:$B$4056)","v":{"$error":"#N/A"}},{"$f":"LOOKUP(C147,MassDataLink!$A$4:$A$4056,MassDataLink!$C$4:$C$4056)","v":{"$error":"#N/A"}},{"$f":"LOOKUP(C147,MassDataLink!$A$4:$A$4056,MassDataLink!$D$4:$D$4056)","v":{"$error":"#N/A"}},{"$f":"LOOKUP(C147,MassDataLink!$A$4:$A$4056,MassDataLink!$E$4:$E$4056)","v":{"$error":"#N/A"}},{"$f":"LOOKUP(C147,MassDataLink!$A$4:$A$4056,MassDataLink!$F$4:$F$4056)","v":{"$error":"#N/A"}},null,34,"- - -","- - -"]
[null,35,-1,{"$f":"LOOKUP(C148,MassDataLink!$A$4:$A$4056,MassDataLink!$B$4:$B$4056)","v":{"$error":"#N/A"}},{"$f":"LOOKUP(C148,MassDataLink!$A$4:$A$4056,MassDataLink!$C$4:$C$4056)","v":{"$error":"#N/A"}},{"$f":"LOOKUP(C148,MassDataLink!$A$4:$A$4056,MassDataLink!$D$4:$D$4056)","v":{"$error":"#N/A"}},{"$f":"LOOKUP(C148,MassDataLink!$A$4:$A$4056,MassDataLink!$E$4:$E$4056)","v":{"$error":"#N/A"}},{"$f":"LOOKUP(C148,MassDataLink!$A$4:$A$4056,MassDataLink!$F$4:$F$4056)","v":{"$error":"#N/A"}},null,35,"- - -","- - -"]
[null,36,-1,{"$f":"LOOKUP(C149,MassDataLink!$A$4:$A$4056,MassDataLink!$B$4:$B$4056)","v":{"$error":"#N/A"}},{"$f":"LOOKUP(C149,MassDataLink!$A$4:$A$4056,MassDataLink!$C$4:$C$4056)","v":{"$error":"#N/A"}},{"$f":"LOOKUP(C149,MassDataLink!$A$4:$A$4056,MassDataLink!$D$4:$D$4056)","v":{"$error":"#N/A"}},{"$f":"LOOKUP(C149,MassDataLink!$A$4:$A$4056,MassDataLink!$E$4:$E$4056)","v":{"$error":"#N/A"}},{"$f":"LOOKUP(C149,MassDataLink!$A$4:$A$4056,MassDataLink!$F$4:$F$4056)","v":{"$error":"#N/A"}},null,36,"- - -","- - -"]
[null,37,-1,{"$f":"LOOKUP(C150,MassDataLink!$A$4:$A$4056,MassDataLink!$B$4:$B$4056)","v":{"$error":"#N/A"}},{"$f":"LOOKUP(C150,MassDataLink!$A$4:$A$4056,MassDataLink!$C$4:$C$4056)","v":{"$error":"#N/A"}},{"$f":"LOOKUP(C150,MassDataLink!$A$4:$A$4056,MassDataLink!$D$4:$D$4056)","v":{"$error":"#N/A"}},{"$f":"LOOKUP(C150,MassDataLink!$A$4:$A$4056,MassDataLink!$E$4:$E$4056)","v":{"$error":"#N/A"}},{"$f":"LOOKUP(C150,MassDataLink!$A$4:$A$4056,MassDataLink!$F$4:$F$4056)","v":{"$error":"#N/A"}},null,37,"- - -","- - -"]
[null,38,-1,{"$f":"LOOKUP(C151,MassDataLink!$A$4:$A$4056,MassDataLink!$B$4:$B$4056)","v":{"$error":"#N/A"}},{"$f":"LOOKUP(C151,MassDataLink!$A$4:$A$4056,MassDataLink!$C$4:$C$4056)","v":{"$error":"#N/A"}},{"$f":"LOOKUP(C151,MassDataLink!$A$4:$A$4056,MassDataLink!$D$4:$D$4056)","v":{"$error":"#N/A"}},{"$f":"LOOKUP(C151,MassDataLink!$A$4:$A$4056,MassDataLink!$E$4:$E$4056)","v":{"$error":"#N/A"}},{"$f":"LOOKUP(C151,MassDataLink!$A$4:$A$4056,MassDataLink!$F$4:$F$4056)","v":{"$error":"#N/A"}},null,38,"- - -","- - -"]
[null,39,-1,{"$f":"LOOKUP(C152,MassDataLink!$A$4:$A$4056,MassDataLink!$B$4:$B$4056)","v":{"$error":"#N/A"}},{"$f":"LOOKUP(C152,MassDataLink!$A$4:$A$4056,MassDataLink!$C$4:$C$4056)","v":{"$error":"#N/A"}},{"$f":"LOOKUP(C152,MassDataLink!$A$4:$A$4056,MassDataLink!$D$4:$D$4056)","v":{"$error":"#N/A"}},{"$f":"LOOKUP(C152,MassDataLink!$A$4:$A$4056,MassDataLink!$E$4:$E$4056)","v":{"$error":"#N/A"}},{"$f":"LOOKUP(C152,MassDataLink!$A$4:$A$4056,MassDataLink!$F$4:$F$4056)","v":{"$error":"#N/A"}},null,39,"- - -","- - -"]
[null,40,-1,{"$f":"LOOKUP(C153,MassDataLink!$A$4:$A$4056,MassDataLink!$B$4:$B$4056)","v":{"$error":"#N/A"}},{"$f":"LOOKUP(C153,MassDataLink!$A$4:$A$4056,MassDataLink!$C$4:$C$4056)","v":{"$error":"#N/A"}},{"$f":"LOOKUP(C153,MassDataLink!$A$4:$A$4056,MassDataLink!$D$4:$D$4056)","v":{"$error":"#N/A"}},{"$f":"LOOKUP(C153,MassDataLink!$A$4:$A$4056,MassDataLink!$E$4:$E$4056)","v":{"$error":"#N/A"}},{"$f":"LOOKUP(C153,MassDataLink!$A$4:$A$4056,MassDataLink!$F$4:$F$4056)","v":{"$error":"#N/A"}},null,40,"- - -","- - -"]
[null,41,-1,{"$f":"LOOKUP(C154,MassDataLink!$A$4:$A$4056,MassDataLink!$B$4:$B$4056)","v":{"$error":"#N/A"}},{"$f":"LOOKUP(C154,MassDataLink!$A$4:$A$4056,MassDataLink!$C$4:$C$4056)","v":{"$error":"#N/A"}},{"$f":"LOOKUP(C154,MassDataLink!$A$4:$A$4056,MassDataLink!$D$4:$D$4056)","v":{"$error":"#N/A"}},{"$f":"LOOKUP(C154,MassDataLink!$A$4:$A$4056,MassDataLink!$E$4:$E$4056)","v":{"$error":"#N/A"}},{"$f":"LOOKUP(C154,MassDataLink!$A$4:$A$4056,MassDataLink!$F$4:$F$4056)","v":{"$error":"#N/A"}},null,41,"- - -","- - -"]
[null,42,-1,{"$f":"LOOKUP(C155,MassDataLink!$A$4:$A$4056,MassDataLink!$B$4:$B$4056)","v":{"$error":"#N/A"}},{"$f":"LOOKUP(C155,MassDataLink!$A$4:$A$4056,MassDataLink!$C$4:$C$4056)","v":{"$error":"#N/A"}},{"$f":"LOOKUP(C155,MassDataLink!$A$4:$A$4056,MassDataLink!$D$4:$D$4056)","v":{"$error":"#N/A"}},{"$f":"LOOKUP(C155,MassDataLink!$A$4:$A$4056,MassDataLink!$E$4:$E$4056)","v":{"$error":"#N/A"}},{"$f":"LOOKUP(C155,MassDataLink!$A$4:$A$4056,MassDataLink!$F$4:$F$4056)","v":{"$error":"#N/A"}},null,42,"- - -","- - -"]
[null,43,-1,{"$f":"LOOKUP(C156,MassDataLink!$A$4:$A$4056,MassDataLink!$B$4:$B$4056)","v":{"$error":"#N/A"}},{"$f":"LOOKUP(C156,MassDataLink!$A$4:$A$4056,MassDataLink!$C$4:$C$4056)","v":{"$error":"#N/A"}},{"$f":"LOOKUP(C156,MassDataLink!$A$4:$A$4056,MassDataLink!$D$4:$D$4056)","v":{"$error":"#N/A"}},{"$f":"LOOKUP(C156,MassDataLink!$A$4:$A$4056,MassDataLink!$E$4:$E$4056)","v":{"$error":"#N/A"}},{"$f":"LOOKUP(C156,MassDataLink!$A$4:$A$4056,MassDataLink!$F$4:$F$4056)","v":{"$error":"#N/A"}},null,43,"- - -","- - -"]
[null,44,-1,{"$f":"LOOKUP(C157,MassDataLink!$A$4:$A$4056,MassDataLink!$B$4:$B$4056)","v":{"$error":"#N/A"}},{"$f":"LOOKUP(C157,MassDataLink!$A$4:$A$4056,MassDataLink!$C$4:$C$4056)","v":{"$error":"#N/A"}},{"$f":"LOOKUP(C157,MassDataLink!$A$4:$A$4056,MassDataLink!$D$4:$D$4056)","v":{"$error":"#N/A"}},{"$f":"LOOKUP(C157,MassDataLink!$A$4:$A$4056,MassDataLink!$E$4:$E$4056)","v":{"$error":"#N/A"}},{"$f":"LOOKUP(C157,MassDataLink!$A$4:$A$4056,MassDataLink!$F$4:$F$4056)","v":{"$error":"#N/A"}},null,44,"- - -","- - -"]
[null,45,-1,{"$f":"LOOKUP(C158,MassDataLink!$A$4:$A$4056,MassDataLink!$B$4:$B$4056)","v":{"$error":"#N/A"}},{"$f":"LOOKUP(C158,MassDataLink!$A$4:$A$4056,MassDataLink!$C$4:$C$4056)","v":{"$error":"#N/A"}},{"$f":"LOOKUP(C158,MassDataLink!$A$4:$A$4056,MassDataLink!$D$4:$D$4056)","v":{"$error":"#N/A"}},{"$f":"LOOKUP(C158,MassDataLink!$A$4:$A$4056,MassDataLink!$E$4:$E$4056)","v":{"$error":"#N/A"}},{"$f":"LOOKUP(C158,MassDataLink!$A$4:$A$4056,MassDataLink!$F$4:$F$4056)","v":{"$error":"#N/A"}},null,45,"- - -","- - -"]
[null,46,-1,{"$f":"LOOKUP(C159,MassDataLink!$A$4:$A$4056,MassDataLink!$B$4:$B$4056)","v":{"$error":"#N/A"}},{"$f":"LOOKUP(C159,MassDataLink!$A$4:$A$4056,MassDataLink!$C$4:$C$4056)","v":{"$error":"#N/A"}},{"$f":"LOOKUP(C159,MassDataLink!$A$4:$A$4056,MassDataLink!$D$4:$D$4056)","v":{"$error":"#N/A"}},{"$f":"LOOKUP(C159,MassDataLink!$A$4:$A$4056,MassDataLink!$E$4:$E$4056)","v":{"$error":"#N/A"}},{"$f":"LOOKUP(C159,MassDataLink!$A$4:$A$4056,MassDataLink!$F$4:$F$4056)","v":{"$error":"#N/A"}},null,46,"- - -","- - -"]
[null,47,-1,{"$f":"LOOKUP(C160,MassDataLink!$A$4:$A$4056,MassDataLink!$B$4:$B$4056)","v":{"$error":"#N/A"}},{"$f":"LOOKUP(C160,MassDataLink!$A$4:$A$4056,MassDataLink!$C$4:$C$4056)","v":{"$error":"#N/A"}},{"$f":"LOOKUP(C160,MassDataLink!$A$4:$A$4056,MassDataLink!$D$4:$D$4056)","v":{"$error":"#N/A"}},{"$f":"LOOKUP(C160,MassDataLink!$A$4:$A$4056,MassDataLink!$E$4:$E$4056)","v":{"$error":"#N/A"}},{"$f":"LOOKUP(C160,MassDataLink!$A$4:$A$4056,MassDataLink!$F$4:$F$4056)","v":{"$error":"#N/A"}},null,47,"- - -","- - -"]
[null,48,-1,{"$f":"LOOKUP(C161,MassDataLink!$A$4:$A$4056,MassDataLink!$B$4:$B$4056)","v":{"$error":"#N/A"}},{"$f":"LOOKUP(C161,MassDataLink!$A$4:$A$4056,MassDataLink!$C$4:$C$4056)","v":{"$error":"#N/A"}},{"$f":"LOOKUP(C161,MassDataLink!$A$4:$A$4056,MassDataLink!$D$4:$D$4056)","v":{"$error":"#N/A"}},{"$f":"LOOKUP(C161,MassDataLink!$A$4:$A$4056,MassDataLink!$E$4:$E$4056)","v":{"$error":"#N/A"}},{"$f":"LOOKUP(C161,MassDataLink!$A$4:$A$4056,MassDataLink!$F$4:$F$4056)","v":{"$error":"#N/A"}},null,48,"- - -","- - -"]
[null,49,-1,{"$f":"LOOKUP(C162,MassDataLink!$A$4:$A$4056,MassDataLink!$B$4:$B$4056)","v":{"$error":"#N/A"}},{"$f":"LOOKUP(C162,MassDataLink!$A$4:$A$4056,MassDataLink!$C$4:$C$4056)","v":{"$error":"#N/A"}},{"$f":"LOOKUP(C162,MassDataLink!$A$4:$A$4056,MassDataLink!$D$4:$D$4056)","v":{"$error":"#N/A"}},{"$f":"LOOKUP(C162,MassDataLink!$A$4:$A$4056,MassDataLink!$E$4:$E$4056)","v":{"$error":"#N/A"}},{"$f":"LOOKUP(C162,MassDataLink!$A$4:$A$4056,MassDataLink!$F$4:$F$4056)","v":{"$error":"#N/A"}},null,49,"- - -","- - -"]
[null,50,-1,{"$f":"LOOKUP(C163,MassDataLink!$A$4:$A$4056,MassDataLink!$B$4:$B$4056)","v":{"$error":"#N/A"}},{"$f":"LOOKUP(C163,MassDataLink!$A$4:$A$4056,MassDataLink!$C$4:$C$4056)","v":{"$error":"#N/A"}},{"$f":"LOOKUP(C163,MassDataLink!$A$4:$A$4056,MassDataLink!$D$4:$D$4056)","v":{"$error":"#N/A"}},{"$f":"LOOKUP(C163,MassDataLink!$A$4:$A$4056,MassDataLink!$E$4:$E$4056)","v":{"$error":"#N/A"}},{"$f":"LOOKUP(C163,MassDataLink!$A$4:$A$4056,MassDataLink!$F$4:$F$4056)","v":{"$error":"#N/A"}},null,50,"- - -","- - -"]
[null,{"$f":"B163+1","v":51},{"$f":"IF(C163=-1,-1,H163)","v":-1},{"$f":"LOOKUP(C164,MassDataLink!$A$4:$A$4056,MassDataLink!$B$4:$B$4056)","v":{"$error":"#N/A"}},{"$f":"LOOKUP(C164,MassDataLink!$A$4:$A$4056,MassDataLink!$C$4:$C$4056)","v":{"$error":"#N/A"}},{"$f":"LOOKUP(C164,MassDataLink!$A$4:$A$4056,MassDataLink!$D$4:$D$4056)","v":{"$error":"#N/A"}},{"$f":"LOOKUP(C164,MassDataLink!$A$4:$A$4056,MassDataLink!$E$4:$E$4056)","v":{"$error":"#N/A"}},{"$f":"LOOKUP(C164,MassDataLink!$A$4:$A$4056,MassDataLink!$F$4:$F$4056)","v":{"$error":"#N/A"}},null,{"$f":"J163+1","v":51},{"$f":"IF(C164=-1,$L$112,IF($A$11=D164,ROUND((E164*$P$57),$R$57),$L$112))","v":"- - -"},{"$f":"IF(K164=$L$112,$L$112,F164)","v":"- - -"}]
[null,52,-1,{"$f":"LOOKUP(C165,MassDataLink!$A$4:$A$4056,MassDataLink!$B$4:$B$4056)","v":{"$error":"#N/A"}},{"$f":"LOOKUP(C165,MassDataLink!$A$4:$A$4056,MassDataLink!$C$4:$C$4056)","v":{"$error":"#N/A"}},{"$f":"LOOKUP(C165,MassDataLink!$A$4:$A$4056,MassDataLink!$D$4:$D$4056)","v":{"$error":"#N/A"}},{"$f":"LOOKUP(C165,MassDataLink!$A$4:$A$4056,MassDataLink!$E$4:$E$4056)","v":{"$error":"#N/A"}},{"$f":"LOOKUP(C165,MassDataLink!$A$4:$A$4056,MassDataLink!$F$4:$F$4056)","v":{"$error":"#N/A"}},null,52,"- - -","- - -"]
[null,53,-1,{"$f":"LOOKUP(C166,MassDataLink!$A$4:$A$4056,MassDataLink!$B$4:$B$4056)","v":{"$error":"#N/A"}},{"$f":"LOOKUP(C166,MassDataLink!$A$4:$A$4056,MassDataLink!$C$4:$C$4056)","v":{"$error":"#N/A"}},{"$f":"LOOKUP(C166,MassDataLink!$A$4:$A$4056,MassDataLink!$D$4:$D$4056)","v":{"$error":"#N/A"}},{"$f":"LOOKUP(C166,MassDataLink!$A$4:$A$4056,MassDataLink!$E$4:$E$4056)","v":{"$error":"#N/A"}},{"$f":"LOOKUP(C166,MassDataLink!$A$4:$A$4056,MassDataLink!$F$4:$F$4056)","v":{"$error":"#N/A"}},null,53,"- - -","- - -"]
[null,54,-1,{"$f":"LOOKUP(C167,MassDataLink!$A$4:$A$4056,MassDataLink!$B$4:$B$4056)","v":{"$error":"#N/A"}},{"$f":"LOOKUP(C167,MassDataLink!$A$4:$A$4056,MassDataLink!$C$4:$C$4056)","v":{"$error":"#N/A"}},{"$f":"LOOKUP(C167,MassDataLink!$A$4:$A$4056,MassDataLink!$D$4:$D$4056)","v":{"$error":"#N/A"}},{"$f":"LOOKUP(C167,MassDataLink!$A$4:$A$4056,MassDataLink!$E$4:$E$4056)","v":{"$error":"#N/A"}},{"$f":"LOOKUP(C167,MassDataLink!$A$4:$A$4056,MassDataLink!$F$4:$F$4056)","v":{"$error":"#N/A"}},null,54,"- - -","- - -"]
[null,55,-1,{"$f":"LOOKUP(C168,MassDataLink!$A$4:$A$4056,MassDataLink!$B$4:$B$4056)","v":{"$error":"#N/A"}},{"$f":"LOOKUP(C168,MassDataLink!$A$4:$A$4056,MassDataLink!$C$4:$C$4056)","v":{"$error":"#N/A"}},{"$f":"LOOKUP(C168,MassDataLink!$A$4:$A$4056,MassDataLink!$D$4:$D$4056)","v":{"$error":"#N/A"}},{"$f":"LOOKUP(C168,MassDataLink!$A$4:$A$4056,MassDataLink!$E$4:$E$4056)","v":{"$error":"#N/A"}},{"$f":"LOOKUP(C168,MassDataLink!$A$4:$A$4056,MassDataLink!$F$4:$F$4056)","v":{"$error":"#N/A"}},null,55,"- - -","- - -"]
[null,56,-1,{"$f":"LOOKUP(C169,MassDataLink!$A$4:$A$4056,MassDataLink!$B$4:$B$4056)","v":{"$error":"#N/A"}},{"$f":"LOOKUP(C169,MassDataLink!$A$4:$A$4056,MassDataLink!$C$4:$C$4056)","v":{"$error":"#N/A"}},{"$f":"LOOKUP(C169,MassDataLink!$A$4:$A$4056,MassDataLink!$D$4:$D$4056)","v":{"$error":"#N/A"}},{"$f":"LOOKUP(C169,MassDataLink!$A$4:$A$4056,MassDataLink!$E$4:$E$4056)","v":{"$error":"#N/A"}},{"$f":"LOOKUP(C169,MassDataLink!$A$4:$A$4056,MassDataLink!$F$4:$F$4056)","v":{"$error":"#N/A"}},null,56,"- - -","- - -"]
[null,57,-1,{"$f":"LOOKUP(C170,MassDataLink!$A$4:$A$4056,MassDataLink!$B$4:$B$4056)","v":{"$error":"#N/A"}},{"$f":"LOOKUP(C170,MassDataLink!$A$4:$A$4056,MassDataLink!$C$4:$C$4056)","v":{"$error":"#N/A"}},{"$f":"LOOKUP(C170,MassDataLink!$A$4:$A$4056,MassDataLink!$D$4:$D$4056)","v":{"$error":"#N/A"}},{"$f":"LOOKUP(C170,MassDataLink!$A$4:$A$4056,MassDataLink!$E$4:$E$4056)","v":{"$error":"#N/A"}},{"$f":"LOOKUP(C170,MassDataLink!$A$4:$A$4056,MassDataLink!$F$4:$F$4056)","v":{"$error":"#N/A"}},null,57,"- - -","- - -"]
[null,58,-1,{"$f":"LOOKUP(C171,MassDataLink!$A$4:$A$4056,MassDataLink!$B$4:$B$4056)","v":{"$error":"#N/A"}},{"$f":"LOOKUP(C171,MassDataLink!$A$4:$A$4056,MassDataLink!$C$4:$C$4056)","v":{"$error":"#N/A"}},{"$f":"LOOKUP(C171,MassDataLink!$A$4:$A$4056,MassDataLink!$D$4:$D$4056)","v":{"$error":"#N/A"}},{"$f":"LOOKUP(C171,MassDataLink!$A$4:$A$4056,MassDataLink!$E$4:$E$4056)","v":{"$error":"#N/A"}},{"$f":"LOOKUP(C171,MassDataLink!$A$4:$A$4056,MassDataLink!$F$4:$F$4056)","v":{"$error":"#N/A"}},null,58,"- - -","- - -"]
[null,59,-1,{"$f":"LOOKUP(C172,MassDataLink!$A$4:$A$4056,MassDataLink!$B$4:$B$4056)","v":{"$error":"#N/A"}},{"$f":"LOOKUP(C172,MassDataLink!$A$4:$A$4056,MassDataLink!$C$4:$C$4056)","v":{"$error":"#N/A"}},{"$f":"LOOKUP(C172,MassDataLink!$A$4:$A$4056,MassDataLink!$D$4:$D$4056)","v":{"$error":"#N/A"}},{"$f":"LOOKUP(C172,MassDataLink!$A$4:$A$4056,MassDataLink!$E$4:$E$4056)","v":{"$error":"#N/A"}},{"$f":"LOOKUP(C172,MassDataLink!$A$4:$A$4056,MassDataLink!$F$4:$F$4056)","v":{"$error":"#N/A"}},null,59,"- - -","- - -"]
[null,60,-1,{"$f":"LOOKUP(C173,MassDataLink!$A$4:$A$4056,MassDataLink!$B$4:$B$4056)","v":{"$error":"#N/A"}},{"$f":"LOOKUP(C173,MassDataLink!$A$4:$A$4056,MassDataLink!$C$4:$C$4056)","v":{"$error":"#N/A"}},{"$f":"LOOKUP(C173,MassDataLink!$A$4:$A$4056,MassDataLink!$D$4:$D$4056)","v":{"$error":"#N/A"}},{"$f":"LOOKUP(C173,MassDataLink!$A$4:$A$4056,MassDataLink!$E$4:$E$4056)","v":{"$error":"#N/A"}},{"$f":"LOOKUP(C173,MassDataLink!$A$4:$A$4056,MassDataLink!$F$4:$F$4056)","v":{"$error":"#N/A"}},null,60,"- - -","- - -"]
[null,61,-1,{"$f":"LOOKUP(C174,MassDataLink!$A$4:$A$4056,MassDataLink!$B$4:$B$4056)","v":{"$error":"#N/A"}},{"$f":"LOOKUP(C174,MassDataLink!$A$4:$A$4056,MassDataLink!$C$4:$C$4056)","v":{"$error":"#N/A"}},{"$f":"LOOKUP(C174,MassDataLink!$A$4:$A$4056,MassDataLink!$D$4:$D$4056)","v":{"$error":"#N/A"}},{"$f":"LOOKUP(C174,MassDataLink!$A$4:$A$4056,MassDataLink!$E$4:$E$4056)","v":{"$error":"#N/A"}},{"$f":"LOOKUP(C174,MassDataLink!$A$4:$A$4056,MassDataLink!$F$4:$F$4056)","v":{"$error":"#N/A"}},null,61,"- - -","- - -"]
[null,62,-1,{"$f":"LOOKUP(C175,MassDataLink!$A$4:$A$4056,MassDataLink!$B$4:$B$4056)","v":{"$error":"#N/A"}},{"$f":"LOOKUP(C175,MassDataLink!$A$4:$A$4056,MassDataLink!$C$4:$C$4056)","v":{"$error":"#N/A"}},{"$f":"LOOKUP(C175,MassDataLink!$A$4:$A$4056,MassDataLink!$D$4:$D$4056)","v":{"$error":"#N/A"}},{"$f":"LOOKUP(C175,MassDataLink!$A$4:$A$4056,MassDataLink!$E$4:$E$4056)","v":{"$error":"#N/A"}},{"$f":"LOOKUP(C175,MassDataLink!$A$4:$A$4056,MassDataLink!$F$4:$F$4056)","v":{"$error":"#N/A"}},null,62,"- - -","- - -"]
[null,63,-1,{"$f":"LOOKUP(C176,MassDataLink!$A$4:$A$4056,MassDataLink!$B$4:$B$4056)","v":{"$error":"#N/A"}},{"$f":"LOOKUP(C176,MassDataLink!$A$4:$A$4056,MassDataLink!$C$4:$C$4056)","v":{"$error":"#N/A"}},{"$f":"LOOKUP(C176,MassDataLink!$A$4:$A$4056,MassDataLink!$D$4:$D$4056)","v":{"$error":"#N/A"}},{"$f":"LOOKUP(C176,MassDataLink!$A$4:$A$4056,MassDataLink!$E$4:$E$4056)","v":{"$error":"#N/A"}},{"$f":"LOOKUP(C176,MassDataLink!$A$4:$A$4056,MassDataLink!$F$4:$F$4056)","v":{"$error":"#N/A"}},null,63,"- - -","- - -"]
[null,64,-1,{"$f":"LOOKUP(C177,MassDataLink!$A$4:$A$4056,MassDataLink!$B$4:$B$4056)","v":{"$error":"#N/A"}},{"$f":"LOOKUP(C177,MassDataLink!$A$4:$A$4056,MassDataLink!$C$4:$C$4056)","v":{"$error":"#N/A"}},{"$f":"LOOKUP(C177,MassDataLink!$A$4:$A$4056,MassDataLink!$D$4:$D$4056)","v":{"$error":"#N/A"}},{"$f":"LOOKUP(C177,MassDataLink!$A$4:$A$4056,MassDataLink!$E$4:$E$4056)","v":{"$error":"#N/A"}},{"$f":"LOOKUP(C177,MassDataLink!$A$4:$A$4056,MassDataLink!$F$4:$F$4056)","v":{"$error":"#N/A"}},null,64,"- - -","- - -"]
[null,65,-1,{"$f":"LOOKUP(C178,MassDataLink!$A$4:$A$4056,MassDataLink!$B$4:$B$4056)","v":{"$error":"#N/A"}},{"$f":"LOOKUP(C178,MassDataLink!$A$4:$A$4056,MassDataLink!$C$4:$C$4056)","v":{"$error":"#N/A"}},{"$f":"LOOKUP(C178,MassDataLink!$A$4:$A$4056,MassDataLink!$D$4:$D$4056)","v":{"$error":"#N/A"}},{"$f":"LOOKUP(C178,MassDataLink!$A$4:$A$4056,MassDataLink!$E$4:$E$4056)","v":{"$error":"#N/A"}},{"$f":"LOOKUP(C178,MassDataLink!$A$4:$A$4056,MassDataLink!$F$4:$F$4056)","v":{"$error":"#N/A"}},null,65,"- - -","- - -"]
[null,66,-1,{"$f":"LOOKUP(C179,MassDataLink!$A$4:$A$4056,MassDataLink!$B$4:$B$4056)","v":{"$error":"#N/A"}},{"$f":"LOOKUP(C179,MassDataLink!$A$4:$A$4056,MassDataLink!$C$4:$C$4056)","v":{"$error":"#N/A"}},{"$f":"LOOKUP(C179,MassDataLink!$A$4:$A$4056,MassDataLink!$D$4:$D$4056)","v":{"$error":"#N/A"}},{"$f":"LOOKUP(C179,MassDataLink!$A$4:$A$4056,MassDataLink!$E$4:$E$4056)","v":{"$error":"#N/A"}},{"$f":"LOOKUP(C179,MassDataLink!$A$4:$A$4056,MassDataLink!$F$4:$F$4056)","v":{"$error":"#N/A"}},null,66,"- - -","- - -"]
[null,67,-1,{"$f":"LOOKUP(C180,MassDataLink!$A$4:$A$4056,MassDataLink!$B$4:$B$4056)","v":{"$error":"#N/A"}},{"$f":"LOOKUP(C180,MassDataLink!$A$4:$A$4056,MassDataLink!$C$4:$C$4056)","v":{"$error":"#N/A"}},{"$f":"LOOKUP(C180,MassDataLink!$A$4:$A$4056,MassDataLink!$D$4:$D$4056)","v":{"$error":"#N/A"}},{"$f":"LOOKUP(C180,MassDataLink!$A$4:$A$4056,MassDataLink!$E$4:$E$4056)","v":{"$error":"#N/A"}},{"$f":"LOOKUP(C180,MassDataLink!$A$4:$A$4056,MassDataLink!$F$4:$F$4056)","v":{"$error":"#N/A"}},null,67,"- - -","- - -"]
[null,68,-1,{"$f":"LOOKUP(C181,MassDataLink!$A$4:$A$4056,MassDataLink!$B$4:$B$4056)","v":{"$error":"#N/A"}},{"$f":"LOOKUP(C181,MassDataLink!$A$4:$A$4056,MassDataLink!$C$4:$C$4056)","v":{"$error":"#N/A"}},{"$f":"LOOKUP(C181,MassDataLink!$A$4:$A$4056,MassDataLink!$D$4:$D$4056)","v":{"$error":"#N/A"}},{"$f":"LOOKUP(C181,MassDataLink!$A$4:$A$4056,MassDataLink!$E$4:$E$4056)","v":{"$error":"#N/A"}},{"$f":"LOOKUP(C181,MassDataLink!$A$4:$A$4056,MassDataLink!$F$4:$F$4056)","v":{"$error":"#N/A"}},null,68,"- - -","- - -"]
[null,69,-1,{"$f":"LOOKUP(C182,MassDataLink!$A$4:$A$4056,MassDataLink!$B$4:$B$4056)","v":{"$error":"#N/A"}},{"$f":"LOOKUP(C182,MassDataLink!$A$4:$A$4056,MassDataLink!$C$4:$C$4056)","v":{"$error":"#N/A"}},{"$f":"LOOKUP(C182,MassDataLink!$A$4:$A$4056,MassDataLink!$D$4:$D$4056)","v":{"$error":"#N/A"}},{"$f":"LOOKUP(C182,MassDataLink!$A$4:$A$4056,MassDataLink!$E$4:$E$4056)","v":{"$error":"#N/A"}},{"$f":"LOOKUP(C182,MassDataLink!$A$4:$A$4056,MassDataLink!$F$4:$F$4056)","v":{"$error":"#N/A"}},null,69,"- - -","- - -"]
[null,70,-1,{"$f":"LOOKUP(C183,MassDataLink!$A$4:$A$4056,MassDataLink!$B$4:$B$4056)","v":{"$error":"#N/A"}},{"$f":"LOOKUP(C183,MassDataLink!$A$4:$A$4056,MassDataLink!$C$4:$C$4056)","v":{"$error":"#N/A"}},{"$f":"LOOKUP(C183,MassDataLink!$A$4:$A$4056,MassDataLink!$D$4:$D$4056)","v":{"$error":"#N/A"}},{"$f":"LOOKUP(C183,MassDataLink!$A$4:$A$4056,MassDataLink!$E$4:$E$4056)","v":{"$error":"#N/A"}},{"$f":"LOOKUP(C183,MassDataLink!$A$4:$A$4056,MassDataLink!$F$4:$F$4056)","v":{"$error":"#N/A"}},null,70,"- - -","- - -"]
[null,71,-1,{"$f":"LOOKUP(C184,MassDataLink!$A$4:$A$4056,MassDataLink!$B$4:$B$4056)","v":{"$error":"#N/A"}},{"$f":"LOOKUP(C184,MassDataLink!$A$4:$A$4056,MassDataLink!$C$4:$C$4056)","v":{"$error":"#N/A"}},{"$f":"LOOKUP(C184,MassDataLink!$A$4:$A$4056,MassDataLink!$D$4:$D$4056)","v":{"$error":"#N/A"}},{"$f":"LOOKUP(C184,MassDataLink!$A$4:$A$4056,MassDataLink!$E$4:$E$4056)","v":{"$error":"#N/A"}},{"$f":"LOOKUP(C184,MassDataLink!$A$4:$A$4056,MassDataLink!$F$4:$F$4056)","v":{"$error":"#N/A"}},null,71,"- - -","- - -"]
[null,72,-1,{"$f":"LOOKUP(C185,MassDataLink!$A$4:$A$4056,MassDataLink!$B$4:$B$4056)","v":{"$error":"#N/A"}},{"$f":"LOOKUP(C185,MassDataLink!$A$4:$A$4056,MassDataLink!$C$4:$C$4056)","v":{"$error":"#N/A"}},{"$f":"LOOKUP(C185,MassDataLink!$A$4:$A$4056,MassDataLink!$D$4:$D$4056)","v":{"$error":"#N/A"}},{"$f":"LOOKUP(C185,MassDataLink!$A$4:$A$4056,MassDataLink!$E$4:$E$4056)","v":{"$error":"#N/A"}},{"$f":"LOOKUP(C185,MassDataLink!$A$4:$A$4056,MassDataLink!$F$4:$F$4056)","v":{"$error":"#N/A"}},null,72,"- - -","- - -"]
[null,73,-1,{"$f":"LOOKUP(C186,MassDataLink!$A$4:$A$4056,MassDataLink!$B$4:$B$4056)","v":{"$error":"#N/A"}},{"$f":"LOOKUP(C186,MassDataLink!$A$4:$A$4056,MassDataLink!$C$4:$C$4056)","v":{"$error":"#N/A"}},{"$f":"LOOKUP(C186,MassDataLink!$A$4:$A$4056,MassDataLink!$D$4:$D$4056)","v":{"$error":"#N/A"}},{"$f":"LOOKUP(C186,MassDataLink!$A$4:$A$4056,MassDataLink!$E$4:$E$4056)","v":{"$error":"#N/A"}},{"$f":"LOOKUP(C186,MassDataLink!$A$4:$A$4056,MassDataLink!$F$4:$F$4056)","v":{"$error":"#N/A"}},null,73,"- - -","- - -"]
[null,74,-1,{"$f":"LOOKUP(C187,MassDataLink!$A$4:$A$4056,MassDataLink!$B$4:$B$4056)","v":{"$error":"#N/A"}},{"$f":"LOOKUP(C187,MassDataLink!$A$4:$A$4056,MassDataLink!$C$4:$C$4056)","v":{"$error":"#N/A"}},{"$f":"LOOKUP(C187,MassDataLink!$A$4:$A$4056,MassDataLink!$D$4:$D$4056)","v":{"$error":"#N/A"}},{"$f":"LOOKUP(C187,MassDataLink!$A$4:$A$4056,MassDataLink!$E$4:$E$4056)","v":{"$error":"#N/A"}},{"$f":"LOOKUP(C187,MassDataLink!$A$4:$A$4056,MassDataLink!$F$4:$F$4056)","v":{"$error":"#N/A"}},null,74,"- - -","- - -"]
[null,75,-1,{"$f":"LOOKUP(C188,MassDataLink!$A$4:$A$4056,MassDataLink!$B$4:$B$4056)","v":{"$error":"#N/A"}},{"$f":"LOOKUP(C188,MassDataLink!$A$4:$A$4056,MassDataLink!$C$4:$C$4056)","v":{"$error":"#N/A"}},{"$f":"LOOKUP(C188,MassDataLink!$A$4:$A$4056,MassDataLink!$D$4:$D$4056)","v":{"$error":"#N/A"}},{"$f":"LOOKUP(C188,MassDataLink!$A$4:$A$4056,MassDataLink!$E$4:$E$4056)","v":{"$error":"#N/A"}},{"$f":"LOOKUP(C188,MassDataLink!$A$4:$A$4056,MassDataLink!$F$4:$F$4056)","v":{"$error":"#N/A"}},null,75,"- - -","- - -"]
[null,76,-1,{"$f":"LOOKUP(C189,MassDataLink!$A$4:$A$4056,MassDataLink!$B$4:$B$4056)","v":{"$error":"#N/A"}},{"$f":"LOOKUP(C189,MassDataLink!$A$4:$A$4056,MassDataLink!$C$4:$C$4056)","v":{"$error":"#N/A"}},{"$f":"LOOKUP(C189,MassDataLink!$A$4:$A$4056,MassDataLink!$D$4:$D$4056)","v":{"$error":"#N/A"}},{"$f":"LOOKUP(C189,MassDataLink!$A$4:$A$4056,MassDataLink!$E$4:$E$4056)","v":{"$error":"#N/A"}},{"$f":"LOOKUP(C189,MassDataLink!$A$4:$A$4056,MassDataLink!$F$4:$F$4056)","v":{"$error":"#N/A"}},null,76,"- - -","- - -"]
[null,77,-1,{"$f":"LOOKUP(C190,MassDataLink!$A$4:$A$4056,MassDataLink!$B$4:$B$4056)","v":{"$error":"#N/A"}},{"$f":"LOOKUP(C190,MassDataLink!$A$4:$A$4056,MassDataLink!$C$4:$C$4056)","v":{"$error":"#N/A"}},{"$f":"LOOKUP(C190,MassDataLink!$A$4:$A$4056,MassDataLink!$D$4:$D$4056)","v":{"$error":"#N/A"}},{"$f":"LOOKUP(C190,MassDataLink!$A$4:$A$4056,MassDataLink!$E$4:$E$4056)","v":{"$error":"#N/A"}},{"$f":"LOOKUP(C190,MassDataLink!$A$4:$A$4056,MassDataLink!$F$4:$F$4056)","v":{"$error":"#N/A"}},null,77,"- - -","- - -"]
[null,78,-1,{"$f":"LOOKUP(C191,MassDataLink!$A$4:$A$4056,MassDataLink!$B$4:$B$4056)","v":{"$error":"#N/A"}},{"$f":"LOOKUP(C191,MassDataLink!$A$4:$A$4056,MassDataLink!$C$4:$C$4056)","v":{"$error":"#N/A"}},{"$f":"LOOKUP(C191,MassDataLink!$A$4:$A$4056,MassDataLink!$D$4:$D$4056)","v":{"$error":"#N/A"}},{"$f":"LOOKUP(C191,MassDataLink!$A$4:$A$4056,MassDataLink!$E$4:$E$4056)","v":{"$error":"#N/A"}},{"$f":"LOOKUP(C191,MassDataLink!$A$4:$A$4056,MassDataLink!$F$4:$F$4056)","v":{"$error":"#N/A"}},null,78,"- - -","- - -"]
[null,79,-1,{"$f":"LOOKUP(C192,MassDataLink!$A$4:$A$4056,MassDataLink!$B$4:$B$4056)","v":{"$error":"#N/A"}},{"$f":"LOOKUP(C192,MassDataLink!$A$4:$A$4056,MassDataLink!$C$4:$C$4056)","v":{"$error":"#N/A"}},{"$f":"LOOKUP(C192,MassDataLink!$A$4:$A$4056,MassDataLink!$D$4:$D$4056)","v":{"$error":"#N/A"}},{"$f":"LOOKUP(C192,MassDataLink!$A$4:$A$4056,MassDataLink!$E$4:$E$4056)","v":{"$error":"#N/A"}},{"$f":"LOOKUP(C192,MassDataLink!$A$4:$A$4056,MassDataLink!$F$4:$F$4056)","v":{"$error":"#N/A"}},null,79,"- - -","- - -"]
[null,80,-1,{"$f":"LOOKUP(C193,MassDataLink!$A$4:$A$4056,MassDataLink!$B$4:$B$4056)","v":{"$error":"#N/A"}},{"$f":"LOOKUP(C193,MassDataLink!$A$4:$A$4056,MassDataLink!$C$4:$C$4056)","v":{"$error":"#N/A"}},{"$f":"LOOKUP(C193,MassDataLink!$A$4:$A$4056,MassDataLink!$D$4:$D$4056)","v":{"$error":"#N/A"}},{"$f":"LOOKUP(C193,MassDataLink!$A$4:$A$4056,MassDataLink!$E$4:$E$4056)","v":{"$error":"#N/A"}},{"$f":"LOOKUP(C193,MassDataLink!$A$4:$A$4056,MassDataLink!$F$4:$F$4056)","v":{"$error":"#N/A"}},null,80,"- - -","- - -"]
[null,81,-1,{"$f":"LOOKUP(C194,MassDataLink!$A$4:$A$4056,MassDataLink!$B$4:$B$4056)","v":{"$error":"#N/A"}},{"$f":"LOOKUP(C194,MassDataLink!$A$4:$A$4056,MassDataLink!$C$4:$C$4056)","v":{"$error":"#N/A"}},{"$f":"LOOKUP(C194,MassDataLink!$A$4:$A$4056,MassDataLink!$D$4:$D$4056)","v":{"$error":"#N/A"}},{"$f":"LOOKUP(C194,MassDataLink!$A$4:$A$4056,MassDataLink!$E$4:$E$4056)","v":{"$error":"#N/A"}},{"$f":"LOOKUP(C194,MassDataLink!$A$4:$A$4056,MassDataLink!$F$4:$F$4056)","v":{"$error":"#N/A"}},null,81,"- - -","- - -"]
[null,82,-1,{"$f":"LOOKUP(C195,MassDataLink!$A$4:$A$4056,MassDataLink!$B$4:$B$4056)","v":{"$error":"#N/A"}},{"$f":"LOOKUP(C195,MassDataLink!$A$4:$A$4056,MassDataLink!$C$4:$C$4056)","v":{"$error":"#N/A"}},{"$f":"LOOKUP(C195,MassDataLink!$A$4:$A$4056,MassDataLink!$D$4:$D$4056)","v":{"$error":"#N/A"}},{"$f":"LOOKUP(C195,MassDataLink!$A$4:$A$4056,MassDataLink!$E$4:$E$4056)","v":{"$error":"#N/A"}},{"$f":"LOOKUP(C195,MassDataLink!$A$4:$A$4056,MassDataLink!$F$4:$F$4056)","v":{"$error":"#N/A"}},null,82,"- - -","- - -"]
[null,83,-1,{"$f":"LOOKUP(C196,MassDataLink!$A$4:$A$4056,MassDataLink!$B$4:$B$4056)","v":{"$error":"#N/A"}},{"$f":"LOOKUP(C196,MassDataLink!$A$4:$A$4056,MassDataLink!$C$4:$C$4056)","v":{"$error":"#N/A"}},{"$f":"LOOKUP(C196,MassDataLink!$A$4:$A$4056,MassDataLink!$D$4:$D$4056)","v":{"$error":"#N/A"}},{"$f":"LOOKUP(C196,MassDataLink!$A$4:$A$4056,MassDataLink!$E$4:$E$4056)","v":{"$error":"#N/A"}},{"$f":"LOOKUP(C196,MassDataLink!$A$4:$A$4056,MassDataLink!$F$4:$F$4056)","v":{"$error":"#N/A"}},null,83,"- - -","- - -"]
[null,84,-1,{"$f":"LOOKUP(C197,MassDataLink!$A$4:$A$4056,MassDataLink!$B$4:$B$4056)","v":{"$error":"#N/A"}},{"$f":"LOOKUP(C197,MassDataLink!$A$4:$A$4056,MassDataLink!$C$4:$C$4056)","v":{"$error":"#N/A"}},{"$f":"LOOKUP(C197,MassDataLink!$A$4:$A$4056,MassDataLink!$D$4:$D$4056)","v":{"$error":"#N/A"}},{"$f":"LOOKUP(C197,MassDataLink!$A$4:$A$4056,MassDataLink!$E$4:$E$4056)","v":{"$error":"#N/A"}},{"$f":"LOOKUP(C197,MassDataLink!$A$4:$A$4056,MassDataLink!$F$4:$F$4056)","v":{"$error":"#N/A"}},null,84,"- - -","- - -"]
[null,85,-1,{"$f":"LOOKUP(C198,MassDataLink!$A$4:$A$4056,MassDataLink!$B$4:$B$4056)","v":{"$error":"#N/A"}},{"$f":"LOOKUP(C198,MassDataLink!$A$4:$A$4056,MassDataLink!$C$4:$C$4056)","v":{"$error":"#N/A"}},{"$f":"LOOKUP(C198,MassDataLink!$A$4:$A$4056,MassDataLink!$D$4:$D$4056)","v":{"$error":"#N/A"}},{"$f":"LOOKUP(C198,MassDataLink!$A$4:$A$4056,MassDataLink!$E$4:$E$4056)","v":{"$error":"#N/A"}},{"$f":"LOOKUP(C198,MassDataLink!$A$4:$A$4056,MassDataLink!$F$4:$F$4056)","v":{"$error":"#N/A"}},null,85,"- - -","- - -"]
[null,86,-1,{"$f":"LOOKUP(C199,MassDataLink!$A$4:$A$4056,MassDataLink!$B$4:$B$4056)","v":{"$error":"#N/A"}},{"$f":"LOOKUP(C199,MassDataLink!$A$4:$A$4056,MassDataLink!$C$4:$C$4056)","v":{"$error":"#N/A"}},{"$f":"LOOKUP(C199,MassDataLink!$A$4:$A$4056,MassDataLink!$D$4:$D$4056)","v":{"$error":"#N/A"}},{"$f":"LOOKUP(C199,MassDataLink!$A$4:$A$4056,MassDataLink!$E$4:$E$4056)","v":{"$error":"#N/A"}},{"$f":"LOOKUP(C199,MassDataLink!$A$4:$A$4056,MassDataLink!$F$4:$F$4056)","v":{"$error":"#N/A"}},null,86,"- - -","- - -"]
[null,87,-1,{"$f":"LOOKUP(C200,MassDataLink!$A$4:$A$4056,MassDataLink!$B$4:$B$4056)","v":{"$error":"#N/A"}},{"$f":"LOOKUP(C200,MassDataLink!$A$4:$A$4056,MassDataLink!$C$4:$C$4056)","v":{"$error":"#N/A"}},{"$f":"LOOKUP(C200,MassDataLink!$A$4:$A$4056,MassDataLink!$D$4:$D$4056)","v":{"$error":"#N/A"}},{"$f":"LOOKUP(C200,MassDataLink!$A$4:$A$4056,MassDataLink!$E$4:$E$4056)","v":{"$error":"#N/A"}},{"$f":"LOOKUP(C200,MassDataLink!$A$4:$A$4056,MassDataLink!$F$4:$F$4056)","v":{"$error":"#N/A"}},null,87,"- - -","- - -"]
[null,88,-1,{"$f":"LOOKUP(C201,MassDataLink!$A$4:$A$4056,MassDataLink!$B$4:$B$4056)","v":{"$error":"#N/A"}},{"$f":"LOOKUP(C201,MassDataLink!$A$4:$A$4056,MassDataLink!$C$4:$C$4056)","v":{"$error":"#N/A"}},{"$f":"LOOKUP(C201,MassDataLink!$A$4:$A$4056,MassDataLink!$D$4:$D$4056)","v":{"$error":"#N/A"}},{"$f":"LOOKUP(C201,MassDataLink!$A$4:$A$4056,MassDataLink!$E$4:$E$4056)","v":{"$error":"#N/A"}},{"$f":"LOOKUP(C201,MassDataLink!$A$4:$A$4056,MassDataLink!$F$4:$F$4056)","v":{"$error":"#N/A"}},null,88,"- - -","- - -"]
[null,89,-1,{"$f":"LOOKUP(C202,MassDataLink!$A$4:$A$4056,MassDataLink!$B$4:$B$4056)","v":{"$error":"#N/A"}},{"$f":"LOOKUP(C202,MassDataLink!$A$4:$A$4056,MassDataLink!$C$4:$C$4056)","v":{"$error":"#N/A"}},{"$f":"LOOKUP(C202,MassDataLink!$A$4:$A$4056,MassDataLink!$D$4:$D$4056)","v":{"$error":"#N/A"}},{"$f":"LOOKUP(C202,MassDataLink!$A$4:$A$4056,MassDataLink!$E$4:$E$4056)","v":{"$error":"#N/A"}},{"$f":"LOOKUP(C202,MassDataLink!$A$4:$A$4056,MassDataLink!$F$4:$F$4056)","v":{"$error":"#N/A"}},null,89,"- - -","- - -"]
[null,90,-1,{"$f":"LOOKUP(C203,MassDataLink!$A$4:$A$4056,MassDataLink!$B$4:$B$4056)","v":{"$error":"#N/A"}},{"$f":"LOOKUP(C203,MassDataLink!$A$4:$A$4056,MassDataLink!$C$4:$C$4056)","v":{"$error":"#N/A"}},{"$f":"LOOKUP(C203,MassDataLink!$A$4:$A$4056,MassDataLink!$D$4:$D$4056)","v":{"$error":"#N/A"}},{"$f":"LOOKUP(C203,MassDataLink!$A$4:$A$4056,MassDataLink!$E$4:$E$4056)","v":{"$error":"#N/A"}},{"$f":"LOOKUP(C203,MassDataLink!$A$4:$A$4056,MassDataLink!$F$4:$F$4056)","v":{"$error":"#N/A"}},null,90,"- - -","- - -"]
[null,91,-1,{"$f":"LOOKUP(C204,MassDataLink!$A$4:$A$4056,MassDataLink!$B$4:$B$4056)","v":{"$error":"#N/A"}},{"$f":"LOOKUP(C204,MassDataLink!$A$4:$A$4056,MassDataLink!$C$4:$C$4056)","v":{"$error":"#N/A"}},{"$f":"LOOKUP(C204,MassDataLink!$A$4:$A$4056,MassDataLink!$D$4:$D$4056)","v":{"$error":"#N/A"}},{"$f":"LOOKUP(C204,MassDataLink!$A$4:$A$4056,MassDataLink!$E$4:$E$4056)","v":{"$error":"#N/A"}},{"$f":"LOOKUP(C204,MassDataLink!$A$4:$A$4056,MassDataLink!$F$4:$F$4056)","v":{"$error":"#N/A"}},null,91,"- - -","- - -"]
[null,92,-1,{"$f":"LOOKUP(C205,MassDataLink!$A$4:$A$4056,MassDataLink!$B$4:$B$4056)","v":{"$error":"#N/A"}},{"$f":"LOOKUP(C205,MassDataLink!$A$4:$A$4056,MassDataLink!$C$4:$C$4056)","v":{"$error":"#N/A"}},{"$f":"LOOKUP(C205,MassDataLink!$A$4:$A$4056,MassDataLink!$D$4:$D$4056)","v":{"$error":"#N/A"}},{"$f":"LOOKUP(C205,MassDataLink!$A$4:$A$4056,MassDataLink!$E$4:$E$4056)","v":{"$error":"#N/A"}},{"$f":"LOOKUP(C205,MassDataLink!$A$4:$A$4056,MassDataLink!$F$4:$F$4056)","v":{"$error":"#N/A"}},null,92,"- - -","- - -"]
[null,93,-1,{"$f":"LOOKUP(C206,MassDataLink!$A$4:$A$4056,MassDataLink!$B$4:$B$4056)","v":{"$error":"#N/A"}},{"$f":"LOOKUP(C206,MassDataLink!$A$4:$A$4056,MassDataLink!$C$4:$C$4056)","v":{"$error":"#N/A"}},{"$f":"LOOKUP(C206,MassDataLink!$A$4:$A$4056,MassDataLink!$D$4:$D$4056)","v":{"$error":"#N/A"}},{"$f":"LOOKUP(C206,MassDataLink!$A$4:$A$4056,MassDataLink!$E$4:$E$4056)","v":{"$error":"#N/A"}},{"$f":"LOOKUP(C206,MassDataLink!$A$4:$A$4056,MassDataLink!$F$4:$F$4056)","v":{"$error":"#N/A"}},null,93,"- - -","- - -"]
[null,94,-1,{"$f":"LOOKUP(C207,MassDataLink!$A$4:$A$4056,MassDataLink!$B$4:$B$4056)","v":{"$error":"#N/A"}},{"$f":"LOOKUP(C207,MassDataLink!$A$4:$A$4056,MassDataLink!$C$4:$C$4056)","v":{"$error":"#N/A"}},{"$f":"LOOKUP(C207,MassDataLink!$A$4:$A$4056,MassDataLink!$D$4:$D$4056)","v":{"$error":"#N/A"}},{"$f":"LOOKUP(C207,MassDataLink!$A$4:$A$4056,MassDataLink!$E$4:$E$4056)","v":{"$error":"#N/A"}},{"$f":"LOOKUP(C207,MassDataLink!$A$4:$A$4056,MassDataLink!$F$4:$F$4056)","v":{"$error":"#N/A"}},null,94,"- - -","- - -"]
[null,95,-1,{"$f":"LOOKUP(C208,MassDataLink!$A$4:$A$4056,MassDataLink!$B$4:$B$4056)","v":{"$error":"#N/A"}},{"$f":"LOOKUP(C208,MassDataLink!$A$4:$A$4056,MassDataLink!$C$4:$C$4056)","v":{"$error":"#N/A"}},{"$f":"LOOKUP(C208,MassDataLink!$A$4:$A$4056,MassDataLink!$D$4:$D$4056)","v":{"$error":"#N/A"}},{"$f":"LOOKUP(C208,MassDataLink!$A$4:$A$4056,MassDataLink!$E$4:$E$4056)","v":{"$error":"#N/A"}},{"$f":"LOOKUP(C208,MassDataLink!$A$4:$A$4056,MassDataLink!$F$4:$F$4056)","v":{"$error":"#N/A"}},null,95,"- - -","- - -"]
[null,96,-1,{"$f":"LOOKUP(C209,MassDataLink!$A$4:$A$4056,MassDataLink!$B$4:$B$4056)","v":{"$error":"#N/A"}},{"$f":"LOOKUP(C209,MassDataLink!$A$4:$A$4056,MassDataLink!$C$4:$C$4056)","v":{"$error":"#N/A"}},{"$f":"LOOKUP(C209,MassDataLink!$A$4:$A$4056,MassDataLink!$D$4:$D$4056)","v":{"$error":"#N/A"}},{"$f":"LOOKUP(C209,MassDataLink!$A$4:$A$4056,MassDataLink!$E$4:$E$4056)","v":{"$error":"#N/A"}},{"$f":"LOOKUP(C209,MassDataLink!$A$4:$A$4056,MassDataLink!$F$4:$F$4056)","v":{"$error":"#N/A"}},null,96,"- - -","- - -"]
[null,97,-1,{"$f":"LOOKUP(C210,MassDataLink!$A$4:$A$4056,MassDataLink!$B$4:$B$4056)","v":{"$error":"#N/A"}},{"$f":"LOOKUP(C210,MassDataLink!$A$4:$A$4056,MassDataLink!$C$4:$C$4056)","v":{"$error":"#N/A"}},{"$f":"LOOKUP(C210,MassDataLink!$A$4:$A$4056,MassDataLink!$D$4:$D$4056)","v":{"$error":"#N/A"}},{"$f":"LOOKUP(C210,MassDataLink!$A$4:$A$4056,MassDataLink!$E$4:$E$4056)","v":{"$error":"#N/A"}},{"$f":"LOOKUP(C210,MassDataLink!$A$4:$A$4056,MassDataLink!$F$4:$F$4056)","v":{"$error":"#N/A"}},null,97,"- - -","- - -"]
[null,98,-1,{"$f":"LOOKUP(C211,MassDataLink!$A$4:$A$4056,MassDataLink!$B$4:$B$4056)","v":{"$error":"#N/A"}},{"$f":"LOOKUP(C211,MassDataLink!$A$4:$A$4056,MassDataLink!$C$4:$C$4056)","v":{"$error":"#N/A"}},{"$f":"LOOKUP(C211,MassDataLink!$A$4:$A$4056,MassDataLink!$D$4:$D$4056)","v":{"$error":"#N/A"}},{"$f":"LOOKUP(C211,MassDataLink!$A$4:$A$4056,MassDataLink!$E$4:$E$4056)","v":{"$error":"#N/A"}},{"$f":"LOOKUP(C211,MassDataLink!$A$4:$A$4056,MassDataLink!$F$4:$F$4056)","v":{"$error":"#N/A"}},null,98,"- - -","- - -"]
[null,99,-1,{"$f":"LOOKUP(C212,MassDataLink!$A$4:$A$4056,MassDataLink!$B$4:$B$4056)","v":{"$error":"#N/A"}},{"$f":"LOOKUP(C212,MassDataLink!$A$4:$A$4056,MassDataLink!$C$4:$C$4056)","v":{"$error":"#N/A"}},{"$f":"LOOKUP(C212,MassDataLink!$A$4:$A$4056,MassDataLink!$D$4:$D$4056)","v":{"$error":"#N/A"}},{"$f":"LOOKUP(C212,MassDataLink!$A$4:$A$4056,MassDataLink!$E$4:$E$4056)","v":{"$error":"#N/A"}},{"$f":"LOOKUP(C212,MassDataLink!$A$4:$A$4056,MassDataLink!$F$4:$F$4056)","v":{"$error":"#N/A"}},null,99,"- - -","- - -"]
[null,100,-1,{"$f":"LOOKUP(C213,MassDataLink!$A$4:$A$4056,MassDataLink!$B$4:$B$4056)","v":{"$error":"#N/A"}},{"$f":"LOOKUP(C213,MassDataLink!$A$4:$A$4056,MassDataLink!$C$4:$C$4056)","v":{"$error":"#N/A"}},{"$f":"LOOKUP(C213,MassDataLink!$A$4:$A$4056,MassDataLink!$D$4:$D$4056)","v":{"$error":"#N/A"}},{"$f":"LOOKUP(C213,MassDataLink!$A$4:$A$4056,MassDataLink!$E$4:$E$4056)","v":{"$error":"#N/A"}},{"$f":"LOOKUP(C213,MassDataLink!$A$4:$A$4056,MassDataLink!$F$4:$F$4056)","v":{"$error":"#N/A"}},null,100,"- - -","- - -"]
[null,101,-1,{"$f":"LOOKUP(C214,MassDataLink!$A$4:$A$4056,MassDataLink!$B$4:$B$4056)","v":{"$error":"#N/A"}},{"$f":"LOOKUP(C214,MassDataLink!$A$4:$A$4056,MassDataLink!$C$4:$C$4056)","v":{"$error":"#N/A"}},{"$f":"LOOKUP(C214,MassDataLink!$A$4:$A$4056,MassDataLink!$D$4:$D$4056)","v":{"$error":"#N/A"}},{"$f":"LOOKUP(C214,MassDataLink!$A$4:$A$4056,MassDataLink!$E$4:$E$4056)","v":{"$error":"#N/A"}},{"$f":"LOOKUP(C214,MassDataLink!$A$4:$A$4056,MassDataLink!$F$4:$F$4056)","v":{"$error":"#N/A"}},null,101,"- - -","- - -"]
[null,102,-1,{"$f":"LOOKUP(C215,MassDataLink!$A$4:$A$4056,MassDataLink!$B$4:$B$4056)","v":{"$error":"#N/A"}},{"$f":"LOOKUP(C215,MassDataLink!$A$4:$A$4056,MassDataLink!$C$4:$C$4056)","v":{"$error":"#N/A"}},{"$f":"LOOKUP(C215,MassDataLink!$A$4:$A$4056,MassDataLink!$D$4:$D$4056)","v":{"$error":"#N/A"}},{"$f":"LOOKUP(C215,MassDataLink!$A$4:$A$4056,MassDataLink!$E$4:$E$4056)","v":{"$error":"#N/A"}},{"$f":"LOOKUP(C215,MassDataLink!$A$4:$A$4056,MassDataLink!$F$4:$F$4056)","v":{"$error":"#N/A"}},null,102,"- - -","- - -"]
[null,103,-1,{"$f":"LOOKUP(C216,MassDataLink!$A$4:$A$4056,MassDataLink!$B$4:$B$4056)","v":{"$error":"#N/A"}},{"$f":"LOOKUP(C216,MassDataLink!$A$4:$A$4056,MassDataLink!$C$4:$C$4056)","v":{"$error":"#N/A"}},{"$f":"LOOKUP(C216,MassDataLink!$A$4:$A$4056,MassDataLink!$D$4:$D$4056)","v":{"$error":"#N/A"}},{"$f":"LOOKUP(C216,MassDataLink!$A$4:$A$4056,MassDataLink!$E$4:$E$4056)","v":{"$error":"#N/A"}},{"$f":"LOOKUP(C216,MassDataLink!$A$4:$A$4056,MassDataLink!$F$4:$F$4056)","v":{"$error":"#N/A"}},null,103,"- - -","- - -"]
[null,104,-1,{"$f":"LOOKUP(C217,MassDataLink!$A$4:$A$4056,MassDataLink!$B$4:$B$4056)","v":{"$error":"#N/A"}},{"$f":"LOOKUP(C217,MassDataLink!$A$4:$A$4056,MassDataLink!$C$4:$C$4056)","v":{"$error":"#N/A"}},{"$f":"LOOKUP(C217,MassDataLink!$A$4:$A$4056,MassDataLink!$D$4:$D$4056)","v":{"$error":"#N/A"}},{"$f":"LOOKUP(C217,MassDataLink!$A$4:$A$4056,MassDataLink!$E$4:$E$4056)","v":{"$error":"#N/A"}},{"$f":"LOOKUP(C217,MassDataLink!$A$4:$A$4056,MassDataLink!$F$4:$F$4056)","v":{"$error":"#N/A"}},null,104,"- - -","- - -"]
[null,105,-1,{"$f":"LOOKUP(C218,MassDataLink!$A$4:$A$4056,MassDataLink!$B$4:$B$4056)","v":{"$error":"#N/A"}},{"$f":"LOOKUP(C218,MassDataLink!$A$4:$A$4056,MassDataLink!$C$4:$C$4056)","v":{"$error":"#N/A"}},{"$f":"LOOKUP(C218,MassDataLink!$A$4:$A$4056,MassDataLink!$D$4:$D$4056)","v":{"$error":"#N/A"}},{"$f":"LOOKUP(C218,MassDataLink!$A$4:$A$4056,MassDataLink!$E$4:$E$4056)","v":{"$error":"#N/A"}},{"$f":"LOOKUP(C218,MassDataLink!$A$4:$A$4056,MassDataLink!$F$4:$F$4056)","v":{"$error":"#N/A"}},null,105,"- - -","- - -"]
[null,106,-1,{"$f":"LOOKUP(C219,MassDataLink!$A$4:$A$4056,MassDataLink!$B$4:$B$4056)","v":{"$error":"#N/A"}},{"$f":"LOOKUP(C219,MassDataLink!$A$4:$A$4056,MassDataLink!$C$4:$C$4056)","v":{"$error":"#N/A"}},{"$f":"LOOKUP(C219,MassDataLink!$A$4:$A$4056,MassDataLink!$D$4:$D$4056)","v":{"$error":"#N/A"}},{"$f":"LOOKUP(C219,MassDataLink!$A$4:$A$4056,MassDataLink!$E$4:$E$4056)","v":{"$error":"#N/A"}},{"$f":"LOOKUP(C219,MassDataLink!$A$4:$A$4056,MassDataLink!$F$4:$F$4056)","v":{"$error":"#N/A"}},null,106,"- - -","- - -"]
[null,107,-1,{"$f":"LOOKUP(C220,MassDataLink!$A$4:$A$4056,MassDataLink!$B$4:$B$4056)","v":{"$error":"#N/A"}},{"$f":"LOOKUP(C220,MassDataLink!$A$4:$A$4056,MassDataLink!$C$4:$C$4056)","v":{"$error":"#N/A"}},{"$f":"LOOKUP(C220,MassDataLink!$A$4:$A$4056,MassDataLink!$D$4:$D$4056)","v":{"$error":"#N/A"}},{"$f":"LOOKUP(C220,MassDataLink!$A$4:$A$4056,MassDataLink!$E$4:$E$4056)","v":{"$error":"#N/A"}},{"$f":"LOOKUP(C220,MassDataLink!$A$4:$A$4056,MassDataLink!$F$4:$F$4056)","v":{"$error":"#N/A"}},null,107,"- - -","- - -"]
[null,108,-1,{"$f":"LOOKUP(C221,MassDataLink!$A$4:$A$4056,MassDataLink!$B$4:$B$4056)","v":{"$error":"#N/A"}},{"$f":"LOOKUP(C221,MassDataLink!$A$4:$A$4056,MassDataLink!$C$4:$C$4056)","v":{"$error":"#N/A"}},{"$f":"LOOKUP(C221,MassDataLink!$A$4:$A$4056,MassDataLink!$D$4:$D$4056)","v":{"$error":"#N/A"}},{"$f":"LOOKUP(C221,MassDataLink!$A$4:$A$4056,MassDataLink!$E$4:$E$4056)","v":{"$error":"#N/A"}},{"$f":"LOOKUP(C221,MassDataLink!$A$4:$A$4056,MassDataLink!$F$4:$F$4056)","v":{"$error":"#N/A"}},null,108,"- - -","- - -"]
[null,109,-1,{"$f":"LOOKUP(C222,MassDataLink!$A$4:$A$4056,MassDataLink!$B$4:$B$4056)","v":{"$error":"#N/A"}},{"$f":"LOOKUP(C222,MassDataLink!$A$4:$A$4056,MassDataLink!$C$4:$C$4056)","v":{"$error":"#N/A"}},{"$f":"LOOKUP(C222,MassDataLink!$A$4:$A$4056,MassDataLink!$D$4:$D$4056)","v":{"$error":"#N/A"}},{"$f":"LOOKUP(C222,MassDataLink!$A$4:$A$4056,MassDataLink!$E$4:$E$4056)","v":{"$error":"#N/A"}},{"$f":"LOOKUP(C222,MassDataLink!$A$4:$A$4056,MassDataLink!$F$4:$F$4056)","v":{"$error":"#N/A"}},null,109,"- - -","- - -"]
[null,110,-1,{"$f":"LOOKUP(C223,MassDataLink!$A$4:$A$4056,MassDataLink!$B$4:$B$4056)","v":{"$error":"#N/A"}},{"$f":"LOOKUP(C223,MassDataLink!$A$4:$A$4056,MassDataLink!$C$4:$C$4056)","v":{"$error":"#N/A"}},{"$f":"LOOKUP(C223,MassDataLink!$A$4:$A$4056,MassDataLink!$D$4:$D$4056)","v":{"$error":"#N/A"}},{"$f":"LOOKUP(C223,MassDataLink!$A$4:$A$4056,MassDataLink!$E$4:$E$4056)","v":{"$error":"#N/A"}},{"$f":"LOOKUP(C223,MassDataLink!$A$4:$A$4056,MassDataLink!$F$4:$F$4056)","v":{"$error":"#N/A"}},null,110,"- - -","- - -"]
[null,111,-1,{"$f":"LOOKUP(C224,MassDataLink!$A$4:$A$4056,MassDataLink!$B$4:$B$4056)","v":{"$error":"#N/A"}},{"$f":"LOOKUP(C224,MassDataLink!$A$4:$A$4056,MassDataLink!$C$4:$C$4056)","v":{"$error":"#N/A"}},{"$f":"LOOKUP(C224,MassDataLink!$A$4:$A$4056,MassDataLink!$D$4:$D$4056)","v":{"$error":"#N/A"}},{"$f":"LOOKUP(C224,MassDataLink!$A$4:$A$4056,MassDataLink!$E$4:$E$4056)","v":{"$error":"#N/A"}},{"$f":"LOOKUP(C224,MassDataLink!$A$4:$A$4056,MassDataLink!$F$4:$F$4056)","v":{"$error":"#N/A"}},null,111,"- - -","- - -"]
[null,112,-1,{"$f":"LOOKUP(C225,MassDataLink!$A$4:$A$4056,MassDataLink!$B$4:$B$4056)","v":{"$error":"#N/A"}},{"$f":"LOOKUP(C225,MassDataLink!$A$4:$A$4056,MassDataLink!$C$4:$C$4056)","v":{"$error":"#N/A"}},{"$f":"LOOKUP(C225,MassDataLink!$A$4:$A$4056,MassDataLink!$D$4:$D$4056)","v":{"$error":"#N/A"}},{"$f":"LOOKUP(C225,MassDataLink!$A$4:$A$4056,MassDataLink!$E$4:$E$4056)","v":{"$error":"#N/A"}},{"$f":"LOOKUP(C225,MassDataLink!$A$4:$A$4056,MassDataLink!$F$4:$F$4056)","v":{"$error":"#N/A"}},null,112,"- - -","- - -"]
[null,113,-1,{"$f":"LOOKUP(C226,MassDataLink!$A$4:$A$4056,MassDataLink!$B$4:$B$4056)","v":{"$error":"#N/A"}},{"$f":"LOOKUP(C226,MassDataLink!$A$4:$A$4056,MassDataLink!$C$4:$C$4056)","v":{"$error":"#N/A"}},{"$f":"LOOKUP(C226,MassDataLink!$A$4:$A$4056,MassDataLink!$D$4:$D$4056)","v":{"$error":"#N/A"}},{"$f":"LOOKUP(C226,MassDataLink!$A$4:$A$4056,MassDataLink!$E$4:$E$4056)","v":{"$error":"#N/A"}},{"$f":"LOOKUP(C226,MassDataLink!$A$4:$A$4056,MassDataLink!$F$4:$F$4056)","v":{"$error":"#N/A"}},null,113,"- - -","- - -"]
[null,114,-1,{"$f":"LOOKUP(C227,MassDataLink!$A$4:$A$4056,MassDataLink!$B$4:$B$4056)","v":{"$error":"#N/A"}},{"$f":"LOOKUP(C227,MassDataLink!$A$4:$A$4056,MassDataLink!$C$4:$C$4056)","v":{"$error":"#N/A"}},{"$f":"LOOKUP(C227,MassDataLink!$A$4:$A$4056,MassDataLink!$D$4:$D$4056)","v":{"$error":"#N/A"}},{"$f":"LOOKUP(C227,MassDataLink!$A$4:$A$4056,MassDataLink!$E$4:$E$4056)","v":{"$error":"#N/A"}},{"$f":"LOOKUP(C227,MassDataLink!$A$4:$A$4056,MassDataLink!$F$4:$F$4056)","v":{"$error":"#N/A"}},null,114,"- - -","- - -"]
[null,{"$f":"B227+1","v":115},{"$f":"IF(C227=-1,-1,H227)","v":-1},{"$f":"LOOKUP(C228,MassDataLink!$A$4:$A$4056,MassDataLink!$B$4:$B$4056)","v":{"$error":"#N/A"}},{"$f":"LOOKUP(C228,MassDataLink!$A$4:$A$4056,MassDataLink!$C$4:$C$4056)","v":{"$error":"#N/A"}},{"$f":"LOOKUP(C228,MassDataLink!$A$4:$A$4056,MassDataLink!$D$4:$D$4056)","v":{"$error":"#N/A"}},{"$f":"LOOKUP(C228,MassDataLink!$A$4:$A$4056,MassDataLink!$E$4:$E$4056)","v":{"$error":"#N/A"}},{"$f":"LOOKUP(C228,MassDataLink!$A$4:$A$4056,MassDataLink!$F$4:$F$4056)","v":{"$error":"#N/A"}},null,{"$f":"J227+1","v":115},{"$f":"IF(C228=-1,$L$112,IF($A$11=D228,ROUND((E228*$P$57),$R$57),$L$112))","v":"- - -"},{"$f":"IF(K228=$L$112,$L$112,F228)","v":"- - -"}]
[null,116,-1,{"$f":"LOOKUP(C229,MassDataLink!$A$4:$A$4056,MassDataLink!$B$4:$B$4056)","v":{"$error":"#N/A"}},{"$f":"LOOKUP(C229,MassDataLink!$A$4:$A$4056,MassDataLink!$C$4:$C$4056)","v":{"$error":"#N/A"}},{"$f":"LOOKUP(C229,MassDataLink!$A$4:$A$4056,MassDataLink!$D$4:$D$4056)","v":{"$error":"#N/A"}},{"$f":"LOOKUP(C229,MassDataLink!$A$4:$A$4056,MassDataLink!$E$4:$E$4056)","v":{"$error":"#N/A"}},{"$f":"LOOKUP(C229,MassDataLink!$A$4:$A$4056,MassDataLink!$F$4:$F$4056)","v":{"$error":"#N/A"}},null,116,"- - -","- - -"]
[null,117,-1,{"$f":"LOOKUP(C230,MassDataLink!$A$4:$A$4056,MassDataLink!$B$4:$B$4056)","v":{"$error":"#N/A"}},{"$f":"LOOKUP(C230,MassDataLink!$A$4:$A$4056,MassDataLink!$C$4:$C$4056)","v":{"$error":"#N/A"}},{"$f":"LOOKUP(C230,MassDataLink!$A$4:$A$4056,MassDataLink!$D$4:$D$4056)","v":{"$error":"#N/A"}},{"$f":"LOOKUP(C230,MassDataLink!$A$4:$A$4056,MassDataLink!$E$4:$E$4056)","v":{"$error":"#N/A"}},{"$f":"LOOKUP(C230,MassDataLink!$A$4:$A$4056,MassDataLink!$F$4:$F$4056)","v":{"$error":"#N/A"}},null,117,"- - -","- - -"]
[null,118,-1,{"$f":"LOOKUP(C231,MassDataLink!$A$4:$A$4056,MassDataLink!$B$4:$B$4056)","v":{"$error":"#N/A"}},{"$f":"LOOKUP(C231,MassDataLink!$A$4:$A$4056,MassDataLink!$C$4:$C$4056)","v":{"$error":"#N/A"}},{"$f":"LOOKUP(C231,MassDataLink!$A$4:$A$4056,MassDataLink!$D$4:$D$4056)","v":{"$error":"#N/A"}},{"$f":"LOOKUP(C231,MassDataLink!$A$4:$A$4056,MassDataLink!$E$4:$E$4056)","v":{"$error":"#N/A"}},{"$f":"LOOKUP(C231,MassDataLink!$A$4:$A$4056,MassDataLink!$F$4:$F$4056)","v":{"$error":"#N/A"}},null,118,"- - -","- - -"]
[null,119,-1,{"$f":"LOOKUP(C232,MassDataLink!$A$4:$A$4056,MassDataLink!$B$4:$B$4056)","v":{"$error":"#N/A"}},{"$f":"LOOKUP(C232,MassDataLink!$A$4:$A$4056,MassDataLink!$C$4:$C$4056)","v":{"$error":"#N/A"}},{"$f":"LOOKUP(C232,MassDataLink!$A$4:$A$4056,MassDataLink!$D$4:$D$4056)","v":{"$error":"#N/A"}},{"$f":"LOOKUP(C232,MassDataLink!$A$4:$A$4056,MassDataLink!$E$4:$E$4056)","v":{"$error":"#N/A"}},{"$f":"LOOKUP(C232,MassDataLink!$A$4:$A$4056,MassDataLink!$F$4:$F$4056)","v":{"$error":"#N/A"}},null,119,"- - -","- - -"]
[null,120,-1,{"$f":"LOOKUP(C233,MassDataLink!$A$4:$A$4056,MassDataLink!$B$4:$B$4056)","v":{"$error":"#N/A"}},{"$f":"LOOKUP(C233,MassDataLink!$A$4:$A$4056,MassDataLink!$C$4:$C$4056)","v":{"$error":"#N/A"}},{"$f":"LOOKUP(C233,MassDataLink!$A$4:$A$4056,MassDataLink!$D$4:$D$4056)","v":{"$error":"#N/A"}},{"$f":"LOOKUP(C233,MassDataLink!$A$4:$A$4056,MassDataLink!$E$4:$E$4056)","v":{"$error":"#N/A"}},{"$f":"LOOKUP(C233,MassDataLink!$A$4:$A$4056,MassDataLink!$F$4:$F$4056)","v":{"$error":"#N/A"}},null,120,"- - -","- - -"]
[null,121,-1,{"$f":"LOOKUP(C234,MassDataLink!$A$4:$A$4056,MassDataLink!$B$4:$B$4056)","v":{"$error":"#N/A"}},{"$f":"LOOKUP(C234,MassDataLink!$A$4:$A$4056,MassDataLink!$C$4:$C$4056)","v":{"$error":"#N/A"}},{"$f":"LOOKUP(C234,MassDataLink!$A$4:$A$4056,MassDataLink!$D$4:$D$4056)","v":{"$error":"#N/A"}},{"$f":"LOOKUP(C234,MassDataLink!$A$4:$A$4056,MassDataLink!$E$4:$E$4056)","v":{"$error":"#N/A"}},{"$f":"LOOKUP(C234,MassDataLink!$A$4:$A$4056,MassDataLink!$F$4:$F$4056)","v":{"$error":"#N/A"}},null,121,"- - -","- - -"]
[null,122,-1,{"$f":"LOOKUP(C235,MassDataLink!$A$4:$A$4056,MassDataLink!$B$4:$B$4056)","v":{"$error":"#N/A"}},{"$f":"LOOKUP(C235,MassDataLink!$A$4:$A$4056,MassDataLink!$C$4:$C$4056)","v":{"$error":"#N/A"}},{"$f":"LOOKUP(C235,MassDataLink!$A$4:$A$4056,MassDataLink!$D$4:$D$4056)","v":{"$error":"#N/A"}},{"$f":"LOOKUP(C235,MassDataLink!$A$4:$A$4056,MassDataLink!$E$4:$E$4056)","v":{"$error":"#N/A"}},{"$f":"LOOKUP(C235,MassDataLink!$A$4:$A$4056,MassDataLink!$F$4:$F$4056)","v":{"$error":"#N/A"}},null,122,"- - -","- - -"]
[null,123,-1,{"$f":"LOOKUP(C236,MassDataLink!$A$4:$A$4056,MassDataLink!$B$4:$B$4056)","v":{"$error":"#N/A"}},{"$f":"LOOKUP(C236,MassDataLink!$A$4:$A$4056,MassDataLink!$C$4:$C$4056)","v":{"$error":"#N/A"}},{"$f":"LOOKUP(C236,MassDataLink!$A$4:$A$4056,MassDataLink!$D$4:$D$4056)","v":{"$error":"#N/A"}},{"$f":"LOOKUP(C236,MassDataLink!$A$4:$A$4056,MassDataLink!$E$4:$E$4056)","v":{"$error":"#N/A"}},{"$f":"LOOKUP(C236,MassDataLink!$A$4:$A$4056,MassDataLink!$F$4:$F$4056)","v":{"$error":"#N/A"}},null,123,"- - -","- - -"]
[null,124,-1,{"$f":"LOOKUP(C237,MassDataLink!$A$4:$A$4056,MassDataLink!$B$4:$B$4056)","v":{"$error":"#N/A"}},{"$f":"LOOKUP(C237,MassDataLink!$A$4:$A$4056,MassDataLink!$C$4:$C$4056)","v":{"$error":"#N/A"}},{"$f":"LOOKUP(C237,MassDataLink!$A$4:$A$4056,MassDataLink!$D$4:$D$4056)","v":{"$error":"#N/A"}},{"$f":"LOOKUP(C237,MassDataLink!$A$4:$A$4056,MassDataLink!$E$4:$E$4056)","v":{"$error":"#N/A"}},{"$f":"LOOKUP(C237,MassDataLink!$A$4:$A$4056,MassDataLink!$F$4:$F$4056)","v":{"$error":"#N/A"}},null,124,"- - -","- - -"]
[null,125,-1,{"$f":"LOOKUP(C238,MassDataLink!$A$4:$A$4056,MassDataLink!$B$4:$B$4056)","v":{"$error":"#N/A"}},{"$f":"LOOKUP(C238,MassDataLink!$A$4:$A$4056,MassDataLink!$C$4:$C$4056)","v":{"$error":"#N/A"}},{"$f":"LOOKUP(C238,MassDataLink!$A$4:$A$4056,MassDataLink!$D$4:$D$4056)","v":{"$error":"#N/A"}},{"$f":"LOOKUP(C238,MassDataLink!$A$4:$A$4056,MassDataLink!$E$4:$E$4056)","v":{"$error":"#N/A"}},{"$f":"LOOKUP(C238,MassDataLink!$A$4:$A$4056,MassDataLink!$F$4:$F$4056)","v":{"$error":"#N/A"}},null,125,"- - -","- - -"]
[null,126,-1,{"$f":"LOOKUP(C239,MassDataLink!$A$4:$A$4056,MassDataLink!$B$4:$B$4056)","v":{"$error":"#N/A"}},{"$f":"LOOKUP(C239,MassDataLink!$A$4:$A$4056,MassDataLink!$C$4:$C$4056)","v":{"$error":"#N/A"}},{"$f":"LOOKUP(C239,MassDataLink!$A$4:$A$4056,MassDataLink!$D$4:$D$4056)","v":{"$error":"#N/A"}},{"$f":"LOOKUP(C239,MassDataLink!$A$4:$A$4056,MassDataLink!$E$4:$E$4056)","v":{"$error":"#N/A"}},{"$f":"LOOKUP(C239,MassDataLink!$A$4:$A$4056,MassDataLink!$F$4:$F$4056)","v":{"$error":"#N/A"}},null,126,"- - -","- - -"]
[null,127,-1,{"$f":"LOOKUP(C240,MassDataLink!$A$4:$A$4056,MassDataLink!$B$4:$B$4056)","v":{"$error":"#N/A"}},{"$f":"LOOKUP(C240,MassDataLink!$A$4:$A$4056,MassDataLink!$C$4:$C$4056)","v":{"$error":"#N/A"}},{"$f":"LOOKUP(C240,MassDataLink!$A$4:$A$4056,MassDataLink!$D$4:$D$4056)","v":{"$error":"#N/A"}},{"$f":"LOOKUP(C240,MassDataLink!$A$4:$A$4056,MassDataLink!$E$4:$E$4056)","v":{"$error":"#N/A"}},{"$f":"LOOKUP(C240,MassDataLink!$A$4:$A$4056,MassDataLink!$F$4:$F$4056)","v":{"$error":"#N/A"}},null,127,"- - -","- - -"]
[null,128,-1,{"$f":"LOOKUP(C241,MassDataLink!$A$4:$A$4056,MassDataLink!$B$4:$B$4056)","v":{"$error":"#N/A"}},{"$f":"LOOKUP(C241,MassDataLink!$A$4:$A$4056,MassDataLink!$C$4:$C$4056)","v":{"$error":"#N/A"}},{"$f":"LOOKUP(C241,MassDataLink!$A$4:$A$4056,MassDataLink!$D$4:$D$4056)","v":{"$error":"#N/A"}},{"$f":"LOOKUP(C241,MassDataLink!$A$4:$A$4056,MassDataLink!$E$4:$E$4056)","v":{"$error":"#N/A"}},{"$f":"LOOKUP(C241,MassDataLink!$A$4:$A$4056,MassDataLink!$F$4:$F$4056)","v":{"$error":"#N/A"}},null,128,"- - -","- - -"]
[null,129,-1,{"$f":"LOOKUP(C242,MassDataLink!$A$4:$A$4056,MassDataLink!$B$4:$B$4056)","v":{"$error":"#N/A"}},{"$f":"LOOKUP(C242,MassDataLink!$A$4:$A$4056,MassDataLink!$C$4:$C$4056)","v":{"$error":"#N/A"}},{"$f":"LOOKUP(C242,MassDataLink!$A$4:$A$4056,MassDataLink!$D$4:$D$4056)","v":{"$error":"#N/A"}},{"$f":"LOOKUP(C242,MassDataLink!$A$4:$A$4056,MassDataLink!$E$4:$E$4056)","v":{"$error":"#N/A"}},{"$f":"LOOKUP(C242,MassDataLink!$A$4:$A$4056,MassDataLink!$F$4:$F$4056)","v":{"$error":"#N/A"}},null,129,"- - -","- - -"]
[null,130,-1,{"$f":"LOOKUP(C243,MassDataLink!$A$4:$A$4056,MassDataLink!$B$4:$B$4056)","v":{"$error":"#N/A"}},{"$f":"LOOKUP(C243,MassDataLink!$A$4:$A$4056,MassDataLink!$C$4:$C$4056)","v":{"$error":"#N/A"}},{"$f":"LOOKUP(C243,MassDataLink!$A$4:$A$4056,MassDataLink!$D$4:$D$4056)","v":{"$error":"#N/A"}},{"$f":"LOOKUP(C243,MassDataLink!$A$4:$A$4056,MassDataLink!$E$4:$E$4056)","v":{"$error":"#N/A"}},{"$f":"LOOKUP(C243,MassDataLink!$A$4:$A$4056,MassDataLink!$F$4:$F$4056)","v":{"$error":"#N/A"}},null,130,"- - -","- - -"]
[null,131,-1,{"$f":"LOOKUP(C244,MassDataLink!$A$4:$A$4056,MassDataLink!$B$4:$B$4056)","v":{"$error":"#N/A"}},{"$f":"LOOKUP(C244,MassDataLink!$A$4:$A$4056,MassDataLink!$C$4:$C$4056)","v":{"$error":"#N/A"}},{"$f":"LOOKUP(C244,MassDataLink!$A$4:$A$4056,MassDataLink!$D$4:$D$4056)","v":{"$error":"#N/A"}},{"$f":"LOOKUP(C244,MassDataLink!$A$4:$A$4056,MassDataLink!$E$4:$E$4056)","v":{"$error":"#N/A"}},{"$f":"LOOKUP(C244,MassDataLink!$A$4:$A$4056,MassDataLink!$F$4:$F$4056)","v":{"$error":"#N/A"}},null,131,"- - -","- - -"]
[null,132,-1,{"$f":"LOOKUP(C245,MassDataLink!$A$4:$A$4056,MassDataLink!$B$4:$B$4056)","v":{"$error":"#N/A"}},{"$f":"LOOKUP(C245,MassDataLink!$A$4:$A$4056,MassDataLink!$C$4:$C$4056)","v":{"$error":"#N/A"}},{"$f":"LOOKUP(C245,MassDataLink!$A$4:$A$4056,MassDataLink!$D$4:$D$4056)","v":{"$error":"#N/A"}},{"$f":"LOOKUP(C245,MassDataLink!$A$4:$A$4056,MassDataLink!$E$4:$E$4056)","v":{"$error":"#N/A"}},{"$f":"LOOKUP(C245,MassDataLink!$A$4:$A$4056,MassDataLink!$F$4:$F$4056)","v":{"$error":"#N/A"}},null,132,"- - -","- - -"]
[null,133,-1,{"$f":"LOOKUP(C246,MassDataLink!$A$4:$A$4056,MassDataLink!$B$4:$B$4056)","v":{"$error":"#N/A"}},{"$f":"LOOKUP(C246,MassDataLink!$A$4:$A$4056,MassDataLink!$C$4:$C$4056)","v":{"$error":"#N/A"}},{"$f":"LOOKUP(C246,MassDataLink!$A$4:$A$4056,MassDataLink!$D$4:$D$4056)","v":{"$error":"#N/A"}},{"$f":"LOOKUP(C246,MassDataLink!$A$4:$A$4056,MassDataLink!$E$4:$E$4056)","v":{"$error":"#N/A"}},{"$f":"LOOKUP(C246,MassDataLink!$A$4:$A$4056,MassDataLink!$F$4:$F$4056)","v":{"$error":"#N/A"}},null,133,"- - -","- - -"]
[null,134,-1,{"$f":"LOOKUP(C247,MassDataLink!$A$4:$A$4056,MassDataLink!$B$4:$B$4056)","v":{"$error":"#N/A"}},{"$f":"LOOKUP(C247,MassDataLink!$A$4:$A$4056,MassDataLink!$C$4:$C$4056)","v":{"$error":"#N/A"}},{"$f":"LOOKUP(C247,MassDataLink!$A$4:$A$4056,MassDataLink!$D$4:$D$4056)","v":{"$error":"#N/A"}},{"$f":"LOOKUP(C247,MassDataLink!$A$4:$A$4056,MassDataLink!$E$4:$E$4056)","v":{"$error":"#N/A"}},{"$f":"LOOKUP(C247,MassDataLink!$A$4:$A$4056,MassDataLink!$F$4:$F$4056)","v":{"$error":"#N/A"}},null,134,"- - -","- - -"]
[null,135,-1,{"$f":"LOOKUP(C248,MassDataLink!$A$4:$A$4056,MassDataLink!$B$4:$B$4056)","v":{"$error":"#N/A"}},{"$f":"LOOKUP(C248,MassDataLink!$A$4:$A$4056,MassDataLink!$C$4:$C$4056)","v":{"$error":"#N/A"}},{"$f":"LOOKUP(C248,MassDataLink!$A$4:$A$4056,MassDataLink!$D$4:$D$4056)","v":{"$error":"#N/A"}},{"$f":"LOOKUP(C248,MassDataLink!$A$4:$A$4056,MassDataLink!$E$4:$E$4056)","v":{"$error":"#N/A"}},{"$f":"LOOKUP(C248,MassDataLink!$A$4:$A$4056,MassDataLink!$F$4:$F$4056)","v":{"$error":"#N/A"}},null,135,"- - -","- - -"]
[null,136,-1,{"$f":"LOOKUP(C249,MassDataLink!$A$4:$A$4056,MassDataLink!$B$4:$B$4056)","v":{"$error":"#N/A"}},{"$f":"LOOKUP(C249,MassDataLink!$A$4:$A$4056,MassDataLink!$C$4:$C$4056)","v":{"$error":"#N/A"}},{"$f":"LOOKUP(C249,MassDataLink!$A$4:$A$4056,MassDataLink!$D$4:$D$4056)","v":{"$error":"#N/A"}},{"$f":"LOOKUP(C249,MassDataLink!$A$4:$A$4056,MassDataLink!$E$4:$E$4056)","v":{"$error":"#N/A"}},{"$f":"LOOKUP(C249,MassDataLink!$A$4:$A$4056,MassDataLink!$F$4:$F$4056)","v":{"$error":"#N/A"}},null,136,"- - -","- - -"]
[null,137,-1,{"$f":"LOOKUP(C250,MassDataLink!$A$4:$A$4056,MassDataLink!$B$4:$B$4056)","v":{"$error":"#N/A"}},{"$f":"LOOKUP(C250,MassDataLink!$A$4:$A$4056,MassDataLink!$C$4:$C$4056)","v":{"$error":"#N/A"}},{"$f":"LOOKUP(C250,MassDataLink!$A$4:$A$4056,MassDataLink!$D$4:$D$4056)","v":{"$error":"#N/A"}},{"$f":"LOOKUP(C250,MassDataLink!$A$4:$A$4056,MassDataLink!$E$4:$E$4056)","v":{"$error":"#N/A"}},{"$f":"LOOKUP(C250,MassDataLink!$A$4:$A$4056,MassDataLink!$F$4:$F$4056)","v":{"$error":"#N/A"}},null,137,"- - -","- - -"]
[null,138,-1,{"$f":"LOOKUP(C251,MassDataLink!$A$4:$A$4056,MassDataLink!$B$4:$B$4056)","v":{"$error":"#N/A"}},{"$f":"LOOKUP(C251,MassDataLink!$A$4:$A$4056,MassDataLink!$C$4:$C$4056)","v":{"$error":"#N/A"}},{"$f":"LOOKUP(C251,MassDataLink!$A$4:$A$4056,MassDataLink!$D$4:$D$4056)","v":{"$error":"#N/A"}},{"$f":"LOOKUP(C251,MassDataLink!$A$4:$A$4056,MassDataLink!$E$4:$E$4056)","v":{"$error":"#N/A"}},{"$f":"LOOKUP(C251,MassDataLink!$A$4:$A$4056,MassDataLink!$F$4:$F$4056)","v":{"$error":"#N/A"}},null,138,"- - -","- - -"]
[null,139,-1,{"$f":"LOOKUP(C252,MassDataLink!$A$4:$A$4056,MassDataLink!$B$4:$B$4056)","v":{"$error":"#N/A"}},{"$f":"LOOKUP(C252,MassDataLink!$A$4:$A$4056,MassDataLink!$C$4:$C$4056)","v":{"$error":"#N/A"}},{"$f":"LOOKUP(C252,MassDataLink!$A$4:$A$4056,MassDataLink!$D$4:$D$4056)","v":{"$error":"#N/A"}},{"$f":"LOOKUP(C252,MassDataLink!$A$4:$A$4056,MassDataLink!$E$4:$E$4056)","v":{"$error":"#N/A"}},{"$f":"LOOKUP(C252,MassDataLink!$A$4:$A$4056,MassDataLink!$F$4:$F$4056)","v":{"$error":"#N/A"}},null,139,"- - -","- - -"]
[null,140,-1,{"$f":"LOOKUP(C253,MassDataLink!$A$4:$A$4056,MassDataLink!$B$4:$B$4056)","v":{"$error":"#N/A"}},{"$f":"LOOKUP(C253,MassDataLink!$A$4:$A$4056,MassDataLink!$C$4:$C$4056)","v":{"$error":"#N/A"}},{"$f":"LOOKUP(C253,MassDataLink!$A$4:$A$4056,MassDataLink!$D$4:$D$4056)","v":{"$error":"#N/A"}},{"$f":"LOOKUP(C253,MassDataLink!$A$4:$A$4056,MassDataLink!$E$4:$E$4056)","v":{"$error":"#N/A"}},{"$f":"LOOKUP(C253,MassDataLink!$A$4:$A$4056,MassDataLink!$F$4:$F$4056)","v":{"$error":"#N/A"}},null,140,"- - -","- - -"]
[null,141,-1,{"$f":"LOOKUP(C254,MassDataLink!$A$4:$A$4056,MassDataLink!$B$4:$B$4056)","v":{"$error":"#N/A"}},{"$f":"LOOKUP(C254,MassDataLink!$A$4:$A$4056,MassDataLink!$C$4:$C$4056)","v":{"$error":"#N/A"}},{"$f":"LOOKUP(C254,MassDataLink!$A$4:$A$4056,MassDataLink!$D$4:$D$4056)","v":{"$error":"#N/A"}},{"$f":"LOOKUP(C254,MassDataLink!$A$4:$A$4056,MassDataLink!$E$4:$E$4056)","v":{"$error":"#N/A"}},{"$f":"LOOKUP(C254,MassDataLink!$A$4:$A$4056,MassDataLink!$F$4:$F$4056)","v":{"$error":"#N/A"}},null,141,"- - -","- - -"]
[null,142,-1,{"$f":"LOOKUP(C255,MassDataLink!$A$4:$A$4056,MassDataLink!$B$4:$B$4056)","v":{"$error":"#N/A"}},{"$f":"LOOKUP(C255,MassDataLink!$A$4:$A$4056,MassDataLink!$C$4:$C$4056)","v":{"$error":"#N/A"}},{"$f":"LOOKUP(C255,MassDataLink!$A$4:$A$4056,MassDataLink!$D$4:$D$4056)","v":{"$error":"#N/A"}},{"$f":"LOOKUP(C255,MassDataLink!$A$4:$A$4056,MassDataLink!$E$4:$E$4056)","v":{"$error":"#N/A"}},{"$f":"LOOKUP(C255,MassDataLink!$A$4:$A$4056,MassDataLink!$F$4:$F$4056)","v":{"$error":"#N/A"}},null,142,"- - -","- - -"]
[null,143,-1,{"$f":"LOOKUP(C256,MassDataLink!$A$4:$A$4056,MassDataLink!$B$4:$B$4056)","v":{"$error":"#N/A"}},{"$f":"LOOKUP(C256,MassDataLink!$A$4:$A$4056,MassDataLink!$C$4:$C$4056)","v":{"$error":"#N/A"}},{"$f":"LOOKUP(C256,MassDataLink!$A$4:$A$4056,MassDataLink!$D$4:$D$4056)","v":{"$error":"#N/A"}},{"$f":"LOOKUP(C256,MassDataLink!$A$4:$A$4056,MassDataLink!$E$4:$E$4056)","v":{"$error":"#N/A"}},{"$f":"LOOKUP(C256,MassDataLink!$A$4:$A$4056,MassDataLink!$F$4:$F$4056)","v":{"$error":"#N/A"}},null,143,"- - -","- - -"]
[null,144,-1,{"$f":"LOOKUP(C257,MassDataLink!$A$4:$A$4056,MassDataLink!$B$4:$B$4056)","v":{"$error":"#N/A"}},{"$f":"LOOKUP(C257,MassDataLink!$A$4:$A$4056,MassDataLink!$C$4:$C$4056)","v":{"$error":"#N/A"}},{"$f":"LOOKUP(C257,MassDataLink!$A$4:$A$4056,MassDataLink!$D$4:$D$4056)","v":{"$error":"#N/A"}},{"$f":"LOOKUP(C257,MassDataLink!$A$4:$A$4056,MassDataLink!$E$4:$E$4056)","v":{"$error":"#N/A"}},{"$f":"LOOKUP(C257,MassDataLink!$A$4:$A$4056,MassDataLink!$F$4:$F$4056)","v":{"$error":"#N/A"}},null,144,"- - -","- - -"]
[null,145,-1,{"$f":"LOOKUP(C258,MassDataLink!$A$4:$A$4056,MassDataLink!$B$4:$B$4056)","v":{"$error":"#N/A"}},{"$f":"LOOKUP(C258,MassDataLink!$A$4:$A$4056,MassDataLink!$C$4:$C$4056)","v":{"$error":"#N/A"}},{"$f":"LOOKUP(C258,MassDataLink!$A$4:$A$4056,MassDataLink!$D$4:$D$4056)","v":{"$error":"#N/A"}},{"$f":"LOOKUP(C258,MassDataLink!$A$4:$A$4056,MassDataLink!$E$4:$E$4056)","v":{"$error":"#N/A"}},{"$f":"LOOKUP(C258,MassDataLink!$A$4:$A$4056,MassDataLink!$F$4:$F$4056)","v":{"$error":"#N/A"}},null,145,"- - -","- - -"]
[null,146,-1,{"$f":"LOOKUP(C259,MassDataLink!$A$4:$A$4056,MassDataLink!$B$4:$B$4056)","v":{"$error":"#N/A"}},{"$f":"LOOKUP(C259,MassDataLink!$A$4:$A$4056,MassDataLink!$C$4:$C$4056)","v":{"$error":"#N/A"}},{"$f":"LOOKUP(C259,MassDataLink!$A$4:$A$4056,MassDataLink!$D$4:$D$4056)","v":{"$error":"#N/A"}},{"$f":"LOOKUP(C259,MassDataLink!$A$4:$A$4056,MassDataLink!$E$4:$E$4056)","v":{"$error":"#N/A"}},{"$f":"LOOKUP(C259,MassDataLink!$A$4:$A$4056,MassDataLink!$F$4:$F$4056)","v":{"$error":"#N/A"}},null,146,"- - -","- - -"]
[null,147,-1,{"$f":"LOOKUP(C260,MassDataLink!$A$4:$A$4056,MassDataLink!$B$4:$B$4056)","v":{"$error":"#N/A"}},{"$f":"LOOKUP(C260,MassDataLink!$A$4:$A$4056,MassDataLink!$C$4:$C$4056)","v":{"$error":"#N/A"}},{"$f":"LOOKUP(C260,MassDataLink!$A$4:$A$4056,MassDataLink!$D$4:$D$4056)","v":{"$error":"#N/A"}},{"$f":"LOOKUP(C260,MassDataLink!$A$4:$A$4056,MassDataLink!$E$4:$E$4056)","v":{"$error":"#N/A"}},{"$f":"LOOKUP(C260,MassDataLink!$A$4:$A$4056,MassDataLink!$F$4:$F$4056)","v":{"$error":"#N/A"}},null,147,"- - -","- - -"]
[null,148,-1,{"$f":"LOOKUP(C261,MassDataLink!$A$4:$A$4056,MassDataLink!$B$4:$B$4056)","v":{"$error":"#N/A"}},{"$f":"LOOKUP(C261,MassDataLink!$A$4:$A$4056,MassDataLink!$C$4:$C$4056)","v":{"$error":"#N/A"}},{"$f":"LOOKUP(C261,MassDataLink!$A$4:$A$4056,MassDataLink!$D$4:$D$4056)","v":{"$error":"#N/A"}},{"$f":"LOOKUP(C261,MassDataLink!$A$4:$A$4056,MassDataLink!$E$4:$E$4056)","v":{"$error":"#N/A"}},{"$f":"LOOKUP(C261,MassDataLink!$A$4:$A$4056,MassDataLink!$F$4:$F$4056)","v":{"$error":"#N/A"}},null,148,"- - -","- - -"]
[null,149,-1,{"$f":"LOOKUP(C262,MassDataLink!$A$4:$A$4056,MassDataLink!$B$4:$B$4056)","v":{"$error":"#N/A"}},{"$f":"LOOKUP(C262,MassDataLink!$A$4:$A$4056,MassDataLink!$C$4:$C$4056)","v":{"$error":"#N/A"}},{"$f":"LOOKUP(C262,MassDataLink!$A$4:$A$4056,MassDataLink!$D$4:$D$4056)","v":{"$error":"#N/A"}},{"$f":"LOOKUP(C262,MassDataLink!$A$4:$A$4056,MassDataLink!$E$4:$E$4056)","v":{"$error":"#N/A"}},{"$f":"LOOKUP(C262,MassDataLink!$A$4:$A$4056,MassDataLink!$F$4:$F$4056)","v":{"$error":"#N/A"}},null,149,"- - -","- - -"]
[null,150,-1,{"$f":"LOOKUP(C263,MassDataLink!$A$4:$A$4056,MassDataLink!$B$4:$B$4056)","v":{"$error":"#N/A"}},{"$f":"LOOKUP(C263,MassDataLink!$A$4:$A$4056,MassDataLink!$C$4:$C$4056)","v":{"$error":"#N/A"}},{"$f":"LOOKUP(C263,MassDataLink!$A$4:$A$4056,MassDataLink!$D$4:$D$4056)","v":{"$error":"#N/A"}},{"$f":"LOOKUP(C263,MassDataLink!$A$4:$A$4056,MassDataLink!$E$4:$E$4056)","v":{"$error":"#N/A"}},{"$f":"LOOKUP(C263,MassDataLink!$A$4:$A$4056,MassDataLink!$F$4:$F$4056)","v":{"$error":"#N/A"}},null,150,"- - -","- - -"]
[null,151,-1,{"$f":"LOOKUP(C264,MassDataLink!$A$4:$A$4056,MassDataLink!$B$4:$B$4056)","v":{"$error":"#N/A"}},{"$f":"LOOKUP(C264,MassDataLink!$A$4:$A$4056,MassDataLink!$C$4:$C$4056)","v":{"$error":"#N/A"}},{"$f":"LOOKUP(C264,MassDataLink!$A$4:$A$4056,MassDataLink!$D$4:$D$4056)","v":{"$error":"#N/A"}},{"$f":"LOOKUP(C264,MassDataLink!$A$4:$A$4056,MassDataLink!$E$4:$E$4056)","v":{"$error":"#N/A"}},{"$f":"LOOKUP(C264,MassDataLink!$A$4:$A$4056,MassDataLink!$F$4:$F$4056)","v":{"$error":"#N/A"}},null,151,"- - -","- - -"]
[null,152,-1,{"$f":"LOOKUP(C265,MassDataLink!$A$4:$A$4056,MassDataLink!$B$4:$B$4056)","v":{"$error":"#N/A"}},{"$f":"LOOKUP(C265,MassDataLink!$A$4:$A$4056,MassDataLink!$C$4:$C$4056)","v":{"$error":"#N/A"}},{"$f":"LOOKUP(C265,MassDataLink!$A$4:$A$4056,MassDataLink!$D$4:$D$4056)","v":{"$error":"#N/A"}},{"$f":"LOOKUP(C265,MassDataLink!$A$4:$A$4056,MassDataLink!$E$4:$E$4056)","v":{"$error":"#N/A"}},{"$f":"LOOKUP(C265,MassDataLink!$A$4:$A$4056,MassDataLink!$F$4:$F$4056)","v":{"$error":"#N/A"}},null,152,"- - -","- - -"]
[null,153,-1,{"$f":"LOOKUP(C266,MassDataLink!$A$4:$A$4056,MassDataLink!$B$4:$B$4056)","v":{"$error":"#N/A"}},{"$f":"LOOKUP(C266,MassDataLink!$A$4:$A$4056,MassDataLink!$C$4:$C$4056)","v":{"$error":"#N/A"}},{"$f":"LOOKUP(C266,MassDataLink!$A$4:$A$4056,MassDataLink!$D$4:$D$4056)","v":{"$error":"#N/A"}},{"$f":"LOOKUP(C266,MassDataLink!$A$4:$A$4056,MassDataLink!$E$4:$E$4056)","v":{"$error":"#N/A"}},{"$f":"LOOKUP(C266,MassDataLink!$A$4:$A$4056,MassDataLink!$F$4:$F$4056)","v":{"$error":"#N/A"}},null,153,"- - -","- - -"]
[null,154,-1,{"$f":"LOOKUP(C267,MassDataLink!$A$4:$A$4056,MassDataLink!$B$4:$B$4056)","v":{"$error":"#N/A"}},{"$f":"LOOKUP(C267,MassDataLink!$A$4:$A$4056,MassDataLink!$C$4:$C$4056)","v":{"$error":"#N/A"}},{"$f":"LOOKUP(C267,MassDataLink!$A$4:$A$4056,MassDataLink!$D$4:$D$4056)","v":{"$error":"#N/A"}},{"$f":"LOOKUP(C267,MassDataLink!$A$4:$A$4056,MassDataLink!$E$4:$E$4056)","v":{"$error":"#N/A"}},{"$f":"LOOKUP(C267,MassDataLink!$A$4:$A$4056,MassDataLink!$F$4:$F$4056)","v":{"$error":"#N/A"}},null,154,"- - -","- - -"]
[null,155,-1,{"$f":"LOOKUP(C268,MassDataLink!$A$4:$A$4056,MassDataLink!$B$4:$B$4056)","v":{"$error":"#N/A"}},{"$f":"LOOKUP(C268,MassDataLink!$A$4:$A$4056,MassDataLink!$C$4:$C$4056)","v":{"$error":"#N/A"}},{"$f":"LOOKUP(C268,MassDataLink!$A$4:$A$4056,MassDataLink!$D$4:$D$4056)","v":{"$error":"#N/A"}},{"$f":"LOOKUP(C268,MassDataLink!$A$4:$A$4056,MassDataLink!$E$4:$E$4056)","v":{"$error":"#N/A"}},{"$f":"LOOKUP(C268,MassDataLink!$A$4:$A$4056,MassDataLink!$F$4:$F$4056)","v":{"$error":"#N/A"}},null,155,"- - -","- - -"]
[null,156,-1,{"$f":"LOOKUP(C269,MassDataLink!$A$4:$A$4056,MassDataLink!$B$4:$B$4056)","v":{"$error":"#N/A"}},{"$f":"LOOKUP(C269,MassDataLink!$A$4:$A$4056,MassDataLink!$C$4:$C$4056)","v":{"$error":"#N/A"}},{"$f":"LOOKUP(C269,MassDataLink!$A$4:$A$4056,MassDataLink!$D$4:$D$4056)","v":{"$error":"#N/A"}},{"$f":"LOOKUP(C269,MassDataLink!$A$4:$A$4056,MassDataLink!$E$4:$E$4056)","v":{"$error":"#N/A"}},{"$f":"LOOKUP(C269,MassDataLink!$A$4:$A$4056,MassDataLink!$F$4:$F$4056)","v":{"$error":"#N/A"}},null,156,"- - -","- - -"]
[null,157,-1,{"$f":"LOOKUP(C270,MassDataLink!$A$4:$A$4056,MassDataLink!$B$4:$B$4056)","v":{"$error":"#N/A"}},{"$f":"LOOKUP(C270,MassDataLink!$A$4:$A$4056,MassDataLink!$C$4:$C$4056)","v":{"$error":"#N/A"}},{"$f":"LOOKUP(C270,MassDataLink!$A$4:$A$4056,MassDataLink!$D$4:$D$4056)","v":{"$error":"#N/A"}},{"$f":"LOOKUP(C270,MassDataLink!$A$4:$A$4056,MassDataLink!$E$4:$E$4056)","v":{"$error":"#N/A"}},{"$f":"LOOKUP(C270,MassDataLink!$A$4:$A$4056,MassDataLink!$F$4:$F$4056)","v":{"$error":"#N/A"}},null,157,"- - -","- - -"]
[null,158,-1,{"$f":"LOOKUP(C271,MassDataLink!$A$4:$A$4056,MassDataLink!$B$4:$B$4056)","v":{"$error":"#N/A"}},{"$f":"LOOKUP(C271,MassDataLink!$A$4:$A$4056,MassDataLink!$C$4:$C$4056)","v":{"$error":"#N/A"}},{"$f":"LOOKUP(C271,MassDataLink!$A$4:$A$4056,MassDataLink!$D$4:$D$4056)","v":{"$error":"#N/A"}},{"$f":"LOOKUP(C271,MassDataLink!$A$4:$A$4056,MassDataLink!$E$4:$E$4056)","v":{"$error":"#N/A"}},{"$f":"LOOKUP(C271,MassDataLink!$A$4:$A$4056,MassDataLink!$F$4:$F$4056)","v":{"$error":"#N/A"}},null,158,"- - -","- - -"]
[null,159,-1,{"$f":"LOOKUP(C272,MassDataLink!$A$4:$A$4056,MassDataLink!$B$4:$B$4056)","v":{"$error":"#N/A"}},{"$f":"LOOKUP(C272,MassDataLink!$A$4:$A$4056,MassDataLink!$C$4:$C$4056)","v":{"$error":"#N/A"}},{"$f":"LOOKUP(C272,MassDataLink!$A$4:$A$4056,MassDataLink!$D$4:$D$4056)","v":{"$error":"#N/A"}},{"$f":"LOOKUP(C272,MassDataLink!$A$4:$A$4056,MassDataLink!$E$4:$E$4056)","v":{"$error":"#N/A"}},{"$f":"LOOKUP(C272,MassDataLink!$A$4:$A$4056,MassDataLink!$F$4:$F$4056)","v":{"$error":"#N/A"}},null,159,"- - -","- - -"]
[null,160,-1,{"$f":"LOOKUP(C273,MassDataLink!$A$4:$A$4056,MassDataLink!$B$4:$B$4056)","v":{"$error":"#N/A"}},{"$f":"LOOKUP(C273,MassDataLink!$A$4:$A$4056,MassDataLink!$C$4:$C$4056)","v":{"$error":"#N/A"}},{"$f":"LOOKUP(C273,MassDataLink!$A$4:$A$4056,MassDataLink!$D$4:$D$4056)","v":{"$error":"#N/A"}},{"$f":"LOOKUP(C273,MassDataLink!$A$4:$A$4056,MassDataLink!$E$4:$E$4056)","v":{"$error":"#N/A"}},{"$f":"LOOKUP(C273,MassDataLink!$A$4:$A$4056,MassDataLink!$F$4:$F$4056)","v":{"$error":"#N/A"}},null,160,"- - -","- - -"]
[null,161,-1,{"$f":"LOOKUP(C274,MassDataLink!$A$4:$A$4056,MassDataLink!$B$4:$B$4056)","v":{"$error":"#N/A"}},{"$f":"LOOKUP(C274,MassDataLink!$A$4:$A$4056,MassDataLink!$C$4:$C$4056)","v":{"$error":"#N/A"}},{"$f":"LOOKUP(C274,MassDataLink!$A$4:$A$4056,MassDataLink!$D$4:$D$4056)","v":{"$error":"#N/A"}},{"$f":"LOOKUP(C274,MassDataLink!$A$4:$A$4056,MassDataLink!$E$4:$E$4056)","v":{"$error":"#N/A"}},{"$f":"LOOKUP(C274,MassDataLink!$A$4:$A$4056,MassDataLink!$F$4:$F$4056)","v":{"$error":"#N/A"}},null,161,"- - -","- - -"]
[null,162,-1,{"$f":"LOOKUP(C275,MassDataLink!$A$4:$A$4056,MassDataLink!$B$4:$B$4056)","v":{"$error":"#N/A"}},{"$f":"LOOKUP(C275,MassDataLink!$A$4:$A$4056,MassDataLink!$C$4:$C$4056)","v":{"$error":"#N/A"}},{"$f":"LOOKUP(C275,MassDataLink!$A$4:$A$4056,MassDataLink!$D$4:$D$4056)","v":{"$error":"#N/A"}},{"$f":"LOOKUP(C275,MassDataLink!$A$4:$A$4056,MassDataLink!$E$4:$E$4056)","v":{"$error":"#N/A"}},{"$f":"LOOKUP(C275,MassDataLink!$A$4:$A$4056,MassDataLink!$F$4:$F$4056)","v":{"$error":"#N/A"}},null,162,"- - -","- - -"]
[null,163,-1,{"$f":"LOOKUP(C276,MassDataLink!$A$4:$A$4056,MassDataLink!$B$4:$B$4056)","v":{"$error":"#N/A"}},{"$f":"LOOKUP(C276,MassDataLink!$A$4:$A$4056,MassDataLink!$C$4:$C$4056)","v":{"$error":"#N/A"}},{"$f":"LOOKUP(C276,MassDataLink!$A$4:$A$4056,MassDataLink!$D$4:$D$4056)","v":{"$error":"#N/A"}},{"$f":"LOOKUP(C276,MassDataLink!$A$4:$A$4056,MassDataLink!$E$4:$E$4056)","v":{"$error":"#N/A"}},{"$f":"LOOKUP(C276,MassDataLink!$A$4:$A$4056,MassDataLink!$F$4:$F$4056)","v":{"$error":"#N/A"}},null,163,"- - -","- - -"]
[null,164,-1,{"$f":"LOOKUP(C277,MassDataLink!$A$4:$A$4056,MassDataLink!$B$4:$B$4056)","v":{"$error":"#N/A"}},{"$f":"LOOKUP(C277,MassDataLink!$A$4:$A$4056,MassDataLink!$C$4:$C$4056)","v":{"$error":"#N/A"}},{"$f":"LOOKUP(C277,MassDataLink!$A$4:$A$4056,MassDataLink!$D$4:$D$4056)","v":{"$error":"#N/A"}},{"$f":"LOOKUP(C277,MassDataLink!$A$4:$A$4056,MassDataLink!$E$4:$E$4056)","v":{"$error":"#N/A"}},{"$f":"LOOKUP(C277,MassDataLink!$A$4:$A$4056,MassDataLink!$F$4:$F$4056)","v":{"$error":"#N/A"}},null,164,"- - -","- - -"]
[null,165,-1,{"$f":"LOOKUP(C278,MassDataLink!$A$4:$A$4056,MassDataLink!$B$4:$B$4056)","v":{"$error":"#N/A"}},{"$f":"LOOKUP(C278,MassDataLink!$A$4:$A$4056,MassDataLink!$C$4:$C$4056)","v":{"$error":"#N/A"}},{"$f":"LOOKUP(C278,MassDataLink!$A$4:$A$4056,MassDataLink!$D$4:$D$4056)","v":{"$error":"#N/A"}},{"$f":"LOOKUP(C278,MassDataLink!$A$4:$A$4056,MassDataLink!$E$4:$E$4056)","v":{"$error":"#N/A"}},{"$f":"LOOKUP(C278,MassDataLink!$A$4:$A$4056,MassDataLink!$F$4:$F$4056)","v":{"$error":"#N/A"}},null,165,"- - -","- - -"]
[null,166,-1,{"$f":"LOOKUP(C279,MassDataLink!$A$4:$A$4056,MassDataLink!$B$4:$B$4056)","v":{"$error":"#N/A"}},{"$f":"LOOKUP(C279,MassDataLink!$A$4:$A$4056,MassDataLink!$C$4:$C$4056)","v":{"$error":"#N/A"}},{"$f":"LOOKUP(C279,MassDataLink!$A$4:$A$4056,MassDataLink!$D$4:$D$4056)","v":{"$error":"#N/A"}},{"$f":"LOOKUP(C279,MassDataLink!$A$4:$A$4056,MassDataLink!$E$4:$E$4056)","v":{"$error":"#N/A"}},{"$f":"LOOKUP(C279,MassDataLink!$A$4:$A$4056,MassDataLink!$F$4:$F$4056)","v":{"$error":"#N/A"}},null,166,"- - -","- - -"]
[null,167,-1,{"$f":"LOOKUP(C280,MassDataLink!$A$4:$A$4056,MassDataLink!$B$4:$B$4056)","v":{"$error":"#N/A"}},{"$f":"LOOKUP(C280,MassDataLink!$A$4:$A$4056,MassDataLink!$C$4:$C$4056)","v":{"$error":"#N/A"}},{"$f":"LOOKUP(C280,MassDataLink!$A$4:$A$4056,MassDataLink!$D$4:$D$4056)","v":{"$error":"#N/A"}},{"$f":"LOOKUP(C280,MassDataLink!$A$4:$A$4056,MassDataLink!$E$4:$E$4056)","v":{"$error":"#N/A"}},{"$f":"LOOKUP(C280,MassDataLink!$A$4:$A$4056,MassDataLink!$F$4:$F$4056)","v":{"$error":"#N/A"}},null,167,"- - -","- - -"]
[null,168,-1,{"$f":"LOOKUP(C281,MassDataLink!$A$4:$A$4056,MassDataLink!$B$4:$B$4056)","v":{"$error":"#N/A"}},{"$f":"LOOKUP(C281,MassDataLink!$A$4:$A$4056,MassDataLink!$C$4:$C$4056)","v":{"$error":"#N/A"}},{"$f":"LOOKUP(C281,MassDataLink!$A$4:$A$4056,MassDataLink!$D$4:$D$4056)","v":{"$error":"#N/A"}},{"$f":"LOOKUP(C281,MassDataLink!$A$4:$A$4056,MassDataLink!$E$4:$E$4056)","v":{"$error":"#N/A"}},{"$f":"LOOKUP(C281,MassDataLink!$A$4:$A$4056,MassDataLink!$F$4:$F$4056)","v":{"$error":"#N/A"}},null,168,"- - -","- - -"]
[null,169,-1,{"$f":"LOOKUP(C282,MassDataLink!$A$4:$A$4056,MassDataLink!$B$4:$B$4056)","v":{"$error":"#N/A"}},{"$f":"LOOKUP(C282,MassDataLink!$A$4:$A$4056,MassDataLink!$C$4:$C$4056)","v":{"$error":"#N/A"}},{"$f":"LOOKUP(C282,MassDataLink!$A$4:$A$4056,MassDataLink!$D$4:$D$4056)","v":{"$error":"#N/A"}},{"$f":"LOOKUP(C282,MassDataLink!$A$4:$A$4056,MassDataLink!$E$4:$E$4056)","v":{"$error":"#N/A"}},{"$f":"LOOKUP(C282,MassDataLink!$A$4:$A$4056,MassDataLink!$F$4:$F$4056)","v":{"$error":"#N/A"}},null,169,"- - -","- - -"]
[null,170,-1,{"$f":"LOOKUP(C283,MassDataLink!$A$4:$A$4056,MassDataLink!$B$4:$B$4056)","v":{"$error":"#N/A"}},{"$f":"LOOKUP(C283,MassDataLink!$A$4:$A$4056,MassDataLink!$C$4:$C$4056)","v":{"$error":"#N/A"}},{"$f":"LOOKUP(C283,MassDataLink!$A$4:$A$4056,MassDataLink!$D$4:$D$4056)","v":{"$error":"#N/A"}},{"$f":"LOOKUP(C283,MassDataLink!$A$4:$A$4056,MassDataLink!$E$4:$E$4056)","v":{"$error":"#N/A"}},{"$f":"LOOKUP(C283,MassDataLink!$A$4:$A$4056,MassDataLink!$F$4:$F$4056)","v":{"$error":"#N/A"}},null,170,"- - -","- - -"]
[null,171,-1,{"$f":"LOOKUP(C284,MassDataLink!$A$4:$A$4056,MassDataLink!$B$4:$B$4056)","v":{"$error":"#N/A"}},{"$f":"LOOKUP(C284,MassDataLink!$A$4:$A$4056,MassDataLink!$C$4:$C$4056)","v":{"$error":"#N/A"}},{"$f":"LOOKUP(C284,MassDataLink!$A$4:$A$4056,MassDataLink!$D$4:$D$4056)","v":{"$error":"#N/A"}},{"$f":"LOOKUP(C284,MassDataLink!$A$4:$A$4056,MassDataLink!$E$4:$E$4056)","v":{"$error":"#N/A"}},{"$f":"LOOKUP(C284,MassDataLink!$A$4:$A$4056,MassDataLink!$F$4:$F$4056)","v":{"$error":"#N/A"}},null,171,"- - -","- - -"]
[null,172,-1,{"$f":"LOOKUP(C285,MassDataLink!$A$4:$A$4056,MassDataLink!$B$4:$B$4056)","v":{"$error":"#N/A"}},{"$f":"LOOKUP(C285,MassDataLink!$A$4:$A$4056,MassDataLink!$C$4:$C$4056)","v":{"$error":"#N/A"}},{"$f":"LOOKUP(C285,MassDataLink!$A$4:$A$4056,MassDataLink!$D$4:$D$4056)","v":{"$error":"#N/A"}},{"$f":"LOOKUP(C285,MassDataLink!$A$4:$A$4056,MassDataLink!$E$4:$E$4056)","v":{"$error":"#N/A"}},{"$f":"LOOKUP(C285,MassDataLink!$A$4:$A$4056,MassDataLink!$F$4:$F$4056)","v":{"$error":"#N/A"}},null,172,"- - -","- - -"]
[null,173,-1,{"$f":"LOOKUP(C286,MassDataLink!$A$4:$A$4056,MassDataLink!$B$4:$B$4056)","v":{"$error":"#N/A"}},{"$f":"LOOKUP(C286,MassDataLink!$A$4:$A$4056,MassDataLink!$C$4:$C$4056)","v":{"$error":"#N/A"}},{"$f":"LOOKUP(C286,MassDataLink!$A$4:$A$4056,MassDataLink!$D$4:$D$4056)","v":{"$error":"#N/A"}},{"$f":"LOOKUP(C286,MassDataLink!$A$4:$A$4056,MassDataLink!$E$4:$E$4056)","v":{"$error":"#N/A"}},{"$f":"LOOKUP(C286,MassDataLink!$A$4:$A$4056,MassDataLink!$F$4:$F$4056)","v":{"$error":"#N/A"}},null,173,"- - -","- - -"]
[null,174,-1,{"$f":"LOOKUP(C287,MassDataLink!$A$4:$A$4056,MassDataLink!$B$4:$B$4056)","v":{"$error":"#N/A"}},{"$f":"LOOKUP(C287,MassDataLink!$A$4:$A$4056,MassDataLink!$C$4:$C$4056)","v":{"$error":"#N/A"}},{"$f":"LOOKUP(C287,MassDataLink!$A$4:$A$4056,MassDataLink!$D$4:$D$4056)","v":{"$error":"#N/A"}},{"$f":"LOOKUP(C287,MassDataLink!$A$4:$A$4056,MassDataLink!$E$4:$E$4056)","v":{"$error":"#N/A"}},{"$f":"LOOKUP(C287,MassDataLink!$A$4:$A$4056,MassDataLink!$F$4:$F$4056)","v":{"$error":"#N/A"}},null,174,"- - -","- - -"]
[null,175,-1,{"$f":"LOOKUP(C288,MassDataLink!$A$4:$A$4056,MassDataLink!$B$4:$B$4056)","v":{"$error":"#N/A"}},{"$f":"LOOKUP(C288,MassDataLink!$A$4:$A$4056,MassDataLink!$C$4:$C$4056)","v":{"$error":"#N/A"}},{"$f":"LOOKUP(C288,MassDataLink!$A$4:$A$4056,MassDataLink!$D$4:$D$4056)","v":{"$error":"#N/A"}},{"$f":"LOOKUP(C288,MassDataLink!$A$4:$A$4056,MassDataLink!$E$4:$E$4056)","v":{"$error":"#N/A"}},{"$f":"LOOKUP(C288,MassDataLink!$A$4:$A$4056,MassDataLink!$F$4:$F$4056)","v":{"$error":"#N/A"}},null,175,"- - -","- - -"]
[null,176,-1,{"$f":"LOOKUP(C289,MassDataLink!$A$4:$A$4056,MassDataLink!$B$4:$B$4056)","v":{"$error":"#N/A"}},{"$f":"LOOKUP(C289,MassDataLink!$A$4:$A$4056,MassDataLink!$C$4:$C$4056)","v":{"$error":"#N/A"}},{"$f":"LOOKUP(C289,MassDataLink!$A$4:$A$4056,MassDataLink!$D$4:$D$4056)","v":{"$error":"#N/A"}},{"$f":"LOOKUP(C289,MassDataLink!$A$4:$A$4056,MassDataLink!$E$4:$E$4056)","v":{"$error":"#N/A"}},{"$f":"LOOKUP(C289,MassDataLink!$A$4:$A$4056,MassDataLink!$F$4:$F$4056)","v":{"$error":"#N/A"}},null,176,"- - -","- - -"]
[null,177,-1,{"$f":"LOOKUP(C290,MassDataLink!$A$4:$A$4056,MassDataLink!$B$4:$B$4056)","v":{"$error":"#N/A"}},{"$f":"LOOKUP(C290,MassDataLink!$A$4:$A$4056,MassDataLink!$C$4:$C$4056)","v":{"$error":"#N/A"}},{"$f":"LOOKUP(C290,MassDataLink!$A$4:$A$4056,MassDataLink!$D$4:$D$4056)","v":{"$error":"#N/A"}},{"$f":"LOOKUP(C290,MassDataLink!$A$4:$A$4056,MassDataLink!$E$4:$E$4056)","v":{"$error":"#N/A"}},{"$f":"LOOKUP(C290,MassDataLink!$A$4:$A$4056,MassDataLink!$F$4:$F$4056)","v":{"$error":"#N/A"}},null,177,"- - -","- - -"]
[null,178,-1,{"$f":"LOOKUP(C291,MassDataLink!$A$4:$A$4056,MassDataLink!$B$4:$B$4056)","v":{"$error":"#N/A"}},{"$f":"LOOKUP(C291,MassDataLink!$A$4:$A$4056,MassDataLink!$C$4:$C$4056)","v":{"$error":"#N/A"}},{"$f":"LOOKUP(C291,MassDataLink!$A$4:$A$4056,MassDataLink!$D$4:$D$4056)","v":{"$error":"#N/A"}},{"$f":"LOOKUP(C291,MassDataLink!$A$4:$A$4056,MassDataLink!$E$4:$E$4056)","v":{"$error":"#N/A"}},{"$f":"LOOKUP(C291,MassDataLink!$A$4:$A$4056,MassDataLink!$F$4:$F$4056)","v":{"$error":"#N/A"}},null,178,"- - -","- - -"]
[null,{"$f":"B291+1","v":179},{"$f":"IF(C291=-1,-1,H291)","v":-1},{"$f":"LOOKUP(C292,MassDataLink!$A$4:$A$4056,MassDataLink!$B$4:$B$4056)","v":{"$error":"#N/A"}},{"$f":"LOOKUP(C292,MassDataLink!$A$4:$A$4056,MassDataLink!$C$4:$C$4056)","v":{"$error":"#N/A"}},{"$f":"LOOKUP(C292,MassDataLink!$A$4:$A$4056,MassDataLink!$D$4:$D$4056)","v":{"$error":"#N/A"}},{"$f":"LOOKUP(C292,MassDataLink!$A$4:$A$4056,MassDataLink!$E$4:$E$4056)","v":{"$error":"#N/A"}},{"$f":"LOOKUP(C292,MassDataLink!$A$4:$A$4056,MassDataLink!$F$4:$F$4056)","v":{"$error":"#N/A"}},null,{"$f":"J291+1","v":179},{"$f":"IF(C292=-1,$L$112,IF($A$11=D292,ROUND((E292*$P$57),$R$57),$L$112))","v":"- - -"},{"$f":"IF(K292=$L$112,$L$112,F292)","v":"- - -"}]
[null,180,-1,{"$f":"LOOKUP(C293,MassDataLink!$A$4:$A$4056,MassDataLink!$B$4:$B$4056)","v":{"$error":"#N/A"}},{"$f":"LOOKUP(C293,MassDataLink!$A$4:$A$4056,MassDataLink!$C$4:$C$4056)","v":{"$error":"#N/A"}},{"$f":"LOOKUP(C293,MassDataLink!$A$4:$A$4056,MassDataLink!$D$4:$D$4056)","v":{"$error":"#N/A"}},{"$f":"LOOKUP(C293,MassDataLink!$A$4:$A$4056,MassDataLink!$E$4:$E$4056)","v":{"$error":"#N/A"}},{"$f":"LOOKUP(C293,MassDataLink!$A$4:$A$4056,MassDataLink!$F$4:$F$4056)","v":{"$error":"#N/A"}},null,180,"- - -","- - -"]
[null,181,-1,{"$f":"LOOKUP(C294,MassDataLink!$A$4:$A$4056,MassDataLink!$B$4:$B$4056)","v":{"$error":"#N/A"}},{"$f":"LOOKUP(C294,MassDataLink!$A$4:$A$4056,MassDataLink!$C$4:$C$4056)","v":{"$error":"#N/A"}},{"$f":"LOOKUP(C294,MassDataLink!$A$4:$A$4056,MassDataLink!$D$4:$D$4056)","v":{"$error":"#N/A"}},{"$f":"LOOKUP(C294,MassDataLink!$A$4:$A$4056,MassDataLink!$E$4:$E$4056)","v":{"$error":"#N/A"}},{"$f":"LOOKUP(C294,MassDataLink!$A$4:$A$4056,MassDataLink!$F$4:$F$4056)","v":{"$error":"#N/A"}},null,181,"- - -","- - -"]
[null,182,-1,{"$f":"LOOKUP(C295,MassDataLink!$A$4:$A$4056,MassDataLink!$B$4:$B$4056)","v":{"$error":"#N/A"}},{"$f":"LOOKUP(C295,MassDataLink!$A$4:$A$4056,MassDataLink!$C$4:$C$4056)","v":{"$error":"#N/A"}},{"$f":"LOOKUP(C295,MassDataLink!$A$4:$A$4056,MassDataLink!$D$4:$D$4056)","v":{"$error":"#N/A"}},{"$f":"LOOKUP(C295,MassDataLink!$A$4:$A$4056,MassDataLink!$E$4:$E$4056)","v":{"$error":"#N/A"}},{"$f":"LOOKUP(C295,MassDataLink!$A$4:$A$4056,MassDataLink!$F$4:$F$4056)","v":{"$error":"#N/A"}},null,182,"- - -","- - -"]
[null,183,-1,{"$f":"LOOKUP(C296,MassDataLink!$A$4:$A$4056,MassDataLink!$B$4:$B$4056)","v":{"$error":"#N/A"}},{"$f":"LOOKUP(C296,MassDataLink!$A$4:$A$4056,MassDataLink!$C$4:$C$4056)","v":{"$error":"#N/A"}},{"$f":"LOOKUP(C296,MassDataLink!$A$4:$A$4056,MassDataLink!$D$4:$D$4056)","v":{"$error":"#N/A"}},{"$f":"LOOKUP(C296,MassDataLink!$A$4:$A$4056,MassDataLink!$E$4:$E$4056)","v":{"$error":"#N/A"}},{"$f":"LOOKUP(C296,MassDataLink!$A$4:$A$4056,MassDataLink!$F$4:$F$4056)","v":{"$error":"#N/A"}},null,183,"- - -","- - -"]
[null,184,-1,{"$f":"LOOKUP(C297,MassDataLink!$A$4:$A$4056,MassDataLink!$B$4:$B$4056)","v":{"$error":"#N/A"}},{"$f":"LOOKUP(C297,MassDataLink!$A$4:$A$4056,MassDataLink!$C$4:$C$4056)","v":{"$error":"#N/A"}},{"$f":"LOOKUP(C297,MassDataLink!$A$4:$A$4056,MassDataLink!$D$4:$D$4056)","v":{"$error":"#N/A"}},{"$f":"LOOKUP(C297,MassDataLink!$A$4:$A$4056,MassDataLink!$E$4:$E$4056)","v":{"$error":"#N/A"}},{"$f":"LOOKUP(C297,MassDataLink!$A$4:$A$4056,MassDataLink!$F$4:$F$4056)","v":{"$error":"#N/A"}},null,184,"- - -","- - -"]
[null,185,-1,{"$f":"LOOKUP(C298,MassDataLink!$A$4:$A$4056,MassDataLink!$B$4:$B$4056)","v":{"$error":"#N/A"}},{"$f":"LOOKUP(C298,MassDataLink!$A$4:$A$4056,MassDataLink!$C$4:$C$4056)","v":{"$error":"#N/A"}},{"$f":"LOOKUP(C298,MassDataLink!$A$4:$A$4056,MassDataLink!$D$4:$D$4056)","v":{"$error":"#N/A"}},{"$f":"LOOKUP(C298,MassDataLink!$A$4:$A$4056,MassDataLink!$E$4:$E$4056)","v":{"$error":"#N/A"}},{"$f":"LOOKUP(C298,MassDataLink!$A$4:$A$4056,MassDataLink!$F$4:$F$4056)","v":{"$error":"#N/A"}},null,185,"- - -","- - -"]
[null,186,-1,{"$f":"LOOKUP(C299,MassDataLink!$A$4:$A$4056,MassDataLink!$B$4:$B$4056)","v":{"$error":"#N/A"}},{"$f":"LOOKUP(C299,MassDataLink!$A$4:$A$4056,MassDataLink!$C$4:$C$4056)","v":{"$error":"#N/A"}},{"$f":"LOOKUP(C299,MassDataLink!$A$4:$A$4056,MassDataLink!$D$4:$D$4056)","v":{"$error":"#N/A"}},{"$f":"LOOKUP(C299,MassDataLink!$A$4:$A$4056,MassDataLink!$E$4:$E$4056)","v":{"$error":"#N/A"}},{"$f":"LOOKUP(C299,MassDataLink!$A$4:$A$4056,MassDataLink!$F$4:$F$4056)","v":{"$error":"#N/A"}},null,186,"- - -","- - -"]
[null,187,-1,{"$f":"LOOKUP(C300,MassDataLink!$A$4:$A$4056,MassDataLink!$B$4:$B$4056)","v":{"$error":"#N/A"}},{"$f":"LOOKUP(C300,MassDataLink!$A$4:$A$4056,MassDataLink!$C$4:$C$4056)","v":{"$error":"#N/A"}},{"$f":"LOOKUP(C300,MassDataLink!$A$4:$A$4056,MassDataLink!$D$4:$D$4056)","v":{"$error":"#N/A"}},{"$f":"LOOKUP(C300,MassDataLink!$A$4:$A$4056,MassDataLink!$E$4:$E$4056)","v":{"$error":"#N/A"}},{"$f":"LOOKUP(C300,MassDataLink!$A$4:$A$4056,MassDataLink!$F$4:$F$4056)","v":{"$error":"#N/A"}},null,187,"- - -","- - -"]
[null,188,-1,{"$f":"LOOKUP(C301,MassDataLink!$A$4:$A$4056,MassDataLink!$B$4:$B$4056)","v":{"$error":"#N/A"}},{"$f":"LOOKUP(C301,MassDataLink!$A$4:$A$4056,MassDataLink!$C$4:$C$4056)","v":{"$error":"#N/A"}},{"$f":"LOOKUP(C301,MassDataLink!$A$4:$A$4056,MassDataLink!$D$4:$D$4056)","v":{"$error":"#N/A"}},{"$f":"LOOKUP(C301,MassDataLink!$A$4:$A$4056,MassDataLink!$E$4:$E$4056)","v":{"$error":"#N/A"}},{"$f":"LOOKUP(C301,MassDataLink!$A$4:$A$4056,MassDataLink!$F$4:$F$4056)","v":{"$error":"#N/A"}},null,188,"- - -","- - -"]
[null,189,-1,{"$f":"LOOKUP(C302,MassDataLink!$A$4:$A$4056,MassDataLink!$B$4:$B$4056)","v":{"$error":"#N/A"}},{"$f":"LOOKUP(C302,MassDataLink!$A$4:$A$4056,MassDataLink!$C$4:$C$4056)","v":{"$error":"#N/A"}},{"$f":"LOOKUP(C302,MassDataLink!$A$4:$A$4056,MassDataLink!$D$4:$D$4056)","v":{"$error":"#N/A"}},{"$f":"LOOKUP(C302,MassDataLink!$A$4:$A$4056,MassDataLink!$E$4:$E$4056)","v":{"$error":"#N/A"}},{"$f":"LOOKUP(C302,MassDataLink!$A$4:$A$4056,MassDataLink!$F$4:$F$4056)","v":{"$error":"#N/A"}},null,189,"- - -","- - -"]
[null,190,-1,{"$f":"LOOKUP(C303,MassDataLink!$A$4:$A$4056,MassDataLink!$B$4:$B$4056)","v":{"$error":"#N/A"}},{"$f":"LOOKUP(C303,MassDataLink!$A$4:$A$4056,MassDataLink!$C$4:$C$4056)","v":{"$error":"#N/A"}},{"$f":"LOOKUP(C303,MassDataLink!$A$4:$A$4056,MassDataLink!$D$4:$D$4056)","v":{"$error":"#N/A"}},{"$f":"LOOKUP(C303,MassDataLink!$A$4:$A$4056,MassDataLink!$E$4:$E$4056)","v":{"$error":"#N/A"}},{"$f":"LOOKUP(C303,MassDataLink!$A$4:$A$4056,MassDataLink!$F$4:$F$4056)","v":{"$error":"#N/A"}},null,190,"- - -","- - -"]
[null,191,-1,{"$f":"LOOKUP(C304,MassDataLink!$A$4:$A$4056,MassDataLink!$B$4:$B$4056)","v":{"$error":"#N/A"}},{"$f":"LOOKUP(C304,MassDataLink!$A$4:$A$4056,MassDataLink!$C$4:$C$4056)","v":{"$error":"#N/A"}},{"$f":"LOOKUP(C304,MassDataLink!$A$4:$A$4056,MassDataLink!$D$4:$D$4056)","v":{"$error":"#N/A"}},{"$f":"LOOKUP(C304,MassDataLink!$A$4:$A$4056,MassDataLink!$E$4:$E$4056)","v":{"$error":"#N/A"}},{"$f":"LOOKUP(C304,MassDataLink!$A$4:$A$4056,MassDataLink!$F$4:$F$4056)","v":{"$error":"#N/A"}},null,191,"- - -","- - -"]
[null,192,-1,{"$f":"LOOKUP(C305,MassDataLink!$A$4:$A$4056,MassDataLink!$B$4:$B$4056)","v":{"$error":"#N/A"}},{"$f":"LOOKUP(C305,MassDataLink!$A$4:$A$4056,MassDataLink!$C$4:$C$4056)","v":{"$error":"#N/A"}},{"$f":"LOOKUP(C305,MassDataLink!$A$4:$A$4056,MassDataLink!$D$4:$D$4056)","v":{"$error":"#N/A"}},{"$f":"LOOKUP(C305,MassDataLink!$A$4:$A$4056,MassDataLink!$E$4:$E$4056)","v":{"$error":"#N/A"}},{"$f":"LOOKUP(C305,MassDataLink!$A$4:$A$4056,MassDataLink!$F$4:$F$4056)","v":{"$error":"#N/A"}},null,192,"- - -","- - -"]
[null,193,-1,{"$f":"LOOKUP(C306,MassDataLink!$A$4:$A$4056,MassDataLink!$B$4:$B$4056)","v":{"$error":"#N/A"}},{"$f":"LOOKUP(C306,MassDataLink!$A$4:$A$4056,MassDataLink!$C$4:$C$4056)","v":{"$error":"#N/A"}},{"$f":"LOOKUP(C306,MassDataLink!$A$4:$A$4056,MassDataLink!$D$4:$D$4056)","v":{"$error":"#N/A"}},{"$f":"LOOKUP(C306,MassDataLink!$A$4:$A$4056,MassDataLink!$E$4:$E$4056)","v":{"$error":"#N/A"}},{"$f":"LOOKUP(C306,MassDataLink!$A$4:$A$4056,MassDataLink!$F$4:$F$4056)","v":{"$error":"#N/A"}},null,193,"- - -","- - -"]
[null,194,-1,{"$f":"LOOKUP(C307,MassDataLink!$A$4:$A$4056,MassDataLink!$B$4:$B$4056)","v":{"$error":"#N/A"}},{"$f":"LOOKUP(C307,MassDataLink!$A$4:$A$4056,MassDataLink!$C$4:$C$4056)","v":{"$error":"#N/A"}},{"$f":"LOOKUP(C307,MassDataLink!$A$4:$A$4056,MassDataLink!$D$4:$D$4056)","v":{"$error":"#N/A"}},{"$f":"LOOKUP(C307,MassDataLink!$A$4:$A$4056,MassDataLink!$E$4:$E$4056)","v":{"$error":"#N/A"}},{"$f":"LOOKUP(C307,MassDataLink!$A$4:$A$4056,MassDataLink!$F$4:$F$4056)","v":{"$error":"#N/A"}},null,194,"- - -","- - -"]
[null,195,-1,{"$f":"LOOKUP(C308,MassDataLink!$A$4:$A$4056,MassDataLink!$B$4:$B$4056)","v":{"$error":"#N/A"}},{"$f":"LOOKUP(C308,MassDataLink!$A$4:$A$4056,MassDataLink!$C$4:$C$4056)","v":{"$error":"#N/A"}},{"$f":"LOOKUP(C308,MassDataLink!$A$4:$A$4056,MassDataLink!$D$4:$D$4056)","v":{"$error":"#N/A"}},{"$f":"LOOKUP(C308,MassDataLink!$A$4:$A$4056,MassDataLink!$E$4:$E$4056)","v":{"$error":"#N/A"}},{"$f":"LOOKUP(C308,MassDataLink!$A$4:$A$4056,MassDataLink!$F$4:$F$4056)","v":{"$error":"#N/A"}},null,195,"- - -","- - -"]
[null,196,-1,{"$f":"LOOKUP(C309,MassDataLink!$A$4:$A$4056,MassDataLink!$B$4:$B$4056)","v":{"$error":"#N/A"}},{"$f":"LOOKUP(C309,MassDataLink!$A$4:$A$4056,MassDataLink!$C$4:$C$4056)","v":{"$error":"#N/A"}},{"$f":"LOOKUP(C309,MassDataLink!$A$4:$A$4056,MassDataLink!$D$4:$D$4056)","v":{"$error":"#N/A"}},{"$f":"LOOKUP(C309,MassDataLink!$A$4:$A$4056,MassDataLink!$E$4:$E$4056)","v":{"$error":"#N/A"}},{"$f":"LOOKUP(C309,MassDataLink!$A$4:$A$4056,MassDataLink!$F$4:$F$4056)","v":{"$error":"#N/A"}},null,196,"- - -","- - -"]
[null,197,-1,{"$f":"LOOKUP(C310,MassDataLink!$A$4:$A$4056,MassDataLink!$B$4:$B$4056)","v":{"$error":"#N/A"}},{"$f":"LOOKUP(C310,MassDataLink!$A$4:$A$4056,MassDataLink!$C$4:$C$4056)","v":{"$error":"#N/A"}},{"$f":"LOOKUP(C310,MassDataLink!$A$4:$A$4056,MassDataLink!$D$4:$D$4056)","v":{"$error":"#N/A"}},{"$f":"LOOKUP(C310,MassDataLink!$A$4:$A$4056,MassDataLink!$E$4:$E$4056)","v":{"$error":"#N/A"}},{"$f":"LOOKUP(C310,MassDataLink!$A$4:$A$4056,MassDataLink!$F$4:$F$4056)","v":{"$error":"#N/A"}},null,197,"- - -","- - -"]
[null,198,-1,{"$f":"LOOKUP(C311,MassDataLink!$A$4:$A$4056,MassDataLink!$B$4:$B$4056)","v":{"$error":"#N/A"}},{"$f":"LOOKUP(C311,MassDataLink!$A$4:$A$4056,MassDataLink!$C$4:$C$4056)","v":{"$error":"#N/A"}},{"$f":"LOOKUP(C311,MassDataLink!$A$4:$A$4056,MassDataLink!$D$4:$D$4056)","v":{"$error":"#N/A"}},{"$f":"LOOKUP(C311,MassDataLink!$A$4:$A$4056,MassDataLink!$E$4:$E$4056)","v":{"$error":"#N/A"}},{"$f":"LOOKUP(C311,MassDataLink!$A$4:$A$4056,MassDataLink!$F$4:$F$4056)","v":{"$error":"#N/A"}},null,198,"- - -","- - -"]
[null,199,-1,{"$f":"LOOKUP(C312,MassDataLink!$A$4:$A$4056,MassDataLink!$B$4:$B$4056)","v":{"$error":"#N/A"}},{"$f":"LOOKUP(C312,MassDataLink!$A$4:$A$4056,MassDataLink!$C$4:$C$4056)","v":{"$error":"#N/A"}},{"$f":"LOOKUP(C312,MassDataLink!$A$4:$A$4056,MassDataLink!$D$4:$D$4056)","v":{"$error":"#N/A"}},{"$f":"LOOKUP(C312,MassDataLink!$A$4:$A$4056,MassDataLink!$E$4:$E$4056)","v":{"$error":"#N/A"}},{"$f":"LOOKUP(C312,MassDataLink!$A$4:$A$4056,MassDataLink!$F$4:$F$4056)","v":{"$error":"#N/A"}},null,199,"- - -","- - -"]
[null,200,-1,{"$f":"LOOKUP(C313,MassDataLink!$A$4:$A$4056,MassDataLink!$B$4:$B$4056)","v":{"$error":"#N/A"}},{"$f":"LOOKUP(C313,MassDataLink!$A$4:$A$4056,MassDataLink!$C$4:$C$4056)","v":{"$error":"#N/A"}},{"$f":"LOOKUP(C313,MassDataLink!$A$4:$A$4056,MassDataLink!$D$4:$D$4056)","v":{"$error":"#N/A"}},{"$f":"LOOKUP(C313,MassDataLink!$A$4:$A$4056,MassDataLink!$E$4:$E$4056)","v":{"$error":"#N/A"}},{"$f":"LOOKUP(C313,MassDataLink!$A$4:$A$4056,MassDataLink!$F$4:$F$4056)","v":{"$error":"#N/A"}},null,200,"- - -","- - -"]
[null,201,-1,{"$f":"LOOKUP(C314,MassDataLink!$A$4:$A$4056,MassDataLink!$B$4:$B$4056)","v":{"$error":"#N/A"}},{"$f":"LOOKUP(C314,MassDataLink!$A$4:$A$4056,MassDataLink!$C$4:$C$4056)","v":{"$error":"#N/A"}},{"$f":"LOOKUP(C314,MassDataLink!$A$4:$A$4056,MassDataLink!$D$4:$D$4056)","v":{"$error":"#N/A"}},{"$f":"LOOKUP(C314,MassDataLink!$A$4:$A$4056,MassDataLink!$E$4:$E$4056)","v":{"$error":"#N/A"}},{"$f":"LOOKUP(C314,MassDataLink!$A$4:$A$4056,MassDataLink!$F$4:$F$4056)","v":{"$error":"#N/A"}},null,201,"- - -","- - -"]
[null,202,-1,{"$f":"LOOKUP(C315,MassDataLink!$A$4:$A$4056,MassDataLink!$B$4:$B$4056)","v":{"$error":"#N/A"}},{"$f":"LOOKUP(C315,MassDataLink!$A$4:$A$4056,MassDataLink!$C$4:$C$4056)","v":{"$error":"#N/A"}},{"$f":"LOOKUP(C315,MassDataLink!$A$4:$A$4056,MassDataLink!$D$4:$D$4056)","v":{"$error":"#N/A"}},{"$f":"LOOKUP(C315,MassDataLink!$A$4:$A$4056,MassDataLink!$E$4:$E$4056)","v":{"$error":"#N/A"}},{"$f":"LOOKUP(C315,MassDataLink!$A$4:$A$4056,MassDataLink!$F$4:$F$4056)","v":{"$error":"#N/A"}},null,202,"- - -","- - -"]
[null,203,-1,{"$f":"LOOKUP(C316,MassDataLink!$A$4:$A$4056,MassDataLink!$B$4:$B$4056)","v":{"$error":"#N/A"}},{"$f":"LOOKUP(C316,MassDataLink!$A$4:$A$4056,MassDataLink!$C$4:$C$4056)","v":{"$error":"#N/A"}},{"$f":"LOOKUP(C316,MassDataLink!$A$4:$A$4056,MassDataLink!$D$4:$D$4056)","v":{"$error":"#N/A"}},{"$f":"LOOKUP(C316,MassDataLink!$A$4:$A$4056,MassDataLink!$E$4:$E$4056)","v":{"$error":"#N/A"}},{"$f":"LOOKUP(C316,MassDataLink!$A$4:$A$4056,MassDataLink!$F$4:$F$4056)","v":{"$error":"#N/A"}},null,203,"- - -","- - -"]
[null,204,-1,{"$f":"LOOKUP(C317,MassDataLink!$A$4:$A$4056,MassDataLink!$B$4:$B$4056)","v":{"$error":"#N/A"}},{"$f":"LOOKUP(C317,MassDataLink!$A$4:$A$4056,MassDataLink!$C$4:$C$4056)","v":{"$error":"#N/A"}},{"$f":"LOOKUP(C317,MassDataLink!$A$4:$A$4056,MassDataLink!$D$4:$D$4056)","v":{"$error":"#N/A"}},{"$f":"LOOKUP(C317,MassDataLink!$A$4:$A$4056,MassDataLink!$E$4:$E$4056)","v":{"$error":"#N/A"}},{"$f":"LOOKUP(C317,MassDataLink!$A$4:$A$4056,MassDataLink!$F$4:$F$4056)","v":{"$error":"#N/A"}},null,204,"- - -","- - -"]
[null,205,-1,{"$f":"LOOKUP(C318,MassDataLink!$A$4:$A$4056,MassDataLink!$B$4:$B$4056)","v":{"$error":"#N/A"}},{"$f":"LOOKUP(C318,MassDataLink!$A$4:$A$4056,MassDataLink!$C$4:$C$4056)","v":{"$error":"#N/A"}},{"$f":"LOOKUP(C318,MassDataLink!$A$4:$A$4056,MassDataLink!$D$4:$D$4056)","v":{"$error":"#N/A"}},{"$f":"LOOKUP(C318,MassDataLink!$A$4:$A$4056,MassDataLink!$E$4:$E$4056)","v":{"$error":"#N/A"}},{"$f":"LOOKUP(C318,MassDataLink!$A$4:$A$4056,MassDataLink!$F$4:$F$4056)","v":{"$error":"#N/A"}},null,205,"- - -","- - -"]
[null,206,-1,{"$f":"LOOKUP(C319,MassDataLink!$A$4:$A$4056,MassDataLink!$B$4:$B$4056)","v":{"$error":"#N/A"}},{"$f":"LOOKUP(C319,MassDataLink!$A$4:$A$4056,MassDataLink!$C$4:$C$4056)","v":{"$error":"#N/A"}},{"$f":"LOOKUP(C319,MassDataLink!$A$4:$A$4056,MassDataLink!$D$4:$D$4056)","v":{"$error":"#N/A"}},{"$f":"LOOKUP(C319,MassDataLink!$A$4:$A$4056,MassDataLink!$E$4:$E$4056)","v":{"$error":"#N/A"}},{"$f":"LOOKUP(C319,MassDataLink!$A$4:$A$4056,MassDataLink!$F$4:$F$4056)","v":{"$error":"#N/A"}},null,206,"- - -","- - -"]
[null,207,-1,{"$f":"LOOKUP(C320,MassDataLink!$A$4:$A$4056,MassDataLink!$B$4:$B$4056)","v":{"$error":"#N/A"}},{"$f":"LOOKUP(C320,MassDataLink!$A$4:$A$4056,MassDataLink!$C$4:$C$4056)","v":{"$error":"#N/A"}},{"$f":"LOOKUP(C320,MassDataLink!$A$4:$A$4056,MassDataLink!$D$4:$D$4056)","v":{"$error":"#N/A"}},{"$f":"LOOKUP(C320,MassDataLink!$A$4:$A$4056,MassDataLink!$E$4:$E$4056)","v":{"$error":"#N/A"}},{"$f":"LOOKUP(C320,MassDataLink!$A$4:$A$4056,MassDataLink!$F$4:$F$4056)","v":{"$error":"#N/A"}},null,207,"- - -","- - -"]
[null,208,-1,{"$f":"LOOKUP(C321,MassDataLink!$A$4:$A$4056,MassDataLink!$B$4:$B$4056)","v":{"$error":"#N/A"}},{"$f":"LOOKUP(C321,MassDataLink!$A$4:$A$4056,MassDataLink!$C$4:$C$4056)","v":{"$error":"#N/A"}},{"$f":"LOOKUP(C321,MassDataLink!$A$4:$A$4056,MassDataLink!$D$4:$D$4056)","v":{"$error":"#N/A"}},{"$f":"LOOKUP(C321,MassDataLink!$A$4:$A$4056,MassDataLink!$E$4:$E$4056)","v":{"$error":"#N/A"}},{"$f":"LOOKUP(C321,MassDataLink!$A$4:$A$4056,MassDataLink!$F$4:$F$4056)","v":{"$error":"#N/A"}},null,208,"- - -","- - -"]
[null,209,-1,{"$f":"LOOKUP(C322,MassDataLink!$A$4:$A$4056,MassDataLink!$B$4:$B$4056)","v":{"$error":"#N/A"}},{"$f":"LOOKUP(C322,MassDataLink!$A$4:$A$4056,MassDataLink!$C$4:$C$4056)","v":{"$error":"#N/A"}},{"$f":"LOOKUP(C322,MassDataLink!$A$4:$A$4056,MassDataLink!$D$4:$D$4056)","v":{"$error":"#N/A"}},{"$f":"LOOKUP(C322,MassDataLink!$A$4:$A$4056,MassDataLink!$E$4:$E$4056)","v":{"$error":"#N/A"}},{"$f":"LOOKUP(C322,MassDataLink!$A$4:$A$4056,MassDataLink!$F$4:$F$4056)","v":{"$error":"#N/A"}},null,209,"- - -","- - -"]
[null,210,-1,{"$f":"LOOKUP(C323,MassDataLink!$A$4:$A$4056,MassDataLink!$B$4:$B$4056)","v":{"$error":"#N/A"}},{"$f":"LOOKUP(C323,MassDataLink!$A$4:$A$4056,MassDataLink!$C$4:$C$4056)","v":{"$error":"#N/A"}},{"$f":"LOOKUP(C323,MassDataLink!$A$4:$A$4056,MassDataLink!$D$4:$D$4056)","v":{"$error":"#N/A"}},{"$f":"LOOKUP(C323,MassDataLink!$A$4:$A$4056,MassDataLink!$E$4:$E$4056)","v":{"$error":"#N/A"}},{"$f":"LOOKUP(C323,MassDataLink!$A$4:$A$4056,MassDataLink!$F$4:$F$4056)","v":{"$error":"#N/A"}},null,210,"- - -","- - -"]
[null,211,-1,{"$f":"LOOKUP(C324,MassDataLink!$A$4:$A$4056,MassDataLink!$B$4:$B$4056)","v":{"$error":"#N/A"}},{"$f":"LOOKUP(C324,MassDataLink!$A$4:$A$4056,MassDataLink!$C$4:$C$4056)","v":{"$error":"#N/A"}},{"$f":"LOOKUP(C324,MassDataLink!$A$4:$A$4056,MassDataLink!$D$4:$D$4056)","v":{"$error":"#N/A"}},{"$f":"LOOKUP(C324,MassDataLink!$A$4:$A$4056,MassDataLink!$E$4:$E$4056)","v":{"$error":"#N/A"}},{"$f":"LOOKUP(C324,MassDataLink!$A$4:$A$4056,MassDataLink!$F$4:$F$4056)","v":{"$error":"#N/A"}},null,211,"- - -","- - -"]
[null,212,-1,{"$f":"LOOKUP(C325,MassDataLink!$A$4:$A$4056,MassDataLink!$B$4:$B$4056)","v":{"$error":"#N/A"}},{"$f":"LOOKUP(C325,MassDataLink!$A$4:$A$4056,MassDataLink!$C$4:$C$4056)","v":{"$error":"#N/A"}},{"$f":"LOOKUP(C325,MassDataLink!$A$4:$A$4056,MassDataLink!$D$4:$D$4056)","v":{"$error":"#N/A"}},{"$f":"LOOKUP(C325,MassDataLink!$A$4:$A$4056,MassDataLink!$E$4:$E$4056)","v":{"$error":"#N/A"}},{"$f":"LOOKUP(C325,MassDataLink!$A$4:$A$4056,MassDataLink!$F$4:$F$4056)","v":{"$error":"#N/A"}},null,212,"- - -","- - -"]
[null,213,-1,{"$f":"LOOKUP(C326,MassDataLink!$A$4:$A$4056,MassDataLink!$B$4:$B$4056)","v":{"$error":"#N/A"}},{"$f":"LOOKUP(C326,MassDataLink!$A$4:$A$4056,MassDataLink!$C$4:$C$4056)","v":{"$error":"#N/A"}},{"$f":"LOOKUP(C326,MassDataLink!$A$4:$A$4056,MassDataLink!$D$4:$D$4056)","v":{"$error":"#N/A"}},{"$f":"LOOKUP(C326,MassDataLink!$A$4:$A$4056,MassDataLink!$E$4:$E$4056)","v":{"$error":"#N/A"}},{"$f":"LOOKUP(C326,MassDataLink!$A$4:$A$4056,MassDataLink!$F$4:$F$4056)","v":{"$error":"#N/A"}},null,213,"- - -","- - -"]
[null,214,-1,{"$f":"LOOKUP(C327,MassDataLink!$A$4:$A$4056,MassDataLink!$B$4:$B$4056)","v":{"$error":"#N/A"}},{"$f":"LOOKUP(C327,MassDataLink!$A$4:$A$4056,MassDataLink!$C$4:$C$4056)","v":{"$error":"#N/A"}},{"$f":"LOOKUP(C327,MassDataLink!$A$4:$A$4056,MassDataLink!$D$4:$D$4056)","v":{"$error":"#N/A"}},{"$f":"LOOKUP(C327,MassDataLink!$A$4:$A$4056,MassDataLink!$E$4:$E$4056)","v":{"$error":"#N/A"}},{"$f":"LOOKUP(C327,MassDataLink!$A$4:$A$4056,MassDataLink!$F$4:$F$4056)","v":{"$error":"#N/A"}},null,214,"- - -","- - -"]
[null,215,-1,{"$f":"LOOKUP(C328,MassDataLink!$A$4:$A$4056,MassDataLink!$B$4:$B$4056)","v":{"$error":"#N/A"}},{"$f":"LOOKUP(C328,MassDataLink!$A$4:$A$4056,MassDataLink!$C$4:$C$4056)","v":{"$error":"#N/A"}},{"$f":"LOOKUP(C328,MassDataLink!$A$4:$A$4056,MassDataLink!$D$4:$D$4056)","v":{"$error":"#N/A"}},{"$f":"LOOKUP(C328,MassDataLink!$A$4:$A$4056,MassDataLink!$E$4:$E$4056)","v":{"$error":"#N/A"}},{"$f":"LOOKUP(C328,MassDataLink!$A$4:$A$4056,MassDataLink!$F$4:$F$4056)","v":{"$error":"#N/A"}},null,215,"- - -","- - -"]
[null,216,-1,{"$f":"LOOKUP(C329,MassDataLink!$A$4:$A$4056,MassDataLink!$B$4:$B$4056)","v":{"$error":"#N/A"}},{"$f":"LOOKUP(C329,MassDataLink!$A$4:$A$4056,MassDataLink!$C$4:$C$4056)","v":{"$error":"#N/A"}},{"$f":"LOOKUP(C329,MassDataLink!$A$4:$A$4056,MassDataLink!$D$4:$D$4056)","v":{"$error":"#N/A"}},{"$f":"LOOKUP(C329,MassDataLink!$A$4:$A$4056,MassDataLink!$E$4:$E$4056)","v":{"$error":"#N/A"}},{"$f":"LOOKUP(C329,MassDataLink!$A$4:$A$4056,MassDataLink!$F$4:$F$4056)","v":{"$error":"#N/A"}},null,216,"- - -","- - -"]
[null,217,-1,{"$f":"LOOKUP(C330,MassDataLink!$A$4:$A$4056,MassDataLink!$B$4:$B$4056)","v":{"$error":"#N/A"}},{"$f":"LOOKUP(C330,MassDataLink!$A$4:$A$4056,MassDataLink!$C$4:$C$4056)","v":{"$error":"#N/A"}},{"$f":"LOOKUP(C330,MassDataLink!$A$4:$A$4056,MassDataLink!$D$4:$D$4056)","v":{"$error":"#N/A"}},{"$f":"LOOKUP(C330,MassDataLink!$A$4:$A$4056,MassDataLink!$E$4:$E$4056)","v":{"$error":"#N/A"}},{"$f":"LOOKUP(C330,MassDataLink!$A$4:$A$4056,MassDataLink!$F$4:$F$4056)","v":{"$error":"#N/A"}},null,217,"- - -","- - -"]
[null,218,-1,{"$f":"LOOKUP(C331,MassDataLink!$A$4:$A$4056,MassDataLink!$B$4:$B$4056)","v":{"$error":"#N/A"}},{"$f":"LOOKUP(C331,MassDataLink!$A$4:$A$4056,MassDataLink!$C$4:$C$4056)","v":{"$error":"#N/A"}},{"$f":"LOOKUP(C331,MassDataLink!$A$4:$A$4056,MassDataLink!$D$4:$D$4056)","v":{"$error":"#N/A"}},{"$f":"LOOKUP(C331,MassDataLink!$A$4:$A$4056,MassDataLink!$E$4:$E$4056)","v":{"$error":"#N/A"}},{"$f":"LOOKUP(C331,MassDataLink!$A$4:$A$4056,MassDataLink!$F$4:$F$4056)","v":{"$error":"#N/A"}},null,218,"- - -","- - -"]
[null,219,-1,{"$f":"LOOKUP(C332,MassDataLink!$A$4:$A$4056,MassDataLink!$B$4:$B$4056)","v":{"$error":"#N/A"}},{"$f":"LOOKUP(C332,MassDataLink!$A$4:$A$4056,MassDataLink!$C$4:$C$4056)","v":{"$error":"#N/A"}},{"$f":"LOOKUP(C332,MassDataLink!$A$4:$A$4056,MassDataLink!$D$4:$D$4056)","v":{"$error":"#N/A"}},{"$f":"LOOKUP(C332,MassDataLink!$A$4:$A$4056,MassDataLink!$E$4:$E$4056)","v":{"$error":"#N/A"}},{"$f":"LOOKUP(C332,MassDataLink!$A$4:$A$4056,MassDataLink!$F$4:$F$4056)","v":{"$error":"#N/A"}},null,219,"- - -","- - -"]
[null,220,-1,{"$f":"LOOKUP(C333,MassDataLink!$A$4:$A$4056,MassDataLink!$B$4:$B$4056)","v":{"$error":"#N/A"}},{"$f":"LOOKUP(C333,MassDataLink!$A$4:$A$4056,MassDataLink!$C$4:$C$4056)","v":{"$error":"#N/A"}},{"$f":"LOOKUP(C333,MassDataLink!$A$4:$A$4056,MassDataLink!$D$4:$D$4056)","v":{"$error":"#N/A"}},{"$f":"LOOKUP(C333,MassDataLink!$A$4:$A$4056,MassDataLink!$E$4:$E$4056)","v":{"$error":"#N/A"}},{"$f":"LOOKUP(C333,MassDataLink!$A$4:$A$4056,MassDataLink!$F$4:$F$4056)","v":{"$error":"#N/A"}},null,220,"- - -","- - -"]
[null,221,-1,{"$f":"LOOKUP(C334,MassDataLink!$A$4:$A$4056,MassDataLink!$B$4:$B$4056)","v":{"$error":"#N/A"}},{"$f":"LOOKUP(C334,MassDataLink!$A$4:$A$4056,MassDataLink!$C$4:$C$4056)","v":{"$error":"#N/A"}},{"$f":"LOOKUP(C334,MassDataLink!$A$4:$A$4056,MassDataLink!$D$4:$D$4056)","v":{"$error":"#N/A"}},{"$f":"LOOKUP(C334,MassDataLink!$A$4:$A$4056,MassDataLink!$E$4:$E$4056)","v":{"$error":"#N/A"}},{"$f":"LOOKUP(C334,MassDataLink!$A$4:$A$4056,MassDataLink!$F$4:$F$4056)","v":{"$error":"#N/A"}},null,221,"- - -","- - -"]
[null,222,-1,{"$f":"LOOKUP(C335,MassDataLink!$A$4:$A$4056,MassDataLink!$B$4:$B$4056)","v":{"$error":"#N/A"}},{"$f":"LOOKUP(C335,MassDataLink!$A$4:$A$4056,MassDataLink!$C$4:$C$4056)","v":{"$error":"#N/A"}},{"$f":"LOOKUP(C335,MassDataLink!$A$4:$A$4056,MassDataLink!$D$4:$D$4056)","v":{"$error":"#N/A"}},{"$f":"LOOKUP(C335,MassDataLink!$A$4:$A$4056,MassDataLink!$E$4:$E$4056)","v":{"$error":"#N/A"}},{"$f":"LOOKUP(C335,MassDataLink!$A$4:$A$4056,MassDataLink!$F$4:$F$4056)","v":{"$error":"#N/A"}},null,222,"- - -","- - -"]
[null,223,-1,{"$f":"LOOKUP(C336,MassDataLink!$A$4:$A$4056,MassDataLink!$B$4:$B$4056)","v":{"$error":"#N/A"}},{"$f":"LOOKUP(C336,MassDataLink!$A$4:$A$4056,MassDataLink!$C$4:$C$4056)","v":{"$error":"#N/A"}},{"$f":"LOOKUP(C336,MassDataLink!$A$4:$A$4056,MassDataLink!$D$4:$D$4056)","v":{"$error":"#N/A"}},{"$f":"LOOKUP(C336,MassDataLink!$A$4:$A$4056,MassDataLink!$E$4:$E$4056)","v":{"$error":"#N/A"}},{"$f":"LOOKUP(C336,MassDataLink!$A$4:$A$4056,MassDataLink!$F$4:$F$4056)","v":{"$error":"#N/A"}},null,223,"- - -","- - -"]
[null,224,-1,{"$f":"LOOKUP(C337,MassDataLink!$A$4:$A$4056,MassDataLink!$B$4:$B$4056)","v":{"$error":"#N/A"}},{"$f":"LOOKUP(C337,MassDataLink!$A$4:$A$4056,MassDataLink!$C$4:$C$4056)","v":{"$error":"#N/A"}},{"$f":"LOOKUP(C337,MassDataLink!$A$4:$A$4056,MassDataLink!$D$4:$D$4056)","v":{"$error":"#N/A"}},{"$f":"LOOKUP(C337,MassDataLink!$A$4:$A$4056,MassDataLink!$E$4:$E$4056)","v":{"$error":"#N/A"}},{"$f":"LOOKUP(C337,MassDataLink!$A$4:$A$4056,MassDataLink!$F$4:$F$4056)","v":{"$error":"#N/A"}},null,224,"- - -","- - -"]
[null,225,-1,{"$f":"LOOKUP(C338,MassDataLink!$A$4:$A$4056,MassDataLink!$B$4:$B$4056)","v":{"$error":"#N/A"}},{"$f":"LOOKUP(C338,MassDataLink!$A$4:$A$4056,MassDataLink!$C$4:$C$4056)","v":{"$error":"#N/A"}},{"$f":"LOOKUP(C338,MassDataLink!$A$4:$A$4056,MassDataLink!$D$4:$D$4056)","v":{"$error":"#N/A"}},{"$f":"LOOKUP(C338,MassDataLink!$A$4:$A$4056,MassDataLink!$E$4:$E$4056)","v":{"$error":"#N/A"}},{"$f":"LOOKUP(C338,MassDataLink!$A$4:$A$4056,MassDataLink!$F$4:$F$4056)","v":{"$error":"#N/A"}},null,225,"- - -","- - -"]

{"sheet":"ModelData","index":2,"n_rows":87,"n_cols":30,"rows_kept":87,"cut":false,"hidden":true,"merged":[[1,5,1,7],[1,8,1,10],[1,23,1,25],[1,26,1,28],[1,11,1,13],[1,14,1,16],[1,17,1,19],[1,20,1,22]]}
[null,1,6,7,8,10,11,12,13,14,15,16,17,18,19,20,21,22,23,24,25,26,27,28,29,30,31,32,33]
["データ№","ｱｸﾁｭｴｰﾀ型式","最小ｽﾄﾛｰｸ","最大ｽﾄﾛｰｸ","動作種別","リンク[0]",null,null,"リンク[1]",null,null,"リンク[2]",null,null,"リンク[3]",null,null,"リンク[4]",null,null,"リンク[5]",null,null,"リンク[6]",null,null,"リンク[7]"]
[0,null,"㎜","㎜","1/0:回/直","ﾘｰﾄﾞ","ｽﾄﾛｰｸ","搬送負荷","ﾘｰﾄﾞ","ｽﾄﾛｰｸ","搬送負荷","ﾘｰﾄﾞ","ｽﾄﾛｰｸ","搬送負荷","ﾘｰﾄﾞ","ｽﾄﾛｰｸ","搬送負荷","ﾘｰﾄﾞ","ｽﾄﾛｰｸ","搬送負荷","ﾘｰﾄﾞ","ｽﾄﾛｰｸ","搬送負荷","ﾘｰﾄﾞ","ｽﾄﾛｰｸ","搬送負荷","ﾘｰﾄﾞ","ｽﾄﾛｰｸ","搬送負荷"]
[{"$f":"A3+1","v":1},"ISB-SXM-60",100,900,0,{"$f":"LeadData!A4","v":1},{"$f":"StrokeData!A4","v":1},{"$f":"MassDataLink!A4","v":1},{"$f":"LeadData!A5","v":2},{"$f":"StrokeData!A8","v":5},{"$f":"MassDataLink!A12","v":9},{"$f":"LeadData!A6","v":3},{"$f":"StrokeData!A12","v":9},{"$f":"MassDataLink!A27","v":24},-1,-1,-1,-1,-1,-1,-1,-1,-1,-1,-1,-1,-1,-1,-1]
[2,"ISB-MXM-100",100,1100,0,{"$f":"LeadData!A7","v":4},{"$f":"StrokeData!A19","v":16},{"$f":"MassDataLink!A60","v":57},{"$f":"LeadData!A8","v":5},{"$f":"StrokeData!A24","v":21},{"$f":"MassDataLink!A68","v":65},{"$f":"LeadData!A9","v":6},{"$f":"StrokeData!A29","v":26},{"$f":"MassDataLink!A78","v":75},{"$f":"LeadData!A10","v":7},{"$f":"StrokeData!A34","v":31},{"$f":"MassDataLink!A98","v":95},-1,-1,-1,-1,-1,-1,-1,-1,-1,-1,-1,-1]
[3,"ISB-MXM-200",100,1100,0,{"$f":"LeadData!A11","v":8},{"$f":"StrokeData!A44","v":41},{"$f":"MassDataLink!A118","v":115},{"$f":"LeadData!A12","v":9},{"$f":"StrokeData!A49","v":46},{"$f":"MassDataLink!A126","v":123},{"$f":"LeadData!A13","v":10},{"$f":"StrokeData!A58","v":55},{"$f":"MassDataLink!A136","v":133},{"$f":"LeadData!A14","v":11},{"$f":"StrokeData!A63","v":60},{"$f":"MassDataLink!A156","v":153},-1,-1,-1,-1,-1,-1,-1,-1,-1,-1,-1,-1]
[4,"ISB-LXM-200",100,1300,0,{"$f":"LeadData!A15","v":12},{"$f":"StrokeData!A68","v":65},{"$f":"MassDataLink!A176","v":173},{"$f":"LeadData!A16","v":13},{"$f":"StrokeData!A75","v":72},{"$f":"MassDataLink!A186","v":183},{"$f":"LeadData!A17","v":14},{"$f":"StrokeData!A82","v":79},{"$f":"MassDataLink!A216","v":213},-1,-1,-1,-1,-1,-1,-1,-1,-1,-1,-1,-1,-1,-1,-1]
[5,"ISB-LXM-400",100,1300,0,{"$f":"LeadData!A18","v":15},{"$f":"StrokeData!A92","v":89},{"$f":"MassDataLink!A236","v":233},{"$f":"LeadData!A19","v":16},{"$f":"StrokeData!A99","v":96},{"$f":"MassDataLink!A246","v":243},{"$f":"LeadData!A20","v":17},{"$f":"StrokeData!A107","v":104},{"$f":"MassDataLink!A278","v":275},-1,-1,-1,-1,-1,-1,-1,-1,-1,-1,-1,-1,-1,-1,-1]
[6,"ISB-SXL-60",130,880,0,{"$f":"LeadData!A21","v":18},{"$f":"StrokeData!A117","v":114},{"$f":"MassDataLink!A298","v":295},{"$f":"LeadData!A22","v":19},{"$f":"StrokeData!A121","v":118},{"$f":"MassDataLink!A306","v":303},{"$f":"LeadData!A23","v":20},{"$f":"StrokeData!A125","v":122},{"$f":"MassDataLink!A321","v":318},-1,-1,-1,-1,-1,-1,-1,-1,-1,-1,-1,-1,-1,-1,-1]
[7,"ISB-MXL-100",120,1070,0,{"$f":"LeadData!A24","v":21},{"$f":"StrokeData!A132","v":129},{"$f":"MassDataLink!A354","v":351},{"$f":"LeadData!A25","v":22},{"$f":"StrokeData!A137","v":134},{"$f":"MassDataLink!A362","v":359},{"$f":"LeadData!A26","v":23},{"$f":"StrokeData!A142","v":139},{"$f":"MassDataLink!A372","v":369},{"$f":"LeadData!A27","v":24},{"$f":"StrokeData!A147","v":144},{"$f":"MassDataLink!A392","v":389},-1,-1,-1,-1,-1,-1,-1,-1,-1,-1,-1,-1]
[8,"ISB-MXL-200",120,1070,0,{"$f":"LeadData!A28","v":25},{"$f":"StrokeData!A156","v":153},{"$f":"MassDataLink!A412","v":409},{"$f":"LeadData!A29","v":26},{"$f":"StrokeData!A161","v":158},{"$f":"MassDataLink!A420","v":417},{"$f":"LeadData!A30","v":27},{"$f":"StrokeData!A170","v":167},{"$f":"MassDataLink!A430","v":427},{"$f":"LeadData!A31","v":28},{"$f":"StrokeData!A175","v":172},{"$f":"MassDataLink!A450","v":447},-1,-1,-1,-1,-1,-1,-1,-1,-1,-1,-1,-1]
[9,"ISB-LXL-200",120,1270,0,{"$f":"LeadData!A32","v":29},{"$f":"StrokeData!A180","v":177},{"$f":"MassDataLink!A470","v":467},{"$f":"LeadData!A33","v":30},{"$f":"StrokeData!A187","v":184},{"$f":"MassDataLink!A480","v":477},{"$f":"LeadData!A34","v":31},{"$f":"StrokeData!A194","v":191},{"$f":"MassDataLink!A510","v":507},-1,-1,-1,-1,-1,-1,-1,-1,-1,-1,-1,-1,-1,-1,-1]
[10,"ISB-LXL-400",120,1270,0,{"$f":"LeadData!A35","v":32},{"$f":"StrokeData!A203","v":200},{"$f":"MassDataLink!A530","v":527},{"$f":"LeadData!A36","v":33},{"$f":"StrokeData!A210","v":207},{"$f":"MassDataLink!A540","v":537},{"$f":"LeadData!A37","v":34},{"$f":"StrokeData!A218","v":215},{"$f":"MassDataLink!A572","v":569},-1,-1,-1,-1,-1,-1,-1,-1,-1,-1,-1,-1,-1,-1,-1]
[{"$f":"A13+1","v":11},"ISDB-S-60",100,800,0,{"$f":"LeadData!A38","v":35},{"$f":"StrokeData!A227","v":224},{"$f":"MassDataLink!A592","v":589},{"$f":"LeadData!A39","v":36},{"$f":"StrokeData!A234","v":231},{"$f":"MassDataLink!A600","v":597},{"$f":"LeadData!A40","v":37},{"$f":"StrokeData!A241","v":238},{"$f":"MassDataLink!A615","v":612},-1,-1,-1,-1,-1,-1,-1,-1,-1,-1,-1,-1,-1,-1,-1]
[12,"ISDB-M-100",100,1100,0,{"$f":"LeadData!A41","v":38},{"$f":"StrokeData!A248","v":245},{"$f":"MassDataLink!A646","v":643},{"$f":"LeadData!A42","v":39},{"$f":"StrokeData!A259","v":256},{"$f":"MassDataLink!A654","v":651},{"$f":"LeadData!A43","v":40},{"$f":"StrokeData!A270","v":267},{"$f":"MassDataLink!A664","v":661},{"$f":"LeadData!A44","v":41},{"$f":"StrokeData!A281","v":278},{"$f":"MassDataLink!A682","v":679},-1,-1,-1,-1,-1,-1,-1,-1,-1,-1,-1,-1]
[13,"ISDB-M-200",100,1100,0,{"$f":"LeadData!A45","v":42},{"$f":"StrokeData!A292","v":289},{"$f":"MassDataLink!A700","v":697},{"$f":"LeadData!A46","v":43},{"$f":"StrokeData!A303","v":300},{"$f":"MassDataLink!A708","v":705},{"$f":"LeadData!A47","v":44},{"$f":"StrokeData!A314","v":311},{"$f":"MassDataLink!A718","v":715},{"$f":"LeadData!A48","v":45},{"$f":"StrokeData!A325","v":322},{"$f":"MassDataLink!A736","v":733},-1,-1,-1,-1,-1,-1,-1,-1,-1,-1,-1,-1]
[14,"ISDB-L-200",100,1300,0,{"$f":"LeadData!A49","v":46},{"$f":"StrokeData!A340","v":337},{"$f":"MassDataLink!A754","v":751},{"$f":"LeadData!A50","v":47},{"$f":"StrokeData!A354","v":351},{"$f":"MassDataLink!A764","v":761},{"$f":"LeadData!A51","v":48},{"$f":"StrokeData!A368","v":365},{"$f":"MassDataLink!A794","v":791},-1,-1,-1,-1,-1,-1,-1,-1,-1,-1,-1,-1,-1,-1,-1]
[15,"ISDB-L-400",100,1300,0,{"$f":"LeadData!A52","v":49},{"$f":"StrokeData!A379","v":376},{"$f":"MassDataLink!A812","v":809},{"$f":"LeadData!A53","v":50},{"$f":"StrokeData!A393","v":390},{"$f":"MassDataLink!A822","v":819},{"$f":"LeadData!A54","v":51},{"$f":"StrokeData!A407","v":404},{"$f":"MassDataLink!A852","v":849},-1,-1,-1,-1,-1,-1,-1,-1,-1,-1,-1,-1,-1,-1,-1]
[16,"ISDBCR-S-60",100,800,0,{"$f":"LeadData!A55","v":52},{"$f":"StrokeData!A419","v":416},{"$f":"MassDataLink!A870","v":867},{"$f":"LeadData!A56","v":53},{"$f":"StrokeData!A426","v":423},{"$f":"MassDataLink!A878","v":875},{"$f":"LeadData!A57","v":54},{"$f":"StrokeData!A433","v":430},{"$f":"MassDataLink!A888","v":885},-1,-1,-1,-1,-1,-1,-1,-1,-1,-1,-1,-1,-1,-1,-1]
[17,"ISDBCR-M-100",100,1100,0,{"$f":"LeadData!A58","v":55},{"$f":"StrokeData!A440","v":437},{"$f":"MassDataLink!A903","v":900},{"$f":"LeadData!A59","v":56},{"$f":"StrokeData!A451","v":448},{"$f":"MassDataLink!A911","v":908},{"$f":"LeadData!A60","v":57},{"$f":"StrokeData!A462","v":459},{"$f":"MassDataLink!A921","v":918},{"$f":"LeadData!A61","v":58},{"$f":"StrokeData!A473","v":470},{"$f":"MassDataLink!A931","v":928},-1,-1,-1,-1,-1,-1,-1,-1,-1,-1,-1,-1]
[18,"ISDBCR-M-200",100,1100,0,{"$f":"LeadData!A62","v":59},{"$f":"StrokeData!A484","v":481},{"$f":"MassDataLink!A941","v":938},{"$f":"LeadData!A63","v":60},{"$f":"StrokeData!A495","v":492},{"$f":"MassDataLink!A949","v":946},{"$f":"LeadData!A64","v":61},{"$f":"StrokeData!A506","v":503},{"$f":"MassDataLink!A959","v":956},{"$f":"LeadData!A65","v":62},{"$f":"StrokeData!A517","v":514},{"$f":"MassDataLink!A969","v":966},-1,-1,-1,-1,-1,-1,-1,-1,-1,-1,-1,-1]
[{"$f":"A21+1","v":19},"ISDBCR-L-200",100,1300,0,{"$f":"LeadData!A66","v":63},{"$f":"StrokeData!A531","v":528},{"$f":"MassDataLink!A979","v":976},{"$f":"LeadData!A67","v":64},{"$f":"StrokeData!A545","v":542},{"$f":"MassDataLink!A989","v":986},{"$f":"LeadData!A68","v":65},{"$f":"StrokeData!A559","v":556},{"$f":"MassDataLink!A1006","v":1003},-1,-1,-1,-1,-1,-1,-1,-1,-1,-1,-1,-1,-1,-1,-1]
[20,"ISDBCR-L-400",100,1300,0,{"$f":"LeadData!A69","v":66},{"$f":"StrokeData!A570","v":567},{"$f":"MassDataLink!A1016","v":1013},{"$f":"LeadData!A70","v":67},{"$f":"StrokeData!A584","v":581},{"$f":"MassDataLink!A1026","v":1023},{"$f":"LeadData!A71","v":68},{"$f":"StrokeData!A598","v":595},{"$f":"MassDataLink!A1043","v":1040},-1,-1,-1,-1,-1,-1,-1,-1,-1,-1,-1,-1,-1,-1,-1]
[21,"SSPA-SXM-200",100,1100,0,{"$f":"LeadData!A72","v":69},{"$f":"StrokeData!A610","v":607},{"$f":"MassDataLink!A1053","v":1050},{"$f":"LeadData!A73","v":70},{"$f":"StrokeData!A621","v":618},{"$f":"MassDataLink!A1060","v":1057},{"$f":"LeadData!A74","v":71},{"$f":"StrokeData!A632","v":629},{"$f":"MassDataLink!A1080","v":1077},-1,-1,-1,-1,-1,-1,-1,-1,-1,-1,-1,-1,-1,-1,-1]
[22,"SSPA-MXM-400",100,1300,0,{"$f":"LeadData!A75","v":72},{"$f":"StrokeData!A645","v":642},{"$f":"MassDataLink!A1100","v":1097},{"$f":"LeadData!A76","v":73},{"$f":"StrokeData!A658","v":655},{"$f":"MassDataLink!A1107","v":1104},{"$f":"LeadData!A77","v":74},{"$f":"StrokeData!A672","v":669},{"$f":"MassDataLink!A1127","v":1124},-1,-1,-1,-1,-1,-1,-1,-1,-1,-1,-1,-1,-1,-1,-1]
[23,"SSPA-LXM-750",100,1500,0,{"$f":"LeadData!A78","v":75},{"$f":"StrokeData!A686","v":683},{"$f":"MassDataLink!A1147","v":1144},{"$f":"LeadData!A79","v":76},{"$f":"StrokeData!A694","v":691},{"$f":"MassDataLink!A1167","v":1164},-1,-1,-1,-1,-1,-1,-1,-1,-1,-1,-1,-1,-1,-1,-1,-1,-1,-1]
[24,"SSPDACR-S-200",100,1100,0,{"$f":"LeadData!A80","v":77},{"$f":"StrokeData!A702","v":699},{"$f":"MassDataLink!A1187","v":1184},{"$f":"LeadData!A81","v":78},{"$f":"StrokeData!A714","v":711},{"$f":"MassDataLink!A1194","v":1191},{"$f":"LeadData!A82","v":79},{"$f":"StrokeData!A726","v":723},{"$f":"MassDataLink!A1204","v":1201},-1,-1,-1,-1,-1,-1,-1,-1,-1,-1,-1,-1,-1,-1,-1]
[25,"SSPDACR-M-400",100,1300,0,{"$f":"LeadData!A83","v":80},{"$f":"StrokeData!A739","v":736},{"$f":"MassDataLink!A1216","v":1213},{"$f":"LeadData!A84","v":81},{"$f":"StrokeData!A754","v":751},{"$f":"MassDataLink!A1223","v":1220},{"$f":"LeadData!A85","v":82},{"$f":"StrokeData!A769","v":766},{"$f":"MassDataLink!A1233","v":1230},-1,-1,-1,-1,-1,-1,-1,-1,-1,-1,-1,-1,-1,-1,-1]
[26,"SSPDACR-L-750",100,1500,0,{"$f":"LeadData!A86","v":83},{"$f":"StrokeData!A781","v":778},{"$f":"MassDataLink!A1245","v":1242},{"$f":"LeadData!A87","v":84},{"$f":"StrokeData!A789","v":786},{"$f":"MassDataLink!A1257","v":1254},-1,-1,-1,-1,-1,-1,-1,-1,-1,-1,-1,-1,-1,-1,-1,-1,-1,-1]
[{"$f":"A29+1","v":27},"RCS3-SA8C-100",50,1100,0,{"$f":"LeadData!A88","v":85},{"$f":"StrokeData!A796","v":793},{"$f":"MassDataLink!A1269","v":1266},{"$f":"LeadData!A89","v":86},{"$f":"StrokeData!A806","v":803},{"$f":"MassDataLink!A1274","v":1271},{"$f":"LeadData!A90","v":87},{"$f":"StrokeData!A816","v":813},{"$f":"MassDataLink!A1286","v":1283},{"$f":"LeadData!A91","v":88},{"$f":"StrokeData!A827","v":824},{"$f":"MassDataLink!A1314","v":1311},-1,-1,-1,-1,-1,-1,-1,-1,-1,-1,-1,-1]
[28,"RCS3-SA8C-150",50,1100,0,{"$f":"LeadData!A92","v":89},{"$f":"StrokeData!A838","v":835},{"$f":"MassDataLink!A1347","v":1344},{"$f":"LeadData!A93","v":90},{"$f":"StrokeData!A848","v":845},{"$f":"MassDataLink!A1365","v":1362},{"$f":"LeadData!A94","v":91},{"$f":"StrokeData!A859","v":856},{"$f":"MassDataLink!A1403","v":1400},-1,-1,-1,-1,-1,-1,-1,-1,-1,-1,-1,-1,-1,-1,-1]
[29,"RCS3-SS8C-100",50,1000,0,{"$f":"LeadData!A95","v":92},{"$f":"StrokeData!A870","v":867},{"$f":"MassDataLink!A1441","v":1438},{"$f":"LeadData!A96","v":93},{"$f":"StrokeData!A879","v":876},{"$f":"MassDataLink!A1446","v":1443},{"$f":"LeadData!A97","v":94},{"$f":"StrokeData!A888","v":885},{"$f":"MassDataLink!A1458","v":1455},{"$f":"LeadData!A98","v":95},{"$f":"StrokeData!A898","v":895},{"$f":"MassDataLink!A1486","v":1483},-1,-1,-1,-1,-1,-1,-1,-1,-1,-1,-1,-1]
[30,"RCS3-SS8C-150",50,1000,0,{"$f":"LeadData!A99","v":96},{"$f":"StrokeData!A908","v":905},{"$f":"MassDataLink!A1519","v":1516},{"$f":"LeadData!A100","v":97},{"$f":"StrokeData!A917","v":914},{"$f":"MassDataLink!A1537","v":1534},{"$f":"LeadData!A101","v":98},{"$f":"StrokeData!A929","v":926},{"$f":"MassDataLink!A1575","v":1572},-1,-1,-1,-1,-1,-1,-1,-1,-1,-1,-1,-1,-1,-1,-1]
[31,"RCS3CR-SA8C-100",50,1100,0,{"$f":"LeadData!A102","v":99},{"$f":"StrokeData!A939","v":936},{"$f":"MassDataLink!A1613","v":1610},{"$f":"LeadData!A103","v":100},{"$f":"StrokeData!A949","v":946},{"$f":"MassDataLink!A1618","v":1615},{"$f":"LeadData!A104","v":101},{"$f":"StrokeData!A959","v":956},{"$f":"MassDataLink!A1626","v":1623},{"$f":"LeadData!A105","v":102},{"$f":"StrokeData!A970","v":967},{"$f":"MassDataLink!A1638","v":1635},-1,-1,-1,-1,-1,-1,-1,-1,-1,-1,-1,-1]
[32,"RCS3CR-SA8C-150",50,1100,0,{"$f":"LeadData!A106","v":103},{"$f":"StrokeData!A980","v":977},{"$f":"MassDataLink!A1653","v":1650},{"$f":"LeadData!A107","v":104},{"$f":"StrokeData!A990","v":987},{"$f":"MassDataLink!A1661","v":1658},{"$f":"LeadData!A108","v":105},{"$f":"StrokeData!A1000","v":997},{"$f":"MassDataLink!A1673","v":1670},-1,-1,-1,-1,-1,-1,-1,-1,-1,-1,-1,-1,-1,-1,-1]
[33,"RCS3CR-SS8C-100",50,1000,0,{"$f":"LeadData!A109","v":106},{"$f":"StrokeData!A1011","v":1008},{"$f":"MassDataLink!A1688","v":1685},{"$f":"LeadData!A110","v":107},{"$f":"StrokeData!A1020","v":1017},{"$f":"MassDataLink!A1693","v":1690},{"$f":"LeadData!A111","v":108},{"$f":"StrokeData!A1029","v":1026},{"$f":"MassDataLink!A1701","v":1698},{"$f":"LeadData!A112","v":109},{"$f":"StrokeData!A1038","v":1035},{"$f":"MassDataLink!A1713","v":1710},-1,-1,-1,-1,-1,-1,-1,-1,-1,-1,-1,-1]
[34,"RCS3CR-SS8C-150",50,1000,0,{"$f":"LeadData!A113","v":110},{"$f":"StrokeData!A1047","v":1044},{"$f":"MassDataLink!A1728","v":1725},{"$f":"LeadData!A114","v":111},{"$f":"StrokeData!A1056","v":1053},{"$f":"MassDataLink!A1736","v":1733},{"$f":"LeadData!A115","v":112},{"$f":"StrokeData!A1067","v":1064},{"$f":"MassDataLink!A1748","v":1745},-1,-1,-1,-1,-1,-1,-1,-1,-1,-1,-1,-1,-1,-1,-1]
[35,"RCS3-SA8R-100",50,1100,0,{"$f":"LeadData!A116","v":113},{"$f":"StrokeData!A1076","v":1073},{"$f":"MassDataLink!A1763","v":1760},{"$f":"LeadData!A117","v":114},{"$f":"StrokeData!A1086","v":1083},{"$f":"MassDataLink!A1768","v":1765},{"$f":"LeadData!A118","v":115},{"$f":"StrokeData!A1096","v":1093},{"$f":"MassDataLink!A1780","v":1777},{"$f":"LeadData!A119","v":116},{"$f":"StrokeData!A1107","v":1104},{"$f":"MassDataLink!A1798","v":1795},-1,-1,-1,-1,-1,-1,-1,-1,-1,-1,-1,-1]
[36,"RCS3-SA8R-150",50,1100,0,{"$f":"LeadData!A120","v":117},{"$f":"StrokeData!A1117","v":1114},{"$f":"MassDataLink!A1820","v":1817},{"$f":"LeadData!A121","v":118},{"$f":"StrokeData!A1127","v":1124},{"$f":"MassDataLink!A1832","v":1829},{"$f":"LeadData!A122","v":119},{"$f":"StrokeData!A1137","v":1134},{"$f":"MassDataLink!A1850","v":1847},-1,-1,-1,-1,-1,-1,-1,-1,-1,-1,-1,-1,-1,-1,-1]
[37,"RCS3-SS8R-100",50,1000,0,{"$f":"LeadData!A123","v":120},{"$f":"StrokeData!A1148","v":1145},{"$f":"MassDataLink!A1872","v":1869},{"$f":"LeadData!A124","v":121},{"$f":"StrokeData!A1157","v":1154},{"$f":"MassDataLink!A1877","v":1874},{"$f":"LeadData!A125","v":122},{"$f":"StrokeData!A1166","v":1163},{"$f":"MassDataLink!A1889","v":1886},{"$f":"LeadData!A126","v":123},{"$f":"StrokeData!A1175","v":1172},{"$f":"MassDataLink!A1907","v":1904},-1,-1,-1,-1,-1,-1,-1,-1,-1,-1,-1,-1]
[38,"RCS3-SS8R-150",50,1000,0,{"$f":"LeadData!A127","v":124},{"$f":"StrokeData!A1184","v":1181},{"$f":"MassDataLink!A1929","v":1926},{"$f":"LeadData!A128","v":125},{"$f":"StrokeData!A1193","v":1190},{"$f":"MassDataLink!A1941","v":1938},{"$f":"LeadData!A129","v":126},{"$f":"StrokeData!A1204","v":1201},{"$f":"MassDataLink!A1959","v":1956},-1,-1,-1,-1,-1,-1,-1,-1,-1,-1,-1,-1,-1,-1,-1]
[39,"RCS2-SA4C-20",50,400,0,{"$f":"LeadData!A130","v":127},{"$f":"StrokeData!A1213","v":1210},{"$f":"MassDataLink!A1981","v":1978},{"$f":"LeadData!A131","v":128},{"$f":"StrokeData!A1214","v":1211},{"$f":"MassDataLink!A1988","v":1985},{"$f":"LeadData!A132","v":129},{"$f":"StrokeData!A1215","v":1212},{"$f":"MassDataLink!A2008","v":2005},{"$f":"LeadData!A133","v":130},{"$f":"StrokeData!A1216","v":1213},{"$f":"MassDataLink!A2036","v":2033},-1,-1,-1,-1,-1,-1,-1,-1,-1,-1,-1,-1]
[40,"RCS2-SA5C-20",50,500,0,{"$f":"LeadData!A134","v":131},{"$f":"StrokeData!A1217","v":1214},{"$f":"MassDataLink!A2064","v":2061},{"$f":"LeadData!A135","v":132},{"$f":"StrokeData!A1219","v":1216},{"$f":"MassDataLink!A2069","v":2066},{"$f":"LeadData!A136","v":133},{"$f":"StrokeData!A1221","v":1218},{"$f":"MassDataLink!A2087","v":2084},{"$f":"LeadData!A137","v":134},{"$f":"StrokeData!A1224","v":1221},{"$f":"MassDataLink!A2112","v":2109},-1,-1,-1,-1,-1,-1,-1,-1,-1,-1,-1,-1]
[41,"RCS2-SA6C-30",50,600,0,{"$f":"LeadData!A138","v":135},{"$f":"StrokeData!A1226","v":1223},{"$f":"MassDataLink!A2132","v":2129},{"$f":"LeadData!A139","v":136},{"$f":"StrokeData!A1230","v":1227},{"$f":"MassDataLink!A2138","v":2135},{"$f":"LeadData!A140","v":137},{"$f":"StrokeData!A1234","v":1231},{"$f":"MassDataLink!A2156","v":2153},{"$f":"LeadData!A141","v":138},{"$f":"StrokeData!A1239","v":1236},{"$f":"MassDataLink!A2186","v":2183},-1,-1,-1,-1,-1,-1,-1,-1,-1,-1,-1,-1]
[42,"RCS2-SA7C-60",50,800,0,{"$f":"LeadData!A142","v":139},{"$f":"StrokeData!A1245","v":1242},{"$f":"MassDataLink!A2205","v":2202},{"$f":"LeadData!A143","v":140},{"$f":"StrokeData!A1248","v":1245},{"$f":"MassDataLink!A2212","v":2209},{"$f":"LeadData!A144","v":141},{"$f":"StrokeData!A1251","v":1248},{"$f":"MassDataLink!A2240","v":2237},{"$f":"LeadData!A145","v":142},{"$f":"StrokeData!A1255","v":1252},{"$f":"MassDataLink!A2273","v":2270},-1,-1,-1,-1,-1,-1,-1,-1,-1,-1,-1,-1]
[{"$f":"A45+1","v":43},"RCS2-SS7C-60",50,600,0,{"$f":"LeadData!A146","v":143},{"$f":"StrokeData!A1262","v":1259},{"$f":"MassDataLink!A2306","v":2303},{"$f":"LeadData!A147","v":144},{"$f":"StrokeData!A1264","v":1261},{"$f":"MassDataLink!A2316","v":2313},{"$f":"LeadData!A148","v":145},{"$f":"StrokeData!A1267","v":1264},{"$f":"MassDataLink!A2349","v":2346},-1,-1,-1,-1,-1,-1,-1,-1,-1,-1,-1,-1,-1,-1,-1]
[44,"RCS2CR-SA4C-20",50,400,0,{"$f":"LeadData!A149","v":146},{"$f":"StrokeData!A1272","v":1269},{"$f":"MassDataLink!A2382","v":2379},{"$f":"LeadData!A150","v":147},{"$f":"StrokeData!A1273","v":1270},{"$f":"MassDataLink!A2385","v":2382},{"$f":"LeadData!A151","v":148},{"$f":"StrokeData!A1274","v":1271},{"$f":"MassDataLink!A2389","v":2386},{"$f":"LeadData!A152","v":149},{"$f":"StrokeData!A1275","v":1272},{"$f":"MassDataLink!A2393","v":2390},-1,-1,-1,-1,-1,-1,-1,-1,-1,-1,-1,-1]
[45,"RCS2CR-SA5C-20",50,500,0,{"$f":"LeadData!A153","v":150},{"$f":"StrokeData!A1276","v":1273},{"$f":"MassDataLink!A2397","v":2394},{"$f":"LeadData!A154","v":151},{"$f":"StrokeData!A1278","v":1275},{"$f":"MassDataLink!A2400","v":2397},{"$f":"LeadData!A155","v":152},{"$f":"StrokeData!A1280","v":1277},{"$f":"MassDataLink!A2404","v":2401},{"$f":"LeadData!A156","v":153},{"$f":"StrokeData!A1282","v":1279},{"$f":"MassDataLink!A2408","v":2405},-1,-1,-1,-1,-1,-1,-1,-1,-1,-1,-1,-1]
[46,"RCS2CR-SA6C-30",50,600,0,{"$f":"LeadData!A157","v":154},{"$f":"StrokeData!A1283","v":1280},{"$f":"MassDataLink!A2412","v":2409},{"$f":"LeadData!A158","v":155},{"$f":"StrokeData!A1287","v":1284},{"$f":"MassDataLink!A2415","v":2412},{"$f":"LeadData!A159","v":156},{"$f":"StrokeData!A1291","v":1288},{"$f":"MassDataLink!A2419","v":2416},{"$f":"LeadData!A160","v":157},{"$f":"StrokeData!A1295","v":1292},{"$f":"MassDataLink!A2423","v":2420},-1,-1,-1,-1,-1,-1,-1,-1,-1,-1,-1,-1]
[47,"RCS2CR-SA7C-60",50,800,0,{"$f":"LeadData!A161","v":158},{"$f":"StrokeData!A1300","v":1297},{"$f":"MassDataLink!A2427","v":2424},{"$f":"LeadData!A162","v":159},{"$f":"StrokeData!A1303","v":1300},{"$f":"MassDataLink!A2430","v":2427},{"$f":"LeadData!A163","v":160},{"$f":"StrokeData!A1306","v":1303},{"$f":"MassDataLink!A2434","v":2431},{"$f":"LeadData!A164","v":161},{"$f":"StrokeData!A1309","v":1306},{"$f":"MassDataLink!A2438","v":2435},-1,-1,-1,-1,-1,-1,-1,-1,-1,-1,-1,-1]
[48,"RCS2CR-SS7C-60",50,600,0,{"$f":"LeadData!A165","v":162},{"$f":"StrokeData!A1315","v":1312},{"$f":"MassDataLink!A2442","v":2439},{"$f":"LeadData!A166","v":163},{"$f":"StrokeData!A1317","v":1314},{"$f":"MassDataLink!A2446","v":2443},{"$f":"LeadData!A167","v":164},{"$f":"StrokeData!A1319","v":1316},{"$f":"MassDataLink!A2450","v":2447},-1,-1,-1,-1,-1,-1,-1,-1,-1,-1,-1,-1,-1,-1,-1]
[49,"RCS2-SA4D-20",50,300,0,{"$f":"LeadData!A168","v":165},{"$f":"StrokeData!A1323","v":1320},{"$f":"MassDataLink!A2454","v":2451},{"$f":"LeadData!A169","v":166},{"$f":"StrokeData!A1324","v":1321},{"$f":"MassDataLink!A2456","v":2453},{"$f":"LeadData!A170","v":167},{"$f":"StrokeData!A1325","v":1322},{"$f":"MassDataLink!A2458","v":2455},-1,-1,-1,-1,-1,-1,-1,-1,-1,-1,-1,-1,-1,-1,-1]
[{"$f":"A52+1","v":50},"RCS2-SA5D-20",50,500,0,{"$f":"LeadData!A171","v":168},{"$f":"StrokeData!A1326","v":1323},{"$f":"MassDataLink!A2460","v":2457},{"$f":"LeadData!A172","v":169},{"$f":"StrokeData!A1328","v":1325},{"$f":"MassDataLink!A2462","v":2459},{"$f":"LeadData!A173","v":170},{"$f":"StrokeData!A1330","v":1327},{"$f":"MassDataLink!A2464","v":2461},-1,-1,-1,-1,-1,-1,-1,-1,-1,-1,-1,-1,-1,-1,-1]
[51,"RCS2-SA6D-30",50,600,0,{"$f":"LeadData!A174","v":171},{"$f":"StrokeData!A1332","v":1329},{"$f":"MassDataLink!A2466","v":2463},{"$f":"LeadData!A175","v":172},{"$f":"StrokeData!A1336","v":1333},{"$f":"MassDataLink!A2468","v":2465},{"$f":"LeadData!A176","v":173},{"$f":"StrokeData!A1340","v":1337},{"$f":"MassDataLink!A2470","v":2467},-1,-1,-1,-1,-1,-1,-1,-1,-1,-1,-1,-1,-1,-1,-1]
[52,"RCS2CR-SA5D-20",50,500,0,{"$f":"LeadData!A177","v":174},{"$f":"StrokeData!A1346","v":1343},{"$f":"MassDataLink!A2472","v":2469},{"$f":"LeadData!A178","v":175},{"$f":"StrokeData!A1348","v":1345},{"$f":"MassDataLink!A2474","v":2471},{"$f":"LeadData!A179","v":176},{"$f":"StrokeData!A1350","v":1347},{"$f":"MassDataLink!A2476","v":2473},-1,-1,-1,-1,-1,-1,-1,-1,-1,-1,-1,-1,-1,-1,-1]
[53,"RCS2CR-SA6D-30",50,600,0,{"$f":"LeadData!A180","v":177},{"$f":"StrokeData!A1352","v":1349},{"$f":"MassDataLink!A2478","v":2475},{"$f":"LeadData!A181","v":178},{"$f":"StrokeData!A1356","v":1353},{"$f":"MassDataLink!A2480","v":2477},{"$f":"LeadData!A182","v":179},{"$f":"StrokeData!A1360","v":1357},{"$f":"MassDataLink!A2482","v":2479},-1,-1,-1,-1,-1,-1,-1,-1,-1,-1,-1,-1,-1,-1,-1]
[54,"RCS2-SA4R-20",50,400,0,{"$f":"LeadData!A183","v":180},{"$f":"StrokeData!A1366","v":1363},{"$f":"MassDataLink!A2484","v":2481},{"$f":"LeadData!A184","v":181},{"$f":"StrokeData!A1367","v":1364},{"$f":"MassDataLink!A2490","v":2487},{"$f":"LeadData!A185","v":182},{"$f":"StrokeData!A1368","v":1365},{"$f":"MassDataLink!A2500","v":2497},-1,-1,-1,-1,-1,-1,-1,-1,-1,-1,-1,-1,-1,-1,-1]
[55,"RCS2-SA5R-20",50,500,0,{"$f":"LeadData!A186","v":183},{"$f":"StrokeData!A1369","v":1366},{"$f":"MassDataLink!A2514","v":2511},{"$f":"LeadData!A187","v":184},{"$f":"StrokeData!A1371","v":1368},{"$f":"MassDataLink!A2519","v":2516},{"$f":"LeadData!A188","v":185},{"$f":"StrokeData!A1373","v":1370},{"$f":"MassDataLink!A2529","v":2526},-1,-1,-1,-1,-1,-1,-1,-1,-1,-1,-1,-1,-1,-1,-1]
[56,"RCS2-SA6R-30",50,600,0,{"$f":"LeadData!A189","v":186},{"$f":"StrokeData!A1375","v":1372},{"$f":"MassDataLink!A2543","v":2540},{"$f":"LeadData!A190","v":187},{"$f":"StrokeData!A1379","v":1376},{"$f":"MassDataLink!A2548","v":2545},{"$f":"LeadData!A191","v":188},{"$f":"StrokeData!A1383","v":1380},{"$f":"MassDataLink!A2558","v":2555},-1,-1,-1,-1,-1,-1,-1,-1,-1,-1,-1,-1,-1,-1,-1]
[57,"RCS2-SA7R-60",50,800,0,{"$f":"LeadData!A192","v":189},{"$f":"StrokeData!A1389","v":1386},{"$f":"MassDataLink!A2572","v":2569},{"$f":"LeadData!A193","v":190},{"$f":"StrokeData!A1392","v":1389},{"$f":"MassDataLink!A2578","v":2575},{"$f":"LeadData!A194","v":191},{"$f":"StrokeData!A1395","v":1392},{"$f":"MassDataLink!A2588","v":2585},-1,-1,-1,-1,-1,-1,-1,-1,-1,-1,-1,-1,-1,-1,-1]
[58,"RCS2-SS7R-60",50,600,0,{"$f":"LeadData!A195","v":192},{"$f":"StrokeData!A1398","v":1395},{"$f":"MassDataLink!A2602","v":2599},{"$f":"LeadData!A196","v":193},{"$f":"StrokeData!A1400","v":1397},{"$f":"MassDataLink!A2610","v":2607},-1,-1,-1,-1,-1,-1,-1,-1,-1,-1,-1,-1,-1,-1,-1,-1,-1,-1]
[59,"RCS2-RA4C-20",50,300,0,{"$f":"LeadData!A197","v":194},{"$f":"StrokeData!A1402","v":1399},{"$f":"MassDataLink!A2624","v":2621},{"$f":"LeadData!A198","v":195},{"$f":"StrokeData!A1403","v":1400},{"$f":"MassDataLink!A2629","v":2626},{"$f":"LeadData!A199","v":196},{"$f":"StrokeData!A1404","v":1401},{"$f":"MassDataLink!A2644","v":2641},-1,-1,-1,-1,-1,-1,-1,-1,-1,-1,-1,-1,-1,-1,-1]
[60,"RCS2-RA4C-30",50,300,0,{"$f":"LeadData!A200","v":197},{"$f":"StrokeData!A1405","v":1402},{"$f":"MassDataLink!A2660","v":2657},{"$f":"LeadData!A201","v":198},{"$f":"StrokeData!A1406","v":1403},{"$f":"MassDataLink!A2665","v":2662},{"$f":"LeadData!A202","v":199},{"$f":"StrokeData!A1407","v":1404},{"$f":"MassDataLink!A2683","v":2680},-1,-1,-1,-1,-1,-1,-1,-1,-1,-1,-1,-1,-1,-1,-1]
[61,"RCS2-RA5C-60",50,300,0,{"$f":"LeadData!A203","v":200},{"$f":"StrokeData!A1408","v":1405},{"$f":"MassDataLink!A2706","v":2703},{"$f":"LeadData!A204","v":201},{"$f":"StrokeData!A1410","v":1407},{"$f":"MassDataLink!A2715","v":2712},{"$f":"LeadData!A205","v":202},{"$f":"StrokeData!A1412","v":1409},{"$f":"MassDataLink!A2735","v":2732},-1,-1,-1,-1,-1,-1,-1,-1,-1,-1,-1,-1,-1,-1,-1]
[62,"RCS2-RA5C-100",50,300,0,{"$f":"LeadData!A206","v":203},{"$f":"StrokeData!A1414","v":1411},{"$f":"MassDataLink!A2758","v":2755},{"$f":"LeadData!A207","v":204},{"$f":"StrokeData!A1416","v":1413},{"$f":"MassDataLink!A2767","v":2764},{"$f":"LeadData!A208","v":205},{"$f":"StrokeData!A1420","v":1417},{"$f":"MassDataLink!A2787","v":2784},-1,-1,-1,-1,-1,-1,-1,-1,-1,-1,-1,-1,-1,-1,-1]
[{"$f":"A65+1","v":63},"ISB-SXM-100",100,1100,0,{"$f":"LeadData!A209","v":206},{"$f":"StrokeData!A1422","v":1419},{"$f":"MassDataLink!A2812","v":2809},-1,-1,-1,-1,-1,-1,-1,-1,-1,-1,-1,-1,-1,-1,-1,-1,-1,-1,-1,-1,-1]
[64,"ISB-MXM-400",100,1300,0,{"$f":"LeadData!A210","v":207},{"$f":"StrokeData!A1434","v":1431},{"$f":"MassDataLink!A2840","v":2837},-1,-1,-1,-1,-1,-1,-1,-1,-1,-1,-1,-1,-1,-1,-1,-1,-1,-1,-1,-1,-1]
[65,"ISB-SXL-100",130,1080,0,{"$f":"LeadData!A211","v":208},{"$f":"StrokeData!A1447","v":1444},{"$f":"MassDataLink!A2868","v":2865},-1,-1,-1,-1,-1,-1,-1,-1,-1,-1,-1,-1,-1,-1,-1,-1,-1,-1,-1,-1,-1]
[66,"ISB-MXL-400",120,1270,0,{"$f":"LeadData!A212","v":209},{"$f":"StrokeData!A1459","v":1456},{"$f":"MassDataLink!A2896","v":2893},-1,-1,-1,-1,-1,-1,-1,-1,-1,-1,-1,-1,-1,-1,-1,-1,-1,-1,-1,-1,-1]
[67,"ISDB-S-100",100,800,0,{"$f":"LeadData!A213","v":210},{"$f":"StrokeData!A1472","v":1469},{"$f":"MassDataLink!A2924","v":2921},-1,-1,-1,-1,-1,-1,-1,-1,-1,-1,-1,-1,-1,-1,-1,-1,-1,-1,-1,-1,-1]
[68,"ISDB-M-400",100,1100,0,{"$f":"LeadData!A214","v":211},{"$f":"StrokeData!A1478","v":1475},{"$f":"MassDataLink!A2952","v":2949},-1,-1,-1,-1,-1,-1,-1,-1,-1,-1,-1,-1,-1,-1,-1,-1,-1,-1,-1,-1,-1]
[69,"RCS4-SA4C-60",50,500,0,212,1484,2977,213,1486,2985,214,1488,3009,215,1490,3030,-1,-1,-1,-1,-1,-1,-1,-1,-1,-1,-1,-1,"↓Ver.3.5 追加"]
[70,"RCS4-SA4R-60",50,500,0,216,1492,3048,217,1494,3056,218,1496,3081,219,1498,3102,-1,-1,-1,-1,-1,-1,-1,-1,-1,-1,-1,-1]
[71,"RCS4-SA6C-100",50,800,0,220,1500,3120,221,1507,3132,222,1514,3155,223,1521,3177,224,1528,3193,-1,-1,-1,-1,-1,-1,-1,-1,-1]
[72,"RCS4-SA6R-100",50,800,0,225,1535,3206,226,1542,3218,227,1549,3241,228,1556,3262,229,1563,3278,-1,-1,-1,-1,-1,-1,-1,-1,-1]
[73,"RCS4-SA7C-200",50,800,0,230,1570,3291,231,1577,3301,232,1584,3322,233,1591,3339,234,1598,3352,-1,-1,-1,-1,-1,-1,-1,-1,-1]
[74,"RCS4-SA7R-200",50,800,0,235,1604,3364,236,1611,3374,237,1618,3395,238,1625,3412,239,1632,3424,-1,-1,-1,-1,-1,-1,-1,-1,-1]
[75,"RCS4-SA8C-400",50,1100,0,240,1638,3436,241,1649,3446,242,1660,3471,243,1671,3495,244,1682,3517,-1,-1,-1,-1,-1,-1,-1,-1,-1]
[76,"RCS4-SA8R-400",50,1100,0,245,1692,3528,246,1703,3538,247,1714,3563,248,1725,3585,249,1736,3608,-1,-1,-1,-1,-1,-1,-1,-1,-1]
[77,"RCS4-WSA10C-60",50,500,0,250,1746,3619,251,1750,3630,252,1754,3644,253,1758,3657,-1,-1,-1,-1,-1,-1,-1,-1,-1,-1,-1,-1]
[78,"RCS4-WSA10R-60",50,500,0,254,1762,3666,255,1766,3677,256,1770,3691,257,1774,3703,-1,-1,-1,-1,-1,-1,-1,-1,-1,-1,-1,-1]
[79,"RCS4-WSA12C-100",50,800,0,258,1778,3712,259,1786,3720,260,1794,3738,261,1802,3752,262,1810,3763,-1,-1,-1,-1,-1,-1,-1,-1,-1]
[80,"RCS4-WSA12R-100",50,800,0,263,1818,3769,264,1826,3777,265,1834,3795,266,1842,3809,267,1850,3820,-1,-1,-1,-1,-1,-1,-1,-1,-1]
[81,"RCS4-WSA14C-200",50,800,0,268,1858,3826,269,1866,3834,270,1874,3848,271,1882,3861,272,1890,3870,-1,-1,-1,-1,-1,-1,-1,-1,-1]
[82,"RCS4-WSA14R-200",50,800,0,273,1898,3878,274,1906,3886,275,1914,3900,276,1922,3912,277,1930,3920,-1,-1,-1,-1,-1,-1,-1,-1,-1]
[83,"RCS4-WSA16C-400",50,1100,0,278,1938,3928,279,1950,3937,280,1962,3955,281,1974,3975,-1,-1,-1,-1,-1,-1,-1,-1,-1,-1,-1,-1]
[84,"RCS4-WSA16R-400",50,1100,0,282,1986,3992,283,1998,4001,284,2010,4019,285,2022,4037,-1,-1,-1,-1,-1,-1,-1,-1,-1,-1,-1,-1,"↑Ver.3.5 追加"]

{"sheet":"LeadData","index":3,"n_rows":288,"n_cols":11,"rows_kept":288,"cut":false,"hidden":true,"merged":[[179,9,181,9],[167,9,169,9],[71,9,73,9],[74,9,76,9],[79,9,81,9],[82,9,84,9],[77,9,78,9],[170,9,172,9],[164,9,166,9],[133,9,136,9],[137,9,140,9],[126,9,128,9],[23,9,26,9],[202,9,204,9],[205,9,207,9],[101,9,104,9],[105,9,107,9],[129,9,132,9],[141,9,144,9],[115,9,118,9],[119,9,121,9],[122,9,125,9],[196,9,198,9],[199,9,201,9],[87,9,90,9],[91,9,93,9],[94,9,97,9],[98,9,100,9],[3,9,5,9],[6,9,9,9],[10,9,13,9],[20,9,22,9],[14,9,16,9],[17,9,19,9],[27,9,30,9],[31,9,33,9],[34,9,36,9],[176,9,178,9],[37,9,39,9],[40,9,43,9],[44,9,47,9],[85,9,86,9],[156,9,159,9],[160,9,163,9],[65,9,67,9],[68,9,70,9],[173,9,175,9],[145,9,147,9],[148,9,151,9],[152,9,155,9],[194,9,195,9],[182,9,184,9],[185,9,187,9],[188,9,190,9],[191,9,193,9],[48,9,50,9],[51,9,53,9],[54,9,56,9],[108,9,111,9],[112,9,114,9],[57,9,60,9],[61,9,64,9]]}
[9.8066499999999994,1,3,4,5,6,10,11,14]
["データ№","ﾘｰﾄﾞ長","水平定格加速度","垂直定格加速度","水平最大加速度","垂直最大加速度","ｷﾞｱ比分子","ｷﾞｱ比分母","ｽﾄﾛｰｸ刻み","備考"]
[{"$f":"ModelData!A3","v":0},"0.001㎜","0.001mm/s^2","0.001mm/s^2","0.001mm/s^2","0.001mm/s^2",null,null,"mm"]
[{"$f":"A3+1","v":1},4000,{"$f":"0.2*$A$1*1000*1000","v":1961330},{"$f":"0.2*$A$1*1000*1000","v":1961330},{"$f":"0.5*$A$1*1000*1000","v":4903325},{"$f":"0.4*$A$1*1000*1000","v":3922660},1,1,50,"ISB-SXM-60"]
[2,8000,{"$f":"0.4*$A$1*1000*1000","v":3922660},{"$f":"0.4*$A$1*1000*1000","v":3922660},{"$f":"1*$A$1*1000*1000","v":9806650},{"$f":"0.8*$A$1*1000*1000","v":7845320},1,1,50]
[3,16000,{"$f":"0.4*$A$1*1000*1000","v":3922660},{"$f":"0.4*$A$1*1000*1000","v":3922660},{"$f":"2*$A$1*1000*1000","v":19613300},{"$f":"1.6*$A$1*1000*1000","v":15690640},1,1,50]
[4,5000,{"$f":"0.2*$A$1*1000*1000","v":1961330},{"$f":"0.2*$A$1*1000*1000","v":1961330},{"$f":"0.5*$A$1*1000*1000","v":4903325},{"$f":"0.4*$A$1*1000*1000","v":3922660},1,1,50,"ISB-MXM-100"]
[5,10000,{"$f":"0.4*$A$1*1000*1000","v":3922660},3922660,{"$f":"0.7*$A$1*1000*1000","v":6864654.9999999991},{"$f":"0.6*$A$1*1000*1000","v":5883990},1,1,50]
[6,20000,3922660,-1,{"$f":"2*$A$1*1000*1000","v":19613300},-1,1,1,50]
[7,30000,3922660,-1,{"$f":"2*$A$1*1000*1000","v":19613300},-1,1,1,50]
[8,5000,{"$f":"0.2*$A$1*1000*1000","v":1961330},{"$f":"0.2*$A$1*1000*1000","v":1961330},{"$f":"0.5*$A$1*1000*1000","v":4903325},{"$f":"0.4*$A$1*1000*1000","v":3922660},1,1,50,"ISB-MXM-200"]
[9,10000,{"$f":"0.4*$A$1*1000*1000","v":3922660},{"$f":"0.4*$A$1*1000*1000","v":3922660},{"$f":"0.7*$A$1*1000*1000","v":6864654.9999999991},{"$f":"0.6*$A$1*1000*1000","v":5883990},1,1,50]
[10,20000,{"$f":"0.4*$A$1*1000*1000","v":3922660},-1,{"$f":"2*$A$1*1000*1000","v":19613300},-1,1,1,50]
[11,30000,3922660,-1,{"$f":"2*$A$1*1000*1000","v":19613300},-1,1,1,50]
[12,10000,3922660,3922660,{"$f":"0.7*$A$1*1000*1000","v":6864654.9999999991},{"$f":"0.6*$A$1*1000*1000","v":5883990},1,1,50,"ISB-LXM-200"]
[13,20000,3922660,3922660,{"$f":"1.8*$A$1*1000*1000","v":17651969.999999996},{"$f":"1.5*$A$1*1000*1000","v":14709975},1,1,50]
[14,40000,3922660,-1,{"$f":"2*$A$1*1000*1000","v":19613300},-1,1,1,50]
[15,10000,3922660,3922660,{"$f":"0.7*$A$1*1000*1000","v":6864654.9999999991},{"$f":"0.6*$A$1*1000*1000","v":5883990},1,1,50,"ISB-LXM-400"]
[16,20000,3922660,3922660,{"$f":"2*$A$1*1000*1000","v":19613300},{"$f":"1.5*$A$1*1000*1000","v":14709975},1,1,50]
[17,40000,3922660,-1,{"$f":"2*$A$1*1000*1000","v":19613300},-1,1,1,50]
[18,4000,{"$f":"0.2*$A$1*1000*1000","v":1961330},{"$f":"0.2*$A$1*1000*1000","v":1961330},{"$f":"0.5*$A$1*1000*1000","v":4903325},{"$f":"0.4*$A$1*1000*1000","v":3922660},1,1,50,"ISB-SXL-60"]
[19,8000,{"$f":"0.4*$A$1*1000*1000","v":3922660},{"$f":"0.4*$A$1*1000*1000","v":3922660},{"$f":"1*$A$1*1000*1000","v":9806650},{"$f":"0.8*$A$1*1000*1000","v":7845320},1,1,50]
[20,16000,{"$f":"0.4*$A$1*1000*1000","v":3922660},{"$f":"0.4*$A$1*1000*1000","v":3922660},{"$f":"2*$A$1*1000*1000","v":19613300},{"$f":"1.6*$A$1*1000*1000","v":15690640},1,1,50]
[21,5000,{"$f":"0.2*$A$1*1000*1000","v":1961330},{"$f":"0.2*$A$1*1000*1000","v":1961330},{"$f":"0.5*$A$1*1000*1000","v":4903325},{"$f":"0.4*$A$1*1000*1000","v":3922660},1,1,50,"ISB-MXL-100"]
[22,10000,{"$f":"0.4*$A$1*1000*1000","v":3922660},3922660,{"$f":"0.7*$A$1*1000*1000","v":6864654.9999999991},{"$f":"0.6*$A$1*1000*1000","v":5883990},1,1,50]
[23,20000,3922660,-1,{"$f":"2*$A$1*1000*1000","v":19613300},-1,1,1,50]
[24,30000,3922660,-1,{"$f":"2*$A$1*1000*1000","v":19613300},-1,1,1,50]
[25,5000,{"$f":"0.2*$A$1*1000*1000","v":1961330},{"$f":"0.2*$A$1*1000*1000","v":1961330},{"$f":"0.5*$A$1*1000*1000","v":4903325},{"$f":"0.4*$A$1*1000*1000","v":3922660},1,1,50,"ISB-MXL-200"]
[26,10000,{"$f":"0.4*$A$1*1000*1000","v":3922660},{"$f":"0.4*$A$1*1000*1000","v":3922660},{"$f":"0.7*$A$1*1000*1000","v":6864654.9999999991},{"$f":"0.6*$A$1*1000*1000","v":5883990},1,1,50]
[27,20000,{"$f":"0.4*$A$1*1000*1000","v":3922660},-1,{"$f":"2*$A$1*1000*1000","v":19613300},-1,1,1,50]
[28,30000,3922660,-1,{"$f":"2*$A$1*1000*1000","v":19613300},-1,1,1,50]
[29,10000,3922660,3922660,{"$f":"0.7*$A$1*1000*1000","v":6864654.9999999991},{"$f":"0.6*$A$1*1000*1000","v":5883990},1,1,50,"ISB-LXL-200"]
[30,20000,3922660,3922660,{"$f":"1.8*$A$1*1000*1000","v":17651969.999999996},{"$f":"1.5*$A$1*1000*1000","v":14709975},1,1,50]
[31,40000,3922660,-1,{"$f":"2*$A$1*1000*1000","v":19613300},-1,1,1,50]
[32,10000,3922660,3922660,{"$f":"0.7*$A$1*1000*1000","v":6864654.9999999991},{"$f":"0.6*$A$1*1000*1000","v":5883990},1,1,50,"ISB-LXL-400"]
[33,20000,3922660,3922660,{"$f":"2*$A$1*1000*1000","v":19613300},{"$f":"1.5*$A$1*1000*1000","v":14709975},1,1,50]
[34,40000,3922660,-1,{"$f":"2*$A$1*1000*1000","v":19613300},-1,1,1,50]
[35,4000,{"$f":"0.2*$A$1*1000*1000","v":1961330},{"$f":"0.2*$A$1*1000*1000","v":1961330},{"$f":"0.5*$A$1*1000*1000","v":4903325},{"$f":"0.4*$A$1*1000*1000","v":3922660},1,1,50,"ISDB-S-60"]
[36,8000,{"$f":"0.4*$A$1*1000*1000","v":3922660},{"$f":"0.4*$A$1*1000*1000","v":3922660},{"$f":"1*$A$1*1000*1000","v":9806650},{"$f":"0.8*$A$1*1000*1000","v":7845320},1,1,50]
[37,16000,{"$f":"0.4*$A$1*1000*1000","v":3922660},{"$f":"0.4*$A$1*1000*1000","v":3922660},{"$f":"1.8*$A$1*1000*1000","v":17651969.999999996},{"$f":"1.6*$A$1*1000*1000","v":15690640},1,1,50]
[38,5000,{"$f":"0.2*$A$1*1000*1000","v":1961330},{"$f":"0.2*$A$1*1000*1000","v":1961330},{"$f":"0.5*$A$1*1000*1000","v":4903325},{"$f":"0.4*$A$1*1000*1000","v":3922660},1,1,50,"ISDB-M-100"]
[39,10000,{"$f":"0.4*$A$1*1000*1000","v":3922660},3922660,{"$f":"0.7*$A$1*1000*1000","v":6864654.9999999991},{"$f":"0.6*$A$1*1000*1000","v":5883990},1,1,50]
[40,20000,3922660,-1,{"$f":"1.8*$A$1*1000*1000","v":17651969.999999996},-1,1,1,50]
[41,30000,3922660,-1,{"$f":"1.8*$A$1*1000*1000","v":17651969.999999996},-1,1,1,50]
[42,5000,{"$f":"0.2*$A$1*1000*1000","v":1961330},{"$f":"0.2*$A$1*1000*1000","v":1961330},{"$f":"0.5*$A$1*1000*1000","v":4903325},{"$f":"0.4*$A$1*1000*1000","v":3922660},1,1,50,"ISDB-M-200"]
[43,10000,{"$f":"0.4*$A$1*1000*1000","v":3922660},{"$f":"0.4*$A$1*1000*1000","v":3922660},{"$f":"0.7*$A$1*1000*1000","v":6864654.9999999991},{"$f":"0.6*$A$1*1000*1000","v":5883990},1,1,50]
[44,20000,{"$f":"0.4*$A$1*1000*1000","v":3922660},-1,{"$f":"1.8*$A$1*1000*1000","v":17651969.999999996},-1,1,1,50]
[45,30000,3922660,-1,{"$f":"1.8*$A$1*1000*1000","v":17651969.999999996},-1,1,1,50]
[46,10000,3922660,3922660,{"$f":"0.7*$A$1*1000*1000","v":6864654.9999999991},{"$f":"0.6*$A$1*1000*1000","v":5883990},1,1,50,"ISDB-L-200"]
[47,20000,3922660,3922660,{"$f":"1.8*$A$1*1000*1000","v":17651969.999999996},{"$f":"1.5*$A$1*1000*1000","v":14709975},1,1,50]
[48,40000,3922660,-1,{"$f":"1.8*$A$1*1000*1000","v":17651969.999999996},-1,1,1,50]
[49,10000,3922660,3922660,{"$f":"0.7*$A$1*1000*1000","v":6864654.9999999991},{"$f":"0.6*$A$1*1000*1000","v":5883990},1,1,50,"ISDB-L-400"]
[50,20000,3922660,3922660,{"$f":"1.8*$A$1*1000*1000","v":17651969.999999996},{"$f":"1.5*$A$1*1000*1000","v":14709975},1,1,50]
[51,40000,3922660,-1,{"$f":"1.8*$A$1*1000*1000","v":17651969.999999996},-1,1,1,50]
[52,4000,{"$f":"0.2*$A$1*1000*1000","v":1961330},{"$f":"0.2*$A$1*1000*1000","v":1961330},{"$f":"0.5*$A$1*1000*1000","v":4903325},{"$f":"0.4*$A$1*1000*1000","v":3922660},1,1,50,"ISDBCR-S-60"]
[53,8000,{"$f":"0.4*$A$1*1000*1000","v":3922660},{"$f":"0.4*$A$1*1000*1000","v":3922660},{"$f":"0.7*$A$1*1000*1000","v":6864654.9999999991},{"$f":"0.6*$A$1*1000*1000","v":5883990},1,1,50]
[54,16000,{"$f":"0.4*$A$1*1000*1000","v":3922660},{"$f":"0.4*$A$1*1000*1000","v":3922660},{"$f":"1*$A$1*1000*1000","v":9806650},{"$f":"0.8*$A$1*1000*1000","v":7845320},1,1,50]
[55,5000,{"$f":"0.2*$A$1*1000*1000","v":1961330},{"$f":"0.2*$A$1*1000*1000","v":1961330},{"$f":"0.5*$A$1*1000*1000","v":4903325},{"$f":"0.4*$A$1*1000*1000","v":3922660},1,1,50,"ISDBCR-M-100"]
[56,10000,{"$f":"0.4*$A$1*1000*1000","v":3922660},3922660,{"$f":"0.7*$A$1*1000*1000","v":6864654.9999999991},{"$f":"0.6*$A$1*1000*1000","v":5883990},1,1,50]
[57,20000,3922660,-1,{"$f":"1*$A$1*1000*1000","v":9806650},-1,1,1,50]
[58,30000,3922660,-1,{"$f":"1*$A$1*1000*1000","v":9806650},-1,1,1,50]
[59,5000,{"$f":"0.2*$A$1*1000*1000","v":1961330},{"$f":"0.2*$A$1*1000*1000","v":1961330},{"$f":"0.5*$A$1*1000*1000","v":4903325},{"$f":"0.4*$A$1*1000*1000","v":3922660},1,1,50,"ISDBCR-M-200"]
[60,10000,{"$f":"0.4*$A$1*1000*1000","v":3922660},{"$f":"0.4*$A$1*1000*1000","v":3922660},{"$f":"0.7*$A$1*1000*1000","v":6864654.9999999991},{"$f":"0.6*$A$1*1000*1000","v":5883990},1,1,50]
[61,20000,{"$f":"0.4*$A$1*1000*1000","v":3922660},-1,{"$f":"1*$A$1*1000*1000","v":9806650},-1,1,1,50]
[62,30000,3922660,-1,{"$f":"1*$A$1*1000*1000","v":9806650},-1,1,1,50]
[63,10000,3922660,3922660,{"$f":"0.7*$A$1*1000*1000","v":6864654.9999999991},{"$f":"0.6*$A$1*1000*1000","v":5883990},1,1,50,"ISDBCR-L-200"]
[64,20000,3922660,3922660,{"$f":"1*$A$1*1000*1000","v":9806650},{"$f":"1*$A$1*1000*1000","v":9806650},1,1,50]
[{"$f":"A67+1","v":65},40000,3922660,-1,{"$f":"1*$A$1*1000*1000","v":9806650},-1,1,1,50]
[66,10000,3922660,3922660,{"$f":"0.7*$A$1*1000*1000","v":6864654.9999999991},{"$f":"0.6*$A$1*1000*1000","v":5883990},1,1,50,"ISDBCR-L-400"]
[67,20000,3922660,3922660,{"$f":"1*$A$1*1000*1000","v":9806650},{"$f":"1*$A$1*1000*1000","v":9806650},1,1,50]
[68,40000,{"$f":"0.4*$A$1*1000*1000","v":3922660},-1,{"$f":"1*$A$1*1000*1000","v":9806650},-1,1,1,50]
[69,10000,3922660,-1,{"$f":"0.7*$A$1*1000*1000","v":6864654.9999999991},-1,1,1,50,"SSPA-SXM-200"]
[70,20000,3922660,-1,{"$f":"2*$A$1*1000*1000","v":19613300},-1,1,1,50]
[71,30000,3922660,-1,{"$f":"2*$A$1*1000*1000","v":19613300},-1,1,1,50]
[72,10000,3922660,-1,{"$f":"0.7*$A$1*1000*1000","v":6864654.9999999991},-1,1,1,50,"SSPA-MXM-400"]
[73,20000,3922660,-1,{"$f":"2*$A$1*1000*1000","v":19613300},-1,1,1,50]
[74,40000,3922660,-1,{"$f":"2*$A$1*1000*1000","v":19613300},-1,1,1,50]
[75,25000,3922660,-1,{"$f":"2*$A$1*1000*1000","v":19613300},-1,1,1,50,"SSPA-LXM-750"]
[76,50000,3922660,-1,{"$f":"2*$A$1*1000*1000","v":19613300},-1,1,1,50]
[77,10000,{"$f":"0.4*$A$1*1000*1000","v":3922660},-1,{"$f":"0.7*$A$1*1000*1000","v":6864654.9999999991},-1,1,1,50,"SSPDACR-S-200"]
[78,20000,3922660,-1,{"$f":"1*$A$1*1000*1000","v":9806650},-1,1,1,50]
[79,30000,3922660,-1,{"$f":"1.2*$A$1*1000*1000","v":11767980},-1,1,1,50]
[80,10000,3922660,-1,{"$f":"0.7*$A$1*1000*1000","v":6864654.9999999991},-1,1,1,50,"SSPDACR-M-400"]
[81,20000,3922660,-1,{"$f":"1*$A$1*1000*1000","v":9806650},-1,1,1,50]
[82,40000,3922660,-1,{"$f":"1.2*$A$1*1000*1000","v":11767980},-1,1,1,50]
[83,25000,{"$f":"0.4*$A$1*1000*1000","v":3922660},-1,{"$f":"1.2*$A$1*1000*1000","v":11767980},-1,1,1,50,"SSPDACR-L-750"]
[84,50000,{"$f":"0.4*$A$1*1000*1000","v":3922660},-1,{"$f":"1.2*$A$1*1000*1000","v":11767980},-1,1,1,50]
[85,5000,{"$f":"0.2*$A$1*1000*1000","v":1961330},{"$f":"0.2*$A$1*1000*1000","v":1961330},{"$f":"0.3*$A$1*1000*1000","v":2941995},{"$f":"0.3*$A$1*1000*1000","v":2941995},1,1,50,"RCS3-SA8C-100"]
[86,10000,{"$f":"0.3*$A$1*1000*1000","v":2941995},1961330,{"$f":"0.7*$A$1*1000*1000","v":6864654.9999999991},{"$f":"0.7*$A$1*1000*1000","v":6864654.9999999991},1,1,50]
[87,20000,{"$f":"0.3*$A$1*1000*1000","v":2941995},1961330,{"$f":"1.5*$A$1*1000*1000","v":14709975},{"$f":"1.5*$A$1*1000*1000","v":14709975},1,1,50]
[88,30000,{"$f":"0.3*$A$1*1000*1000","v":2941995},1961330,{"$f":"2*$A$1*1000*1000","v":19613300},{"$f":"1.5*$A$1*1000*1000","v":14709975},1,1,50]
[89,10000,{"$f":"0.3*$A$1*1000*1000","v":2941995},1961330,{"$f":"1*$A$1*1000*1000","v":9806650},{"$f":"1*$A$1*1000*1000","v":9806650},1,1,50,"RCS3-SA8C-150"]
[90,20000,2941995,1961330,{"$f":"2*$A$1*1000*1000","v":19613300},{"$f":"2*$A$1*1000*1000","v":19613300},1,1,50]
[91,30000,2941995,1961330,{"$f":"2*$A$1*1000*1000","v":19613300},{"$f":"2*$A$1*1000*1000","v":19613300},1,1,50]
[92,5000,{"$f":"0.2*$A$1*1000*1000","v":1961330},{"$f":"0.2*$A$1*1000*1000","v":1961330},{"$f":"0.3*$A$1*1000*1000","v":2941995},{"$f":"0.3*$A$1*1000*1000","v":2941995},1,1,50,"RCS3-SS8C-100"]
[93,10000,2941995,1961330,{"$f":"0.7*$A$1*1000*1000","v":6864654.9999999991},{"$f":"0.7*$A$1*1000*1000","v":6864654.9999999991},1,1,50]
[94,20000,2941995,1961330,{"$f":"1.5*$A$1*1000*1000","v":14709975},{"$f":"1.5*$A$1*1000*1000","v":14709975},1,1,50]
[95,30000,2941995,1961330,{"$f":"2*$A$1*1000*1000","v":19613300},{"$f":"1.5*$A$1*1000*1000","v":14709975},1,1,50]
[96,10000,2941995,1961330,{"$f":"1*$A$1*1000*1000","v":9806650},{"$f":"1*$A$1*1000*1000","v":9806650},1,1,50,"RCS3-SS8C-150"]
[97,20000,2941995,1961330,{"$f":"2*$A$1*1000*1000","v":19613300},{"$f":"2*$A$1*1000*1000","v":19613300},1,1,50]
[98,30000,2941995,1961330,{"$f":"2*$A$1*1000*1000","v":19613300},{"$f":"2*$A$1*1000*1000","v":19613300},1,1,50]
[99,5000,{"$f":"0.2*$A$1*1000*1000","v":1961330},1961330,{"$f":"0.3*$A$1*1000*1000","v":2941995},{"$f":"0.3*$A$1*1000*1000","v":2941995},1,1,50,"RCS3CR-SA8C-100"]
[100,10000,2941995,1961330,{"$f":"0.5*$A$1*1000*1000","v":4903325},{"$f":"0.5*$A$1*1000*1000","v":4903325},1,1,50]
[101,20000,2941995,1961330,{"$f":"0.7*$A$1*1000*1000","v":6864654.9999999991},{"$f":"0.7*$A$1*1000*1000","v":6864654.9999999991},1,1,50]
[102,30000,2941995,1961330,{"$f":"1*$A$1*1000*1000","v":9806650},{"$f":"0.7*$A$1*1000*1000","v":6864654.9999999991},1,1,50]
[103,10000,2941995,1961330,{"$f":"0.5*$A$1*1000*1000","v":4903325},{"$f":"0.5*$A$1*1000*1000","v":4903325},1,1,50,"RCS3CR-SA8C-150"]
[104,20000,2941995,1961330,{"$f":"0.7*$A$1*1000*1000","v":6864654.9999999991},{"$f":"0.7*$A$1*1000*1000","v":6864654.9999999991},1,1,50]
[105,30000,2941995,1961330,{"$f":"1*$A$1*1000*1000","v":9806650},{"$f":"0.7*$A$1*1000*1000","v":6864654.9999999991},1,1,50]
[106,5000,{"$f":"0.2*$A$1*1000*1000","v":1961330},1961330,{"$f":"0.3*$A$1*1000*1000","v":2941995},{"$f":"0.3*$A$1*1000*1000","v":2941995},1,1,50,"RCS3CR-SS8C-100"]
[107,10000,2941995,1961330,{"$f":"0.5*$A$1*1000*1000","v":4903325},{"$f":"0.5*$A$1*1000*1000","v":4903325},1,1,50]
[108,20000,2941995,1961330,{"$f":"0.7*$A$1*1000*1000","v":6864654.9999999991},{"$f":"0.7*$A$1*1000*1000","v":6864654.9999999991},1,1,50]
[109,30000,2941995,1961330,{"$f":"1*$A$1*1000*1000","v":9806650},{"$f":"0.7*$A$1*1000*1000","v":6864654.9999999991},1,1,50]
[110,10000,2941995,1961330,{"$f":"0.5*$A$1*1000*1000","v":4903325},{"$f":"0.5*$A$1*1000*1000","v":4903325},1,1,50,"RCS3CR-SS8C-150"]
[111,20000,2941995,1961330,{"$f":"0.7*$A$1*1000*1000","v":6864654.9999999991},{"$f":"0.7*$A$1*1000*1000","v":6864654.9999999991},1,1,50]
[112,30000,2941995,1961330,{"$f":"1*$A$1*1000*1000","v":9806650},{"$f":"0.7*$A$1*1000*1000","v":6864654.9999999991},1,1,50]
[113,5000,{"$f":"0.2*$A$1*1000*1000","v":1961330},{"$f":"0.2*$A$1*1000*1000","v":1961330},{"$f":"0.3*$A$1*1000*1000","v":2941995},{"$f":"0.3*$A$1*1000*1000","v":2941995},1,1,50,"RCS3-SA8R-100"]
[114,10000,2941995,{"$f":"0.2*$A$1*1000*1000","v":1961330},{"$f":"0.7*$A$1*1000*1000","v":6864654.9999999991},{"$f":"0.7*$A$1*1000*1000","v":6864654.9999999991},1,1,50]
[115,20000,2941995,{"$f":"0.2*$A$1*1000*1000","v":1961330},{"$f":"1*$A$1*1000*1000","v":9806650},{"$f":"1*$A$1*1000*1000","v":9806650},1,1,50]
[116,30000,2941995,{"$f":"0.2*$A$1*1000*1000","v":1961330},{"$f":"1.2*$A$1*1000*1000","v":11767980},{"$f":"1.2*$A$1*1000*1000","v":11767980},1,1,50]
[117,10000,2941995,{"$f":"0.2*$A$1*1000*1000","v":1961330},{"$f":"0.7*$A$1*1000*1000","v":6864654.9999999991},{"$f":"0.7*$A$1*1000*1000","v":6864654.9999999991},1,1,50,"RCS3-SA8R-150"]
[118,20000,2941995,1961330,{"$f":"1*$A$1*1000*1000","v":9806650},{"$f":"1*$A$1*1000*1000","v":9806650},1,1,50]
[119,30000,2941995,1961330,{"$f":"1.2*$A$1*1000*1000","v":11767980},{"$f":"1.2*$A$1*1000*1000","v":11767980},1,1,50]
[120,5000,{"$f":"0.2*$A$1*1000*1000","v":1961330},1961330,{"$f":"0.3*$A$1*1000*1000","v":2941995},{"$f":"0.3*$A$1*1000*1000","v":2941995},1,1,50,"RCS3-SS8R-100"]
[121,10000,2941995,1961330,{"$f":"0.7*$A$1*1000*1000","v":6864654.9999999991},{"$f":"0.7*$A$1*1000*1000","v":6864654.9999999991},1,1,50]
[122,20000,2941995,1961330,{"$f":"1*$A$1*1000*1000","v":9806650},{"$f":"1*$A$1*1000*1000","v":9806650},1,1,50]
[123,30000,2941995,1961330,{"$f":"1.2*$A$1*1000*1000","v":11767980},{"$f":"1.2*$A$1*1000*1000","v":11767980},1,1,50]
[124,10000,2941995,1961330,{"$f":"0.7*$A$1*1000*1000","v":6864654.9999999991},{"$f":"0.7*$A$1*1000*1000","v":6864654.9999999991},1,1,50,"RCS3-SS8R-150"]
[125,20000,2941995,1961330,{"$f":"1*$A$1*1000*1000","v":9806650},{"$f":"1*$A$1*1000*1000","v":9806650},1,1,50]
[126,30000,2941995,1961330,{"$f":"1.2*$A$1*1000*1000","v":11767980},{"$f":"1.2*$A$1*1000*1000","v":11767980},1,1,50]
[127,2500,{"$f":"0.2*$A$1*1000*1000","v":1961330},{"$f":"0.2*$A$1*1000*1000","v":1961330},{"$f":"0.5*$A$1*1000*1000","v":4903325},{"$f":"0.3*$A$1*1000*1000","v":2941995},1,1,50,"RCS2-SA4C-20"]
[128,5000,{"$f":"0.3*$A$1*1000*1000","v":2941995},2941995,{"$f":"1.2*$A$1*1000*1000","v":11767980},{"$f":"1*$A$1*1000*1000","v":9806650},1,1,50]
[{"$f":"A131+1","v":129},10000,2941995,2941995,{"$f":"1.5*$A$1*1000*1000","v":14709975},{"$f":"1.5*$A$1*1000*1000","v":14709975},1,1,50]
[130,16000,2941995,2941995,{"$f":"2*$A$1*1000*1000","v":19613300},{"$f":"1*$A$1*1000*1000","v":9806650},1,1,50]
[131,3000,{"$f":"0.2*$A$1*1000*1000","v":1961330},{"$f":"0.2*$A$1*1000*1000","v":1961330},{"$f":"0.3*$A$1*1000*1000","v":2941995},{"$f":"0.3*$A$1*1000*1000","v":2941995},1,1,50,"RCS2-SA5C-20"]
[132,6000,{"$f":"0.3*$A$1*1000*1000","v":2941995},2941995,{"$f":"1*$A$1*1000*1000","v":9806650},{"$f":"1*$A$1*1000*1000","v":9806650},1,1,50]
[133,12000,2941995,2941995,{"$f":"1.5*$A$1*1000*1000","v":14709975},{"$f":"1.2*$A$1*1000*1000","v":11767980},1,1,50]
[134,20000,2941995,{"$f":"0.3*$A$1*1000*1000","v":2941995},{"$f":"1.5*$A$1*1000*1000","v":14709975},{"$f":"0.7*$A$1*1000*1000","v":6864654.9999999991},1,1,50]
[135,3000,{"$f":"0.2*$A$1*1000*1000","v":1961330},{"$f":"0.2*$A$1*1000*1000","v":1961330},{"$f":"0.4*$A$1*1000*1000","v":3922660},{"$f":"0.3*$A$1*1000*1000","v":2941995},1,1,50,"RCS2-SA6C-30"]
[136,6000,{"$f":"0.3*$A$1*1000*1000","v":2941995},2941995,{"$f":"1*$A$1*1000*1000","v":9806650},{"$f":"1*$A$1*1000*1000","v":9806650},1,1,50]
[137,12000,2941995,{"$f":"0.3*$A$1*1000*1000","v":2941995},{"$f":"2*$A$1*1000*1000","v":19613300},{"$f":"1.2*$A$1*1000*1000","v":11767980},1,1,50]
[138,20000,2941995,{"$f":"0.3*$A$1*1000*1000","v":2941995},{"$f":"1.5*$A$1*1000*1000","v":14709975},{"$f":"0.6*$A$1*1000*1000","v":5883990},1,1,50]
[139,4000,{"$f":"0.2*$A$1*1000*1000","v":1961330},{"$f":"0.2*$A$1*1000*1000","v":1961330},{"$f":"0.5*$A$1*1000*1000","v":4903325},{"$f":"0.3*$A$1*1000*1000","v":2941995},1,1,50,"RCS2-SA7C-60"]
[140,8000,{"$f":"0.3*$A$1*1000*1000","v":2941995},2941995,{"$f":"1.5*$A$1*1000*1000","v":14709975},{"$f":"1.5*$A$1*1000*1000","v":14709975},1,1,50]
[141,16000,2941995,2941995,{"$f":"2*$A$1*1000*1000","v":19613300},{"$f":"1.5*$A$1*1000*1000","v":14709975},1,1,50]
[142,24000,2941995,2941995,{"$f":"2*$A$1*1000*1000","v":19613300},{"$f":"1.5*$A$1*1000*1000","v":14709975},1,1,50]
[143,6000,2941995,2941995,{"$f":"0.7*$A$1*1000*1000","v":6864654.9999999991},{"$f":"0.5*$A$1*1000*1000","v":4903325},1,1,50,"RCS2-SS7C-60"]
[144,12000,2941995,2941995,{"$f":"2*$A$1*1000*1000","v":19613300},{"$f":"1.5*$A$1*1000*1000","v":14709975},1,1,50]
[145,20000,2941995,2941995,{"$f":"2*$A$1*1000*1000","v":19613300},{"$f":"1.5*$A$1*1000*1000","v":14709975},1,1,50]
[146,2500,{"$f":"0.2*$A$1*1000*1000","v":1961330},{"$f":"0.2*$A$1*1000*1000","v":1961330},{"$f":"0.2*$A$1*1000*1000","v":1961330},{"$f":"0.2*$A$1*1000*1000","v":1961330},1,1,50,"RCS2CR-SA4C-20"]
[147,5000,{"$f":"0.3*$A$1*1000*1000","v":2941995},{"$f":"0.3*$A$1*1000*1000","v":2941995},{"$f":"0.3*$A$1*1000*1000","v":2941995},{"$f":"0.3*$A$1*1000*1000","v":2941995},1,1,50]
[148,10000,{"$f":"0.3*$A$1*1000*1000","v":2941995},{"$f":"0.3*$A$1*1000*1000","v":2941995},2941995,2941995,1,1,50]
[149,16000,{"$f":"0.3*$A$1*1000*1000","v":2941995},2941995,2941995,2941995,1,1,50]
[150,3000,{"$f":"0.2*$A$1*1000*1000","v":1961330},{"$f":"0.2*$A$1*1000*1000","v":1961330},{"$f":"0.2*$A$1*1000*1000","v":1961330},{"$f":"0.2*$A$1*1000*1000","v":1961330},1,1,50,"RCS2CR-SA5C-20"]
[151,6000,{"$f":"0.3*$A$1*1000*1000","v":2941995},{"$f":"0.3*$A$1*1000*1000","v":2941995},2941995,2941995,1,1,50]
[152,12000,{"$f":"0.3*$A$1*1000*1000","v":2941995},2941995,{"$f":"0.3*$A$1*1000*1000","v":2941995},{"$f":"0.3*$A$1*1000*1000","v":2941995},1,1,50]
[153,20000,{"$f":"0.3*$A$1*1000*1000","v":2941995},{"$f":"0.3*$A$1*1000*1000","v":2941995},{"$f":"0.3*$A$1*1000*1000","v":2941995},{"$f":"0.3*$A$1*1000*1000","v":2941995},1,1,50]
[154,3000,{"$f":"0.2*$A$1*1000*1000","v":1961330},{"$f":"0.2*$A$1*1000*1000","v":1961330},{"$f":"0.2*$A$1*1000*1000","v":1961330},{"$f":"0.2*$A$1*1000*1000","v":1961330},1,1,50,"RCS2CR-SA6C-30"]
[155,6000,{"$f":"0.3*$A$1*1000*1000","v":2941995},2941995,{"$f":"0.3*$A$1*1000*1000","v":2941995},2941995,1,1,50]
[156,12000,2941995,2941995,2941995,2941995,1,1,50]
[157,20000,2941995,2941995,2941995,2941995,1,1,50]
[158,4000,{"$f":"0.2*$A$1*1000*1000","v":1961330},{"$f":"0.2*$A$1*1000*1000","v":1961330},{"$f":"0.2*$A$1*1000*1000","v":1961330},{"$f":"0.2*$A$1*1000*1000","v":1961330},1,1,50,"RCS2CR-SA7C-60"]
[159,8000,{"$f":"0.3*$A$1*1000*1000","v":2941995},{"$f":"0.3*$A$1*1000*1000","v":2941995},{"$f":"0.3*$A$1*1000*1000","v":2941995},2941995,1,1,50]
[160,16000,2941995,2941995,2941995,2941995,1,1,50]
[161,24000,2941995,2941995,2941995,2941995,1,1,50]
[162,6000,2941995,{"$f":"0.3*$A$1*1000*1000","v":2941995},{"$f":"0.3*$A$1*1000*1000","v":2941995},2941995,1,1,50,"RCS2CR-SS7C-60"]
[163,12000,2941995,2941995,2941995,2941995,1,1,50]
[164,20000,2941995,2941995,2941995,2941995,1,1,50]
[165,2500,{"$f":"0.2*$A$1*1000*1000","v":1961330},{"$f":"0.2*$A$1*1000*1000","v":1961330},{"$f":"0.2*$A$1*1000*1000","v":1961330},{"$f":"0.2*$A$1*1000*1000","v":1961330},1,1,50,"RCS2-SA4D-20"]
[166,5000,{"$f":"0.3*$A$1*1000*1000","v":2941995},2941995,2941995,2941995,1,1,50]
[167,10000,2941995,2941995,2941995,2941995,1,1,50]
[168,3000,{"$f":"0.2*$A$1*1000*1000","v":1961330},{"$f":"0.2*$A$1*1000*1000","v":1961330},{"$f":"0.2*$A$1*1000*1000","v":1961330},{"$f":"0.2*$A$1*1000*1000","v":1961330},1,1,50,"RCS2-SA5D-20"]
[169,6000,{"$f":"0.3*$A$1*1000*1000","v":2941995},2941995,2941995,2941995,1,1,50]
[170,12000,2941995,2941995,2941995,2941995,1,1,50]
[171,3000,{"$f":"0.2*$A$1*1000*1000","v":1961330},{"$f":"0.2*$A$1*1000*1000","v":1961330},{"$f":"0.2*$A$1*1000*1000","v":1961330},{"$f":"0.2*$A$1*1000*1000","v":1961330},1,1,50,"RCS2-SA6D-30"]
[172,6000,{"$f":"0.3*$A$1*1000*1000","v":2941995},2941995,2941995,2941995,1,1,50]
[173,12000,2941995,2941995,2941995,2941995,1,1,50]
[174,3000,{"$f":"0.2*$A$1*1000*1000","v":1961330},{"$f":"0.2*$A$1*1000*1000","v":1961330},{"$f":"0.2*$A$1*1000*1000","v":1961330},{"$f":"0.2*$A$1*1000*1000","v":1961330},1,1,50,"RCS2CR-SA5D-20"]
[175,6000,{"$f":"0.3*$A$1*1000*1000","v":2941995},2941995,2941995,2941995,1,1,50]
[176,12000,2941995,2941995,2941995,2941995,1,1,50]
[177,3000,{"$f":"0.2*$A$1*1000*1000","v":1961330},{"$f":"0.2*$A$1*1000*1000","v":1961330},{"$f":"0.2*$A$1*1000*1000","v":1961330},{"$f":"0.2*$A$1*1000*1000","v":1961330},1,1,50,"RCS2CR-SA6D-30"]
[178,6000,{"$f":"0.3*$A$1*1000*1000","v":2941995},2941995,2941995,2941995,1,1,50]
[179,12000,2941995,2941995,2941995,2941995,1,1,50]
[180,2500,{"$f":"0.2*$A$1*1000*1000","v":1961330},{"$f":"0.2*$A$1*1000*1000","v":1961330},{"$f":"0.4*$A$1*1000*1000","v":3922660},{"$f":"0.3*$A$1*1000*1000","v":2941995},1,1,50,"RCS2-SA4R-20"]
[181,5000,{"$f":"0.3*$A$1*1000*1000","v":2941995},{"$f":"0.3*$A$1*1000*1000","v":2941995},{"$f":"0.6*$A$1*1000*1000","v":5883990},{"$f":"0.6*$A$1*1000*1000","v":5883990},1,1,50]
[182,10000,{"$f":"0.3*$A$1*1000*1000","v":2941995},{"$f":"0.3*$A$1*1000*1000","v":2941995},{"$f":"0.8*$A$1*1000*1000","v":7845320},{"$f":"0.8*$A$1*1000*1000","v":7845320},1,1,50]
[183,3000,{"$f":"0.2*$A$1*1000*1000","v":1961330},{"$f":"0.2*$A$1*1000*1000","v":1961330},{"$f":"0.3*$A$1*1000*1000","v":2941995},{"$f":"0.3*$A$1*1000*1000","v":2941995},1,1,50,"RCS2-SA5R-20"]
[184,6000,{"$f":"0.3*$A$1*1000*1000","v":2941995},{"$f":"0.3*$A$1*1000*1000","v":2941995},{"$f":"0.6*$A$1*1000*1000","v":5883990},{"$f":"0.6*$A$1*1000*1000","v":5883990},1,1,50]
[185,12000,{"$f":"0.3*$A$1*1000*1000","v":2941995},{"$f":"0.3*$A$1*1000*1000","v":2941995},{"$f":"0.8*$A$1*1000*1000","v":7845320},{"$f":"0.8*$A$1*1000*1000","v":7845320},1,1,50]
[186,3000,{"$f":"0.2*$A$1*1000*1000","v":1961330},{"$f":"0.2*$A$1*1000*1000","v":1961330},{"$f":"0.3*$A$1*1000*1000","v":2941995},{"$f":"0.3*$A$1*1000*1000","v":2941995},1,1,50,"RCS2-SA6R-30"]
[187,6000,{"$f":"0.3*$A$1*1000*1000","v":2941995},{"$f":"0.3*$A$1*1000*1000","v":2941995},{"$f":"0.6*$A$1*1000*1000","v":5883990},{"$f":"0.6*$A$1*1000*1000","v":5883990},1,1,50]
[188,12000,{"$f":"0.3*$A$1*1000*1000","v":2941995},{"$f":"0.3*$A$1*1000*1000","v":2941995},{"$f":"0.8*$A$1*1000*1000","v":7845320},{"$f":"0.8*$A$1*1000*1000","v":7845320},1,1,50]
[189,4000,{"$f":"0.2*$A$1*1000*1000","v":1961330},{"$f":"0.2*$A$1*1000*1000","v":1961330},{"$f":"0.4*$A$1*1000*1000","v":3922660},{"$f":"0.3*$A$1*1000*1000","v":2941995},1,1,50,"RCS2-SA7R-60"]
[190,8000,{"$f":"0.3*$A$1*1000*1000","v":2941995},2941995,{"$f":"0.6*$A$1*1000*1000","v":5883990},{"$f":"0.6*$A$1*1000*1000","v":5883990},1,1,50]
[191,16000,2941995,2941995,{"$f":"0.8*$A$1*1000*1000","v":7845320},{"$f":"0.8*$A$1*1000*1000","v":7845320},1,1,50]
[192,6000,2941995,2941995,{"$f":"0.5*$A$1*1000*1000","v":4903325},{"$f":"0.5*$A$1*1000*1000","v":4903325},1,1,50,"RCS2-SS7R-60"]
[{"$f":"A195+1","v":193},12000,2941995,2941995,{"$f":"0.8*$A$1*1000*1000","v":7845320},{"$f":"0.8*$A$1*1000*1000","v":7845320},1,1,50]
[194,3000,{"$f":"0.2*$A$1*1000*1000","v":1961330},{"$f":"0.2*$A$1*1000*1000","v":1961330},{"$f":"0.3*$A$1*1000*1000","v":2941995},{"$f":"0.3*$A$1*1000*1000","v":2941995},1,1,50,"RCS2-RA4C-20"]
[195,6000,{"$f":"0.3*$A$1*1000*1000","v":2941995},{"$f":"0.3*$A$1*1000*1000","v":2941995},{"$f":"1*$A$1*1000*1000","v":9806650},{"$f":"0.7*$A$1*1000*1000","v":6864654.9999999991},1,1,50]
[196,12000,{"$f":"0.3*$A$1*1000*1000","v":2941995},{"$f":"0.3*$A$1*1000*1000","v":2941995},{"$f":"1*$A$1*1000*1000","v":9806650},{"$f":"0.8*$A$1*1000*1000","v":7845320},1,1,50]
[197,3000,{"$f":"0.2*$A$1*1000*1000","v":1961330},{"$f":"0.2*$A$1*1000*1000","v":1961330},{"$f":"0.3*$A$1*1000*1000","v":2941995},{"$f":"0.3*$A$1*1000*1000","v":2941995},1,1,50,"RCS2-RA4C-30"]
[198,6000,{"$f":"0.3*$A$1*1000*1000","v":2941995},{"$f":"0.3*$A$1*1000*1000","v":2941995},{"$f":"1*$A$1*1000*1000","v":9806650},{"$f":"1*$A$1*1000*1000","v":9806650},1,1,50]
[199,12000,{"$f":"0.3*$A$1*1000*1000","v":2941995},{"$f":"0.3*$A$1*1000*1000","v":2941995},{"$f":"1.5*$A$1*1000*1000","v":14709975},{"$f":"1*$A$1*1000*1000","v":9806650},1,1,50]
[200,4000,{"$f":"0.2*$A$1*1000*1000","v":1961330},{"$f":"0.2*$A$1*1000*1000","v":1961330},{"$f":"0.5*$A$1*1000*1000","v":4903325},{"$f":"0.5*$A$1*1000*1000","v":4903325},1,1,50,"RCS2-RA5C-60"]
[201,8000,{"$f":"0.3*$A$1*1000*1000","v":2941995},{"$f":"0.3*$A$1*1000*1000","v":2941995},{"$f":"1.2*$A$1*1000*1000","v":11767980},{"$f":"1*$A$1*1000*1000","v":9806650},1,1,50]
[202,16000,{"$f":"0.3*$A$1*1000*1000","v":2941995},{"$f":"0.3*$A$1*1000*1000","v":2941995},{"$f":"1.5*$A$1*1000*1000","v":14709975},{"$f":"1*$A$1*1000*1000","v":9806650},1,1,50]
[203,4000,{"$f":"0.2*$A$1*1000*1000","v":1961330},{"$f":"0.2*$A$1*1000*1000","v":1961330},{"$f":"0.5*$A$1*1000*1000","v":4903325},{"$f":"0.5*$A$1*1000*1000","v":4903325},1,1,50,"RCS2-RA5C-100"]
[204,8000,{"$f":"0.3*$A$1*1000*1000","v":2941995},{"$f":"0.3*$A$1*1000*1000","v":2941995},{"$f":"1.2*$A$1*1000*1000","v":11767980},{"$f":"1*$A$1*1000*1000","v":9806650},1,1,50]
[205,16000,{"$f":"0.3*$A$1*1000*1000","v":2941995},{"$f":"0.3*$A$1*1000*1000","v":2941995},{"$f":"1.5*$A$1*1000*1000","v":14709975},{"$f":"1.2*$A$1*1000*1000","v":11767980},1,1,50]
[{"$f":"A208+1","v":206},36000,{"$f":"0.4*$A$1*1000*1000","v":3922660},3922660,{"$f":"3*$A$1*1000*1000","v":29419950},{"$f":"1.6*$A$1*1000*1000","v":15690640},1,1,50,"ISB-SXM-100"]
[207,48000,3922660,3922660,29419950,15690640,1,1,50,"ISB-MXM-400"]
[208,36000,3922660,3922660,29419950,15690640,1,1,50,"ISB-SXL-100"]
[209,48000,3922660,3922660,29419950,15690640,1,1,50,"ISB-MXL-400"]
[210,36000,3922660,3922660,29419950,15690640,1,1,50,"ISDB-S-100"]
[211,48000,3922660,3922660,29419950,15690640,1,1,50,"ISDB-M-400"]
[212,2500,2941995,2941995,14709975,14709975,1,1,50,"RCS4-SA4C-60","↓ Ver.3.5 追加"]
[213,5000,2941995,2941995,44129925,29419950,1,1,50,"RCS4-SA4C-60"]
[214,10000,2941995,2941995,44129925,29419950,1,1,50,"RCS4-SA4C-60"]
[215,16000,2941995,2941995,44129925,29419950,1,1,50,"RCS4-SA4C-60"]
[216,2500,2941995,2941995,14709975,14709975,1,1,50,"RCS4-SA4R-60"]
[217,5000,2941995,2941995,44129925,29419950,1,1,50,"RCS4-SA4R-60"]
[218,10000,2941995,2941995,44129925,29419950,1,1,50,"RCS4-SA4R-60"]
[219,16000,2941995,2941995,44129925,29419950,1,1,50,"RCS4-SA4R-60"]
[220,3000,2941995,2941995,14709975,14709975,1,1,50,"RCS4-SA6C-100"]
[221,6000,2941995,2941995,44129925,29419950,1,1,50,"RCS4-SA6C-100"]
[222,12000,2941995,2941995,44129925,29419950,1,1,50,"RCS4-SA6C-100"]
[223,20000,2941995,2941995,44129925,29419950,1,1,50,"RCS4-SA6C-100"]
[224,30000,2941995,2941995,44129925,29419950,1,1,50,"RCS4-SA6C-100"]
[225,3000,2941995,2941995,14709975,14709975,1,1,50,"RCS4-SA6R-100"]
[226,6000,2941995,2941995,44129925,29419950,1,1,50,"RCS4-SA6R-100"]
[227,12000,2941995,2941995,44129925,29419950,1,1,50,"RCS4-SA6R-100"]
[228,20000,2941995,2941995,44129925,29419950,1,1,50,"RCS4-SA6R-100"]
[229,30000,2941995,2941995,44129925,29419950,1,1,50,"RCS4-SA6R-100"]
[230,4000,2941995,2941995,14709975,14709975,1,1,50,"RCS4-SA7C-200"]
[231,8000,2941995,2941995,44129925,29419950,1,1,50,"RCS4-SA7C-200"]
[232,16000,2941995,2941995,44129925,29419950,1,1,50,"RCS4-SA7C-200"]
[233,24000,2941995,2941995,44129925,29419950,1,1,50,"RCS4-SA7C-200"]
[234,36000,2941995,2941995,44129925,29419950,1,1,50,"RCS4-SA7C-200"]
[235,4000,2941995,2941995,14709975,14709975,1,1,50,"RCS4-SA7R-200"]
[236,8000,2941995,2941995,44129925,29419950,1,1,50,"RCS4-SA7R-200"]
[237,16000,2941995,2941995,44129925,29419950,1,1,50,"RCS4-SA7R-200"]
[238,24000,2941995,2941995,44129925,29419950,1,1,50,"RCS4-SA7R-200"]
[239,36000,2941995,2941995,44129925,29419950,1,1,50,"RCS4-SA7R-200"]
[240,5000,2941995,2941995,14709975,14709975,1,1,50,"RCS4-SA8C-400"]
[241,10000,2941995,2941995,44129925,29419950,1,1,50,"RCS4-SA8C-400"]
[242,20000,2941995,2941995,44129925,29419950,1,1,50,"RCS4-SA8C-400"]
[243,30000,2941995,2941995,44129925,29419950,1,1,50,"RCS4-SA8C-400"]
[244,48000,2941995,-1,44129925,-1,1,1,50,"RCS4-SA8C-400"]
[245,5000,2941995,2941995,14709975,14709975,1,1,50,"RCS4-SA8R-400"]
[246,10000,2941995,2941995,44129925,29419950,1,1,50,"RCS4-SA8R-400"]
[247,20000,2941995,2941995,44129925,29419950,1,1,50,"RCS4-SA8R-400"]
[248,30000,2941995,2941995,44129925,29419950,1,1,50,"RCS4-SA8R-400"]
[249,48000,2941995,-1,44129925,-1,1,1,50,"RCS4-SA8R-400"]
[250,2500,2941995,2941995,14709975,14709975,1,1,50,"RCS4-WSA10C-60"]
[251,5000,2941995,2941995,44129925,29419950,1,1,50,"RCS4-WSA10C-60"]
[252,10000,2941995,2941995,44129925,29419950,1,1,50,"RCS4-WSA10C-60"]
[253,16000,2941995,-1,44129925,-1,1,1,50,"RCS4-WSA10C-60"]
[254,2500,2941995,2941995,14709975,14709975,1,1,50,"RCS4-WSA10R-60"]
[255,5000,2941995,2941995,44129925,29419950,1,1,50,"RCS4-WSA10R-60"]
[256,10000,2941995,2941995,44129925,29419950,1,1,50,"RCS4-WSA10R-60"]
[257,16000,2941995,-1,44129925,-1,1,1,50,"RCS4-WSA10R-60"]
[258,3000,2941995,2941995,9806650,9806650,1,1,50,"RCS4-WSA12C-100"]
[259,6000,2941995,2941995,34323275,29419950,1,1,50,"RCS4-WSA12C-100"]
[260,12000,2941995,2941995,44129925,29419950,1,1,50,"RCS4-WSA12C-100"]
[261,20000,2941995,2941995,44129925,29419950,1,1,50,"RCS4-WSA12C-100"]
[262,30000,2941995,-1,44129925,-1,1,1,50,"RCS4-WSA12C-100"]
[263,3000,2941995,2941995,9806650,9806650,1,1,50,"RCS4-WSA12R-100"]
[264,6000,2941995,2941995,34323275,29419950,1,1,50,"RCS4-WSA12R-100"]
[265,12000,2941995,2941995,44129925,29419950,1,1,50,"RCS4-WSA12R-100"]
[266,20000,2941995,2941995,44129925,29419950,1,1,50,"RCS4-WSA12R-100"]
[267,30000,2941995,-1,44129925,-1,1,1,50,"RCS4-WSA12R-100"]
[268,4000,2941995,2941995,9806650,9806650,1,1,50,"RCS4-WSA14C-200"]
[269,8000,2941995,2941995,39226600,29419950,1,1,50,"RCS4-WSA14C-200"]
[270,16000,2941995,2941995,44129925,29419950,1,1,50,"RCS4-WSA14C-200"]
[271,24000,2941995,2941995,44129925,29419950,1,1,50,"RCS4-WSA14C-200"]
[272,36000,2941995,-1,44129925,-1,1,1,50,"RCS4-WSA14C-200"]
[273,4000,2941995,2941995,9806650,9806650,1,1,50,"RCS4-WSA14R-200"]
[274,8000,2941995,2941995,39226600,29419950,1,1,50,"RCS4-WSA14R-200"]
[275,16000,2941995,2941995,44129925,29419950,1,1,50,"RCS4-WSA14R-200"]
[276,24000,2941995,2941995,44129925,29419950,1,1,50,"RCS4-WSA14R-200"]
[277,36000,2941995,-1,44129925,-1,1,1,50,"RCS4-WSA14R-200"]
[278,5000,2941995,2941995,11767980,11767980,1,1,50,"RCS4-WSA16C-400"]
[279,10000,2941995,2941995,44129925,29419950,1,1,50,"RCS4-WSA16C-400"]
[280,20000,2941995,2941995,44129925,29419950,1,1,50,"RCS4-WSA16C-400"]
[281,30000,2941995,2941995,44129925,29419950,1,1,50,"RCS4-WSA16C-400"]
[282,5000,2941995,2941995,11767980,11767980,1,1,50,"RCS4-WSA16R-400"]
[283,10000,2941995,2941995,44129925,29419950,1,1,50,"RCS4-WSA16R-400"]
[284,20000,2941995,2941995,44129925,29419950,1,1,50,"RCS4-WSA16R-400"]
[285,30000,2941995,2941995,44129925,29419950,1,1,50,"RCS4-WSA16R-400","↑ Ver.3.5 追加"]

{"sheet":"StrokeData","index":4,"n_rows":2036,"n_cols":15,"rows_kept":2036,"cut":false,"hidden":true,"merged":[[1421,12,1432,12],[1433,12,1445,12],[1446,12,1457,12],[1458,12,1470,12],[1471,12,1476,12],[1477,12,1485,12],[869,12,877,12],[878,12,886,12],[887,12,896,12],[1147,12,1155,12],[1216,12,1217,12],[1218,12,1219,12],[1220,12,1222,12],[1225,12,1228,12],[1223,12,1224,12],[1192,12,1202,12],[1203,12,1211,12],[1156,12,1164,12],[1165,12,1173,12],[1174,12,1182,12],[1183,12,1191,12],[1106,12,1115,12],[1116,12,1125,12],[1126,12,1135,12],[269,12,279,12],[938,12,947,12],[948,12,957,12],[999,12,1009,12],[958,12,968,12],[969,12,978,12],[979,12,988,12],[989,12,998,12],[928,12,937,12],[483,12,493,12],[768,12,779,12],[671,12,684,12],[701,12,712,12],[713,12,724,12],[725,12,737,12],[738,12,752,12],[753,12,767,12],[609,12,619,12],[620,12,630,12],[631,12,643,12],[644,12,656,12],[657,12,670,12],[74,12,80,12],[81,12,90,12],[28,12,32,12],[160,12,168,12],[169,12,173,12],[141,12,145,12],[146,12,154,12],[155,12,159,12],[62,12,66,12],[3,12,6,12],[7,12,10,12],[11,12,17,12],[18,12,22,12],[23,12,27,12],[67,12,73,12],[33,12,42,12],[43,12,47,12],[48,12,56,12],[57,12,61,12],[193,12,201,12],[258,12,268,12],[226,12,232,12],[233,12,239,12],[174,12,178,12],[202,12,208,12],[217,12,225,12],[91,12,97,12],[98,12,105,12],[106,12,115,12],[116,12,119,12],[120,12,123,12],[124,12,130,12],[131,12,135,12],[209,12,216,12],[247,12,257,12],[240,12,246,12],[1136,12,1146,12],[1046,12,1054,12],[1055,12,1065,12],[1066,12,1074,12],[1010,12,1018,12],[1075,12,1084,12],[1085,12,1094,12],[1095,12,1105,12],[1325,12,1326,12],[1250,12,1253,12],[1261,12,1262,12],[1263,12,1265,12],[1254,12,1260,12],[1266,12,1270,12],[1275,12,1276,12],[1277,12,1278,12],[1279,12,1280,12],[1282,12,1285,12],[1286,12,1289,12],[1290,12,1293,12],[1294,12,1298,12],[1229,12,1232,12],[1233,12,1237,12],[1244,12,1246,12],[1370,12,1371,12],[1372,12,1373,12],[1345,12,1346,12],[1347,12,1348,12],[1349,12,1350,12],[1351,12,1354,12],[1355,12,1358,12],[1359,12,1364,12],[1327,12,1328,12],[1329,12,1330,12],[1331,12,1334,12],[1335,12,1338,12],[1339,12,1344,12],[1368,12,1369,12],[1397,12,1398,12],[1399,12,1400,12],[1415,12,1418,12],[1419,12,1420,12],[1407,12,1408,12],[1409,12,1410,12],[1411,12,1412,12],[1413,12,1414,12],[1374,12,1377,12],[1378,12,1381,12],[1382,12,1387,12],[1388,12,1390,12],[1391,12,1393,12],[1394,12,1396,12],[1247,12,1249,12],[1238,12,1243,12],[1318,12,1321,12],[1299,12,1301,12],[1302,12,1304,12],[1305,12,1307,12],[1308,12,1313,12],[1314,12,1315,12],[1316,12,1317,12],[1019,12,1027,12],[1028,12,1036,12],[1037,12,1045,12],[418,12,424,12],[425,12,431,12],[432,12,438,12],[439,12,449,12],[450,12,460,12],[461,12,471,12],[472,12,482,12],[805,12,814,12],[826,12,836,12],[837,12,846,12],[847,12,857,12],[916,12,927,12],[780,12,787,12],[788,12,794,12],[685,12,692,12],[693,12,700,12],[795,12,804,12],[815,12,825,12],[897,12,906,12],[907,12,915,12],[858,12,868,12],[1,13,1,14],[597,12,608,12],[544,12,557,12],[558,12,568,12],[569,12,582,12],[583,12,596,12],[494,12,504,12],[505,12,515,12],[516,12,529,12],[339,12,352,12],[406,12,417,12],[280,12,290,12],[291,12,301,12],[302,12,312,12],[313,12,323,12],[392,12,405,12],[353,12,366,12],[367,12,377,12],[378,12,391,12],[324,12,338,12],[136,12,140,12],[179,12,185,12],[186,12,192,12],[530,12,543,12]]}
[null,1,2,4,5,6,7,8,9,10,17,18,null,{"$f":"COUNTIF(N4:N1421,\"つなぎまちがい\")","v":0},{"$f":"COUNTIF(O4:O1421,\"つなぎまちがい\")","v":0}]
["ﾃﾞｰﾀ№","ｽﾄﾛｰｸ長","有効ｽﾄﾛｰｸ補正","基準ｹﾞｲﾝ用搬送質量","水平可搬質量","垂直可搬質量","最大速度","位置ｹﾞｲﾝ","FFｹﾞｲﾝ","速度制御帯域","前ﾃﾞｰﾀ№","次ﾃﾞｰﾀ№","備考","ﾚｺｰﾄﾞﾘﾝｸのﾁｪｯｸ"]
[{"$f":"ModelData!A3","v":0},"㎜","㎜","1g","1g","1g","㎜/s","1/s","%","rad/s",null,null,null,"前ﾃﾞｰﾀ","次ﾃﾞｰﾀ"]
[{"$f":"A3+1","v":1},600,0,55000,77000,14000,240,30,0,120,-1,{"$f":"A5","v":2},"ISB-SXM-60-4",{"$f":"IF(K4=A3,\"○\",IF(M4<>0,\"先頭\",\"つなぎまちがい\"))","v":"先頭"},{"$f":"IF(L4=A5,\"○\",IF(L4<>K5,\"つなぎまちがい\",\"終端\"))","v":"○"}]
[2,700,0,55000,77000,14000,165,30,0,120,{"$f":"A4","v":1},{"$f":"A6","v":3},null,"○","○"]
[3,800,0,55000,77000,14000,130,30,0,120,{"$f":"A5","v":2},{"$f":"A7","v":4},null,"○","○"]
[4,900,0,55000,77000,14000,100,30,0,120,{"$f":"A6","v":3},-1,null,"○","終端"]
[5,600,0,27500,40500,7000,480,35,0,93,-1,{"$f":"A9","v":6},"ISB-SXM-60-8","先頭","○"]
[6,700,0,27500,40500,7000,330,35,0,93,{"$f":"A8","v":5},{"$f":"A10","v":7},null,"○","○"]
[7,800,0,27500,40500,7000,260,35,0,93,{"$f":"A9","v":6},{"$f":"A11","v":8},null,"○","○"]
[8,900,0,27500,40500,7000,210,35,0,93,{"$f":"A10","v":7},-1,null,"○","終端"]
[9,300,0,13000,19500,3500,960,30,0,85,-1,{"$f":"A13","v":10},"ISB-SXM-60-16","先頭","○"]
[10,400,0,13000,19500,3500,960,30,0,85,{"$f":"A12","v":9},11,null,"○","○"]
[11,500,0,13000,19500,3500,960,30,0,85,10,12,null,"○","○"]
[12,600,0,13000,19500,3500,960,30,0,85,11,13,null,"○","○"]
[13,700,0,13000,19500,3500,655,20,0,120,12,14,null,"○","○"]
[14,800,0,13000,19500,3500,515,20,0,120,13,15,null,"○","○"]
[15,900,0,13000,19500,3500,415,20,0,120,14,-1,null,"○","終端"]
[16,700,0,85000,119000,20000,300,30,0,120,-1,{"$f":"A20","v":17},"ISB-MXM-100-5","先頭","○"]
[17,800,0,85000,119000,20000,215,30,0,120,{"$f":"A19","v":16},{"$f":"A21","v":18},null,"○","○"]
[18,900,0,85000,119000,20000,170,30,0,120,{"$f":"A20","v":17},{"$f":"A22","v":19},null,"○","○"]
[19,1000,0,85000,119000,20000,140,30,0,120,{"$f":"A21","v":18},{"$f":"A23","v":20},null,"○","○"]
[20,1100,0,85000,119000,20000,115,30,0,120,{"$f":"A22","v":19},-1,null,"○","終端"]
[21,700,0,45000,67500,10000,600,35,0,93,-1,{"$f":"A25","v":22},"ISB-MXM-100-10","先頭","○"]
[22,800,0,45000,67500,10000,430,35,0,93,{"$f":"A24","v":21},{"$f":"A26","v":23},null,"○","○"]
[23,900,0,45000,67500,10000,345,35,0,93,{"$f":"A25","v":22},{"$f":"A27","v":24},null,"○","○"]
[24,1000,0,45000,67500,10000,280,35,0,93,{"$f":"A26","v":23},{"$f":"A28","v":25},null,"○","○"]
[25,1100,0,45000,67500,10000,230,35,0,93,{"$f":"A27","v":24},-1,null,"○","終端"]
[26,700,0,23000,34500,-1,1200,35,0,93,-1,{"$f":"A30","v":27},"ISB-MXM-100-20","先頭","○"]
[27,800,0,23000,34500,-1,860,30,0,85,{"$f":"A29","v":26},{"$f":"A31","v":28},null,"○","○"]
[28,900,0,23000,34500,-1,695,30,0,85,{"$f":"A30","v":27},{"$f":"A32","v":29},null,"○","○"]
[29,1000,0,23000,34500,-1,570,30,0,85,{"$f":"A31","v":28},{"$f":"A33","v":30},null,"○","○"]
[30,1100,0,23000,34500,-1,460,30,0,85,{"$f":"A32","v":29},-1,null,"○","終端"]
[31,100,0,15000,22500,-1,1800,30,0,100,-1,{"$f":"A35","v":32},"ISB-MXM-100-30","先頭","○"]
[32,200,0,15000,22500,-1,1800,30,0,100,{"$f":"A34","v":31},33,null,"○","○"]
[33,400,0,15000,22500,-1,1800,30,0,100,32,34,null,"○","○"]
[34,500,0,15000,22500,-1,1800,30,0,100,33,35,null,"○","○"]
[35,600,0,15000,22500,-1,1800,30,0,100,34,36,null,"○","○"]
[36,700,0,15000,22500,-1,1800,30,0,100,35,37,null,"○","○"]
[37,800,0,15000,22500,-1,1290,30,0,100,36,38,null,"○","○"]
[38,900,0,15000,22500,-1,1045,30,0,100,37,39,null,"○","○"]
[39,1000,0,15000,22500,-1,860,30,0,100,38,40,null,"○","○"]
[40,1100,0,15000,22500,-1,690,30,0,100,39,-1,null,"○","終端"]
[41,700,0,110000,154000,40000,300,30,0,120,-1,{"$f":"A45","v":42},"ISB-MXM-200-5","先頭","○"]
[42,800,0,110000,154000,40000,215,30,0,120,{"$f":"A44","v":41},{"$f":"A46","v":43},null,"○","○"]
[43,900,0,110000,154000,40000,170,30,0,120,{"$f":"A45","v":42},{"$f":"A47","v":44},null,"○","○"]
[44,1000,0,110000,154000,40000,140,30,0,120,{"$f":"A46","v":43},{"$f":"A48","v":45},null,"○","○"]
[45,1100,0,110000,154000,40000,115,30,0,120,{"$f":"A47","v":44},-1,null,"○","終端"]
[46,300,0,90000,135000,20000,600,30,0,85,-1,{"$f":"A50","v":47},"ISB-MXM-200-10","先頭","○"]
[47,400,0,90000,135000,20000,600,30,0,85,{"$f":"A49","v":46},48,null,"○","○"]
[48,500,0,90000,135000,20000,600,30,0,85,47,49,null,"○","○"]
[49,600,0,90000,135000,20000,600,30,0,85,48,50,null,"○","○"]
[50,700,0,90000,135000,20000,600,30,0,85,49,51,null,"○","○"]
[51,800,0,90000,135000,20000,430,30,0,85,50,52,null,"○","○"]
[52,900,0,90000,135000,20000,345,30,0,85,51,53,null,"○","○"]
[53,1000,0,90000,135000,20000,280,30,0,85,52,54,null,"○","○"]
[54,1100,0,90000,135000,20000,230,30,0,85,53,-1,null,"○","終端"]
[55,700,0,45000,67500,-1,1200,30,0,85,-1,{"$f":"A59","v":56},"ISB-MXM-200-20","先頭","○"]
[56,800,0,45000,67500,-1,860,30,0,85,{"$f":"A58","v":55},{"$f":"A60","v":57},null,"○","○"]
[57,900,0,45000,67500,-1,695,30,0,85,{"$f":"A59","v":56},{"$f":"A61","v":58},null,"○","○"]
[58,1000,0,45000,67500,-1,570,30,0,85,{"$f":"A60","v":57},{"$f":"A62","v":59},null,"○","○"]
[59,1100,0,45000,67500,-1,460,30,0,85,{"$f":"A61","v":58},-1,null,"○","終端"]
[60,700,0,30000,45000,-1,1800,30,0,80,-1,{"$f":"A64","v":61},"ISB-MXM-200-30","先頭","○"]
[61,800,0,30000,45000,-1,1290,30,0,80,{"$f":"A63","v":60},{"$f":"A65","v":62},null,"○","○"]
[62,900,0,30000,45000,-1,1045,30,0,80,{"$f":"A64","v":61},{"$f":"A66","v":63},null,"○","○"]
[63,1000,0,30000,45000,-1,860,30,0,80,{"$f":"A65","v":62},{"$f":"A67","v":64},null,"○","○"]
[64,1100,0,30000,45000,-1,690,30,0,80,{"$f":"A66","v":63},-1,null,"○","終端"]
[{"$f":"A67+1","v":65},600,0,90000,135000,20000,600,35,0,93,-1,{"$f":"A69","v":66},"ISB-LXM-200-10",{"$f":"IF(K68=A67,\"○\",IF(M68<>0,\"先頭\",\"つなぎまちがい\"))","v":"先頭"},{"$f":"IF(L68=A69,\"○\",IF(L68<>K69,\"つなぎまちがい\",\"終端\"))","v":"○"}]
[66,800,0,90000,135000,20000,600,35,0,93,{"$f":"A68","v":65},67,null,"○","○"]
[67,900,0,90000,135000,20000,460,35,0,93,66,68,null,"○","○"]
[68,1000,0,90000,135000,20000,380,35,0,93,67,69,null,"○","○"]
[69,1100,0,90000,135000,20000,320,35,0,93,68,70,null,"○","○"]
[70,1200,0,90000,135000,20000,270,35,0,93,69,71,null,"○","○"]
[71,1300,0,90000,135000,20000,220,35,0,93,70,-1,null,"○","終端"]
[72,500,0,45000,67500,10000,1200,35,0,93,-1,{"$f":"A76","v":73},"ISB-LXM-200-20","先頭","○"]
[73,800,0,45000,67500,10000,1200,35,0,93,{"$f":"A75","v":72},74,null,"○","○"]
[74,900,0,45000,67500,10000,920,35,0,93,73,75,null,"○","○"]
[75,1000,0,45000,67500,10000,765,35,0,93,74,76,null,"○","○"]
[76,1100,0,45000,67500,10000,645,35,0,93,75,77,null,"○","○"]
[77,1200,0,45000,67500,10000,550,35,0,93,76,78,null,"○","○"]
[78,1300,0,45000,67500,10000,440,35,0,93,77,-1,null,"○","終端"]
[79,100,0,15000,22500,-1,2400,30,0,80,-1,{"$f":"A83","v":80},"ISB-LXM-200-40","先頭","○"]
[80,300,0,15000,22500,-1,2400,30,0,80,{"$f":"A82","v":79},81,null,"○","○"]
[81,500,0,15000,22500,-1,2400,30,0,80,80,82,null,"○","○"]
[82,700,0,15000,22500,-1,2400,30,0,80,81,83,null,"○","○"]
[83,800,0,15000,22500,-1,2400,30,0,80,82,84,null,"○","○"]
[84,900,0,15000,22500,-1,1840,30,0,80,83,85,null,"○","○"]
[85,1000,0,15000,22500,-1,1530,30,0,80,84,86,null,"○","○"]
[86,1100,0,15000,22500,-1,1290,30,0,80,85,87,null,"○","○"]
[87,1200,0,15000,22500,-1,1100,30,0,80,86,88,null,"○","○"]
[88,1300,0,15000,22500,-1,880,30,0,80,87,-1,null,"○","終端"]
[89,500,0,120000,180000,40000,600,25,0,120,-1,{"$f":"A93","v":90},"ISB-LXM-400-10","先頭","○"]
[90,800,0,120000,180000,40000,600,25,0,120,{"$f":"A92","v":89},91,null,"○","○"]
[91,900,0,120000,180000,40000,460,25,0,120,90,92,null,"○","○"]
[92,1000,0,120000,180000,40000,380,25,0,120,91,93,null,"○","○"]
[93,1100,0,120000,180000,40000,320,25,0,120,92,94,null,"○","○"]
[94,1200,0,120000,180000,40000,270,25,0,120,93,95,null,"○","○"]
[95,1300,0,120000,180000,40000,220,25,0,120,94,-1,null,"○","終端"]
[96,500,0,90000,135000,20000,1200,25,0,120,-1,{"$f":"A100","v":97},"ISB-LXM-400-20","先頭","○"]
[97,700,0,90000,135000,20000,1200,25,0,120,{"$f":"A99","v":96},98,null,"○","○"]
[98,800,0,90000,135000,20000,1200,25,0,120,97,99,null,"○","○"]
[99,900,0,90000,135000,20000,920,25,0,120,98,100,null,"○","○"]
[100,1000,0,90000,135000,20000,765,25,0,120,99,101,null,"○","○"]
[101,1100,0,90000,135000,20000,645,25,0,120,100,102,null,"○","○"]
[102,1200,0,90000,135000,20000,550,25,0,120,101,103,null,"○","○"]
[103,1300,0,90000,135000,20000,440,25,0,120,102,-1,null,"○","終端"]
[104,100,0,40000,60000,-1,2400,30,0,80,-1,{"$f":"A108","v":105},"ISB-LXM-400-40","先頭","○"]
[105,300,0,40000,60000,-1,2400,30,0,80,{"$f":"A107","v":104},106,null,"○","○"]
[106,500,0,40000,60000,-1,2400,30,0,80,105,107,null,"○","○"]
[107,700,0,40000,60000,-1,2400,30,0,80,106,108,null,"○","○"]
[108,800,0,40000,60000,-1,2400,30,0,80,107,109,null,"○","○"]
[109,900,0,40000,60000,-1,1840,30,0,80,108,110,null,"○","○"]
[110,1000,0,40000,60000,-1,1530,30,0,80,109,111,null,"○","○"]
[111,1100,0,40000,60000,-1,1290,30,0,80,110,112,null,"○","○"]
[112,1200,0,40000,60000,-1,1100,30,0,80,111,113,null,"○","○"]
[113,1300,0,40000,60000,-1,880,30,0,80,112,-1,null,"○","終端"]
[114,580,0,55000,77000,14000,240,30,0,120,-1,{"$f":"A118","v":115},"ISB-SXL-60-4","先頭","○"]
[115,680,0,55000,77000,14000,165,30,0,120,{"$f":"A117","v":114},{"$f":"A119","v":116},null,"○","○"]
[116,780,0,55000,77000,14000,130,30,0,120,{"$f":"A118","v":115},{"$f":"A120","v":117},null,"○","○"]
[117,880,0,55000,77000,14000,100,30,0,120,{"$f":"A119","v":116},-1,null,"○","終端"]
[118,580,0,27500,40500,7000,480,35,0,93,-1,{"$f":"A122","v":119},"ISB-SXL-60-8","先頭","○"]
[119,680,0,27500,40500,7000,330,35,0,93,{"$f":"A121","v":118},{"$f":"A123","v":120},null,"○","○"]
[120,780,0,27500,40500,7000,260,35,0,93,{"$f":"A122","v":119},{"$f":"A124","v":121},null,"○","○"]
[121,880,0,27500,40500,7000,210,35,0,93,{"$f":"A123","v":120},-1,null,"○","終端"]
[122,280,0,13000,19500,3500,960,30,0,85,-1,{"$f":"A126","v":123},"ISB-SXL-60-16","先頭","○"]
[123,380,0,13000,19500,3500,960,30,0,85,{"$f":"A125","v":122},124,null,"○","○"]
[124,480,0,13000,19500,3500,960,30,0,85,123,125,null,"○","○"]
[125,580,0,13000,19500,3500,960,30,0,85,124,126,null,"○","○"]
[126,680,0,13000,19500,3500,655,20,0,120,125,127,null,"○","○"]
[127,780,0,13000,19500,3500,515,20,0,120,126,128,null,"○","○"]
[128,880,0,13000,19500,3500,415,20,0,120,127,-1,null,"○","終端"]
[{"$f":"A131+1","v":129},670,0,85000,119000,20000,300,30,0,120,-1,{"$f":"A133","v":130},"ISB-MXL-100-5",{"$f":"IF(K132=A131,\"○\",IF(M132<>0,\"先頭\",\"つなぎまちがい\"))","v":"先頭"},{"$f":"IF(L132=A133,\"○\",IF(L132<>K133,\"つなぎまちがい\",\"終端\"))","v":"○"}]
[130,770,0,85000,119000,20000,215,30,0,120,{"$f":"A132","v":129},{"$f":"A134","v":131},null,"○","○"]
[131,870,0,85000,119000,20000,170,30,0,120,{"$f":"A133","v":130},{"$f":"A135","v":132},null,"○","○"]
[132,970,0,85000,119000,20000,140,30,0,120,{"$f":"A134","v":131},{"$f":"A136","v":133},null,"○","○"]
[133,1070,0,85000,119000,20000,115,30,0,120,{"$f":"A135","v":132},-1,null,"○","終端"]
[134,670,0,45000,67500,10000,600,35,0,93,-1,{"$f":"A138","v":135},"ISB-MXL-100-10","先頭","○"]
[135,770,0,45000,67500,10000,430,35,0,93,{"$f":"A137","v":134},{"$f":"A139","v":136},null,"○","○"]
[136,870,0,45000,67500,10000,345,35,0,93,{"$f":"A138","v":135},{"$f":"A140","v":137},null,"○","○"]
[137,970,0,45000,67500,10000,280,35,0,93,{"$f":"A139","v":136},{"$f":"A141","v":138},null,"○","○"]
[138,1070,0,45000,67500,10000,230,35,0,93,{"$f":"A140","v":137},-1,null,"○","終端"]
[139,670,0,23000,34500,-1,1200,35,0,93,-1,{"$f":"A143","v":140},"ISB-MXL-100-20","先頭","○"]
[140,770,0,23000,34500,-1,860,30,0,85,{"$f":"A142","v":139},{"$f":"A144","v":141},null,"○","○"]
[141,870,0,23000,34500,-1,695,30,0,85,{"$f":"A143","v":140},{"$f":"A145","v":142},null,"○","○"]
[142,970,0,23000,34500,-1,570,30,0,85,{"$f":"A144","v":141},{"$f":"A146","v":143},null,"○","○"]
[143,1070,0,23000,34500,-1,460,30,0,85,{"$f":"A145","v":142},-1,null,"○","終端"]
[144,170,0,15000,22500,-1,1800,30,0,100,-1,{"$f":"A148","v":145},"ISB-MXL-100-30","先頭","○"]
[145,370,0,15000,22500,-1,1800,30,0,100,{"$f":"A147","v":144},146,null,"○","○"]
[146,470,0,15000,22500,-1,1800,30,0,100,145,147,null,"○","○"]
[147,570,0,15000,22500,-1,1800,30,0,100,146,148,null,"○","○"]
[148,670,0,15000,22500,-1,1800,30,0,100,147,149,null,"○","○"]
[149,770,0,15000,22500,-1,1290,30,0,100,148,150,null,"○","○"]
[150,870,0,15000,22500,-1,1045,30,0,100,149,151,null,"○","○"]
[151,970,0,15000,22500,-1,860,30,0,100,150,152,null,"○","○"]
[152,1070,0,15000,22500,-1,690,30,0,100,151,-1,null,"○","終端"]
[153,670,0,110000,154000,40000,300,30,0,120,-1,{"$f":"A157","v":154},"ISB-MXL-200-5","先頭","○"]
[154,770,0,110000,154000,40000,215,30,0,120,{"$f":"A156","v":153},{"$f":"A158","v":155},null,"○","○"]
[155,870,0,110000,154000,40000,170,30,0,120,{"$f":"A157","v":154},{"$f":"A159","v":156},null,"○","○"]
[156,970,0,110000,154000,40000,140,30,0,120,{"$f":"A158","v":155},{"$f":"A160","v":157},null,"○","○"]
[157,1070,0,110000,154000,40000,115,30,0,120,{"$f":"A159","v":156},-1,null,"○","終端"]
[158,270,0,90000,135000,20000,600,30,0,85,-1,{"$f":"A162","v":159},"ISB-MXL-200-10","先頭","○"]
[159,370,0,90000,135000,20000,600,30,0,85,{"$f":"A161","v":158},160,null,"○","○"]
[160,470,0,90000,135000,20000,600,30,0,85,159,161,null,"○","○"]
[161,570,0,90000,135000,20000,600,30,0,85,160,162,null,"○","○"]
[162,670,0,90000,135000,20000,600,30,0,85,161,163,null,"○","○"]
[163,770,0,90000,135000,20000,430,30,0,85,162,164,null,"○","○"]
[164,870,0,90000,135000,20000,345,30,0,85,163,165,null,"○","○"]
[165,970,0,90000,135000,20000,280,30,0,85,164,166,null,"○","○"]
[166,1070,0,90000,135000,20000,230,30,0,85,165,-1,null,"○","終端"]
[167,670,0,45000,67500,-1,1200,30,0,85,-1,{"$f":"A171","v":168},"ISB-MXL-200-20","先頭","○"]
[168,770,0,45000,67500,-1,860,30,0,85,{"$f":"A170","v":167},{"$f":"A172","v":169},null,"○","○"]
[169,870,0,45000,67500,-1,695,30,0,85,{"$f":"A171","v":168},{"$f":"A173","v":170},null,"○","○"]
[170,970,0,45000,67500,-1,570,30,0,85,{"$f":"A172","v":169},{"$f":"A174","v":171},null,"○","○"]
[171,1070,0,45000,67500,-1,460,30,0,85,{"$f":"A173","v":170},-1,null,"○","終端"]
[172,670,0,30000,45000,-1,1800,30,0,80,-1,{"$f":"A176","v":173},"ISB-MXL-200-30","先頭","○"]
[173,770,0,30000,45000,-1,1290,30,0,80,{"$f":"A175","v":172},{"$f":"A177","v":174},null,"○","○"]
[174,870,0,30000,45000,-1,1045,30,0,80,{"$f":"A176","v":173},{"$f":"A178","v":175},null,"○","○"]
[175,970,0,30000,45000,-1,860,30,0,80,{"$f":"A177","v":174},{"$f":"A179","v":176},null,"○","○"]
[176,1070,0,30000,45000,-1,690,30,0,80,{"$f":"A178","v":175},-1,null,"○","終端"]
[177,570,0,90000,135000,20000,600,35,0,93,-1,{"$f":"A181","v":178},"ISB-LXL-200-10","先頭","○"]
[178,770,0,90000,135000,20000,600,35,0,93,{"$f":"A180","v":177},179,null,"○","○"]
[179,870,0,90000,135000,20000,460,35,0,93,178,180,null,"○","○"]
[180,970,0,90000,135000,20000,380,35,0,93,179,181,null,"○","○"]
[181,1070,0,90000,135000,20000,320,35,0,93,180,182,null,"○","○"]
[182,1170,0,90000,135000,20000,270,35,0,93,181,183,null,"○","○"]
[183,1270,0,90000,135000,20000,220,35,0,93,182,-1,null,"○","終端"]
[184,470,0,45000,67500,10000,1200,35,0,93,-1,{"$f":"A188","v":185},"ISB-LXL-200-20","先頭","○"]
[185,770,0,45000,67500,10000,1200,35,0,93,{"$f":"A187","v":184},186,null,"○","○"]
[186,870,0,45000,67500,10000,920,35,0,93,185,187,null,"○","○"]
[187,970,0,45000,67500,10000,765,35,0,93,186,188,null,"○","○"]
[188,1070,0,45000,67500,10000,645,35,0,93,187,189,null,"○","○"]
[189,1170,0,45000,67500,10000,550,35,0,93,188,190,null,"○","○"]
[190,1270,0,45000,67500,10000,440,35,0,93,189,-1,null,"○","終端"]
[191,270,0,15000,22500,-1,2400,30,0,80,-1,{"$f":"A195","v":192},"ISB-LXL-200-40","先頭","○"]
[192,470,0,15000,22500,-1,2400,30,0,80,{"$f":"A194","v":191},193,null,"○","○"]
[{"$f":"A195+1","v":193},670,0,15000,22500,-1,2400,30,0,80,192,194,null,{"$f":"IF(K196=A195,\"○\",IF(M196<>0,\"先頭\",\"つなぎまちがい\"))","v":"○"},{"$f":"IF(L196=A197,\"○\",IF(L196<>K197,\"つなぎまちがい\",\"終端\"))","v":"○"}]
[194,770,0,15000,22500,-1,2400,30,0,80,193,195,null,"○","○"]
[195,870,0,15000,22500,-1,1840,30,0,80,194,196,null,"○","○"]
[196,970,0,15000,22500,-1,1530,30,0,80,195,197,null,"○","○"]
[197,1070,0,15000,22500,-1,1290,30,0,80,196,198,null,"○","○"]
[198,1170,0,15000,22500,-1,1100,30,0,80,197,199,null,"○","○"]
[199,1270,0,15000,22500,-1,880,30,0,80,198,-1,null,"○","終端"]
[200,470,0,120000,180000,40000,600,25,0,120,-1,{"$f":"A204","v":201},"ISB-LXL-400-10","先頭","○"]
[201,770,0,120000,180000,40000,600,25,0,120,{"$f":"A203","v":200},202,null,"○","○"]
[202,870,0,120000,180000,40000,460,25,0,120,201,203,null,"○","○"]
[203,970,0,120000,180000,40000,380,25,0,120,202,204,null,"○","○"]
[204,1070,0,120000,180000,40000,320,25,0,120,203,205,null,"○","○"]
[205,1170,0,120000,180000,40000,270,25,0,120,204,206,null,"○","○"]
[206,1270,0,120000,180000,40000,220,25,0,120,205,-1,null,"○","終端"]
[207,470,0,90000,135000,20000,1200,25,0,120,-1,{"$f":"A211","v":208},"ISB-LXL-400-20","先頭","○"]
[208,670,0,90000,135000,20000,1200,25,0,120,{"$f":"A210","v":207},209,null,"○","○"]
[209,770,0,90000,135000,20000,1200,25,0,120,208,210,null,"○","○"]
[210,870,0,90000,135000,20000,920,25,0,120,209,211,null,"○","○"]
[211,970,0,90000,135000,20000,765,25,0,120,210,212,null,"○","○"]
[212,1070,0,90000,135000,20000,645,25,0,120,211,213,null,"○","○"]
[213,1170,0,90000,135000,20000,550,25,0,120,212,214,null,"○","○"]
[214,1270,0,90000,135000,20000,440,25,0,120,213,-1,null,"○","終端"]
[215,270,0,40000,60000,-1,2400,30,0,80,-1,{"$f":"A219","v":216},"ISB-LXL-400-40","先頭","○"]
[216,470,0,40000,60000,-1,2400,30,0,80,{"$f":"A218","v":215},217,null,"○","○"]
[217,670,0,40000,60000,-1,2400,30,0,80,216,218,null,"○","○"]
[218,770,0,40000,60000,-1,2400,30,0,80,217,219,null,"○","○"]
[219,870,0,40000,60000,-1,1840,30,0,80,218,220,null,"○","○"]
[220,970,0,40000,60000,-1,1530,30,0,80,219,221,null,"○","○"]
[221,1070,0,40000,60000,-1,1290,30,0,80,220,222,null,"○","○"]
[222,1170,0,40000,60000,-1,1100,30,0,80,221,223,null,"○","○"]
[223,1270,0,40000,60000,-1,880,30,0,80,222,-1,null,"○","終端"]
[224,500,0,55000,77000,14000,240,30,0,120,-1,{"$f":"A228","v":225},"ISDB-S-60-4","先頭","○"]
[225,550,0,55000,77000,14000,230,35,0,93,{"$f":"A227","v":224},226,null,"○","○"]
[226,600,0,55000,77000,14000,200,35,0,93,225,227,null,"○","○"]
[227,650,0,55000,77000,14000,170,35,0,93,226,228,null,"○","○"]
[228,700,0,55000,77000,14000,150,35,0,93,227,229,null,"○","○"]
[229,750,0,55000,77000,14000,135,35,0,93,228,230,null,"○","○"]
[230,800,0,55000,77000,14000,120,35,0,93,229,-1,null,"○","終端"]
[231,500,0,27000,40500,6000,480,30,0,80,-1,{"$f":"A235","v":232},"ISDB-S-60-8","先頭","○"]
[232,550,0,27000,40500,6000,460,30,0,80,{"$f":"A234","v":231},233,null,"○","○"]
[233,600,0,27000,40500,6000,400,30,0,80,232,234,null,"○","○"]
[234,650,0,27000,40500,6000,345,30,0,80,233,235,null,"○","○"]
[235,700,0,27000,40500,6000,305,30,0,80,234,236,null,"○","○"]
[236,750,0,27000,40500,6000,270,30,0,80,235,237,null,"○","○"]
[237,800,0,27000,40500,6000,240,30,0,80,236,-1,null,"○","終端"]
[238,500,0,13000,19500,3000,960,30,0,80,-1,{"$f":"A242","v":239},"ISDB-S-60-16","先頭","○"]
[239,550,0,13000,19500,3000,920,30,0,80,{"$f":"A241","v":238},240,null,"○","○"]
[240,600,0,13000,19500,3000,795,30,0,80,239,241,null,"○","○"]
[241,650,0,13000,19500,3000,690,30,0,80,240,242,null,"○","○"]
[242,700,0,13000,19500,3000,610,30,0,80,241,243,null,"○","○"]
[243,750,0,13000,19500,3000,540,30,0,80,242,244,null,"○","○"]
[244,800,0,13000,19500,3000,480,30,0,80,243,-1,null,"○","終端"]
[245,600,0,85000,119000,20000,300,30,0,120,-1,{"$f":"A249","v":246},"ISDB-M-100-5","先頭","○"]
[246,650,0,85000,119000,20000,270,30,0,80,{"$f":"A248","v":245},247,null,"○","○"]
[247,700,0,85000,119000,20000,240,30,0,80,246,248,null,"○","○"]
[248,750,0,85000,119000,20000,215,30,0,80,247,249,null,"○","○"]
[249,800,0,85000,119000,20000,190,30,0,80,248,250,null,"○","○"]
[250,850,0,85000,119000,20000,170,30,0,80,249,251,null,"○","○"]
[251,900,0,85000,119000,20000,155,30,0,80,250,252,null,"○","○"]
[252,950,0,85000,119000,20000,140,30,0,80,251,253,null,"○","○"]
[253,1000,0,85000,119000,20000,130,30,0,80,252,254,null,"○","○"]
[254,1050,0,85000,119000,20000,120,30,0,80,253,255,null,"○","○"]
[255,1100,0,85000,119000,20000,110,30,0,80,254,-1,null,"○","終端"]
[256,600,0,45000,67500,10000,600,35,0,93,-1,{"$f":"A260","v":257},"ISDB-M-100-10","先頭","○"]
[{"$f":"A259+1","v":257},650,0,45000,67500,10000,545,35,0,93,{"$f":"A259","v":256},258,null,{"$f":"IF(K260=A259,\"○\",IF(M260<>0,\"先頭\",\"つなぎまちがい\"))","v":"○"},{"$f":"IF(L260=A261,\"○\",IF(L260<>K261,\"つなぎまちがい\",\"終端\"))","v":"○"}]
[258,700,0,45000,67500,10000,480,35,0,93,257,259,null,"○","○"]
[259,750,0,45000,67500,10000,430,35,0,93,258,260,null,"○","○"]
[260,800,0,45000,67500,10000,380,35,0,93,259,261,null,"○","○"]
[261,850,0,45000,67500,10000,345,35,0,93,260,262,null,"○","○"]
[262,900,0,45000,67500,10000,310,35,0,93,261,263,null,"○","○"]
[263,950,0,45000,67500,10000,285,35,0,93,262,264,null,"○","○"]
[264,1000,0,45000,67500,10000,260,35,0,93,263,265,null,"○","○"]
[265,1050,0,45000,67500,10000,240,35,0,93,264,266,null,"○","○"]
[266,1100,0,45000,67500,10000,220,35,0,93,265,-1,null,"○","終端"]
[267,600,0,23000,34500,-1,1200,30,0,80,-1,{"$f":"A271","v":268},"ISDB-M-100-20","先頭","○"]
[268,650,0,23000,34500,-1,1085,30,0,80,{"$f":"A270","v":267},269,null,"○","○"]
[269,700,0,23000,34500,-1,960,30,0,80,268,270,null,"○","○"]
[270,750,0,23000,34500,-1,855,30,0,80,269,271,null,"○","○"]
[271,800,0,23000,34500,-1,765,30,0,80,270,272,null,"○","○"]
[272,850,0,23000,34500,-1,690,30,0,80,271,273,null,"○","○"]
[273,900,0,23000,34500,-1,625,30,0,80,272,274,null,"○","○"]
[274,950,0,23000,34500,-1,570,30,0,80,273,275,null,"○","○"]
[275,1000,0,23000,34500,-1,520,30,0,80,274,276,null,"○","○"]
[276,1050,0,23000,34500,-1,475,30,0,80,275,277,null,"○","○"]
[277,1100,0,23000,34500,-1,440,30,0,80,276,-1,null,"○","終端"]
[278,600,0,15000,22500,-1,1800,30,0,80,-1,{"$f":"A282","v":279},"ISDB-M-100-30","先頭","○"]
[279,650,0,15000,22500,-1,1630,30,0,80,{"$f":"A281","v":278},280,null,"○","○"]
[280,700,0,15000,22500,-1,1440,30,0,80,279,281,null,"○","○"]
[281,750,0,15000,22500,-1,1280,30,0,80,280,282,null,"○","○"]
[282,800,0,15000,22500,-1,1150,30,0,80,281,283,null,"○","○"]
[283,850,0,15000,22500,-1,1035,30,0,80,282,284,null,"○","○"]
[284,900,0,15000,22500,-1,935,30,0,80,283,285,null,"○","○"]
[285,950,0,15000,22500,-1,850,30,0,80,284,286,null,"○","○"]
[286,1000,0,15000,22500,-1,780,30,0,80,285,287,null,"○","○"]
[287,1050,0,15000,22500,-1,715,30,0,80,286,288,null,"○","○"]
[288,1100,0,15000,22500,-1,660,30,0,80,287,-1,null,"○","終端"]
[289,600,0,110000,154000,40000,300,30,0,120,-1,{"$f":"A293","v":290},"ISDB-M-200-5","先頭","○"]
[290,650,0,110000,154000,40000,270,30,0,80,{"$f":"A292","v":289},291,null,"○","○"]
[291,700,0,110000,154000,40000,240,30,0,80,290,292,null,"○","○"]
[292,750,0,110000,154000,40000,215,30,0,80,291,293,null,"○","○"]
[293,800,0,110000,154000,40000,190,30,0,80,292,294,null,"○","○"]
[294,850,0,110000,154000,40000,170,30,0,80,293,295,null,"○","○"]
[295,900,0,110000,154000,40000,155,30,0,80,294,296,null,"○","○"]
[296,950,0,110000,154000,40000,140,30,0,80,295,297,null,"○","○"]
[297,1000,0,110000,154000,40000,130,30,0,80,296,298,null,"○","○"]
[298,1050,0,110000,154000,40000,120,30,0,80,297,299,null,"○","○"]
[299,1100,0,110000,154000,40000,110,30,0,80,298,-1,null,"○","終端"]
[300,600,0,90000,135000,20000,600,30,0,80,-1,{"$f":"A304","v":301},"ISDB-M-200-10","先頭","○"]
[301,650,0,90000,135000,20000,545,30,0,80,{"$f":"A303","v":300},302,null,"○","○"]
[302,700,0,90000,135000,20000,480,30,0,80,301,303,null,"○","○"]
[303,750,0,90000,135000,20000,430,30,0,80,302,304,null,"○","○"]
[304,800,0,90000,135000,20000,380,30,0,80,303,305,null,"○","○"]
[305,850,0,90000,135000,20000,345,30,0,80,304,306,null,"○","○"]
[306,900,0,90000,135000,20000,310,30,0,80,305,307,null,"○","○"]
[307,950,0,90000,135000,20000,285,30,0,80,306,308,null,"○","○"]
[308,1000,0,90000,135000,20000,260,30,0,80,307,309,null,"○","○"]
[309,1050,0,90000,135000,20000,240,30,0,80,308,310,null,"○","○"]
[310,1100,0,90000,135000,20000,220,30,0,80,309,-1,null,"○","終端"]
[311,600,0,45000,67500,-1,1200,30,0,80,-1,{"$f":"A315","v":312},"ISDB-M-200-20","先頭","○"]
[312,650,0,45000,67500,-1,1085,30,0,80,{"$f":"A314","v":311},313,null,"○","○"]
[313,700,0,45000,67500,-1,960,30,0,80,312,314,null,"○","○"]
[314,750,0,45000,67500,-1,855,30,0,80,313,315,null,"○","○"]
[315,800,0,45000,67500,-1,765,30,0,80,314,316,null,"○","○"]
[316,850,0,45000,67500,-1,690,30,0,80,315,317,null,"○","○"]
[317,900,0,45000,67500,-1,625,30,0,80,316,318,null,"○","○"]
[318,950,0,45000,67500,-1,570,30,0,80,317,319,null,"○","○"]
[319,1000,0,45000,67500,-1,520,30,0,80,318,320,null,"○","○"]
[320,1050,0,45000,67500,-1,475,30,0,80,319,321,null,"○","○"]
[{"$f":"A323+1","v":321},1100,0,45000,67500,-1,440,30,0,80,320,-1,null,{"$f":"IF(K324=A323,\"○\",IF(M324<>0,\"先頭\",\"つなぎまちがい\"))","v":"○"},{"$f":"IF(L324=A325,\"○\",IF(L324<>K325,\"つなぎまちがい\",\"終端\"))","v":"終端"}]
[{"$f":"A324+1","v":322},200,0,30000,45000,-1,1800,30,0,80,-1,{"$f":"A326","v":323},"ISDB-M-200-30","先頭","○"]
[{"$f":"A325+1","v":323},300,0,30000,45000,-1,1800,30,0,80,{"$f":"A325","v":322},324,null,"○","○"]
[{"$f":"A326+1","v":324},400,0,30000,45000,-1,1800,30,0,80,323,325,null,"○","○"]
[325,500,0,30000,45000,-1,1800,30,0,80,324,326,null,"○","○"]
[326,600,0,30000,45000,-1,1800,30,0,80,325,327,null,"○","○"]
[327,650,0,30000,45000,-1,1630,30,0,80,326,328,null,"○","○"]
[328,700,0,30000,45000,-1,1440,30,0,80,327,329,null,"○","○"]
[329,750,0,30000,45000,-1,1280,30,0,80,328,330,null,"○","○"]
[330,800,0,30000,45000,-1,1150,30,0,80,329,331,null,"○","○"]
[331,850,0,30000,45000,-1,1035,30,0,80,330,332,null,"○","○"]
[332,900,0,30000,45000,-1,935,30,0,80,331,333,null,"○","○"]
[333,950,0,30000,45000,-1,850,30,0,80,332,334,null,"○","○"]
[334,1000,0,30000,45000,-1,780,30,0,80,333,335,null,"○","○"]
[335,1050,0,30000,45000,-1,715,30,0,80,334,336,null,"○","○"]
[336,1100,0,30000,45000,-1,660,30,0,80,335,-1,null,"○","終端"]
[337,650,0,90000,135000,20000,600,35,0,93,-1,{"$f":"A341","v":338},"ISDB-L-200-10","先頭","○"]
[338,700,0,90000,135000,20000,585,35,0,93,{"$f":"A340","v":337},339,null,"○","○"]
[339,750,0,90000,135000,20000,520,35,0,93,338,340,null,"○","○"]
[340,800,0,90000,135000,20000,470,35,0,93,339,341,null,"○","○"]
[341,850,0,90000,135000,20000,425,35,0,93,340,342,null,"○","○"]
[342,900,0,90000,135000,20000,385,35,0,93,341,343,null,"○","○"]
[343,950,0,90000,135000,20000,350,35,0,93,342,344,null,"○","○"]
[344,1000,0,90000,135000,20000,320,35,0,93,343,345,null,"○","○"]
[345,1050,0,90000,135000,20000,295,35,0,93,344,346,null,"○","○"]
[346,1100,0,90000,135000,20000,275,35,0,93,345,347,null,"○","○"]
[347,1150,0,90000,135000,20000,255,35,0,93,346,348,null,"○","○"]
[348,1200,0,90000,135000,20000,235,35,0,93,347,349,null,"○","○"]
[349,1250,0,90000,135000,20000,220,35,0,93,348,350,null,"○","○"]
[350,1300,0,90000,135000,20000,205,35,0,93,349,-1,null,"○","終端"]
[351,650,0,45000,67500,9000,1200,30,0,80,-1,{"$f":"A355","v":352},"ISDB-L-200-20","先頭","○"]
[352,700,0,45000,67500,9000,1165,30,0,80,{"$f":"A354","v":351},353,null,"○","○"]
[353,750,0,45000,67500,9000,1045,30,0,80,352,354,null,"○","○"]
[354,800,0,45000,67500,9000,940,30,0,80,353,355,null,"○","○"]
[355,850,0,45000,67500,9000,850,30,0,80,354,356,null,"○","○"]
[356,900,0,45000,67500,9000,770,30,0,80,355,357,null,"○","○"]
[357,950,0,45000,67500,9000,705,30,0,80,356,358,null,"○","○"]
[358,1000,0,45000,67500,9000,645,30,0,80,357,359,null,"○","○"]
[359,1050,0,45000,67500,9000,595,30,0,80,358,360,null,"○","○"]
[360,1100,0,45000,67500,9000,545,30,0,80,359,361,null,"○","○"]
[361,1150,0,45000,67500,9000,505,30,0,80,360,362,null,"○","○"]
[362,1200,0,45000,67500,9000,470,30,0,80,361,363,null,"○","○"]
[363,1250,0,45000,67500,9000,440,30,0,80,362,364,null,"○","○"]
[364,1300,0,45000,67500,9000,410,30,0,80,363,-1,null,"○","終端"]
[365,800,0,15000,22500,-1,1800,30,0,80,-1,{"$f":"A369","v":366},"ISDB-L-200-40","先頭","○"]
[366,850,0,15000,22500,-1,1700,30,0,80,{"$f":"A368","v":365},367,null,"○","○"]
[367,900,0,15000,22500,-1,1540,30,0,80,366,368,null,"○","○"]
[368,950,0,15000,22500,-1,1410,30,0,80,367,369,null,"○","○"]
[369,1000,0,15000,22500,-1,1290,30,0,80,368,370,null,"○","○"]
[370,1050,0,15000,22500,-1,1185,30,0,80,369,371,null,"○","○"]
[371,1100,0,15000,22500,-1,1095,30,0,80,370,372,null,"○","○"]
[372,1150,0,15000,22500,-1,1015,30,0,80,371,373,null,"○","○"]
[373,1200,0,15000,22500,-1,940,30,0,80,372,374,null,"○","○"]
[374,1250,0,15000,22500,-1,875,30,0,80,373,375,null,"○","○"]
[375,1300,0,15000,22500,-1,815,30,0,80,374,-1,null,"○","終端"]
[376,650,0,120000,180000,40000,600,25,0,80,-1,{"$f":"A380","v":377},"ISDB-L-400-10","先頭","○"]
[377,700,0,120000,180000,40000,585,25,0,80,{"$f":"A379","v":376},378,null,"○","○"]
[378,750,0,120000,180000,40000,520,25,0,80,377,379,null,"○","○"]
[379,800,0,120000,180000,40000,470,25,0,80,378,380,null,"○","○"]
[380,850,0,120000,180000,40000,425,25,0,80,379,381,null,"○","○"]
[381,900,0,120000,180000,40000,385,25,0,80,380,382,null,"○","○"]
[382,950,0,120000,180000,40000,350,25,0,80,381,383,null,"○","○"]
[383,1000,0,120000,180000,40000,320,25,0,80,382,384,null,"○","○"]
[384,1050,0,120000,180000,40000,295,25,0,80,383,385,null,"○","○"]
[385,1100,0,120000,180000,40000,275,25,0,80,384,386,null,{"$f":"IF(K388=A387,\"○\",IF(M388<>0,\"先頭\",\"つなぎまちがい\"))","v":"○"},{"$f":"IF(L388=A389,\"○\",IF(L388<>K389,\"つなぎまちがい\",\"終端\"))","v":"○"}]
[{"$f":"A388+1","v":386},1150,0,120000,180000,40000,255,25,0,80,385,387,null,"○","○"]
[387,1200,0,120000,180000,40000,235,25,0,80,386,388,null,"○","○"]
[388,1250,0,120000,180000,40000,220,25,0,80,387,389,null,"○","○"]
[389,1300,0,120000,180000,40000,205,25,0,80,388,-1,null,"○","終端"]
[390,650,0,90000,135000,20000,1200,30,0,80,-1,{"$f":"A394","v":391},"ISDB-L-400-20","先頭","○"]
[391,700,0,90000,135000,20000,1165,30,0,80,{"$f":"A393","v":390},392,null,"○","○"]
[392,750,0,90000,135000,20000,1045,30,0,80,391,393,null,"○","○"]
[393,800,0,90000,135000,20000,940,30,0,80,392,394,null,"○","○"]
[394,850,0,90000,135000,20000,850,30,0,80,393,395,null,"○","○"]
[395,900,0,90000,135000,20000,770,30,0,80,394,396,null,"○","○"]
[396,950,0,90000,135000,20000,705,30,0,80,395,397,null,"○","○"]
[397,1000,0,90000,135000,20000,645,30,0,80,396,398,null,"○","○"]
[398,1050,0,90000,135000,20000,595,30,0,80,397,399,null,"○","○"]
[399,1100,0,90000,135000,20000,545,30,0,80,398,400,null,"○","○"]
[400,1150,0,90000,135000,20000,505,30,0,80,399,401,null,"○","○"]
[401,1200,0,90000,135000,20000,470,30,0,80,400,402,null,"○","○"]
[402,1250,0,90000,135000,20000,440,30,0,80,401,403,null,"○","○"]
[403,1300,0,90000,135000,20000,410,30,0,80,402,-1,null,"○","終端"]
[404,700,0,40000,60000,-1,1800,30,0,80,-1,{"$f":"A408","v":405},"ISDB-L-400-40","先頭","○"]
[405,800,0,40000,60000,-1,1800,30,0,80,{"$f":"A407","v":404},406,null,"○","○"]
[406,850,0,40000,60000,-1,1700,30,0,80,405,407,null,"○","○"]
[407,900,0,40000,60000,-1,1540,30,0,80,406,408,null,"○","○"]
[408,950,0,40000,60000,-1,1410,30,0,80,407,409,null,"○","○"]
[409,1000,0,40000,60000,-1,1290,30,0,80,408,410,null,"○","○"]
[410,1050,0,40000,60000,-1,1185,30,0,80,409,411,null,"○","○"]
[411,1100,0,40000,60000,-1,1095,30,0,80,410,412,null,"○","○"]
[412,1150,0,40000,60000,-1,1015,30,0,80,411,413,null,"○","○"]
[413,1200,0,40000,60000,-1,940,30,0,80,412,414,null,"○","○"]
[414,1250,0,40000,60000,-1,875,30,0,80,413,415,null,"○","○"]
[415,1300,0,40000,60000,-1,815,30,0,80,414,-1,null,"○","終端"]
[416,500,0,55000,71000,14000,240,30,0,120,-1,{"$f":"A420","v":417},"ISDBCR-S-60-4","先頭","○"]
[417,550,0,55000,71000,14000,230,35,0,93,{"$f":"A419","v":416},418,null,"○","○"]
[418,600,0,55000,71000,14000,200,35,0,93,417,419,null,"○","○"]
[419,650,0,55000,71000,14000,170,35,0,93,418,420,null,"○","○"]
[420,700,0,55000,71000,14000,150,35,0,93,419,421,null,"○","○"]
[421,750,0,55000,71000,14000,135,35,0,93,420,422,null,"○","○"]
[422,800,0,55000,71000,14000,120,35,0,93,421,-1,null,"○","終端"]
[423,500,0,27000,35000,6000,480,30,0,80,-1,{"$f":"A427","v":424},"ISDBCR-S-60-8","先頭","○"]
[424,550,0,27000,35000,6000,460,30,0,80,{"$f":"A426","v":423},425,null,"○","○"]
[425,600,0,27000,35000,6000,400,30,0,80,424,426,null,"○","○"]
[426,650,0,27000,35000,6000,345,30,0,80,425,427,null,"○","○"]
[427,700,0,27000,35000,6000,305,30,0,80,426,428,null,"○","○"]
[428,750,0,27000,35000,6000,270,30,0,80,427,429,null,"○","○"]
[429,800,0,27000,35000,6000,240,30,0,80,428,-1,null,"○","終端"]
[430,500,0,13000,17000,3000,960,30,0,80,-1,{"$f":"A434","v":431},"ISDBCR-S-60-16","先頭","○"]
[431,550,0,13000,17000,3000,920,30,0,80,{"$f":"A433","v":430},432,null,"○","○"]
[432,600,0,13000,17000,3000,795,30,0,80,431,433,null,"○","○"]
[433,650,0,13000,17000,3000,690,30,0,80,432,434,null,"○","○"]
[434,700,0,13000,17000,3000,610,30,0,80,433,435,null,"○","○"]
[435,750,0,13000,17000,3000,540,30,0,80,434,436,null,"○","○"]
[436,800,0,13000,17000,3000,480,30,0,80,435,-1,null,"○","終端"]
[437,600,0,85000,110000,20000,300,30,0,120,-1,{"$f":"A441","v":438},"ISDBCR-M-100-5","先頭","○"]
[438,650,0,85000,110000,20000,270,30,0,80,{"$f":"A440","v":437},439,null,"○","○"]
[439,700,0,85000,110000,20000,240,30,0,80,438,440,null,"○","○"]
[440,750,0,85000,110000,20000,215,30,0,80,439,441,null,"○","○"]
[441,800,0,85000,110000,20000,190,30,0,80,440,442,null,"○","○"]
[442,850,0,85000,110000,20000,170,30,0,80,441,443,null,"○","○"]
[443,900,0,85000,110000,20000,155,30,0,80,442,444,null,"○","○"]
[444,950,0,85000,110000,20000,140,30,0,80,443,445,null,"○","○"]
[445,1000,0,85000,110000,20000,130,30,0,80,444,446,null,"○","○"]
[446,1050,0,85000,110000,20000,120,30,0,80,445,447,null,"○","○"]
[447,1100,0,85000,110000,20000,110,30,0,80,446,-1,null,"○","終端"]
[448,600,0,45000,58500,10000,600,35,0,93,-1,{"$f":"A452","v":449},"ISDBCR-M-100-10","先頭","○"]
[449,650,0,45000,58500,10000,545,35,0,93,{"$f":"A451","v":448},450,null,{"$f":"IF(K452=A451,\"○\",IF(M452<>0,\"先頭\",\"つなぎまちがい\"))","v":"○"},{"$f":"IF(L452=A453,\"○\",IF(L452<>K453,\"つなぎまちがい\",\"終端\"))","v":"○"}]
[{"$f":"A452+1","v":450},700,0,45000,58500,10000,480,35,0,93,449,451,null,"○","○"]
[451,750,0,45000,58500,10000,430,35,0,93,450,452,null,"○","○"]
[452,800,0,45000,58500,10000,380,35,0,93,451,453,null,"○","○"]
[453,850,0,45000,58500,10000,345,35,0,93,452,454,null,"○","○"]
[454,900,0,45000,58500,10000,310,35,0,93,453,455,null,"○","○"]
[455,950,0,45000,58500,10000,285,35,0,93,454,456,null,"○","○"]
[456,1000,0,45000,58500,10000,260,35,0,93,455,457,null,"○","○"]
[457,1050,0,45000,58500,10000,240,35,0,93,456,458,null,"○","○"]
[458,1100,0,45000,58500,10000,220,35,0,93,457,-1,null,"○","終端"]
[459,600,0,23000,30000,-1,1200,30,0,80,-1,{"$f":"A463","v":460},"ISDBCR-M-100-20","先頭","○"]
[460,650,0,23000,30000,-1,1085,30,0,80,{"$f":"A462","v":459},461,null,"○","○"]
[461,700,0,23000,30000,-1,960,30,0,80,460,462,null,"○","○"]
[462,750,0,23000,30000,-1,855,30,0,80,461,463,null,"○","○"]
[463,800,0,23000,30000,-1,765,30,0,80,462,464,null,"○","○"]
[464,850,0,23000,30000,-1,690,30,0,80,463,465,null,"○","○"]
[465,900,0,23000,30000,-1,625,30,0,80,464,466,null,"○","○"]
[466,950,0,23000,30000,-1,570,30,0,80,465,467,null,"○","○"]
[467,1000,0,23000,30000,-1,520,30,0,80,466,468,null,"○","○"]
[468,1050,0,23000,30000,-1,475,30,0,80,467,469,null,"○","○"]
[469,1100,0,23000,30000,-1,440,30,0,80,468,-1,null,"○","終端"]
[470,600,0,15000,19500,-1,1800,30,0,80,-1,{"$f":"A474","v":471},"ISDBCR-M-100-30","先頭","○"]
[471,650,0,15000,19500,-1,1630,30,0,80,{"$f":"A473","v":470},472,null,"○","○"]
[472,700,0,15000,19500,-1,1440,30,0,80,471,473,null,"○","○"]
[473,750,0,15000,19500,-1,1280,30,0,80,472,474,null,"○","○"]
[474,800,0,15000,19500,-1,1150,30,0,80,473,475,null,"○","○"]
[475,850,0,15000,19500,-1,1035,30,0,80,474,476,null,"○","○"]
[476,900,0,15000,19500,-1,935,30,0,80,475,477,null,"○","○"]
[477,950,0,15000,19500,-1,850,30,0,80,476,478,null,"○","○"]
[478,1000,0,15000,19500,-1,780,30,0,80,477,479,null,"○","○"]
[479,1050,0,15000,19500,-1,715,30,0,80,478,480,null,"○","○"]
[480,1100,0,15000,19500,-1,660,30,0,80,479,-1,null,"○","終端"]
[481,600,0,110000,143000,40000,300,30,0,120,-1,{"$f":"A485","v":482},"ISDBCR-M-200-5","先頭","○"]
[482,650,0,110000,143000,40000,270,30,0,80,{"$f":"A484","v":481},483,null,"○","○"]
[483,700,0,110000,143000,40000,240,30,0,80,482,484,null,"○","○"]
[484,750,0,110000,143000,40000,215,30,0,80,483,485,null,"○","○"]
[485,800,0,110000,143000,40000,190,30,0,80,484,486,null,"○","○"]
[486,850,0,110000,143000,40000,170,30,0,80,485,487,null,"○","○"]
[487,900,0,110000,143000,40000,155,30,0,80,486,488,null,"○","○"]
[488,950,0,110000,143000,40000,140,30,0,80,487,489,null,"○","○"]
[489,1000,0,110000,143000,40000,130,30,0,80,488,490,null,"○","○"]
[490,1050,0,110000,143000,40000,120,30,0,80,489,491,null,"○","○"]
[491,1100,0,110000,143000,40000,110,30,0,80,490,-1,null,"○","終端"]
[492,600,0,90000,117000,20000,600,30,0,80,-1,{"$f":"A496","v":493},"ISDBCR-M-200-10","先頭","○"]
[493,650,0,90000,117000,20000,545,30,0,80,{"$f":"A495","v":492},494,null,"○","○"]
[494,700,0,90000,117000,20000,480,30,0,80,493,495,null,"○","○"]
[495,750,0,90000,117000,20000,430,30,0,80,494,496,null,"○","○"]
[496,800,0,90000,117000,20000,380,30,0,80,495,497,null,"○","○"]
[497,850,0,90000,117000,20000,345,30,0,80,496,498,null,"○","○"]
[498,900,0,90000,117000,20000,310,30,0,80,497,499,null,"○","○"]
[499,950,0,90000,117000,20000,285,30,0,80,498,500,null,"○","○"]
[500,1000,0,90000,117000,20000,260,30,0,80,499,501,null,"○","○"]
[501,1050,0,90000,117000,20000,240,30,0,80,500,502,null,"○","○"]
[502,1100,0,90000,117000,20000,220,30,0,80,501,-1,null,"○","終端"]
[503,600,0,45000,58500,-1,1200,30,0,80,-1,{"$f":"A507","v":504},"ISDBCR-M-200-20","先頭","○"]
[504,650,0,45000,58500,-1,1085,30,0,80,{"$f":"A506","v":503},505,null,"○","○"]
[505,700,0,45000,58500,-1,960,30,0,80,504,506,null,"○","○"]
[506,750,0,45000,58500,-1,855,30,0,80,505,507,null,"○","○"]
[507,800,0,45000,58500,-1,765,30,0,80,506,508,null,"○","○"]
[508,850,0,45000,58500,-1,690,30,0,80,507,509,null,"○","○"]
[509,900,0,45000,58500,-1,625,30,0,80,508,510,null,"○","○"]
[510,950,0,45000,58500,-1,570,30,0,80,509,511,null,"○","○"]
[511,1000,0,45000,58500,-1,520,30,0,80,510,512,null,"○","○"]
[512,1050,0,45000,58500,-1,475,30,0,80,511,513,null,"○","○"]
[513,1100,0,45000,58500,-1,440,30,0,80,512,-1,null,{"$f":"IF(K516=A515,\"○\",IF(M516<>0,\"先頭\",\"つなぎまちがい\"))","v":"○"},{"$f":"IF(L516=A517,\"○\",IF(L516<>K517,\"つなぎまちがい\",\"終端\"))","v":"終端"}]
[{"$f":"A516+1","v":514},200,0,30000,39000,-1,1800,25,0,80,-1,{"$f":"A518","v":515},"ISDBCR-M-200-30","先頭","○"]
[515,400,0,30000,39000,-1,1800,25,0,80,{"$f":"A517","v":514},516,null,"○","○"]
[516,500,0,30000,39000,-1,1800,25,0,80,515,517,null,"○","○"]
[517,600,0,30000,39000,-1,1800,25,0,80,516,518,null,"○","○"]
[518,650,0,30000,39000,-1,1630,25,0,80,517,519,null,"○","○"]
[519,700,0,30000,39000,-1,1440,25,0,80,518,520,null,"○","○"]
[520,750,0,30000,39000,-1,1280,25,0,80,519,521,null,"○","○"]
[521,800,0,30000,39000,-1,1150,25,0,80,520,522,null,"○","○"]
[522,850,0,30000,39000,-1,1035,25,0,80,521,523,null,"○","○"]
[523,900,0,30000,39000,-1,935,25,0,80,522,524,null,"○","○"]
[524,950,0,30000,39000,-1,850,25,0,80,523,525,null,"○","○"]
[525,1000,0,30000,39000,-1,780,25,0,80,524,526,null,"○","○"]
[526,1050,0,30000,39000,-1,715,25,0,80,525,527,null,"○","○"]
[527,1100,0,30000,39000,-1,660,25,0,80,526,-1,null,"○","終端"]
[528,650,0,90000,117000,20000,600,35,0,93,-1,{"$f":"A532","v":529},"ISDBCR-L-200-10","先頭","○"]
[529,700,0,90000,117000,20000,585,35,0,93,{"$f":"A531","v":528},530,null,"○","○"]
[530,750,0,90000,117000,20000,520,35,0,93,529,531,null,"○","○"]
[531,800,0,90000,117000,20000,470,35,0,93,530,532,null,"○","○"]
[532,850,0,90000,117000,20000,425,35,0,93,531,533,null,"○","○"]
[533,900,0,90000,117000,20000,385,35,0,93,532,534,null,"○","○"]
[534,950,0,90000,117000,20000,350,35,0,93,533,535,null,"○","○"]
[535,1000,0,90000,117000,20000,320,35,0,93,534,536,null,"○","○"]
[536,1050,0,90000,117000,20000,295,35,0,93,535,537,null,"○","○"]
[537,1100,0,90000,117000,20000,275,35,0,93,536,538,null,"○","○"]
[538,1150,0,90000,117000,20000,255,35,0,93,537,539,null,"○","○"]
[539,1200,0,90000,117000,20000,235,35,0,93,538,540,null,"○","○"]
[540,1250,0,90000,117000,20000,220,35,0,93,539,541,null,"○","○"]
[541,1300,0,90000,117000,20000,205,35,0,93,540,-1,null,"○","終端"]
[542,650,0,45000,58500,9000,1200,30,0,80,-1,{"$f":"A546","v":543},"ISDBCR-L-200-20","先頭","○"]
[543,700,0,45000,58500,9000,1165,30,0,80,{"$f":"A545","v":542},544,null,"○","○"]
[544,750,0,45000,58500,9000,1045,30,0,80,543,545,null,"○","○"]
[545,800,0,45000,58500,9000,940,30,0,80,544,546,null,"○","○"]
[546,850,0,45000,58500,9000,850,30,0,80,545,547,null,"○","○"]
[547,900,0,45000,58500,9000,770,30,0,80,546,548,null,"○","○"]
[548,950,0,45000,58500,9000,705,30,0,80,547,549,null,"○","○"]
[549,1000,0,45000,58500,9000,645,30,0,80,548,550,null,"○","○"]
[550,1050,0,45000,58500,9000,595,30,0,80,549,551,null,"○","○"]
[551,1100,0,45000,58500,9000,545,30,0,80,550,552,null,"○","○"]
[552,1150,0,45000,58500,9000,505,30,0,80,551,553,null,"○","○"]
[553,1200,0,45000,58500,9000,470,30,0,80,552,554,null,"○","○"]
[554,1250,0,45000,58500,9000,440,30,0,80,553,555,null,"○","○"]
[555,1300,0,45000,58500,9000,410,30,0,80,554,-1,null,"○","終端"]
[556,800,0,15000,19500,-1,1800,30,0,80,-1,{"$f":"A560","v":557},"ISDBCR-L-200-40","先頭","○"]
[557,850,0,15000,19500,-1,1700,30,0,80,{"$f":"A559","v":556},558,null,"○","○"]
[558,900,0,15000,19500,-1,1540,30,0,80,557,559,null,"○","○"]
[559,950,0,15000,19500,-1,1410,30,0,80,558,560,null,"○","○"]
[560,1000,0,15000,19500,-1,1290,30,0,80,559,561,null,"○","○"]
[561,1050,0,15000,19500,-1,1185,30,0,80,560,562,null,"○","○"]
[562,1100,0,15000,19500,-1,1095,30,0,80,561,563,null,"○","○"]
[563,1150,0,15000,19500,-1,1015,30,0,80,562,564,null,"○","○"]
[564,1200,0,15000,19500,-1,940,30,0,80,563,565,null,"○","○"]
[565,1250,0,15000,19500,-1,875,30,0,80,564,566,null,"○","○"]
[566,1300,0,15000,19500,-1,815,30,0,80,565,-1,null,"○","終端"]
[567,650,0,120000,156000,40000,600,25,0,80,-1,{"$f":"A571","v":568},"ISDBCR-L-400-10","先頭","○"]
[568,700,0,120000,156000,40000,585,25,0,80,{"$f":"A570","v":567},569,null,"○","○"]
[569,750,0,120000,156000,40000,520,25,0,80,568,570,null,"○","○"]
[570,800,0,120000,156000,40000,470,25,0,80,569,571,null,"○","○"]
[571,850,0,120000,156000,40000,425,25,0,80,570,572,null,"○","○"]
[572,900,0,120000,156000,40000,385,25,0,80,571,573,null,"○","○"]
[573,950,0,120000,156000,40000,350,25,0,80,572,574,null,"○","○"]
[574,1000,0,120000,156000,40000,320,25,0,80,573,575,null,"○","○"]
[575,1050,0,120000,156000,40000,295,25,0,80,574,576,null,"○","○"]
[576,1100,0,120000,156000,40000,275,25,0,80,575,577,null,"○","○"]
[577,1150,0,120000,156000,40000,255,25,0,80,576,578,null,{"$f":"IF(K580=A579,\"○\",IF(M580<>0,\"先頭\",\"つなぎまちがい\"))","v":"○"},{"$f":"IF(L580=A581,\"○\",IF(L580<>K581,\"つなぎまちがい\",\"終端\"))","v":"○"}]
[{"$f":"A580+1","v":578},1200,0,120000,156000,40000,235,25,0,80,577,579,null,"○","○"]
[579,1250,0,120000,156000,40000,220,25,0,80,578,580,null,"○","○"]
[580,1300,0,120000,156000,40000,205,25,0,80,579,-1,null,"○","終端"]
[581,650,0,90000,117000,20000,1200,30,0,80,-1,{"$f":"A585","v":582},"ISDBCR-L-400-20","先頭","○"]
[582,700,0,90000,117000,20000,1165,30,0,80,{"$f":"A584","v":581},583,null,"○","○"]
[583,750,0,90000,117000,20000,1045,30,0,80,582,584,null,"○","○"]
[584,800,0,90000,117000,20000,940,30,0,80,583,585,null,"○","○"]
[585,850,0,90000,117000,20000,850,30,0,80,584,586,null,"○","○"]
[586,900,0,90000,117000,20000,770,30,0,80,585,587,null,"○","○"]
[587,950,0,90000,117000,20000,705,30,0,80,586,588,null,"○","○"]
[588,1000,0,90000,117000,20000,645,30,0,80,587,589,null,"○","○"]
[589,1050,0,90000,117000,20000,595,30,0,80,588,590,null,"○","○"]
[590,1100,0,90000,117000,20000,545,30,0,80,589,591,null,"○","○"]
[591,1150,0,90000,117000,20000,505,30,0,80,590,592,null,"○","○"]
[592,1200,0,90000,117000,20000,470,30,0,80,591,593,null,"○","○"]
[593,1250,0,90000,117000,20000,440,30,0,80,592,594,null,"○","○"]
[594,1300,0,90000,117000,20000,410,30,0,80,593,-1,null,"○","終端"]
[595,700,0,40000,52000,-1,1800,30,0,80,-1,{"$f":"A599","v":596},"ISDBCR-L-400-40","先頭","○"]
[596,800,0,40000,52000,-1,1800,30,0,80,{"$f":"A598","v":595},597,null,"○","○"]
[597,850,0,40000,52000,-1,1700,30,0,80,596,598,null,"○","○"]
[598,900,0,40000,52000,-1,1540,30,0,80,597,599,null,"○","○"]
[599,950,0,40000,52000,-1,1410,30,0,80,598,600,null,"○","○"]
[600,1000,0,40000,52000,-1,1290,30,0,80,599,601,null,"○","○"]
[601,1050,0,40000,52000,-1,1185,30,0,80,600,602,null,"○","○"]
[602,1100,0,40000,52000,-1,1095,30,0,80,601,603,null,"○","○"]
[603,1150,0,40000,52000,-1,1015,30,0,80,602,604,null,"○","○"]
[604,1200,0,40000,52000,-1,940,30,0,80,603,605,null,"○","○"]
[605,1250,0,40000,52000,-1,875,30,0,80,604,606,null,"○","○"]
[606,1300,0,40000,52000,-1,815,30,0,80,605,-1,null,"○","終端"]
[607,600,0,90000,135000,-1,600,30,0,120,-1,{"$f":"A611","v":608},"SSPA-SXM-200-10","先頭","○"]
[608,{"$f":"B610+50","v":650},0,90000,135000,-1,560,30,0,120,{"$f":"A610","v":607},609,null,"○","○"]
[609,700,0,90000,135000,-1,490,30,0,120,608,610,null,"○","○"]
[610,750,0,90000,135000,-1,440,30,0,120,609,611,null,"○","○"]
[611,800,0,90000,135000,-1,390,30,0,120,610,612,null,"○","○"]
[612,850,0,90000,135000,-1,350,30,0,120,611,613,null,"○","○"]
[613,900,0,90000,135000,-1,320,30,0,120,612,614,null,"○","○"]
[614,950,0,90000,135000,-1,290,30,0,120,613,615,null,"○","○"]
[615,1000,0,90000,135000,-1,260,30,0,120,614,616,null,"○","○"]
[616,1050,0,90000,135000,-1,240,30,0,120,615,617,null,"○","○"]
[617,1100,0,90000,135000,-1,220,30,0,120,616,-1,null,"○","終端"]
[618,600,0,45000,67500,-1,1200,30,0,80,-1,{"$f":"A622","v":619},"SSPA-SXM-200-20","先頭","○"]
[619,{"$f":"B621+50","v":650},0,45000,67500,-1,1120,30,0,80,{"$f":"A621","v":618},620,null,"○","○"]
[620,700,0,45000,67500,-1,990,30,0,80,619,621,null,"○","○"]
[621,750,0,45000,67500,-1,880,30,0,80,620,622,null,"○","○"]
[622,800,0,45000,67500,-1,780,30,0,80,621,623,null,"○","○"]
[623,850,0,45000,67500,-1,710,30,0,80,622,624,null,"○","○"]
[624,900,0,45000,67500,-1,640,30,0,80,623,625,null,"○","○"]
[625,950,0,45000,67500,-1,580,30,0,80,624,626,null,"○","○"]
[626,1000,0,45000,67500,-1,530,30,0,80,625,627,null,"○","○"]
[627,1050,0,45000,67500,-1,480,30,0,80,626,628,null,"○","○"]
[628,1100,0,45000,67500,-1,440,30,0,80,627,-1,null,"○","終端"]
[629,200,0,30000,45000,-1,1800,30,0,80,-1,{"$f":"A633","v":630},"SSPA-SXM-200-30","先頭","○"]
[630,400,0,30000,45000,-1,1800,30,0,80,{"$f":"A632","v":629},631,null,"○","○"]
[631,600,0,30000,45000,-1,1800,30,0,80,630,632,null,"○","○"]
[632,{"$f":"B634+50","v":650},0,30000,45000,-1,1680,30,0,80,631,633,null,"○","○"]
[633,700,0,30000,45000,-1,1480,30,0,80,632,634,null,"○","○"]
[634,750,0,30000,45000,-1,1320,30,0,80,633,635,null,"○","○"]
[635,800,0,30000,45000,-1,1180,30,0,80,634,636,null,"○","○"]
[636,850,0,30000,45000,-1,1060,30,0,80,635,637,null,"○","○"]
[637,900,0,30000,45000,-1,960,30,0,80,636,638,null,"○","○"]
[638,950,0,30000,45000,-1,870,30,0,80,637,639,null,"○","○"]
[639,1000,0,30000,45000,-1,790,30,0,80,638,640,null,"○","○"]
[640,1050,0,30000,45000,-1,730,30,0,80,639,641,null,"○","○"]
[641,1100,0,30000,45000,-1,670,30,0,80,640,-1,null,{"$f":"IF(K644=A643,\"○\",IF(M644<>0,\"先頭\",\"つなぎまちがい\"))","v":"○"},{"$f":"IF(L644=A645,\"○\",IF(L644<>K645,\"つなぎまちがい\",\"終端\"))","v":"終端"}]
[{"$f":"A644+1","v":642},700,0,120000,180000,-1,600,30,0,120,-1,{"$f":"A646","v":643},"SSPA-MXM-400-10","先頭","○"]
[643,{"$f":"B645+50","v":750},0,120000,180000,-1,530,30,0,120,{"$f":"A645","v":642},644,null,"○","○"]
[644,800,0,120000,180000,-1,480,30,0,120,643,645,null,"○","○"]
[645,850,0,120000,180000,-1,430,30,0,120,644,646,null,"○","○"]
[646,900,0,120000,180000,-1,390,30,0,120,645,647,null,"○","○"]
[647,950,0,120000,180000,-1,360,30,0,120,646,648,null,"○","○"]
[648,1000,0,120000,180000,-1,330,30,0,120,647,649,null,"○","○"]
[649,1050,0,120000,180000,-1,300,30,0,120,648,650,null,"○","○"]
[650,1100,0,120000,180000,-1,280,30,0,120,649,651,null,"○","○"]
[651,1150,0,120000,180000,-1,250,30,0,120,650,652,null,"○","○"]
[652,1200,0,120000,180000,-1,240,30,0,120,651,653,null,"○","○"]
[653,1250,0,120000,180000,-1,220,30,0,120,652,654,null,"○","○"]
[654,1300,0,120000,180000,-1,200,30,0,120,653,-1,null,"○","終端"]
[655,300,0,90000,135000,-1,1200,30,0,80,-1,{"$f":"A659","v":656},"SSPA-MXM-400-20","先頭","○"]
[656,700,0,90000,135000,-1,1200,30,0,80,{"$f":"A658","v":655},657,null,"○","○"]
[657,{"$f":"B659+50","v":750},0,90000,135000,-1,1070,30,0,80,656,658,null,"○","○"]
[658,800,0,90000,135000,-1,960,30,0,80,657,659,null,"○","○"]
[659,850,0,90000,135000,-1,870,30,0,80,658,660,null,"○","○"]
[660,900,0,90000,135000,-1,790,30,0,80,659,661,null,"○","○"]
[661,950,0,90000,135000,-1,720,30,0,80,660,662,null,"○","○"]
[662,1000,0,90000,135000,-1,660,30,0,80,661,663,null,"○","○"]
[663,1050,0,90000,135000,-1,600,30,0,80,662,664,null,"○","○"]
[664,1100,0,90000,135000,-1,560,30,0,80,663,665,null,"○","○"]
[665,1150,0,90000,135000,-1,510,30,0,80,664,666,null,"○","○"]
[666,1200,0,90000,135000,-1,480,30,0,80,665,667,null,"○","○"]
[667,1250,0,90000,135000,-1,440,30,0,80,666,668,null,"○","○"]
[668,1300,0,90000,135000,-1,410,30,0,80,667,-1,null,"○","終端"]
[669,500,0,45000,67500,-1,2400,30,0,80,-1,{"$f":"A673","v":670},"SSPA-MXM-400-40","先頭","○"]
[670,700,0,45000,67500,-1,2400,30,0,80,{"$f":"A672","v":669},671,null,"○","○"]
[671,{"$f":"B673+50","v":750},0,45000,67500,-1,2150,30,0,80,670,672,null,"○","○"]
[672,800,0,45000,67500,-1,1930,30,0,80,671,673,null,"○","○"]
[673,850,0,45000,67500,-1,1740,30,0,80,672,674,null,"○","○"]
[674,900,0,45000,67500,-1,1580,30,0,80,673,675,null,"○","○"]
[675,950,0,45000,67500,-1,1440,30,0,80,674,676,null,"○","○"]
[676,1000,0,45000,67500,-1,1320,30,0,80,675,677,null,"○","○"]
[677,1050,0,45000,67500,-1,1210,30,0,80,676,678,null,"○","○"]
[678,1100,0,45000,67500,-1,1120,30,0,80,677,679,null,"○","○"]
[679,1150,0,45000,67500,-1,1030,30,0,80,678,680,null,"○","○"]
[680,1200,0,45000,67500,-1,960,30,0,80,679,681,null,"○","○"]
[681,1250,0,45000,67500,-1,890,30,0,80,680,682,null,"○","○"]
[682,1300,0,45000,67500,-1,830,30,0,80,681,-1,null,"○","終端"]
[683,500,0,120000,180000,-1,1250,30,0,80,-1,{"$f":"A687","v":684},"SSPA-LXM-750-25","先頭","○"]
[684,900,0,120000,180000,-1,1250,30,0,80,{"$f":"A686","v":683},685,null,"○","○"]
[685,1000,0,120000,180000,-1,1160,30,0,80,684,686,null,"○","○"]
[686,1100,0,120000,180000,-1,970,30,0,80,685,687,null,"○","○"]
[687,1200,0,120000,180000,-1,830,30,0,80,686,688,null,"○","○"]
[688,1300,0,120000,180000,-1,720,30,0,80,687,689,null,"○","○"]
[689,1400,0,120000,180000,-1,620,30,0,80,688,690,null,"○","○"]
[690,1500,0,120000,180000,-1,550,30,0,80,689,-1,null,"○","終端"]
[691,400,0,60000,90000,-1,2500,30,0,80,-1,{"$f":"A695","v":692},"SSPA-LXM-750-50","先頭","○"]
[692,900,0,60000,90000,-1,2500,30,0,80,{"$f":"A694","v":691},693,null,"○","○"]
[693,1000,0,60000,90000,-1,2320,30,0,80,692,694,null,"○","○"]
[694,1100,0,60000,90000,-1,1950,30,0,80,693,695,null,"○","○"]
[695,1200,0,60000,90000,-1,1660,30,0,80,694,696,null,"○","○"]
[696,1300,0,60000,90000,-1,1440,30,0,80,695,697,null,"○","○"]
[697,1400,0,60000,90000,-1,1250,30,0,80,696,698,null,"○","○"]
[698,1500,0,60000,90000,-1,1100,30,0,80,697,-1,null,"○","終端"]
[699,550,0,90000,117000,-1,600,30,0,120,-1,{"$f":"A703","v":700},"SSPDACR-S-200-10","先頭","○"]
[700,{"$f":"B702+50","v":600},0,90000,117000,-1,540,30,0,120,{"$f":"A702","v":699},701,null,"○","○"]
[701,650,0,90000,117000,-1,480,30,0,120,700,702,null,"○","○"]
[702,700,0,90000,117000,-1,430,30,0,120,701,703,null,"○","○"]
[703,750,0,90000,117000,-1,380,30,0,120,702,704,null,"○","○"]
[704,800,0,90000,117000,-1,340,30,0,120,703,705,null,"○","○"]
[705,850,0,90000,117000,-1,310,30,0,120,704,706,null,{"$f":"IF(K708=A707,\"○\",IF(M708<>0,\"先頭\",\"つなぎまちがい\"))","v":"○"},{"$f":"IF(L708=A709,\"○\",IF(L708<>K709,\"つなぎまちがい\",\"終端\"))","v":"○"}]
[{"$f":"A708+1","v":706},900,0,90000,117000,-1,280,30,0,120,705,707,null,"○","○"]
[707,950,0,90000,117000,-1,260,30,0,120,706,708,null,"○","○"]
[708,1000,0,90000,117000,-1,240,30,0,120,707,709,null,"○","○"]
[709,1050,0,90000,117000,-1,220,30,0,120,708,710,null,"○","○"]
[710,1100,0,90000,117000,-1,200,30,0,120,709,-1,null,"○","終端"]
[711,550,0,45000,58500,-1,1100,30,0,80,-1,{"$f":"A715","v":712},"SSPDACR-S-200-20","先頭","○"]
[712,{"$f":"B714+50","v":600},0,45000,58500,-1,1090,30,0,80,{"$f":"A714","v":711},713,null,"○","○"]
[713,650,0,45000,58500,-1,970,30,0,80,712,714,null,"○","○"]
[714,700,0,45000,58500,-1,860,30,0,80,713,715,null,"○","○"]
[715,750,0,45000,58500,-1,770,30,0,80,714,716,null,"○","○"]
[716,800,0,45000,58500,-1,690,30,0,80,715,717,null,"○","○"]
[717,850,0,45000,58500,-1,630,30,0,80,716,718,null,"○","○"]
[718,900,0,45000,58500,-1,570,30,0,80,717,719,null,"○","○"]
[719,950,0,45000,58500,-1,520,30,0,80,718,720,null,"○","○"]
[720,1000,0,45000,58500,-1,480,30,0,80,719,721,null,"○","○"]
[721,1050,0,45000,58500,-1,440,30,0,80,720,722,null,"○","○"]
[722,1100,0,45000,58500,-1,400,30,0,80,721,-1,null,"○","終端"]
[723,200,0,30000,39000,-1,1600,30,0,80,-1,{"$f":"A727","v":724},"SSPDACR-S-200-30","先頭","○"]
[724,400,0,30000,39000,-1,1600,30,0,80,{"$f":"A726","v":723},725,null,"○","○"]
[725,600,0,30000,39000,-1,1600,30,0,80,724,726,null,"○","○"]
[726,{"$f":"B728+50","v":650},0,30000,39000,-1,1450,30,0,80,725,727,null,"○","○"]
[727,700,0,30000,39000,-1,1290,30,0,80,726,728,null,"○","○"]
[728,750,0,30000,39000,-1,1160,30,0,80,727,729,null,"○","○"]
[729,800,0,30000,39000,-1,1040,30,0,80,728,730,null,"○","○"]
[730,850,0,30000,39000,-1,940,30,0,80,729,731,null,"○","○"]
[731,900,0,30000,39000,-1,860,30,0,80,730,732,null,"○","○"]
[732,950,0,30000,39000,-1,780,30,0,80,731,733,null,"○","○"]
[733,1000,0,30000,39000,-1,720,30,0,80,732,734,null,"○","○"]
[734,1050,0,30000,39000,-1,660,30,0,80,733,735,null,"○","○"]
[735,1100,0,30000,39000,-1,610,30,0,80,734,-1,null,"○","終端"]
[736,600,0,120000,156000,-1,600,30,0,120,-1,{"$f":"A740","v":737},"SSPDACR-M-400-10","先頭","○"]
[737,{"$f":"B739+50","v":650},0,120000,156000,-1,580,30,0,120,{"$f":"A739","v":736},738,null,"○","○"]
[738,700,0,120000,156000,-1,520,30,0,120,737,739,null,"○","○"]
[739,750,0,120000,156000,-1,470,30,0,120,738,740,null,"○","○"]
[740,800,0,120000,156000,-1,420,30,0,120,739,741,null,"○","○"]
[741,850,0,120000,156000,-1,380,30,0,120,740,742,null,"○","○"]
[742,900,0,120000,156000,-1,350,30,0,120,741,743,null,"○","○"]
[743,950,0,120000,156000,-1,320,30,0,120,742,744,null,"○","○"]
[744,1000,0,120000,156000,-1,290,30,0,120,743,745,null,"○","○"]
[745,1050,0,120000,156000,-1,270,30,0,120,744,746,null,"○","○"]
[746,1100,0,120000,156000,-1,250,30,0,120,745,747,null,"○","○"]
[747,1150,0,120000,156000,-1,230,30,0,120,746,748,null,"○","○"]
[748,1200,0,120000,156000,-1,220,30,0,120,747,749,null,"○","○"]
[749,1250,0,120000,156000,-1,200,30,0,120,748,750,null,"○","○"]
[750,1300,0,120000,156000,-1,190,30,0,120,749,-1,null,"○","終端"]
[751,300,0,90000,117000,-1,1100,30,0,80,-1,{"$f":"A755","v":752},"SSPDACR-M-400-20","先頭","○"]
[752,650,0,90000,117000,-1,1100,30,0,80,{"$f":"A754","v":751},753,null,"○","○"]
[753,700,0,90000,117000,-1,1040,30,0,80,752,754,null,"○","○"]
[754,{"$f":"B756+50","v":750},0,90000,117000,-1,940,30,0,80,753,755,null,"○","○"]
[755,800,0,90000,117000,-1,850,30,0,80,754,756,null,"○","○"]
[756,850,0,90000,117000,-1,770,30,0,80,755,757,null,"○","○"]
[757,900,0,90000,117000,-1,700,30,0,80,756,758,null,"○","○"]
[758,950,0,90000,117000,-1,640,30,0,80,757,759,null,"○","○"]
[759,1000,0,90000,117000,-1,590,30,0,80,758,760,null,"○","○"]
[760,1050,0,90000,117000,-1,550,30,0,80,759,761,null,"○","○"]
[761,1100,0,90000,117000,-1,500,30,0,80,760,762,null,"○","○"]
[762,1150,0,90000,117000,-1,470,30,0,80,761,763,null,"○","○"]
[763,1200,0,90000,117000,-1,440,30,0,80,762,764,null,"○","○"]
[764,1250,0,90000,117000,-1,410,30,0,80,763,765,null,"○","○"]
[765,1300,0,90000,117000,-1,380,30,0,80,764,-1,null,"○","終端"]
[766,500,0,45000,58500,-1,1600,30,0,80,-1,{"$f":"A770","v":767},"SSPDACR-M-400-40","先頭","○"]
[767,800,0,45000,58500,-1,1600,30,0,80,{"$f":"A769","v":766},768,null,"○","○"]
[768,{"$f":"B770+50","v":850},0,45000,58500,-1,1540,30,0,80,767,769,null,"○","○"]
[769,900,0,45000,58500,-1,1410,30,0,80,768,770,null,{"$f":"IF(K772=A771,\"○\",IF(M772<>0,\"先頭\",\"つなぎまちがい\"))","v":"○"},{"$f":"IF(L772=A773,\"○\",IF(L772<>K773,\"つなぎまちがい\",\"終端\"))","v":"○"}]
[{"$f":"A772+1","v":770},950,0,45000,58500,-1,1290,30,0,80,769,771,null,"○","○"]
[771,1000,0,45000,58500,-1,1180,30,0,80,770,772,null,"○","○"]
[772,1050,0,45000,58500,-1,1100,30,0,80,771,773,null,"○","○"]
[773,1100,0,45000,58500,-1,1010,30,0,80,772,774,null,"○","○"]
[774,1150,0,45000,58500,-1,940,30,0,80,773,775,null,"○","○"]
[775,1200,0,45000,58500,-1,880,30,0,80,774,776,null,"○","○"]
[776,1250,0,45000,58500,-1,820,30,0,80,775,777,null,"○","○"]
[777,1300,0,45000,58500,-1,760,30,0,80,776,-1,null,"○","終端"]
[778,500,0,120000,156000,-1,1100,30,0,80,-1,{"$f":"A782","v":779},"SSPDACR-L-750-25","先頭","○"]
[779,900,0,120000,156000,-1,1100,30,0,80,{"$f":"A781","v":778},780,null,"○","○"]
[780,1000,0,120000,156000,-1,1060,30,0,80,779,781,null,"○","○"]
[781,1100,0,120000,156000,-1,900,30,0,80,780,782,null,"○","○"]
[782,1200,0,120000,156000,-1,770,30,0,80,781,783,null,"○","○"]
[783,1300,0,120000,156000,-1,670,30,0,80,782,784,null,"○","○"]
[784,1400,0,120000,156000,-1,580,30,0,80,783,785,null,"○","○"]
[785,1500,0,120000,156000,-1,520,30,0,80,784,-1,null,"○","終端"]
[786,400,0,60000,78000,-1,1600,30,0,80,-1,{"$f":"A790","v":787},"SSPDACR-L-750-50","先頭","○"]
[787,900,0,60000,78000,-1,1600,30,0,80,{"$f":"A789","v":786},788,null,"○","○"]
[788,1100,0,60000,78000,-1,1600,30,0,80,787,789,null,"○","○"]
[789,1200,0,60000,78000,-1,1550,30,0,80,788,790,null,"○","○"]
[790,1300,0,60000,78000,-1,1340,30,0,80,789,791,null,"○","○"]
[791,1400,0,60000,78000,-1,1170,30,0,80,790,792,null,"○","○"]
[792,1500,0,60000,78000,-1,1040,30,0,80,791,-1,null,"○","終端"]
[793,650,0,80000,120000,16000,300,30,0,80,-1,{"$f":"A797","v":794},"RCS3-SA8C-100-5","先頭","○"]
[794,700,0,80000,120000,16000,260,30,0,80,{"$f":"A796","v":793},{"$f":"A798","v":795},null,"○","○"]
[795,750,0,80000,120000,16000,230,30,0,80,794,796,null,"○","○"]
[796,800,0,80000,120000,16000,200,30,0,80,795,797,null,"○","○"]
[797,850,0,80000,120000,16000,180,30,0,80,796,798,null,"○","○"]
[798,900,0,80000,120000,16000,170,30,0,80,797,799,null,"○","○"]
[799,950,0,80000,120000,16000,150,30,0,80,798,800,null,"○","○"]
[800,1000,0,80000,120000,16000,135,30,0,80,799,801,null,"○","○"]
[801,1050,0,80000,120000,16000,120,30,0,80,800,802,null,"○","○"]
[802,1100,0,80000,120000,16000,110,30,0,80,801,-1,null,"○","終端"]
[803,650,0,40000,60000,8000,600,30,0,80,-1,{"$f":"A807","v":804},"RCS3-SA8C-100-10","先頭","○"]
[804,700,0,40000,60000,8000,530,30,0,80,{"$f":"A806","v":803},{"$f":"A808","v":805},null,"○","○"]
[805,750,0,40000,60000,8000,470,30,0,80,804,806,null,"○","○"]
[806,800,0,40000,60000,8000,410,30,0,80,805,807,null,"○","○"]
[807,850,0,40000,60000,8000,370,30,0,80,806,808,null,"○","○"]
[808,900,0,40000,60000,8000,340,30,0,80,807,809,null,"○","○"]
[809,950,0,40000,60000,8000,310,30,0,80,808,810,null,"○","○"]
[810,1000,0,40000,60000,8000,270,30,0,80,809,811,null,"○","○"]
[811,1050,0,40000,60000,8000,250,30,0,80,810,812,null,"○","○"]
[812,1100,0,40000,60000,8000,230,30,0,80,811,-1,null,"○","終端"]
[813,600,0,20000,30000,4000,1330,30,0,80,-1,{"$f":"A817","v":814},"RCS3-SA8C-100-20","先頭","○"]
[814,650,0,20000,30000,4000,1200,30,0,80,{"$f":"A816","v":813},815,null,"○","○"]
[815,700,0,20000,30000,4000,1070,30,0,80,814,816,null,"○","○"]
[816,750,0,20000,30000,4000,940,30,0,80,815,817,null,"○","○"]
[817,800,0,20000,30000,4000,840,30,0,80,816,818,null,"○","○"]
[818,850,0,20000,30000,4000,750,30,0,80,817,819,null,"○","○"]
[819,900,0,20000,30000,4000,670,30,0,80,818,820,null,"○","○"]
[820,950,0,20000,30000,4000,610,30,0,80,819,821,null,"○","○"]
[821,1000,0,20000,30000,4000,550,30,0,80,820,822,null,"○","○"]
[822,1050,0,20000,30000,4000,500,30,0,80,821,823,null,"○","○"]
[823,1100,0,20000,30000,4000,460,30,0,80,822,-1,null,"○","終端"]
[824,600,0,8000,12000,2000,2000,30,0,80,-1,{"$f":"A828","v":825},"RCS3-SA8C-100-30","先頭","○"]
[825,650,0,8000,12000,2000,1800,30,0,80,{"$f":"A827","v":824},826,null,"○","○"]
[826,700,0,8000,12000,2000,1610,30,0,80,825,827,null,"○","○"]
[827,750,0,8000,12000,2000,1420,30,0,80,826,828,null,"○","○"]
[828,800,0,8000,12000,2000,1260,30,0,80,827,829,null,"○","○"]
[829,850,0,8000,12000,2000,1120,30,0,80,828,830,null,"○","○"]
[830,900,0,8000,12000,2000,1010,30,0,80,829,831,null,"○","○"]
[831,950,0,8000,12000,2000,910,30,0,80,830,832,null,"○","○"]
[832,1000,0,8000,12000,2000,830,30,0,80,831,833,null,"○","○"]
[833,1050,0,8000,12000,2000,760,30,0,80,832,834,null,{"$f":"IF(K836=A835,\"○\",IF(M836<>0,\"先頭\",\"つなぎまちがい\"))","v":"○"},{"$f":"IF(L836=A837,\"○\",IF(L836<>K837,\"つなぎまちがい\",\"終端\"))","v":"○"}]
[{"$f":"A836+1","v":834},1100,0,8000,12000,2000,690,30,0,80,833,-1,null,"○","終端"]
[835,650,0,60000,90000,12000,600,30,0,80,-1,{"$f":"A839","v":836},"RCS3-SA8C-150-10","先頭","○"]
[836,700,0,60000,90000,12000,530,30,0,80,{"$f":"A838","v":835},{"$f":"A840","v":837},null,"○","○"]
[837,750,0,60000,90000,12000,470,30,0,80,836,838,null,"○","○"]
[838,800,0,60000,90000,12000,410,30,0,80,837,839,null,"○","○"]
[839,850,0,60000,90000,12000,370,30,0,80,838,840,null,"○","○"]
[840,900,0,60000,90000,12000,340,30,0,80,839,841,null,"○","○"]
[841,950,0,60000,90000,12000,310,30,0,80,840,842,null,"○","○"]
[842,1000,0,60000,90000,12000,270,30,0,80,841,843,null,"○","○"]
[843,1050,0,60000,90000,12000,250,30,0,80,842,844,null,"○","○"]
[844,1100,0,60000,90000,12000,230,30,0,80,843,-1,null,"○","終端"]
[845,600,0,30000,45000,6000,1330,30,0,80,-1,{"$f":"A849","v":846},"RCS3-SA8C-150-20","先頭","○"]
[846,650,0,30000,45000,6000,1200,30,0,80,{"$f":"A848","v":845},847,null,"○","○"]
[847,700,0,30000,45000,6000,1070,30,0,80,846,848,null,"○","○"]
[848,750,0,30000,45000,6000,940,30,0,80,847,849,null,"○","○"]
[849,800,0,30000,45000,6000,840,30,0,80,848,850,null,"○","○"]
[850,850,0,30000,45000,6000,750,30,0,80,849,851,null,"○","○"]
[851,900,0,30000,45000,6000,670,30,0,80,850,852,null,"○","○"]
[852,950,0,30000,45000,6000,610,30,0,80,851,853,null,"○","○"]
[853,1000,0,30000,45000,6000,550,30,0,80,852,854,null,"○","○"]
[854,1050,0,30000,45000,6000,500,30,0,80,853,855,null,"○","○"]
[855,1100,0,30000,45000,6000,460,30,0,80,854,-1,null,"○","終端"]
[856,600,0,12000,18000,3000,2000,30,0,80,-1,{"$f":"A860","v":857},"RCS3-SA8C-150-30","先頭","○"]
[857,650,0,12000,18000,3000,1800,30,0,80,{"$f":"A859","v":856},858,null,"○","○"]
[858,700,0,12000,18000,3000,1610,30,0,80,857,859,null,"○","○"]
[859,750,0,12000,18000,3000,1420,30,0,80,858,860,null,"○","○"]
[860,800,0,12000,18000,3000,1260,30,0,80,859,861,null,"○","○"]
[861,850,0,12000,18000,3000,1120,30,0,80,860,862,null,"○","○"]
[862,900,0,12000,18000,3000,1010,30,0,80,861,863,null,"○","○"]
[863,950,0,12000,18000,3000,910,30,0,80,862,864,null,"○","○"]
[864,1000,0,12000,18000,3000,830,30,0,80,863,865,null,"○","○"]
[865,1050,0,12000,18000,3000,760,30,0,80,864,866,null,"○","○"]
[866,1100,0,12000,18000,3000,690,30,0,80,865,-1,null,"○","終端"]
[867,600,0,80000,120000,16000,300,30,0,80,-1,{"$f":"A871","v":868},"RCS3-SS8C-100-5","先頭","○"]
[868,650,0,80000,120000,16000,275,30,0,80,{"$f":"A870","v":867},869,null,"○","○"]
[869,700,0,80000,120000,16000,240,30,0,80,868,870,null,"○","○"]
[870,750,0,80000,120000,16000,215,30,0,80,869,871,null,"○","○"]
[871,800,0,80000,120000,16000,190,30,0,80,870,872,null,"○","○"]
[872,850,0,80000,120000,16000,170,30,0,80,871,873,null,"○","○"]
[873,900,0,80000,120000,16000,150,30,0,80,872,874,null,"○","○"]
[874,950,0,80000,120000,16000,140,30,0,80,873,875,null,"○","○"]
[875,1000,0,80000,120000,16000,125,30,0,80,874,-1,null,"○","終端"]
[876,600,0,40000,60000,8000,600,30,0,80,-1,{"$f":"A880","v":877},"RCS3-SS8C-100-10","先頭","○"]
[877,650,0,40000,60000,8000,550,30,0,80,{"$f":"A879","v":876},878,null,"○","○"]
[878,700,0,40000,60000,8000,485,30,0,80,877,879,null,"○","○"]
[879,750,0,40000,60000,8000,430,30,0,80,878,880,null,"○","○"]
[880,800,0,40000,60000,8000,385,30,0,80,879,881,null,"○","○"]
[881,850,0,40000,60000,8000,345,30,0,80,880,882,null,"○","○"]
[882,900,0,40000,60000,8000,310,30,0,80,881,883,null,"○","○"]
[883,950,0,40000,60000,8000,280,30,0,80,882,884,null,"○","○"]
[884,1000,0,40000,60000,8000,255,30,0,80,883,-1,null,"○","終端"]
[885,550,0,20000,30000,4000,1330,30,0,80,-1,{"$f":"A889","v":886},"RCS3-SS8C-100-20","先頭","○"]
[886,600,0,20000,30000,4000,1200,30,0,80,{"$f":"A888","v":885},887,null,"○","○"]
[887,650,0,20000,30000,4000,1105,30,0,80,886,888,null,"○","○"]
[888,700,0,20000,30000,4000,970,30,0,80,887,889,null,"○","○"]
[889,750,0,20000,30000,4000,860,30,0,80,888,890,null,"○","○"]
[890,800,0,20000,30000,4000,770,30,0,80,889,891,null,"○","○"]
[891,850,0,20000,30000,4000,690,30,0,80,890,892,null,"○","○"]
[892,900,0,20000,30000,4000,625,30,0,80,891,893,null,"○","○"]
[893,950,0,20000,30000,4000,565,30,0,80,892,894,null,"○","○"]
[894,1000,0,20000,30000,4000,515,30,0,80,893,-1,null,"○","終端"]
[895,550,0,8000,12000,2000,2000,30,0,80,-1,{"$f":"A899","v":896},"RCS3-SS8C-100-30","先頭","○"]
[896,600,0,8000,12000,2000,1800,30,0,80,{"$f":"A898","v":895},897,null,"○","○"]
[897,650,0,8000,12000,2000,1660,30,0,80,896,898,null,{"$f":"IF(K900=A899,\"○\",IF(M900<>0,\"先頭\",\"つなぎまちがい\"))","v":"○"},{"$f":"IF(L900=A901,\"○\",IF(L900<>K901,\"つなぎまちがい\",\"終端\"))","v":"○"}]
[{"$f":"A900+1","v":898},700,0,8000,12000,2000,1460,30,0,80,897,899,null,"○","○"]
[899,750,0,8000,12000,2000,1295,30,0,80,898,900,null,"○","○"]
[900,800,0,8000,12000,2000,1155,30,0,80,899,901,null,"○","○"]
[901,850,0,8000,12000,2000,1035,30,0,80,900,902,null,"○","○"]
[902,900,0,8000,12000,2000,935,30,0,80,901,903,null,"○","○"]
[903,950,0,8000,12000,2000,850,30,0,80,902,904,null,"○","○"]
[904,1000,0,8000,12000,2000,775,30,0,80,903,-1,null,"○","終端"]
[905,600,0,60000,90000,12000,600,30,0,80,-1,{"$f":"A909","v":906},"RCS3-SS8C-150-10","先頭","○"]
[906,650,0,60000,90000,12000,550,30,0,80,{"$f":"A908","v":905},907,null,"○","○"]
[907,700,0,60000,90000,12000,485,30,0,80,906,908,null,"○","○"]
[908,750,0,60000,90000,12000,430,30,0,80,907,909,null,"○","○"]
[909,800,0,60000,90000,12000,385,30,0,80,908,910,null,"○","○"]
[910,850,0,60000,90000,12000,345,30,0,80,909,911,null,"○","○"]
[911,900,0,60000,90000,12000,310,30,0,80,910,912,null,"○","○"]
[912,950,0,60000,90000,12000,280,30,0,80,911,913,null,"○","○"]
[913,1000,0,60000,90000,12000,255,30,0,80,912,-1,null,"○","終端"]
[914,300,0,30000,45000,6000,1330,30,0,80,-1,{"$f":"A918","v":915},"RCS3-SS8C-150-20","先頭","○"]
[915,500,0,30000,45000,6000,1330,30,0,80,{"$f":"A917","v":914},916,null,"○","○"]
[916,550,0,30000,45000,6000,1330,30,0,80,915,917,null,"○","○"]
[917,600,0,30000,45000,6000,1200,30,0,80,916,918,null,"○","○"]
[918,650,0,30000,45000,6000,1105,30,0,80,917,919,null,"○","○"]
[919,700,0,30000,45000,6000,970,30,0,80,918,920,null,"○","○"]
[920,750,0,30000,45000,6000,860,30,0,80,919,921,null,"○","○"]
[921,800,0,30000,45000,6000,770,30,0,80,920,922,null,"○","○"]
[922,850,0,30000,45000,6000,690,30,0,80,921,923,null,"○","○"]
[923,900,0,30000,45000,6000,625,30,0,80,922,924,null,"○","○"]
[924,950,0,30000,45000,6000,565,30,0,80,923,925,null,"○","○"]
[925,1000,0,30000,45000,6000,515,30,0,80,924,-1,null,"○","終端"]
[926,550,0,12000,18000,3000,2000,30,0,80,-1,{"$f":"A930","v":927},"RCS3-SS8C-150-30","先頭","○"]
[927,600,0,12000,18000,3000,1800,30,0,80,{"$f":"A929","v":926},928,null,"○","○"]
[928,650,0,12000,18000,3000,1660,30,0,80,927,929,null,"○","○"]
[929,700,0,12000,18000,3000,1460,30,0,80,928,930,null,"○","○"]
[930,750,0,12000,18000,3000,1295,30,0,80,929,931,null,"○","○"]
[931,800,0,12000,18000,3000,1155,30,0,80,930,932,null,"○","○"]
[932,850,0,12000,18000,3000,1035,30,0,80,931,933,null,"○","○"]
[933,900,0,12000,18000,3000,935,30,0,80,932,934,null,"○","○"]
[934,950,0,12000,18000,3000,850,30,0,80,933,935,null,"○","○"]
[935,1000,0,12000,18000,3000,775,30,0,80,934,-1,null,"○","終端"]
[936,650,0,80000,104000,16000,300,30,0,80,-1,{"$f":"A940","v":937},"RCS3CR-SA8C-100-5","先頭","○"]
[937,700,0,80000,104000,16000,250,30,0,80,{"$f":"A939","v":936},{"$f":"A941","v":938},null,"○","○"]
[938,750,0,80000,104000,16000,220,30,0,80,937,939,null,"○","○"]
[939,800,0,80000,104000,16000,190,30,0,80,938,940,null,"○","○"]
[940,850,0,80000,104000,16000,170,30,0,80,939,941,null,"○","○"]
[941,900,0,80000,104000,16000,160,30,0,80,940,942,null,"○","○"]
[942,950,0,80000,104000,16000,140,30,0,80,941,943,null,"○","○"]
[943,1000,0,80000,104000,16000,130,30,0,80,942,944,null,"○","○"]
[944,1050,0,80000,104000,16000,120,30,0,80,943,945,null,"○","○"]
[945,1100,0,80000,104000,16000,110,30,0,80,944,-1,null,"○","終端"]
[946,650,0,40000,52000,8000,600,30,0,80,-1,{"$f":"A950","v":947},"RCS3CR-SA8C-100-10","先頭","○"]
[947,700,0,40000,52000,8000,500,30,0,80,{"$f":"A949","v":946},{"$f":"A951","v":948},null,"○","○"]
[948,750,0,40000,52000,8000,440,30,0,80,947,949,null,"○","○"]
[949,800,0,40000,52000,8000,390,30,0,80,948,950,null,"○","○"]
[950,850,0,40000,52000,8000,350,30,0,80,949,951,null,"○","○"]
[951,900,0,40000,52000,8000,320,30,0,80,950,952,null,"○","○"]
[952,950,0,40000,52000,8000,290,30,0,80,951,953,null,"○","○"]
[953,1000,0,40000,52000,8000,260,30,0,80,952,954,null,"○","○"]
[954,1050,0,40000,52000,8000,240,30,0,80,953,955,null,"○","○"]
[955,1100,0,40000,52000,8000,220,30,0,80,954,-1,null,"○","終端"]
[956,600,0,20000,26000,4000,1200,30,0,80,-1,{"$f":"A960","v":957},"RCS3CR-SA8C-100-20","先頭","○"]
[957,650,0,20000,26000,4000,1200,30,0,80,{"$f":"A959","v":956},958,null,"○","○"]
[958,700,0,20000,26000,4000,1010,30,0,80,957,959,null,"○","○"]
[959,750,0,20000,26000,4000,890,30,0,80,958,960,null,"○","○"]
[960,800,0,20000,26000,4000,790,30,0,80,959,961,null,"○","○"]
[961,850,0,20000,26000,4000,710,30,0,80,960,962,null,{"$f":"IF(K964=A963,\"○\",IF(M964<>0,\"先頭\",\"つなぎまちがい\"))","v":"○"},{"$f":"IF(L964=A965,\"○\",IF(L964<>K965,\"つなぎまちがい\",\"終端\"))","v":"○"}]
[{"$f":"A964+1","v":962},900,0,20000,26000,4000,640,30,0,80,961,963,null,"○","○"]
[963,950,0,20000,26000,4000,580,30,0,80,962,964,null,"○","○"]
[964,1000,0,20000,26000,4000,530,30,0,80,963,965,null,"○","○"]
[965,1050,0,20000,26000,4000,480,30,0,80,964,966,null,"○","○"]
[966,1100,0,20000,26000,4000,440,30,0,80,965,-1,null,"○","終端"]
[967,650,0,8000,10500,2000,1800,30,0,80,-1,{"$f":"A971","v":968},"RCS3CR-SA8C-100-30","先頭","○"]
[968,700,0,8000,10500,2000,1510,30,0,80,{"$f":"A970","v":967},{"$f":"A972","v":969},null,"○","○"]
[969,750,0,8000,10500,2000,1340,30,0,80,968,970,null,"○","○"]
[970,800,0,8000,10500,2000,1190,30,0,80,969,971,null,"○","○"]
[971,850,0,8000,10500,2000,1070,30,0,80,970,972,null,"○","○"]
[972,900,0,8000,10500,2000,960,30,0,80,971,973,null,"○","○"]
[973,950,0,8000,10500,2000,870,30,0,80,972,974,null,"○","○"]
[974,1000,0,8000,10500,2000,790,30,0,80,973,975,null,"○","○"]
[975,1050,0,8000,10500,2000,720,30,0,80,974,976,null,"○","○"]
[976,1100,0,8000,10500,2000,660,30,0,80,975,-1,null,"○","終端"]
[977,650,0,60000,78000,12000,600,30,0,80,-1,{"$f":"A981","v":978},"RCS3CR-SA8C-150-10","先頭","○"]
[978,700,0,60000,78000,12000,500,30,0,80,{"$f":"A980","v":977},{"$f":"A982","v":979},null,"○","○"]
[979,750,0,60000,78000,12000,440,30,0,80,978,980,null,"○","○"]
[980,800,0,60000,78000,12000,390,30,0,80,979,981,null,"○","○"]
[981,850,0,60000,78000,12000,350,30,0,80,980,982,null,"○","○"]
[982,900,0,60000,78000,12000,320,30,0,80,981,983,null,"○","○"]
[983,950,0,60000,78000,12000,290,30,0,80,982,984,null,"○","○"]
[984,1000,0,60000,78000,12000,260,30,0,80,983,985,null,"○","○"]
[985,1050,0,60000,78000,12000,240,30,0,80,984,986,null,"○","○"]
[986,1100,0,60000,78000,12000,220,30,0,80,985,-1,null,"○","終端"]
[987,650,0,30000,39000,6000,1200,30,0,80,-1,{"$f":"A991","v":988},"RCS3CR-SA8C-150-20","先頭","○"]
[988,700,0,30000,39000,6000,1010,30,0,80,{"$f":"A990","v":987},{"$f":"A992","v":989},null,"○","○"]
[989,750,0,30000,39000,6000,890,30,0,80,988,990,null,"○","○"]
[990,800,0,30000,39000,6000,790,30,0,80,989,991,null,"○","○"]
[991,850,0,30000,39000,6000,710,30,0,80,990,992,null,"○","○"]
[992,900,0,30000,39000,6000,640,30,0,80,991,993,null,"○","○"]
[993,950,0,30000,39000,6000,580,30,0,80,992,994,null,"○","○"]
[994,1000,0,30000,39000,6000,530,30,0,80,993,995,null,"○","○"]
[995,1050,0,30000,39000,6000,480,30,0,80,994,996,null,"○","○"]
[996,1100,0,30000,39000,6000,440,30,0,80,995,-1,null,"○","終端"]
[997,600,0,12000,15500,3000,1800,30,0,80,-1,{"$f":"A1001","v":998},"RCS3CR-SA8C-150-30","先頭","○"]
[998,650,0,12000,15500,3000,1800,30,0,80,{"$f":"A1000","v":997},999,null,"○","○"]
[999,700,0,12000,15500,3000,1510,30,0,80,998,1000,null,"○","○"]
[1000,750,0,12000,15500,3000,1340,30,0,80,999,1001,null,"○","○"]
[1001,800,0,12000,15500,3000,1190,30,0,80,1000,1002,null,"○","○"]
[1002,850,0,12000,15500,3000,1070,30,0,80,1001,1003,null,"○","○"]
[1003,900,0,12000,15500,3000,960,30,0,80,1002,1004,null,"○","○"]
[1004,950,0,12000,15500,3000,870,30,0,80,1003,1005,null,"○","○"]
[1005,1000,0,12000,15500,3000,790,30,0,80,1004,1006,null,"○","○"]
[1006,1050,0,12000,15500,3000,720,30,0,80,1005,1007,null,"○","○"]
[1007,1100,0,12000,15500,3000,660,30,0,80,1006,-1,null,"○","終端"]
[1008,600,0,80000,104000,16000,300,30,0,80,-1,{"$f":"A1012","v":1009},"RCS3CR-SS8C-100-5","先頭","○"]
[1009,650,0,80000,104000,16000,275,30,0,80,{"$f":"A1011","v":1008},1010,null,"○","○"]
[1010,700,0,80000,104000,16000,240,30,0,80,1009,1011,null,"○","○"]
[1011,750,0,80000,104000,16000,215,30,0,80,1010,1012,null,"○","○"]
[1012,800,0,80000,104000,16000,190,30,0,80,1011,1013,null,"○","○"]
[1013,850,0,80000,104000,16000,170,30,0,80,1012,1014,null,"○","○"]
[1014,900,0,80000,104000,16000,150,30,0,80,1013,1015,null,"○","○"]
[1015,950,0,80000,104000,16000,140,30,0,80,1014,1016,null,"○","○"]
[1016,1000,0,80000,104000,16000,125,30,0,80,1015,-1,null,"○","終端"]
[1017,600,0,40000,52000,8000,600,30,0,80,-1,{"$f":"A1021","v":1018},"RCS3CR-SS8C-100-10","先頭","○"]
[1018,650,0,40000,52000,8000,550,30,0,80,{"$f":"A1020","v":1017},1019,null,"○","○"]
[1019,700,0,40000,52000,8000,485,30,0,80,1018,1020,null,"○","○"]
[1020,750,0,40000,52000,8000,430,30,0,80,1019,1021,null,"○","○"]
[1021,800,0,40000,52000,8000,385,30,0,80,1020,1022,null,"○","○"]
[1022,850,0,40000,52000,8000,345,30,0,80,1021,1023,null,"○","○"]
[1023,900,0,40000,52000,8000,310,30,0,80,1022,1024,null,"○","○"]
[1024,950,0,40000,52000,8000,280,30,0,80,1023,1025,null,"○","○"]
[1025,1000,0,40000,52000,8000,255,30,0,80,1024,-1,null,{"$f":"IF(K1028=A1027,\"○\",IF(M1028<>0,\"先頭\",\"つなぎまちがい\"))","v":"○"},{"$f":"IF(L1028=A1029,\"○\",IF(L1028<>K1029,\"つなぎまちがい\",\"終端\"))","v":"終端"}]
[{"$f":"A1028+1","v":1026},600,0,20000,26000,4000,1200,30,0,80,-1,{"$f":"A1030","v":1027},"RCS3CR-SS8C-100-20","先頭","○"]
[1027,650,0,20000,26000,4000,1105,30,0,80,{"$f":"A1029","v":1026},1028,null,"○","○"]
[1028,700,0,20000,26000,4000,970,30,0,80,1027,1029,null,"○","○"]
[1029,750,0,20000,26000,4000,860,30,0,80,1028,1030,null,"○","○"]
[1030,800,0,20000,26000,4000,770,30,0,80,1029,1031,null,"○","○"]
[1031,850,0,20000,26000,4000,690,30,0,80,1030,1032,null,"○","○"]
[1032,900,0,20000,26000,4000,625,30,0,80,1031,1033,null,"○","○"]
[1033,950,0,20000,26000,4000,565,30,0,80,1032,1034,null,"○","○"]
[1034,1000,0,20000,26000,4000,515,30,0,80,1033,-1,null,"○","終端"]
[1035,600,0,8000,10500,2000,1800,30,0,80,-1,{"$f":"A1039","v":1036},"RCS3CR-SS8C-100-30","先頭","○"]
[1036,650,0,8000,10500,2000,1660,30,0,80,{"$f":"A1038","v":1035},1037,null,"○","○"]
[1037,700,0,8000,10500,2000,1460,30,0,80,1036,1038,null,"○","○"]
[1038,750,0,8000,10500,2000,1295,30,0,80,1037,1039,null,"○","○"]
[1039,800,0,8000,10500,2000,1155,30,0,80,1038,1040,null,"○","○"]
[1040,850,0,8000,10500,2000,1035,30,0,80,1039,1041,null,"○","○"]
[1041,900,0,8000,10500,2000,935,30,0,80,1040,1042,null,"○","○"]
[1042,950,0,8000,10500,2000,850,30,0,80,1041,1043,null,"○","○"]
[1043,1000,0,8000,10500,2000,775,30,0,80,1042,-1,null,"○","終端"]
[1044,600,0,60000,78000,12000,600,30,0,80,-1,{"$f":"A1048","v":1045},"RCS3CR-SS8C-150-10","先頭","○"]
[1045,650,0,60000,78000,12000,550,30,0,80,{"$f":"A1047","v":1044},1046,null,"○","○"]
[1046,700,0,60000,78000,12000,485,30,0,80,1045,1047,null,"○","○"]
[1047,750,0,60000,78000,12000,430,30,0,80,1046,1048,null,"○","○"]
[1048,800,0,60000,78000,12000,385,30,0,80,1047,1049,null,"○","○"]
[1049,850,0,60000,78000,12000,345,30,0,80,1048,1050,null,"○","○"]
[1050,900,0,60000,78000,12000,310,30,0,80,1049,1051,null,"○","○"]
[1051,950,0,60000,78000,12000,280,30,0,80,1050,1052,null,"○","○"]
[1052,1000,0,60000,78000,12000,255,30,0,80,1051,-1,null,"○","終端"]
[1053,300,0,30000,39000,6000,1200,30,0,80,-1,{"$f":"A1057","v":1054},"RCS3CR-SS8C-150-20","先頭","○"]
[1054,500,0,30000,39000,6000,1200,30,0,80,{"$f":"A1056","v":1053},1055,null,"○","○"]
[1055,600,0,30000,39000,6000,1200,30,0,80,1054,1056,null,"○","○"]
[1056,650,0,30000,39000,6000,1105,30,0,80,1055,1057,null,"○","○"]
[1057,700,0,30000,39000,6000,970,30,0,80,1056,1058,null,"○","○"]
[1058,750,0,30000,39000,6000,860,30,0,80,1057,1059,null,"○","○"]
[1059,800,0,30000,39000,6000,770,30,0,80,1058,1060,null,"○","○"]
[1060,850,0,30000,39000,6000,690,30,0,80,1059,1061,null,"○","○"]
[1061,900,0,30000,39000,6000,625,30,0,80,1060,1062,null,"○","○"]
[1062,950,0,30000,39000,6000,565,30,0,80,1061,1063,null,"○","○"]
[1063,1000,0,30000,39000,6000,515,30,0,80,1062,-1,null,"○","終端"]
[1064,600,0,12000,15500,3000,1800,30,0,80,-1,{"$f":"A1068","v":1065},"RCS3CR-SS8C-150-30","先頭","○"]
[1065,650,0,12000,15500,3000,1660,30,0,80,{"$f":"A1067","v":1064},1066,null,"○","○"]
[1066,700,0,12000,15500,3000,1460,30,0,80,1065,1067,null,"○","○"]
[1067,750,0,12000,15500,3000,1295,30,0,80,1066,1068,null,"○","○"]
[1068,800,0,12000,15500,3000,1155,30,0,80,1067,1069,null,"○","○"]
[1069,850,0,12000,15500,3000,1035,30,0,80,1068,1070,null,"○","○"]
[1070,900,0,12000,15500,3000,935,30,0,80,1069,1071,null,"○","○"]
[1071,950,0,12000,15500,3000,850,30,0,80,1070,1072,null,"○","○"]
[1072,1000,0,12000,15500,3000,775,30,0,80,1071,-1,null,"○","終端"]
[1073,650,0,80000,104000,16000,300,30,0,80,-1,{"$f":"A1077","v":1074},"RCS3-SA8R-100-5","先頭","○"]
[1074,700,0,80000,104000,16000,260,30,0,80,{"$f":"A1076","v":1073},1075,null,"○","○"]
[1075,750,0,80000,104000,16000,230,30,0,80,1074,1076,null,"○","○"]
[1076,800,0,80000,104000,16000,200,30,0,80,1075,1077,null,"○","○"]
[1077,850,0,80000,104000,16000,180,30,0,80,1076,1078,null,"○","○"]
[1078,900,0,80000,104000,16000,170,30,0,80,1077,1079,null,"○","○"]
[1079,950,0,80000,104000,16000,150,30,0,80,1078,1080,null,"○","○"]
[1080,1000,0,80000,104000,16000,135,30,0,80,1079,1081,null,"○","○"]
[1081,1050,0,80000,104000,16000,120,30,0,80,1080,1082,null,"○","○"]
[1082,1100,0,80000,104000,16000,110,30,0,80,1081,-1,null,"○","終端"]
[1083,650,0,40000,52000,8000,600,30,0,80,-1,{"$f":"A1087","v":1084},"RCS3-SA8R-100-10","先頭","○"]
[1084,700,0,40000,52000,8000,530,30,0,80,{"$f":"A1086","v":1083},1085,null,"○","○"]
[1085,750,0,40000,52000,8000,470,30,0,80,1084,1086,null,"○","○"]
[1086,800,0,40000,52000,8000,410,30,0,80,1085,1087,null,"○","○"]
[1087,850,0,40000,52000,8000,370,30,0,80,1086,1088,null,"○","○"]
[1088,900,0,40000,52000,8000,340,30,0,80,1087,1089,null,"○","○"]
[1089,950,0,40000,52000,8000,310,30,0,80,1088,1090,null,{"$f":"IF(K1092=A1091,\"○\",IF(M1092<>0,\"先頭\",\"つなぎまちがい\"))","v":"○"},{"$f":"IF(L1092=A1093,\"○\",IF(L1092<>K1093,\"つなぎまちがい\",\"終端\"))","v":"○"}]
[{"$f":"A1092+1","v":1090},1000,0,40000,52000,8000,270,30,0,80,1089,1091,null,"○","○"]
[1091,1050,0,40000,52000,8000,250,30,0,80,1090,1092,null,"○","○"]
[1092,1100,0,40000,52000,8000,230,30,0,80,1091,-1,null,"○","終端"]
[1093,600,0,20000,26000,4000,1200,30,0,80,-1,{"$f":"A1097","v":1094},"RCS3-SA8R-100-20","先頭","○"]
[1094,650,0,20000,26000,4000,1200,30,0,80,{"$f":"A1096","v":1093},1095,null,"○","○"]
[1095,700,0,20000,26000,4000,1070,30,0,80,1094,1096,null,"○","○"]
[1096,750,0,20000,26000,4000,940,30,0,80,1095,1097,null,"○","○"]
[1097,800,0,20000,26000,4000,840,30,0,80,1096,1098,null,"○","○"]
[1098,850,0,20000,26000,4000,750,30,0,80,1097,1099,null,"○","○"]
[1099,900,0,20000,26000,4000,670,30,0,80,1098,1100,null,"○","○"]
[1100,950,0,20000,26000,4000,610,30,0,80,1099,1101,null,"○","○"]
[1101,1000,0,20000,26000,4000,550,30,0,80,1100,1102,null,"○","○"]
[1102,1050,0,20000,26000,4000,500,30,0,80,1101,1103,null,"○","○"]
[1103,1100,0,20000,26000,4000,460,30,0,80,1102,-1,null,"○","終端"]
[1104,650,0,8000,10500,2000,1800,30,0,80,-1,{"$f":"A1108","v":1105},"RCS3-SA8R-100-30","先頭","○"]
[1105,700,0,8000,10500,2000,1610,30,0,80,{"$f":"A1107","v":1104},1106,null,"○","○"]
[1106,750,0,8000,10500,2000,1420,30,0,80,1105,1107,null,"○","○"]
[1107,800,0,8000,10500,2000,1260,30,0,80,1106,1108,null,"○","○"]
[1108,850,0,8000,10500,2000,1120,30,0,80,1107,1109,null,"○","○"]
[1109,900,0,8000,10500,2000,1010,30,0,80,1108,1110,null,"○","○"]
[1110,950,0,8000,10500,2000,910,30,0,80,1109,1111,null,"○","○"]
[1111,1000,0,8000,10500,2000,830,30,0,80,1110,1112,null,"○","○"]
[1112,1050,0,8000,10500,2000,760,30,0,80,1111,1113,null,"○","○"]
[1113,1100,0,8000,10500,2000,690,30,0,80,1112,-1,null,"○","終端"]
[1114,650,0,60000,78000,12000,600,30,0,80,-1,{"$f":"A1118","v":1115},"RCS3-SA8R-150-10","先頭","○"]
[1115,700,0,60000,78000,12000,530,30,0,80,{"$f":"A1117","v":1114},1116,null,"○","○"]
[1116,750,0,60000,78000,12000,470,30,0,80,1115,1117,null,"○","○"]
[1117,800,0,60000,78000,12000,410,30,0,80,1116,1118,null,"○","○"]
[1118,850,0,60000,78000,12000,370,30,0,80,1117,1119,null,"○","○"]
[1119,900,0,60000,78000,12000,340,30,0,80,1118,1120,null,"○","○"]
[1120,950,0,60000,78000,12000,310,30,0,80,1119,1121,null,"○","○"]
[1121,1000,0,60000,78000,12000,270,30,0,80,1120,1122,null,"○","○"]
[1122,1050,0,60000,78000,12000,250,30,0,80,1121,1123,null,"○","○"]
[1123,1100,0,60000,78000,12000,230,30,0,80,1122,-1,null,"○","終端"]
[1124,650,0,30000,39000,6000,1200,30,0,80,-1,{"$f":"A1128","v":1125},"RCS3-SA8R-150-20","先頭","○"]
[1125,700,0,30000,39000,6000,1070,30,0,80,{"$f":"A1127","v":1124},1126,null,"○","○"]
[1126,750,0,30000,39000,6000,940,30,0,80,1125,1127,null,"○","○"]
[1127,800,0,30000,39000,6000,840,30,0,80,1126,1128,null,"○","○"]
[1128,850,0,30000,39000,6000,750,30,0,80,1127,1129,null,"○","○"]
[1129,900,0,30000,39000,6000,670,30,0,80,1128,1130,null,"○","○"]
[1130,950,0,30000,39000,6000,610,30,0,80,1129,1131,null,"○","○"]
[1131,1000,0,30000,39000,6000,550,30,0,80,1130,1132,null,"○","○"]
[1132,1050,0,30000,39000,6000,500,30,0,80,1131,1133,null,"○","○"]
[1133,1100,0,30000,39000,6000,460,30,0,80,1132,-1,null,"○","終端"]
[1134,600,0,12000,15500,3000,1800,30,0,80,-1,{"$f":"A1138","v":1135},"RCS3-SA8R-150-30","先頭","○"]
[1135,650,0,12000,15500,3000,1800,30,0,80,{"$f":"A1137","v":1134},1136,null,"○","○"]
[1136,700,0,12000,15500,3000,1610,30,0,80,1135,1137,null,"○","○"]
[1137,750,0,12000,15500,3000,1420,30,0,80,1136,1138,null,"○","○"]
[1138,800,0,12000,15500,3000,1260,30,0,80,1137,1139,null,"○","○"]
[1139,850,0,12000,15500,3000,1120,30,0,80,1138,1140,null,"○","○"]
[1140,900,0,12000,15500,3000,1010,30,0,80,1139,1141,null,"○","○"]
[1141,950,0,12000,15500,3000,910,30,0,80,1140,1142,null,"○","○"]
[1142,1000,0,12000,15500,3000,830,30,0,80,1141,1143,null,"○","○"]
[1143,1050,0,12000,15500,3000,760,30,0,80,1142,1144,null,"○","○"]
[1144,1100,0,12000,15500,3000,690,30,0,80,1143,-1,null,"○","終端"]
[1145,600,0,80000,104000,16000,300,30,0,80,-1,{"$f":"A1149","v":1146},"RCS3-SS8R-100-5","先頭","○"]
[1146,650,0,80000,104000,16000,275,30,0,80,{"$f":"A1148","v":1145},1147,null,"○","○"]
[1147,700,0,80000,104000,16000,240,30,0,80,1146,1148,null,"○","○"]
[1148,750,0,80000,104000,16000,215,30,0,80,1147,1149,null,"○","○"]
[1149,800,0,80000,104000,16000,190,30,0,80,1148,1150,null,"○","○"]
[1150,850,0,80000,104000,16000,170,30,0,80,1149,1151,null,"○","○"]
[1151,900,0,80000,104000,16000,150,30,0,80,1150,1152,null,"○","○"]
[1152,950,0,80000,104000,16000,140,30,0,80,1151,1153,null,"○","○"]
[1153,1000,0,80000,104000,16000,125,30,0,80,1152,-1,null,{"$f":"IF(K1156=A1155,\"○\",IF(M1156<>0,\"先頭\",\"つなぎまちがい\"))","v":"○"},{"$f":"IF(L1156=A1157,\"○\",IF(L1156<>K1157,\"つなぎまちがい\",\"終端\"))","v":"終端"}]
[{"$f":"A1156+1","v":1154},600,0,40000,52000,8000,600,30,0,80,-1,{"$f":"A1158","v":1155},"RCS3-SS8R-100-10","先頭","○"]
[1155,650,0,40000,52000,8000,550,30,0,80,{"$f":"A1157","v":1154},1156,null,"○","○"]
[1156,700,0,40000,52000,8000,485,30,0,80,1155,1157,null,"○","○"]
[1157,750,0,40000,52000,8000,430,30,0,80,1156,1158,null,"○","○"]
[1158,800,0,40000,52000,8000,385,30,0,80,1157,1159,null,"○","○"]
[1159,850,0,40000,52000,8000,345,30,0,80,1158,1160,null,"○","○"]
[1160,900,0,40000,52000,8000,310,30,0,80,1159,1161,null,"○","○"]
[1161,950,0,40000,52000,8000,280,30,0,80,1160,1162,null,"○","○"]
[1162,1000,0,40000,52000,8000,255,30,0,80,1161,-1,null,"○","終端"]
[1163,600,0,20000,26000,4000,1200,30,0,80,-1,{"$f":"A1167","v":1164},"RCS3-SS8R-100-20","先頭","○"]
[1164,650,0,20000,26000,4000,1105,30,0,80,{"$f":"A1166","v":1163},1165,null,"○","○"]
[1165,700,0,20000,26000,4000,970,30,0,80,1164,1166,null,"○","○"]
[1166,750,0,20000,26000,4000,860,30,0,80,1165,1167,null,"○","○"]
[1167,800,0,20000,26000,4000,770,30,0,80,1166,1168,null,"○","○"]
[1168,850,0,20000,26000,4000,690,30,0,80,1167,1169,null,"○","○"]
[1169,900,0,20000,26000,4000,625,30,0,80,1168,1170,null,"○","○"]
[1170,950,0,20000,26000,4000,565,30,0,80,1169,1171,null,"○","○"]
[1171,1000,0,20000,26000,4000,515,30,0,80,1170,-1,null,"○","終端"]
[1172,600,0,8000,10500,2000,1800,30,0,80,-1,{"$f":"A1176","v":1173},"RCS3-SS8R-100-30","先頭","○"]
[1173,650,0,8000,10500,2000,1660,30,0,80,{"$f":"A1175","v":1172},1174,null,"○","○"]
[1174,700,0,8000,10500,2000,1460,30,0,80,1173,1175,null,"○","○"]
[1175,750,0,8000,10500,2000,1295,30,0,80,1174,1176,null,"○","○"]
[1176,800,0,8000,10500,2000,1155,30,0,80,1175,1177,null,"○","○"]
[1177,850,0,8000,10500,2000,1035,30,0,80,1176,1178,null,"○","○"]
[1178,900,0,8000,10500,2000,935,30,0,80,1177,1179,null,"○","○"]
[1179,950,0,8000,10500,2000,850,30,0,80,1178,1180,null,"○","○"]
[1180,1000,0,8000,10500,2000,775,30,0,80,1179,-1,null,"○","終端"]
[1181,600,0,60000,78000,12000,600,30,0,80,-1,{"$f":"A1185","v":1182},"RCS3-SS8R-150-10","先頭","○"]
[1182,650,0,60000,78000,12000,550,30,0,80,{"$f":"A1184","v":1181},1183,null,"○","○"]
[1183,700,0,60000,78000,12000,485,30,0,80,1182,1184,null,"○","○"]
[1184,750,0,60000,78000,12000,430,30,0,80,1183,1185,null,"○","○"]
[1185,800,0,60000,78000,12000,385,30,0,80,1184,1186,null,"○","○"]
[1186,850,0,60000,78000,12000,345,30,0,80,1185,1187,null,"○","○"]
[1187,900,0,60000,78000,12000,310,30,0,80,1186,1188,null,"○","○"]
[1188,950,0,60000,78000,12000,280,30,0,80,1187,1189,null,"○","○"]
[1189,1000,0,60000,78000,12000,255,30,0,80,1188,-1,null,"○","終端"]
[1190,300,0,30000,39000,6000,1200,30,0,80,-1,{"$f":"A1194","v":1191},"RCS3-SS8R-150-20","先頭","○"]
[1191,500,0,30000,39000,6000,1200,30,0,80,{"$f":"A1193","v":1190},1192,null,"○","○"]
[1192,600,0,30000,39000,6000,1200,30,0,80,1191,1193,null,"○","○"]
[1193,650,0,30000,39000,6000,1105,30,0,80,1192,1194,null,"○","○"]
[1194,700,0,30000,39000,6000,970,30,0,80,1193,1195,null,"○","○"]
[1195,750,0,30000,39000,6000,860,30,0,80,1194,1196,null,"○","○"]
[1196,800,0,30000,39000,6000,770,30,0,80,1195,1197,null,"○","○"]
[1197,850,0,30000,39000,6000,690,30,0,80,1196,1198,null,"○","○"]
[1198,900,0,30000,39000,6000,625,30,0,80,1197,1199,null,"○","○"]
[1199,950,0,30000,39000,6000,565,30,0,80,1198,1200,null,"○","○"]
[1200,1000,0,30000,39000,6000,515,30,0,80,1199,-1,null,"○","終端"]
[1201,600,0,12000,15500,3000,1800,30,0,80,-1,{"$f":"A1205","v":1202},"RCS3-SS8R-150-30","先頭","○"]
[1202,650,0,12000,15500,3000,1660,30,0,80,{"$f":"A1204","v":1201},1203,null,"○","○"]
[1203,700,0,12000,15500,3000,1460,30,0,80,1202,1204,null,"○","○"]
[1204,750,0,12000,15500,3000,1295,30,0,80,1203,1205,null,"○","○"]
[1205,800,0,12000,15500,3000,1155,30,0,80,1204,1206,null,"○","○"]
[1206,850,0,12000,15500,3000,1035,30,0,80,1205,1207,null,"○","○"]
[1207,900,0,12000,15500,3000,935,30,0,80,1206,1208,null,"○","○"]
[1208,950,0,12000,15500,3000,850,30,0,80,1207,1209,null,"○","○"]
[1209,1000,0,12000,15500,3000,775,30,0,80,1208,-1,null,"○","終端"]
[1210,400,0,8000,11000,4500,165,30,0,160,-1,-1,"RCS2-SA4C-20-2.5","先頭","終端"]
[1211,400,0,6000,8500,2500,330,30,0,160,-1,-1,"RCS2-SA4C-20-5","先頭","終端"]
[1212,400,0,4000,5500,1000,665,30,0,160,-1,-1,"RCS2-SA4C-20-10","先頭","終端"]
[1213,400,0,2500,3500,600,1330,30,0,120,-1,-1,"RCS2-SA4C-20-16","先頭","終端"]
[1214,450,0,12000,17000,4000,200,30,0,160,-1,{"$f":"A1218","v":1215},"RCS2-SA5C-20-3","先頭","○"]
[1215,500,0,12000,17000,4000,190,30,0,160,{"$f":"A1217","v":1214},-1,null,"○","終端"]
[1216,450,0,8000,11000,2000,400,30,0,160,-1,{"$f":"A1220","v":1217},"RCS2-SA5C-20-6","先頭","○"]
[1217,500,0,8000,11000,2000,380,30,0,160,{"$f":"A1219","v":1216},-1,null,{"$f":"IF(K1220=A1219,\"○\",IF(M1220<>0,\"先頭\",\"つなぎまちがい\"))","v":"○"},{"$f":"IF(L1220=A1221,\"○\",IF(L1220<>K1221,\"つなぎまちがい\",\"終端\"))","v":"終端"}]
[{"$f":"A1220+1","v":1218},400,0,4000,5500,1000,1000,30,0,160,-1,{"$f":"A1222","v":1219},"RCS2-SA5C-20-12","先頭","○"]
[1219,450,0,4000,5500,1000,800,30,0,160,{"$f":"A1221","v":1218},{"$f":"A1223","v":1220},null,"○","○"]
[1220,500,0,4000,5500,1000,760,30,0,160,{"$f":"A1222","v":1219},-1,null,"○","終端"]
[1221,450,0,2000,3000,500,1660,30,0,120,-1,{"$f":"A1225","v":1222},"RCS2-SA5C-20-20","先頭","○"]
[1222,500,0,2000,3000,500,1300,30,0,120,{"$f":"A1224","v":1221},-1,null,"○","終端"]
[1223,450,0,18000,25000,6000,200,30,0,160,-1,{"$f":"A1227","v":1224},"RCS2-SA6C-30-3","先頭","○"]
[1224,500,0,18000,25000,6000,190,30,0,160,{"$f":"A1226","v":1223},{"$f":"A1228","v":1225},null,"○","○"]
[1225,550,0,18000,25000,6000,160,30,0,160,{"$f":"A1227","v":1224},{"$f":"A1229","v":1226},null,"○","○"]
[1226,600,0,18000,25000,6000,135,30,0,160,{"$f":"A1228","v":1225},-1,null,"○","終端"]
[1227,450,0,12000,16500,3000,400,30,0,160,-1,{"$f":"A1231","v":1228},"RCS2-SA6C-30-6","先頭","○"]
[1228,500,0,12000,16500,3000,380,30,0,160,{"$f":"A1230","v":1227},{"$f":"A1232","v":1229},null,"○","○"]
[1229,550,0,12000,16500,3000,320,30,0,160,{"$f":"A1231","v":1228},{"$f":"A1233","v":1230},null,"○","○"]
[1230,600,0,12000,16500,3000,270,30,0,160,{"$f":"A1232","v":1229},-1,null,"○","終端"]
[1231,400,0,6000,8500,1500,1000,30,0,120,-1,{"$f":"A1235","v":1232},"RCS2-SA6C-30-12","先頭","○"]
[1232,450,0,6000,8500,1500,800,30,0,120,{"$f":"A1234","v":1231},{"$f":"A1236","v":1233},null,"○","○"]
[1233,500,0,6000,8500,1500,760,30,0,120,{"$f":"A1235","v":1232},{"$f":"A1237","v":1234},null,"○","○"]
[1234,550,0,6000,8500,1500,640,30,0,120,{"$f":"A1236","v":1233},{"$f":"A1238","v":1235},null,"○","○"]
[1235,600,0,6000,8500,1500,540,30,0,120,{"$f":"A1237","v":1234},-1,null,"○","終端"]
[1236,150,0,3000,4200,500,1660,30,0,120,-1,{"$f":"A1240","v":1237},"RCS2-SA6C-30-20","先頭","○"]
[1237,300,0,3000,4200,500,1660,30,0,120,{"$f":"A1239","v":1236},{"$f":"A1241","v":1238},null,"○","○"]
[1238,450,0,3000,4200,500,1660,30,0,120,{"$f":"A1240","v":1237},{"$f":"A1242","v":1239},null,"○","○"]
[1239,500,0,3000,4200,500,1300,30,0,120,{"$f":"A1241","v":1238},{"$f":"A1243","v":1240},null,"○","○"]
[1240,550,0,3000,4200,500,1160,30,0,120,{"$f":"A1242","v":1239},{"$f":"A1244","v":1241},null,"○","○"]
[1241,600,0,3000,4200,500,990,30,0,120,{"$f":"A1243","v":1240},-1,null,"○","終端"]
[1242,600,0,40000,60000,12000,200,30,0,120,-1,{"$f":"A1246","v":1243},"RCS2-SA7C-60-4","先頭","○"]
[1243,700,0,40000,60000,12000,160,30,0,120,{"$f":"A1245","v":1242},{"$f":"A1247","v":1244},null,"○","○"]
[1244,800,0,40000,60000,12000,120,30,0,120,{"$f":"A1246","v":1243},-1,null,"○","終端"]
[1245,600,0,25000,37500,6000,400,30,0,130,-1,{"$f":"A1249","v":1246},"RCS2-SA7C-60-8","先頭","○"]
[1246,700,0,25000,37500,6000,320,30,0,130,{"$f":"A1248","v":1245},{"$f":"A1250","v":1247},null,"○","○"]
[1247,800,0,25000,37500,6000,240,30,0,130,{"$f":"A1249","v":1246},-1,null,"○","終端"]
[1248,500,0,12000,18000,3000,1060,30,0,140,-1,{"$f":"A1252","v":1249},"RCS2-SA7C-60-16","先頭","○"]
[1249,600,0,12000,18000,3000,800,30,0,140,{"$f":"A1251","v":1248},{"$f":"A1253","v":1250},null,"○","○"]
[1250,700,0,12000,18000,3000,640,30,0,140,{"$f":"A1252","v":1249},{"$f":"A1254","v":1251},null,"○","○"]
[1251,800,0,12000,18000,3000,480,30,0,140,{"$f":"A1253","v":1250},-1,null,"○","終端"]
[1252,50,0,8000,12000,1400,1600,30,0,108,-1,{"$f":"A1256","v":1253},"RCS2-SA7C-60-24","先頭","○"]
[1253,150,0,8000,12000,1400,1600,30,0,108,{"$f":"A1255","v":1252},1254,null,"○","○"]
[1254,250,0,8000,12000,1400,1600,30,0,108,1253,1255,null,"○","○"]
[1255,500,0,8000,12000,1400,1600,30,0,108,1254,1256,null,"○","○"]
[1256,600,0,8000,12000,1400,1200,30,0,108,1255,1257,null,"○","○"]
[1257,700,0,8000,12000,1400,960,30,0,108,1256,1258,null,"○","○"]
[1258,800,0,8000,12000,1400,720,30,0,108,1257,-1,null,"○","終端"]
[1259,500,0,30000,45000,8000,300,30,0,120,-1,{"$f":"A1263","v":1260},"RCS2-SS7C-60-6","先頭","○"]
[1260,600,0,30000,45000,8000,230,30,0,120,{"$f":"A1262","v":1259},-1,null,"○","終端"]
[1261,450,0,15000,22500,4000,800,30,0,80,-1,{"$f":"A1265","v":1262},"RCS2-SS7C-60-12","先頭","○"]
[1262,500,0,15000,22500,4000,600,30,0,80,{"$f":"A1264","v":1261},{"$f":"A1266","v":1263},null,"○","○"]
[1263,600,0,15000,22500,4000,470,30,0,80,{"$f":"A1265","v":1262},-1,null,"○","終端"]
[1264,200,0,9000,13500,2400,1330,27,0,72,-1,{"$f":"A1268","v":1265},"RCS2-SS7C-60-20","先頭","○"]
[1265,400,0,9000,13500,2400,1330,27,0,72,{"$f":"A1267","v":1264},{"$f":"A1269","v":1266},null,"○","○"]
[1266,450,0,9000,13500,2400,1330,27,0,72,{"$f":"A1268","v":1265},{"$f":"A1270","v":1267},null,"○","○"]
[1267,550,0,9000,13500,2400,1000,27,0,72,{"$f":"A1269","v":1266},{"$f":"A1271","v":1268},null,"○","○"]
[1268,600,0,9000,13500,2400,830,27,0,72,{"$f":"A1270","v":1267},-1,null,"○","終端"]
[1269,400,0,8000,10500,4500,165,30,0,160,-1,-1,"RCS2CR-SA4C-20-2.5","先頭","終端"]
[1270,400,0,6000,8000,2500,330,30,0,160,-1,-1,"RCS2CR-SA4C-20-5","先頭","終端"]
[1271,400,0,4000,5000,1000,665,30,0,160,-1,-1,"RCS2CR-SA4C-20-10","先頭","終端"]
[1272,400,0,2500,3200,600,1060,30,0,120,-1,-1,"RCS2CR-SA4C-20-16","先頭","終端"]
[1273,450,0,12000,15500,4000,200,30,0,160,-1,{"$f":"A1277","v":1274},"RCS2CR-SA5C-20-3","先頭","○"]
[1274,500,0,12000,15500,4000,190,30,0,160,{"$f":"A1276","v":1273},-1,null,"○","終端"]
[1275,450,0,8000,10500,2000,400,30,0,160,-1,{"$f":"A1279","v":1276},"RCS2CR-SA5C-20-6","先頭","○"]
[1276,500,0,8000,10500,2000,380,30,0,160,{"$f":"A1278","v":1275},-1,null,"○","終端"]
[1277,450,0,4000,5000,1000,800,30,0,160,-1,{"$f":"A1281","v":1278},"RCS2CR-SA5C-20-12","先頭","○"]
[1278,500,0,4000,5000,1000,760,30,0,160,{"$f":"A1280","v":1277},-1,null,"○","終端"]
[1279,500,0,2000,2600,500,1300,30,0,120,-1,-1,"RCS2CR-SA5C-20-20","先頭","終端"]
[1280,450,0,18000,23500,6000,200,30,0,160,-1,{"$f":"A1284","v":1281},"RCS2CR-SA6C-30-3","先頭","○"]
[1281,500,0,18000,23500,6000,190,30,0,160,{"$f":"A1283","v":1280},{"$f":"A1285","v":1282},null,{"$f":"IF(K1284=A1283,\"○\",IF(M1284<>0,\"先頭\",\"つなぎまちがい\"))","v":"○"},{"$f":"IF(L1284=A1285,\"○\",IF(L1284<>K1285,\"つなぎまちがい\",\"終端\"))","v":"○"}]
[{"$f":"A1284+1","v":1282},550,0,18000,23500,6000,160,30,0,160,{"$f":"A1284","v":1281},{"$f":"A1286","v":1283},null,"○","○"]
[1283,600,0,18000,23500,6000,135,30,0,160,{"$f":"A1285","v":1282},-1,null,"○","終端"]
[1284,450,0,12000,15500,3000,400,30,0,160,-1,{"$f":"A1288","v":1285},"RCS2CR-SA6C-30-6","先頭","○"]
[1285,500,0,12000,15500,3000,380,30,0,160,{"$f":"A1287","v":1284},{"$f":"A1289","v":1286},null,"○","○"]
[1286,550,0,12000,15500,3000,320,30,0,160,{"$f":"A1288","v":1285},{"$f":"A1290","v":1287},null,"○","○"]
[1287,600,0,12000,15500,3000,270,30,0,160,{"$f":"A1289","v":1286},-1,null,"○","終端"]
[1288,450,0,6000,8000,1500,800,30,0,120,-1,{"$f":"A1292","v":1289},"RCS2CR-SA6C-30-12","先頭","○"]
[1289,500,0,6000,8000,1500,760,30,0,120,{"$f":"A1291","v":1288},{"$f":"A1293","v":1290},null,"○","○"]
[1290,550,0,6000,8000,1500,640,30,0,120,{"$f":"A1292","v":1289},{"$f":"A1294","v":1291},null,"○","○"]
[1291,600,0,6000,8000,1500,540,30,0,120,{"$f":"A1293","v":1290},-1,null,"○","終端"]
[1292,150,0,3000,4000,500,1300,30,0,120,-1,{"$f":"A1296","v":1293},"RCS2CR-SA6C-30-20","先頭","○"]
[1293,300,0,3000,4000,500,1300,30,0,120,{"$f":"A1295","v":1292},{"$f":"A1297","v":1294},null,"○","○"]
[1294,500,0,3000,4000,500,1300,30,0,120,{"$f":"A1296","v":1293},{"$f":"A1298","v":1295},null,"○","○"]
[1295,550,0,3000,4000,500,1160,30,0,120,{"$f":"A1297","v":1294},{"$f":"A1299","v":1296},null,"○","○"]
[1296,600,0,3000,4000,500,990,30,0,120,{"$f":"A1298","v":1295},-1,null,"○","終端"]
[1297,600,0,40000,52000,12000,200,30,0,120,-1,{"$f":"A1301","v":1298},"RCS2CR-SA7C-60-4","先頭","○"]
[1298,700,0,40000,52000,12000,160,30,0,120,{"$f":"A1300","v":1297},{"$f":"A1302","v":1299},null,"○","○"]
[1299,800,0,40000,52000,12000,120,30,0,120,{"$f":"A1301","v":1298},-1,null,"○","終端"]
[1300,600,0,25000,32500,6000,400,30,0,130,-1,{"$f":"A1304","v":1301},"RCS2CR-SA7C-60-8","先頭","○"]
[1301,700,0,25000,32500,6000,320,30,0,130,{"$f":"A1303","v":1300},{"$f":"A1305","v":1302},null,"○","○"]
[1302,800,0,25000,32500,6000,240,30,0,130,{"$f":"A1304","v":1301},-1,null,"○","終端"]
[1303,600,0,12000,15500,3000,800,30,0,140,-1,{"$f":"A1307","v":1304},"RCS2CR-SA7C-60-16","先頭","○"]
[1304,700,0,12000,15500,3000,640,30,0,140,{"$f":"A1306","v":1303},{"$f":"A1308","v":1305},null,"○","○"]
[1305,800,0,12000,15500,3000,480,30,0,140,{"$f":"A1307","v":1304},-1,null,"○","終端"]
[1306,50,0,8000,10500,1400,1200,30,0,108,-1,{"$f":"A1310","v":1307},"RCS2CR-SA7C-60-24","先頭","○"]
[1307,150,0,8000,10500,1400,1200,30,0,108,{"$f":"A1309","v":1306},{"$f":"A1311","v":1308},null,"○","○"]
[1308,250,0,8000,10500,1400,1200,30,0,108,{"$f":"A1310","v":1307},{"$f":"A1312","v":1309},null,"○","○"]
[1309,600,0,8000,10500,1400,1200,30,0,108,{"$f":"A1311","v":1308},{"$f":"A1313","v":1310},null,"○","○"]
[1310,700,0,8000,10500,1400,960,30,0,108,{"$f":"A1312","v":1309},{"$f":"A1314","v":1311},null,"○","○"]
[1311,800,0,8000,10500,1400,720,30,0,108,{"$f":"A1313","v":1310},-1,null,"○","終端"]
[1312,500,0,30000,39000,8000,300,30,0,120,-1,{"$f":"A1316","v":1313},"RCS2CR-SS7C-60-6","先頭","○"]
[1313,600,0,30000,39000,8000,230,30,0,120,{"$f":"A1315","v":1312},-1,null,"○","終端"]
[1314,500,0,15000,19500,4000,600,30,0,80,-1,{"$f":"A1318","v":1315},"RCS2CR-SS7C-60-12","先頭","○"]
[1315,600,0,15000,19500,4000,470,30,0,80,{"$f":"A1317","v":1314},-1,null,"○","終端"]
[1316,200,0,9000,11500,2400,1000,27,0,72,-1,{"$f":"A1320","v":1317},"RCS2CR-SS7C-60-20","先頭","○"]
[1317,400,0,9000,11500,2400,1000,27,0,72,{"$f":"A1319","v":1316},{"$f":"A1321","v":1318},null,"○","○"]
[1318,550,0,9000,11500,2400,1000,27,0,72,{"$f":"A1320","v":1317},{"$f":"A1322","v":1319},null,"○","○"]
[1319,600,0,9000,11500,2400,830,27,0,72,{"$f":"A1321","v":1318},-1,null,"○","終端"]
[1320,300,0,8000,{"$f":"D1323","v":8000},4500,165,30,0,160,-1,-1,"RCS2-SA4D-20-2.5","先頭","終端"]
[1321,300,0,6000,6000,2500,330,30,0,160,-1,-1,"RCS2-SA4D-20-5","先頭","終端"]
[1322,300,0,4000,4000,1000,665,30,0,160,-1,-1,"RCS2-SA4D-20-10","先頭","終端"]
[1323,450,0,12000,12000,4000,200,30,0,160,-1,{"$f":"A1327","v":1324},"RCS2-SA5D-20-3","先頭","○"]
[1324,500,0,12000,12000,4000,190,30,0,160,{"$f":"A1326","v":1323},-1,null,"○","終端"]
[1325,450,0,8000,8000,2000,400,30,0,160,-1,{"$f":"A1329","v":1326},"RCS2-SA5D-20-6","先頭","○"]
[1326,500,0,8000,8000,2000,380,30,0,160,{"$f":"A1328","v":1325},-1,null,"○","終端"]
[1327,450,0,4000,4000,1000,800,30,0,160,-1,{"$f":"A1331","v":1328},"RCS2-SA5D-20-12","先頭","○"]
[1328,500,0,4000,4000,1000,760,30,0,160,{"$f":"A1330","v":1327},-1,null,"○","終端"]
[1329,450,0,18000,18000,6000,200,30,0,160,-1,{"$f":"A1333","v":1330},"RCS2-SA6D-30-3","先頭","○"]
[1330,500,0,18000,18000,6000,190,30,0,160,{"$f":"A1332","v":1329},{"$f":"A1334","v":1331},null,"○","○"]
[1331,550,0,18000,18000,6000,160,30,0,160,{"$f":"A1333","v":1330},{"$f":"A1335","v":1332},null,"○","○"]
[1332,600,0,18000,18000,6000,135,30,0,160,{"$f":"A1334","v":1331},-1,null,"○","終端"]
[1333,450,0,12000,12000,3000,400,30,0,160,-1,{"$f":"A1337","v":1334},"RCS2-SA6D-30-6","先頭","○"]
[1334,500,0,12000,12000,3000,380,30,0,160,{"$f":"A1336","v":1333},{"$f":"A1338","v":1335},null,"○","○"]
[1335,550,0,12000,12000,3000,320,30,0,160,{"$f":"A1337","v":1334},{"$f":"A1339","v":1336},null,"○","○"]
[1336,600,0,12000,12000,3000,270,30,0,160,{"$f":"A1338","v":1335},-1,null,"○","終端"]
[1337,150,0,6000,6000,1500,800,30,0,120,-1,{"$f":"A1341","v":1338},"RCS2-SA6D-30-12","先頭","○"]
[1338,300,0,6000,6000,1500,800,30,0,120,{"$f":"A1340","v":1337},{"$f":"A1342","v":1339},null,"○","○"]
[1339,450,0,6000,6000,1500,800,30,0,120,{"$f":"A1341","v":1338},{"$f":"A1343","v":1340},null,"○","○"]
[1340,500,0,6000,6000,1500,760,30,0,120,{"$f":"A1342","v":1339},{"$f":"A1344","v":1341},null,"○","○"]
[1341,550,0,6000,6000,1500,640,30,0,120,{"$f":"A1343","v":1340},{"$f":"A1345","v":1342},null,"○","○"]
[1342,600,0,6000,6000,1500,540,30,0,120,{"$f":"A1344","v":1341},-1,null,"○","終端"]
[1343,450,0,12000,12000,4000,200,30,0,160,-1,{"$f":"A1347","v":1344},"RCS2CR-SA5D-20-3","先頭","○"]
[1344,500,0,12000,12000,4000,190,30,0,160,{"$f":"A1346","v":1343},-1,null,"○","終端"]
[1345,450,0,8000,8000,2000,400,30,0,160,-1,{"$f":"A1349","v":1346},"RCS2CR-SA5D-20-6",{"$f":"IF(K1348=A1347,\"○\",IF(M1348<>0,\"先頭\",\"つなぎまちがい\"))","v":"先頭"},{"$f":"IF(L1348=A1349,\"○\",IF(L1348<>K1349,\"つなぎまちがい\",\"終端\"))","v":"○"}]
[{"$f":"A1348+1","v":1346},500,0,8000,8000,2000,380,30,0,160,{"$f":"A1348","v":1345},-1,null,"○","終端"]
[1347,450,0,4000,4000,1000,800,30,0,160,-1,{"$f":"A1351","v":1348},"RCS2CR-SA5D-20-12","先頭","○"]
[1348,500,0,4000,4000,1000,760,30,0,160,{"$f":"A1350","v":1347},-1,null,"○","終端"]
[1349,450,0,18000,18000,6000,200,30,0,160,-1,{"$f":"A1353","v":1350},"RCS2CR-SA6D-30-3","先頭","○"]
[1350,500,0,18000,18000,6000,190,30,0,160,{"$f":"A1352","v":1349},{"$f":"A1354","v":1351},null,"○","○"]
[1351,550,0,18000,18000,6000,160,30,0,160,{"$f":"A1353","v":1350},{"$f":"A1355","v":1352},null,"○","○"]
[1352,600,0,18000,18000,6000,135,30,0,160,{"$f":"A1354","v":1351},-1,null,"○","終端"]
[1353,450,0,12000,12000,3000,400,30,0,160,-1,{"$f":"A1357","v":1354},"RCS2CR-SA6D-30-6","先頭","○"]
[1354,500,0,12000,12000,3000,380,30,0,160,{"$f":"A1356","v":1353},{"$f":"A1358","v":1355},null,"○","○"]
[1355,550,0,12000,12000,3000,320,30,0,160,{"$f":"A1357","v":1354},{"$f":"A1359","v":1356},null,"○","○"]
[1356,600,0,12000,12000,3000,270,30,0,160,{"$f":"A1358","v":1355},-1,null,"○","終端"]
[1357,150,0,6000,6000,1500,800,30,0,120,-1,{"$f":"A1361","v":1358},"RCS2CR-SA6D-30-12","先頭","○"]
[1358,300,0,6000,6000,1500,800,30,0,120,{"$f":"A1360","v":1357},{"$f":"A1362","v":1359},null,"○","○"]
[1359,450,0,6000,6000,1500,800,30,0,120,{"$f":"A1361","v":1358},{"$f":"A1363","v":1360},null,"○","○"]
[1360,500,0,6000,6000,1500,760,30,0,120,{"$f":"A1362","v":1359},{"$f":"A1364","v":1361},null,"○","○"]
[1361,550,0,6000,6000,1500,640,30,0,120,{"$f":"A1363","v":1360},{"$f":"A1365","v":1362},null,"○","○"]
[1362,600,0,6000,6000,1500,540,30,0,120,{"$f":"A1364","v":1361},-1,null,"○","終端"]
[1363,400,0,8000,10500,4500,165,30,0,160,-1,-1,"RCS2-SA4R-20-2.5","先頭","終端"]
[1364,400,0,6000,8000,2500,330,30,0,160,-1,-1,"RCS2-SA4R-20-5","先頭","終端"]
[1365,400,0,4000,5200,1000,665,30,0,160,-1,-1,"RCS2-SA4R-20-10","先頭","終端"]
[1366,450,0,12000,15500,4000,200,30,0,160,-1,{"$f":"A1370","v":1367},"RCS2-SA5R-20-3","先頭","○"]
[1367,500,0,12000,15500,4000,190,30,0,160,{"$f":"A1369","v":1366},-1,null,"○","終端"]
[1368,450,0,8000,10500,2000,400,30,0,160,-1,{"$f":"A1372","v":1369},"RCS2-SA5R-20-6","先頭","○"]
[1369,500,0,8000,10500,2000,380,30,0,160,{"$f":"A1371","v":1368},-1,null,"○","終端"]
[1370,450,0,4000,5200,1000,800,30,0,160,-1,{"$f":"A1374","v":1371},"RCS2-SA5R-20-12","先頭","○"]
[1371,500,0,4000,5200,1000,760,30,0,160,{"$f":"A1373","v":1370},-1,null,"○","終端"]
[1372,450,0,18000,23500,6000,200,30,0,160,-1,{"$f":"A1376","v":1373},"RCS2-SA6R-30-3","先頭","○"]
[1373,500,0,18000,23500,6000,190,30,0,160,{"$f":"A1375","v":1372},{"$f":"A1377","v":1374},null,"○","○"]
[1374,550,0,18000,23500,6000,160,30,0,160,{"$f":"A1376","v":1373},{"$f":"A1378","v":1375},null,"○","○"]
[1375,600,0,18000,23500,6000,135,30,0,160,{"$f":"A1377","v":1374},-1,null,"○","終端"]
[1376,450,0,12000,15500,3000,400,30,0,160,-1,{"$f":"A1380","v":1377},"RCS2-SA6R-30-6","先頭","○"]
[1377,500,0,12000,15500,3000,380,30,0,160,{"$f":"A1379","v":1376},{"$f":"A1381","v":1378},null,"○","○"]
[1378,550,0,12000,15500,3000,320,30,0,160,{"$f":"A1380","v":1377},{"$f":"A1382","v":1379},null,"○","○"]
[1379,600,0,12000,15500,3000,270,30,0,160,{"$f":"A1381","v":1378},-1,null,"○","終端"]
[1380,150,0,6000,7800,1500,800,30,0,120,-1,{"$f":"A1384","v":1381},"RCS2-SA6R-30-12","先頭","○"]
[1381,300,0,6000,7800,1500,800,30,0,120,{"$f":"A1383","v":1380},{"$f":"A1385","v":1382},null,"○","○"]
[1382,450,0,6000,7800,1500,800,30,0,120,{"$f":"A1384","v":1381},{"$f":"A1386","v":1383},null,"○","○"]
[1383,500,0,6000,7800,1500,760,30,0,120,{"$f":"A1385","v":1382},{"$f":"A1387","v":1384},null,"○","○"]
[1384,550,0,6000,7800,1500,640,30,0,120,{"$f":"A1386","v":1383},{"$f":"A1388","v":1385},null,"○","○"]
[1385,600,0,6000,7800,1500,540,30,0,120,{"$f":"A1387","v":1384},-1,null,"○","終端"]
[1386,600,0,40000,52000,12000,200,30,0,120,-1,{"$f":"A1390","v":1387},"RCS2-SA7R-60-4","先頭","○"]
[1387,700,0,40000,52000,12000,160,30,0,120,{"$f":"A1389","v":1386},{"$f":"A1391","v":1388},null,"○","○"]
[1388,800,0,40000,52000,12000,120,30,0,120,{"$f":"A1390","v":1387},-1,null,"○","終端"]
[1389,600,0,25000,32500,6000,400,30,0,130,-1,{"$f":"A1393","v":1390},"RCS2-SA7R-60-8","先頭","○"]
[1390,700,0,25000,32500,6000,320,30,0,130,{"$f":"A1392","v":1389},{"$f":"A1394","v":1391},null,"○","○"]
[1391,800,0,25000,32500,6000,240,30,0,130,{"$f":"A1393","v":1390},-1,null,"○","終端"]
[1392,600,0,12000,15600,3000,800,30,0,140,-1,{"$f":"A1396","v":1393},"RCS2-SA7R-60-16","先頭","○"]
[1393,700,0,12000,15600,3000,640,30,0,140,{"$f":"A1395","v":1392},{"$f":"A1397","v":1394},null,"○","○"]
[1394,800,0,12000,15600,3000,480,30,0,140,{"$f":"A1396","v":1393},-1,null,"○","終端"]
[1395,500,0,30000,39000,8000,300,30,0,120,-1,{"$f":"A1399","v":1396},"RCS2-SS7R-60-6","先頭","○"]
[1396,600,0,30000,39000,8000,230,30,0,120,{"$f":"A1398","v":1395},-1,null,"○","終端"]
[1397,500,0,15000,19500,4000,600,30,0,80,-1,{"$f":"A1401","v":1398},"RCS2-SS7R-60-12","先頭","○"]
[1398,600,0,15000,19500,4000,470,30,0,80,{"$f":"A1400","v":1397},-1,null,"○","終端"]
[1399,300,0,12000,15500,4000,150,30,0,160,-1,-1,"RCS2-RA4C-20-3","先頭","終端"]
[1400,300,0,6000,8000,2000,300,30,0,160,-1,-1,"RCS2-RA4C-20-6","先頭","終端"]
[1401,300,0,3000,4000,1000,600,30,0,160,-1,-1,"RCS2-RA4C-20-12","先頭","終端"]
[1402,300,0,18000,23500,6500,150,30,0,160,-1,-1,"RCS2-RA4C-30-3","先頭","終端"]
[1403,300,0,9000,12000,3000,300,30,0,160,-1,-1,"RCS2-RA4C-30-6","先頭","終端"]
[1404,300,0,4000,5200,1500,600,30,0,160,-1,-1,"RCS2-RA4C-30-12","先頭","終端"]
[1405,250,0,50000,65000,11500,200,30,0,120,-1,{"$f":"A1409","v":1406},"RCS2-RA5C-60-4","先頭","○"]
[1406,300,0,50000,65000,11500,188,30,0,120,{"$f":"A1408","v":1405},-1,null,"○","終端"]
[1407,250,0,25000,32500,5000,400,30,0,120,-1,{"$f":"A1411","v":1408},"RCS2-RA5C-60-8","先頭","○"]
[1408,300,0,25000,32500,5000,377,30,0,120,{"$f":"A1410","v":1407},-1,null,"○","終端"]
[1409,250,0,12000,15500,2000,800,30,0,120,-1,{"$f":"A1413","v":1410},"RCS2-RA5C-60-16",{"$f":"IF(K1412=A1411,\"○\",IF(M1412<>0,\"先頭\",\"つなぎまちがい\"))","v":"先頭"},{"$f":"IF(L1412=A1413,\"○\",IF(L1412<>K1413,\"つなぎまちがい\",\"終端\"))","v":"○"}]
[{"$f":"A1412+1","v":1410},300,0,12000,15500,2000,755,30,0,120,{"$f":"A1412","v":1409},-1,null,"○","終端"]
[1411,250,0,60000,78000,18000,200,30,0,120,-1,{"$f":"A1415","v":1412},"RCS2-RA5C-100-4","先頭","○"]
[1412,300,0,60000,78000,18000,188,30,0,120,{"$f":"A1414","v":1411},-1,null,"○","終端"]
[1413,100,0,30000,39000,9000,400,30,0,120,-1,{"$f":"A1417","v":1414},"RCS2-RA5C-100-8","先頭","○"]
[1414,200,0,30000,39000,9000,400,30,0,120,{"$f":"A1416","v":1413},{"$f":"A1418","v":1415},null,"○","○"]
[1415,250,0,30000,39000,9000,400,30,0,120,{"$f":"A1417","v":1414},{"$f":"A1419","v":1416},null,"○","○"]
[1416,300,0,30000,39000,9000,377,30,0,120,{"$f":"A1418","v":1415},-1,null,"○","終端"]
[1417,250,0,15000,19500,3500,800,30,0,120,-1,{"$f":"A1421","v":1418},"RCS2-RA5C-100-16","先頭","○"]
[1418,300,0,15000,19500,3500,755,30,0,120,{"$f":"A1420","v":1417},-1,null,"○","終端"]
[1419,550,0,10000,10000,2000,2160,30,0,80,-1,{"$f":"A1423","v":1420},"ISB-SXM-100-36","先頭","○"]
[1420,{"$f":"B1422+50","v":600},0,10000,10000,2000,2000,30,0,80,{"$f":"A1422","v":1419},1421,null,"○","○"]
[1421,650,0,10000,10000,2000,1740,30,0,80,1420,1422,null,"○","○"]
[1422,700,0,10000,10000,2000,1520,30,0,80,1421,1423,null,"○","○"]
[1423,750,0,10000,10000,2000,1340,30,0,80,1422,1424,null,"○","○"]
[1424,800,0,10000,10000,2000,1190,30,0,80,1423,1425,null,"○","○"]
[1425,850,0,10000,10000,2000,1065,30,0,80,1424,1426,null,"○","○"]
[1426,900,0,10000,10000,2000,960,30,0,80,1425,1427,null,"○","○"]
[1427,950,0,10000,10000,2000,865,30,0,80,1426,1428,null,"○","○"]
[1428,1000,0,10000,10000,2000,790,30,0,80,1427,1429,null,"○","○"]
[1429,1050,0,10000,10000,2000,721,30,0,80,1428,1430,null,"○","○"]
[1430,1100,0,10000,10000,2000,660,30,0,80,1429,-1,null,"○","終端"]
[1431,700,0,20000,20000,6000,2500,30,0,80,-1,{"$f":"A1435","v":1432},"ISB-MXM-400-48","先頭","○"]
[1432,{"$f":"B1434+50","v":750},0,20000,20000,6000,2270,30,0,80,{"$f":"A1434","v":1431},1433,null,"○","○"]
[1433,800,0,20000,20000,6000,2030,30,0,80,1432,1434,null,"○","○"]
[1434,850,0,20000,20000,6000,1825,30,0,80,1433,1435,null,"○","○"]
[1435,900,0,20000,20000,6000,1645,30,0,80,1434,1436,null,"○","○"]
[1436,950,0,20000,20000,6000,1495,30,0,80,1435,1437,null,"○","○"]
[1437,1000,0,20000,20000,6000,1365,30,0,80,1436,1438,null,"○","○"]
[1438,1050,0,20000,20000,6000,1250,30,0,80,1437,1439,null,"○","○"]
[1439,1100,0,20000,20000,6000,1150,30,0,80,1438,1440,null,"○","○"]
[1440,1150,0,20000,20000,6000,1060,25,0,80,1439,1441,null,"○","○"]
[1441,1200,0,20000,20000,6000,980,25,0,80,1440,1442,null,"○","○"]
[1442,1250,0,20000,20000,6000,910,25,0,80,1441,1443,null,"○","○"]
[1443,1300,0,20000,20000,6000,845,25,0,80,1442,-1,null,"○","終端"]
[1444,530,0,10000,10000,2000,2160,30,0,80,-1,{"$f":"A1448","v":1445},"ISB-SXL-100-36","先頭","○"]
[1445,{"$f":"B1447+50","v":580},0,10000,10000,2000,2000,30,0,80,{"$f":"A1447","v":1444},1446,null,"○","○"]
[1446,630,0,10000,10000,2000,1740,30,0,80,1445,1447,null,"○","○"]
[1447,680,0,10000,10000,2000,1520,30,0,80,1446,1448,null,"○","○"]
[1448,730,0,10000,10000,2000,1340,30,0,80,1447,1449,null,"○","○"]
[1449,780,0,10000,10000,2000,1190,30,0,80,1448,1450,null,"○","○"]
[1450,830,0,10000,10000,2000,1065,30,0,80,1449,1451,null,"○","○"]
[1451,880,0,10000,10000,2000,960,30,0,80,1450,1452,null,"○","○"]
[1452,930,0,10000,10000,2000,865,30,0,80,1451,1453,null,"○","○"]
[1453,980,0,10000,10000,2000,790,30,0,80,1452,1454,null,"○","○"]
[1454,1030,0,10000,10000,2000,721,30,0,80,1453,1455,null,"○","○"]
[1455,1080,0,10000,10000,2000,660,30,0,80,1454,-1,null,"○","終端"]
[1456,670,0,20000,20000,6000,2500,30,0,80,-1,{"$f":"A1460","v":1457},"ISB-MXL-400-48","先頭","○"]
[1457,{"$f":"B1459+50","v":720},0,20000,20000,6000,2270,30,0,80,{"$f":"A1459","v":1456},1458,null,"○","○"]
[1458,770,0,20000,20000,6000,2030,30,0,80,1457,1459,null,"○","○"]
[1459,820,0,20000,20000,6000,1825,30,0,80,1458,1460,null,"○","○"]
[1460,870,0,20000,20000,6000,1645,30,0,80,1459,1461,null,"○","○"]
[1461,920,0,20000,20000,6000,1495,30,0,80,1460,1462,null,"○","○"]
[1462,970,0,20000,20000,6000,1365,30,0,80,1461,1463,null,"○","○"]
[1463,1020,0,20000,20000,6000,1250,30,0,80,1462,1464,null,"○","○"]
[1464,1070,0,20000,20000,6000,1150,30,0,80,1463,1465,null,"○","○"]
[1465,1120,0,20000,20000,6000,1060,25,0,80,1464,1466,null,"○","○"]
[1466,1170,0,20000,20000,6000,980,25,0,80,1465,1467,null,"○","○"]
[1467,1220,0,20000,20000,6000,910,25,0,80,1466,1468,null,"○","○"]
[1468,1270,0,20000,20000,6000,845,25,0,80,1467,-1,null,"○","終端"]
[1469,550,0,10000,10000,2000,2000,30,0,80,-1,{"$f":"A1473","v":1470},"ISDB-S-100-36","先頭","○"]
[1470,{"$f":"B1472+50","v":600},0,10000,10000,2000,1825,30,0,80,{"$f":"A1472","v":1469},{"$f":"A1474","v":1471},null,"○","○"]
[1471,{"$f":"B1473+50","v":650},0,10000,10000,2000,1590,30,0,80,{"$f":"A1473","v":1470},{"$f":"A1475","v":1472},null,"○","○"]
[1472,{"$f":"B1474+50","v":700},0,10000,10000,2000,1400,30,0,80,{"$f":"A1474","v":1471},{"$f":"A1476","v":1473},null,"○","○"]
[1473,{"$f":"B1475+50","v":750},0,10000,10000,2000,1240,30,0,80,{"$f":"A1475","v":1472},{"$f":"A1477","v":1474},null,{"$f":"IF(K1476=A1475,\"○\",IF(M1476<>0,\"先頭\",\"つなぎまちがい\"))","v":"○"},{"$f":"IF(L1476=A1477,\"○\",IF(L1476<>K1477,\"つなぎまちがい\",\"終端\"))","v":"○"}]
[{"$f":"A1476+1","v":1474},{"$f":"B1476+50","v":800},0,10000,10000,2000,1105,30,0,80,{"$f":"A1476","v":1473},-1,null,"○","終端"]
[1475,700,0,20000,20000,6000,2200,30,0,80,-1,{"$f":"A1479","v":1476},"ISDB-M-400-48","先頭","○"]
[1476,{"$f":"B1478+50","v":750},0,20000,20000,6000,2145,30,0,80,{"$f":"A1478","v":1475},1477,null,"○","○"]
[1477,800,0,20000,20000,6000,1920,30,0,80,1476,1478,null,"○","○"]
[1478,850,0,20000,20000,6000,1730,30,0,80,1477,1479,null,"○","○"]
[1479,900,0,20000,20000,6000,1570,30,0,80,1478,1480,null,"○","○"]
[1480,950,0,20000,20000,6000,1430,30,0,80,1479,1481,null,"○","○"]
[1481,1000,0,20000,20000,6000,1305,30,0,80,1480,1482,null,"○","○"]
[1482,1050,0,20000,20000,6000,1195,30,0,80,1481,1483,null,"○","○"]
[1483,1100,0,20000,20000,6000,1105,30,0,80,1482,-1,null,"○","終端"]
[1484,450,0,20000,20000,12000,150,30,0,245,-1,1485,"RCS4-SA4C-60-2.5","↓ Ver.3.5 追加"]
[1485,500,0,20000,20000,12000,135,30,0,245,1484,-1,"RCS4-SA4C-60-2.5"]
[1486,450,0,17000,17000,8000,300,30,0,135,-1,1487,"RCS4-SA4C-60-5"]
[1487,500,0,17000,17000,8000,275,30,0,135,1486,-1,"RCS4-SA4C-60-5"]
[1488,450,0,14000,14000,5000,600,30,0,120,-1,1489,"RCS4-SA4C-60-10"]
[1489,500,0,14000,14000,5000,555,30,0,120,1488,-1,"RCS4-SA4C-60-10"]
[1490,450,0,10000,10000,3000,960,30,0,100,-1,1491,"RCS4-SA4C-60-16"]
[1491,500,0,10000,10000,3000,875,30,0,100,1490,-1,"RCS4-SA4C-60-16"]
[1492,450,0,20000,20000,12000,150,30,0,236,-1,1493,"RCS4-SA4R-60-2.5"]
[1493,500,0,20000,20000,12000,135,30,0,236,1492,-1,"RCS4-SA4R-60-2.5"]
[1494,450,0,17000,17000,8000,300,30,0,166,-1,1495,"RCS4-SA4R-60-5"]
[1495,500,0,17000,17000,8000,275,30,0,166,1494,-1,"RCS4-SA4R-60-5"]
[1496,450,0,14000,14000,4500,600,30,0,109,-1,1497,"RCS4-SA4R-60-10"]
[1497,500,0,14000,14000,4500,555,30,0,109,1496,-1,"RCS4-SA4R-60-10"]
[1498,450,0,10000,10000,2500,960,20,0,100,-1,1499,"RCS4-SA4R-60-16"]
[1499,500,0,10000,10000,2500,875,20,0,100,1498,-1,"RCS4-SA4R-60-16"]
[1500,500,0,45000,45000,15000,180,30,0,135,-1,1501,"RCS4-SA6C-100-3"]
[1501,550,0,45000,45000,15000,150,25,0,100,1500,1502,"RCS4-SA6C-100-3"]
[1502,600,0,45000,45000,15000,130,25,0,100,1501,1503,"RCS4-SA6C-100-3"]
[1503,650,0,45000,45000,15000,115,25,0,100,1502,1504,"RCS4-SA6C-100-3"]
[1504,700,0,45000,45000,15000,100,25,0,100,1503,1505,"RCS4-SA6C-100-3"]
[1505,750,0,45000,45000,15000,85,25,0,100,1504,1506,"RCS4-SA6C-100-3"]
[1506,800,0,45000,45000,15000,75,25,0,100,1505,-1,"RCS4-SA6C-100-3"]
[1507,500,0,45000,45000,15000,360,30,0,150,-1,1508,"RCS4-SA6C-100-6"]
[1508,550,0,45000,45000,15000,305,20,0,150,1507,1509,"RCS4-SA6C-100-6"]
[1509,600,0,45000,45000,15000,265,20,0,150,1508,1510,"RCS4-SA6C-100-6"]
[1510,650,0,45000,45000,15000,230,20,0,150,1509,1511,"RCS4-SA6C-100-6"]
[1511,700,0,45000,45000,15000,200,20,0,150,1510,1512,"RCS4-SA6C-100-6"]
[1512,750,0,45000,45000,15000,175,20,0,150,1511,1513,"RCS4-SA6C-100-6"]
[1513,800,0,45000,45000,15000,155,20,0,150,1512,-1,"RCS4-SA6C-100-6"]
[1514,500,0,30000,30000,11000,720,30,0,95,-1,1515,"RCS4-SA6C-100-12"]
[1515,550,0,30000,30000,11000,620,25,0,120,1514,1516,"RCS4-SA6C-100-12"]
[1516,600,0,30000,30000,11000,535,25,0,120,1515,1517,"RCS4-SA6C-100-12"]
[1517,650,0,30000,30000,11000,460,25,0,120,1516,1518,"RCS4-SA6C-100-12"]
[1518,700,0,30000,30000,11000,405,25,0,120,1517,1519,"RCS4-SA6C-100-12"]
[1519,750,0,30000,30000,11000,355,25,0,120,1518,1520,"RCS4-SA6C-100-12"]
[1520,800,0,30000,30000,11000,315,25,0,120,1519,-1,"RCS4-SA6C-100-12"]
[1521,500,0,18000,18000,6000,1200,30,0,90,-1,1522,"RCS4-SA6C-100-20"]
[1522,550,0,18000,18000,6000,1130,25,0,130,1521,1523,"RCS4-SA6C-100-20"]
[1523,600,0,18000,18000,6000,970,25,0,130,1522,1524,"RCS4-SA6C-100-20"]
[1524,650,0,18000,18000,6000,840,25,0,130,1523,1525,"RCS4-SA6C-100-20"]
[1525,700,0,18000,18000,6000,735,25,0,130,1524,1526,"RCS4-SA6C-100-20"]
[1526,750,0,18000,18000,6000,650,25,0,130,1525,1527,"RCS4-SA6C-100-20"]
[1527,800,0,18000,18000,6000,575,25,0,130,1526,-1,"RCS4-SA6C-100-20"]
[1528,500,0,11000,11000,3500,1800,30,0,100,-1,1529,"RCS4-SA6C-100-30"]
[1529,550,0,11000,11000,3500,1600,30,0,100,1528,1530,"RCS4-SA6C-100-30"]
[1530,600,0,11000,11000,3500,1450,30,0,100,1529,1531,"RCS4-SA6C-100-30"]
[1531,650,0,11000,11000,3500,1260,30,0,90,1530,1532,"RCS4-SA6C-100-30"]
[1532,700,0,11000,11000,3500,1100,30,0,90,1531,1533,"RCS4-SA6C-100-30"]
[1533,750,0,11000,11000,3500,970,30,0,90,1532,1534,"RCS4-SA6C-100-30"]
[1534,800,0,11000,11000,3500,860,30,0,90,1533,-1,"RCS4-SA6C-100-30"]
[1535,500,0,45000,45000,15000,180,30,0,122,-1,1536,"RCS4-SA6R-100-3"]
[1536,550,0,45000,45000,15000,150,30,0,122,1535,1537,"RCS4-SA6R-100-3"]
[1537,600,0,45000,45000,15000,130,30,0,122,1536,1538,"RCS4-SA6R-100-3"]
[1538,650,0,45000,45000,15000,115,30,0,122,1537,1539,"RCS4-SA6R-100-3"]
[1539,700,0,45000,45000,15000,100,30,0,122,1538,1540,"RCS4-SA6R-100-3"]
[1540,750,0,45000,45000,15000,85,30,0,122,1539,1541,"RCS4-SA6R-100-3"]
[1541,800,0,45000,45000,15000,75,30,0,122,1540,-1,"RCS4-SA6R-100-3"]
[1542,500,0,45000,45000,15000,360,30,0,145,-1,1543,"RCS4-SA6R-100-6"]
[1543,550,0,45000,45000,15000,305,30,0,145,1542,1544,"RCS4-SA6R-100-6"]
[1544,600,0,45000,45000,15000,265,30,0,145,1543,1545,"RCS4-SA6R-100-6"]
[1545,650,0,45000,45000,15000,230,30,0,145,1544,1546,"RCS4-SA6R-100-6"]
[1546,700,0,45000,45000,15000,200,30,0,145,1545,1547,"RCS4-SA6R-100-6"]
[1547,750,0,45000,45000,15000,175,30,0,145,1546,1548,"RCS4-SA6R-100-6"]
[1548,800,0,45000,45000,15000,155,30,0,145,1547,-1,"RCS4-SA6R-100-6"]
[1549,500,0,30000,30000,9000,720,30,0,120,-1,1550,"RCS4-SA6R-100-12"]
[1550,550,0,30000,30000,9000,620,35,0,140,1549,1551,"RCS4-SA6R-100-12"]
[1551,600,0,30000,30000,9000,535,35,0,140,1550,1552,"RCS4-SA6R-100-12"]
[1552,650,0,30000,30000,9000,460,35,0,140,1551,1553,"RCS4-SA6R-100-12"]
[1553,700,0,30000,30000,9000,405,35,0,140,1552,1554,"RCS4-SA6R-100-12"]
[1554,750,0,30000,30000,9000,355,35,0,140,1553,1555,"RCS4-SA6R-100-12"]
[1555,800,0,30000,30000,9000,315,35,0,140,1554,-1,"RCS4-SA6R-100-12"]
[1556,500,0,18000,18000,5000,1200,25,0,100,-1,1557,"RCS4-SA6R-100-20"]
[1557,550,0,18000,18000,5000,1130,30,0,110,1556,1558,"RCS4-SA6R-100-20"]
[1558,600,0,18000,18000,5000,970,30,0,110,1557,1559,"RCS4-SA6R-100-20"]
[1559,650,0,18000,18000,5000,840,30,0,110,1558,1560,"RCS4-SA6R-100-20"]
[1560,700,0,18000,18000,5000,735,30,0,110,1559,1561,"RCS4-SA6R-100-20"]
[1561,750,0,18000,18000,5000,650,30,0,110,1560,1562,"RCS4-SA6R-100-20"]
[1562,800,0,18000,18000,5000,575,30,0,110,1561,-1,"RCS4-SA6R-100-20"]
[1563,500,0,11000,11000,3000,1800,30,0,100,-1,1564,"RCS4-SA6R-100-30"]
[1564,550,0,11000,11000,3000,1600,30,0,100,1563,1565,"RCS4-SA6R-100-30"]
[1565,600,0,11000,11000,3000,1450,30,0,100,1564,1566,"RCS4-SA6R-100-30"]
[1566,650,0,11000,11000,3000,1260,30,0,100,1565,1567,"RCS4-SA6R-100-30"]
[1567,700,0,11000,11000,3000,1100,30,0,100,1566,1568,"RCS4-SA6R-100-30"]
[1568,750,0,11000,11000,3000,970,30,0,100,1567,1569,"RCS4-SA6R-100-30"]
[1569,800,0,11000,11000,3000,860,30,0,100,1568,-1,"RCS4-SA6R-100-30"]
[1570,500,0,50000,50000,25000,240,30,0,140,-1,1571,"RCS4-SA7C-200-4"]
[1571,550,0,50000,50000,25000,235,30,0,140,1570,1572,"RCS4-SA7C-200-4"]
[1572,600,0,50000,50000,25000,205,30,0,140,1571,1573,"RCS4-SA7C-200-4"]
[1573,650,0,50000,50000,25000,175,30,0,140,1572,1574,"RCS4-SA7C-200-4"]
[1574,700,0,50000,50000,25000,155,30,0,140,1573,1575,"RCS4-SA7C-200-4"]
[1575,750,0,50000,50000,25000,135,30,0,140,1574,1576,"RCS4-SA7C-200-4"]
[1576,800,0,50000,50000,25000,120,30,0,140,1575,-1,"RCS4-SA7C-200-4"]
[1577,500,0,45000,45000,20000,500,25,0,145,-1,1578,"RCS4-SA7C-200-8"]
[1578,550,0,45000,45000,20000,475,35,0,145,1577,1579,"RCS4-SA7C-200-8"]
[1579,600,0,45000,45000,20000,410,35,0,145,1578,1580,"RCS4-SA7C-200-8"]
[1580,650,0,45000,45000,20000,355,35,0,145,1579,1581,"RCS4-SA7C-200-8"]
[1581,700,0,45000,45000,20000,315,35,0,145,1580,1582,"RCS4-SA7C-200-8"]
[1582,750,0,45000,45000,20000,275,35,0,145,1581,1583,"RCS4-SA7C-200-8"]
[1583,800,0,45000,45000,20000,245,35,0,145,1582,-1,"RCS4-SA7C-200-8"]
[1584,500,0,40000,40000,12000,1000,30,0,105,-1,1585,"RCS4-SA7C-200-16"]
[1585,550,0,40000,40000,12000,965,30,0,120,1584,1586,"RCS4-SA7C-200-16"]
[1586,600,0,40000,40000,12000,830,30,0,120,1585,1587,"RCS4-SA7C-200-16"]
[1587,650,0,40000,40000,12000,720,30,0,120,1586,1588,"RCS4-SA7C-200-16"]
[1588,700,0,40000,40000,12000,635,30,0,120,1587,1589,"RCS4-SA7C-200-16"]
[1589,750,0,40000,40000,12000,560,30,0,120,1588,1590,"RCS4-SA7C-200-16"]
[1590,800,0,40000,40000,12000,500,30,0,120,1589,-1,"RCS4-SA7C-200-16"]
[1591,500,0,30000,30000,7000,1500,30,0,83,-1,1592,"RCS4-SA7C-200-24"]
[1592,550,0,30000,30000,7000,1440,23,0,95,1591,1593,"RCS4-SA7C-200-24"]
[1593,600,0,30000,30000,7000,1240,23,0,95,1592,1594,"RCS4-SA7C-200-24"]
[1594,650,0,30000,30000,7000,1095,23,0,95,1593,1595,"RCS4-SA7C-200-24"]
[1595,700,0,30000,30000,7000,965,23,0,95,1594,1596,"RCS4-SA7C-200-24"]
[1596,750,0,30000,30000,7000,850,23,0,95,1595,1597,"RCS4-SA7C-200-24"]
[1597,800,0,30000,30000,7000,760,23,0,95,1596,-1,"RCS4-SA7C-200-24"]
[1598,550,0,7000,7000,4000,2150,35,0,92,-1,1599,"RCS4-SA7C-200-36"]
[1599,600,0,7000,7000,4000,1800,35,0,92,1598,1600,"RCS4-SA7C-200-36"]
[1600,650,0,7000,7000,4000,1620,35,0,120,1599,1601,"RCS4-SA7C-200-36"]
[1601,700,0,7000,7000,4000,1420,35,0,120,1600,1602,"RCS4-SA7C-200-36"]
[1602,750,0,7000,7000,4000,1260,35,0,120,1601,1603,"RCS4-SA7C-200-36"]
[1603,800,0,7000,7000,4000,1120,35,0,120,1602,-1,"RCS4-SA7C-200-36"]
[1604,500,0,50000,50000,25000,240,30,0,132,-1,1605,"RCS4-SA7R-200-4"]
[1605,550,0,50000,50000,25000,235,30,0,132,1604,1606,"RCS4-SA7R-200-4"]
[1606,600,0,50000,50000,25000,205,30,0,132,1605,1607,"RCS4-SA7R-200-4"]
[1607,650,0,50000,50000,25000,175,30,0,132,1606,1608,"RCS4-SA7R-200-4"]
[1608,700,0,50000,50000,25000,155,30,0,132,1607,1609,"RCS4-SA7R-200-4"]
[1609,750,0,50000,50000,25000,135,30,0,132,1608,1610,"RCS4-SA7R-200-4"]
[1610,800,0,50000,50000,25000,120,30,0,132,1609,-1,"RCS4-SA7R-200-4"]
[1611,500,0,45000,45000,18000,500,30,0,160,-1,1612,"RCS4-SA7R-200-8"]
[1612,550,0,45000,45000,18000,475,30,0,160,1611,1613,"RCS4-SA7R-200-8"]
[1613,600,0,45000,45000,18000,410,30,0,160,1612,1614,"RCS4-SA7R-200-8"]
[1614,650,0,45000,45000,18000,355,30,0,160,1613,1615,"RCS4-SA7R-200-8"]
[1615,700,0,45000,45000,18000,315,30,0,160,1614,1616,"RCS4-SA7R-200-8"]
[1616,750,0,45000,45000,18000,275,30,0,160,1615,1617,"RCS4-SA7R-200-8"]
[1617,800,0,45000,45000,18000,245,30,0,160,1616,-1,"RCS4-SA7R-200-8"]
[1618,500,0,38000,38000,12000,1000,25,0,109,-1,1619,"RCS4-SA7R-200-16"]
[1619,550,0,38000,38000,12000,965,25,0,130,1618,1620,"RCS4-SA7R-200-16"]
[1620,600,0,38000,38000,12000,830,25,0,130,1619,1621,"RCS4-SA7R-200-16"]
[1621,650,0,38000,38000,12000,720,25,0,130,1620,1622,"RCS4-SA7R-200-16"]
[1622,700,0,38000,38000,12000,635,25,0,130,1621,1623,"RCS4-SA7R-200-16"]
[1623,750,0,38000,38000,12000,560,25,0,130,1622,1624,"RCS4-SA7R-200-16"]
[1624,800,0,38000,38000,12000,500,25,0,130,1623,-1,"RCS4-SA7R-200-16"]
[1625,500,0,30000,30000,6000,1500,32,0,84,-1,1626,"RCS4-SA7R-200-24"]
[1626,550,0,30000,30000,6000,1440,30,0,110,1625,1627,"RCS4-SA7R-200-24"]
[1627,600,0,30000,30000,6000,1240,30,0,110,1626,1628,"RCS4-SA7R-200-24"]
[1628,650,0,30000,30000,6000,1095,30,0,110,1627,1629,"RCS4-SA7R-200-24"]
[1629,700,0,30000,30000,6000,965,30,0,110,1628,1630,"RCS4-SA7R-200-24"]
[1630,750,0,30000,30000,6000,850,30,0,110,1629,1631,"RCS4-SA7R-200-24"]
[1631,800,0,30000,30000,6000,760,30,0,110,1630,-1,"RCS4-SA7R-200-24"]
[1632,550,0,7000,7000,4000,2150,35,0,100,-1,1633,"RCS4-SA7R-200-36"]
[1633,600,0,7000,7000,4000,1800,35,0,100,1632,1634,"RCS4-SA7R-200-36"]
[1634,650,0,7000,7000,4000,1620,35,0,100,1633,1635,"RCS4-SA7R-200-36"]
[1635,700,0,7000,7000,4000,1420,35,0,100,1634,1636,"RCS4-SA7R-200-36"]
[1636,750,0,7000,7000,4000,1260,35,0,100,1635,1637,"RCS4-SA7R-200-36"]
[1637,800,0,7000,7000,4000,1120,35,0,100,1636,-1,"RCS4-SA7R-200-36"]
[1638,600,0,90000,90000,45000,300,32,0,140,-1,1639,"RCS4-SA8C-400-5"]
[1639,650,0,90000,90000,45000,270,30,0,145,1638,1640,"RCS4-SA8C-400-5"]
[1640,700,0,90000,90000,45000,240,30,0,145,1639,1641,"RCS4-SA8C-400-5"]
[1641,750,0,90000,90000,45000,215,30,0,145,1640,1642,"RCS4-SA8C-400-5"]
[1642,800,0,90000,90000,45000,190,30,0,145,1641,1643,"RCS4-SA8C-400-5"]
[1643,850,0,90000,90000,45000,175,30,0,145,1642,1644,"RCS4-SA8C-400-5"]
[1644,900,0,90000,90000,45000,155,30,0,145,1643,1645,"RCS4-SA8C-400-5"]
[1645,950,0,90000,90000,45000,140,30,0,145,1644,1646,"RCS4-SA8C-400-5"]
[1646,1000,0,90000,90000,45000,130,30,0,145,1645,1647,"RCS4-SA8C-400-5"]
[1647,1050,0,90000,90000,45000,120,30,0,145,1646,1648,"RCS4-SA8C-400-5"]
[1648,1100,0,90000,90000,45000,110,30,0,145,1647,-1,"RCS4-SA8C-400-5"]
[1649,600,0,80000,80000,35000,600,30,0,116,-1,1650,"RCS4-SA8C-400-10"]
[1650,650,0,80000,80000,35000,540,30,0,150,1649,1651,"RCS4-SA8C-400-10"]
[1651,700,0,80000,80000,35000,480,30,0,150,1650,1652,"RCS4-SA8C-400-10"]
[1652,750,0,80000,80000,35000,430,30,0,150,1651,1653,"RCS4-SA8C-400-10"]
[1653,800,0,80000,80000,35000,385,30,0,150,1652,1654,"RCS4-SA8C-400-10"]
[1654,850,0,80000,80000,35000,345,30,0,150,1653,1655,"RCS4-SA8C-400-10"]
[1655,900,0,80000,80000,35000,310,30,0,150,1654,1656,"RCS4-SA8C-400-10"]
[1656,950,0,80000,80000,35000,285,30,0,150,1655,1657,"RCS4-SA8C-400-10"]
[1657,1000,0,80000,80000,35000,260,30,0,150,1656,1658,"RCS4-SA8C-400-10"]
[1658,1050,0,80000,80000,35000,235,30,0,150,1657,1659,"RCS4-SA8C-400-10"]
[1659,1100,0,80000,80000,35000,220,30,0,150,1658,-1,"RCS4-SA8C-400-10"]
[1660,600,0,60000,60000,20000,1200,25,0,110,-1,1661,"RCS4-SA8C-400-20"]
[1661,650,0,60000,60000,20000,1090,27,0,140,1660,1662,"RCS4-SA8C-400-20"]
[1662,700,0,60000,60000,20000,960,27,0,140,1661,1663,"RCS4-SA8C-400-20"]
[1663,750,0,60000,60000,20000,860,27,0,140,1662,1664,"RCS4-SA8C-400-20"]
[1664,800,0,60000,60000,20000,770,27,0,140,1663,1665,"RCS4-SA8C-400-20"]
[1665,850,0,60000,60000,20000,695,27,0,140,1664,1666,"RCS4-SA8C-400-20"]
[1666,900,0,60000,60000,20000,630,27,0,140,1665,1667,"RCS4-SA8C-400-20"]
[1667,950,0,60000,60000,20000,570,27,0,140,1666,1668,"RCS4-SA8C-400-20"]
[1668,1000,0,60000,60000,20000,520,27,0,140,1667,1669,"RCS4-SA8C-400-20"]
[1669,1050,0,60000,60000,20000,480,27,0,140,1668,1670,"RCS4-SA8C-400-20"]
[1670,1100,0,60000,60000,20000,440,27,0,140,1669,-1,"RCS4-SA8C-400-20"]
[1671,600,0,30000,30000,12000,1800,30,0,90,-1,1672,"RCS4-SA8C-400-30"]
[1672,650,0,30000,30000,12000,1640,25,0,85,1671,1673,"RCS4-SA8C-400-30"]
[1673,700,0,30000,30000,12000,1440,25,0,85,1672,1674,"RCS4-SA8C-400-30"]
[1674,750,0,30000,30000,12000,1280,25,0,85,1673,1675,"RCS4-SA8C-400-30"]
[1675,800,0,30000,30000,12000,1155,25,0,85,1674,1676,"RCS4-SA8C-400-30"]
[1676,850,0,30000,30000,12000,1040,25,0,85,1675,1677,"RCS4-SA8C-400-30"]
[1677,900,0,30000,30000,12000,940,25,0,85,1676,1678,"RCS4-SA8C-400-30"]
[1678,950,0,30000,30000,12000,855,25,0,85,1677,1679,"RCS4-SA8C-400-30"]
[1679,1000,0,30000,30000,12000,780,25,0,85,1678,1680,"RCS4-SA8C-400-30"]
[1680,1050,0,30000,30000,12000,715,25,0,85,1679,1681,"RCS4-SA8C-400-30"]
[1681,1100,0,30000,30000,12000,660,25,0,85,1680,-1,"RCS4-SA8C-400-30"]
[1682,650,0,8000,8000,-1,2500,30,0,134,-1,1683,"RCS4-SA8C-400-48"]
[1683,700,0,8000,8000,-1,2200,30,0,134,1682,1684,"RCS4-SA8C-400-48"]
[1684,750,0,8000,8000,-1,2180,30,0,134,1683,1685,"RCS4-SA8C-400-48"]
[1685,800,0,8000,8000,-1,1950,30,0,134,1684,1686,"RCS4-SA8C-400-48"]
[1686,850,0,8000,8000,-1,1760,30,0,134,1685,1687,"RCS4-SA8C-400-48"]
[1687,900,0,8000,8000,-1,1590,30,0,134,1686,1688,"RCS4-SA8C-400-48"]
[1688,950,0,8000,8000,-1,1450,30,0,134,1687,1689,"RCS4-SA8C-400-48"]
[1689,1000,0,8000,8000,-1,1320,30,0,134,1688,1690,"RCS4-SA8C-400-48"]
[1690,1050,0,8000,8000,-1,1210,30,0,134,1689,1691,"RCS4-SA8C-400-48"]
[1691,1100,0,8000,8000,-1,1110,30,0,134,1690,-1,"RCS4-SA8C-400-48"]
[1692,600,0,90000,90000,45000,300,30,0,180,-1,1693,"RCS4-SA8R-400-5"]
[1693,650,0,90000,90000,45000,270,30,0,180,1692,1694,"RCS4-SA8R-400-5"]
[1694,700,0,90000,90000,45000,240,30,0,180,1693,1695,"RCS4-SA8R-400-5"]
[1695,750,0,90000,90000,45000,215,30,0,180,1694,1696,"RCS4-SA8R-400-5"]
[1696,800,0,90000,90000,45000,190,30,0,180,1695,1697,"RCS4-SA8R-400-5"]
[1697,850,0,90000,90000,45000,175,30,0,180,1696,1698,"RCS4-SA8R-400-5"]
[1698,900,0,90000,90000,45000,155,30,0,180,1697,1699,"RCS4-SA8R-400-5"]
[1699,950,0,90000,90000,45000,140,30,0,180,1698,1700,"RCS4-SA8R-400-5"]
[1700,1000,0,90000,90000,45000,130,30,0,180,1699,1701,"RCS4-SA8R-400-5"]
[1701,1050,0,90000,90000,45000,120,30,0,180,1700,1702,"RCS4-SA8R-400-5"]
[1702,1100,0,90000,90000,45000,110,30,0,180,1701,-1,"RCS4-SA8R-400-5"]
[1703,600,0,80000,80000,35000,600,30,0,110,-1,1704,"RCS4-SA8R-400-10"]
[1704,650,0,80000,80000,35000,540,30,0,130,1703,1705,"RCS4-SA8R-400-10"]
[1705,700,0,80000,80000,35000,480,30,0,130,1704,1706,"RCS4-SA8R-400-10"]
[1706,750,0,80000,80000,35000,430,30,0,130,1705,1707,"RCS4-SA8R-400-10"]
[1707,800,0,80000,80000,35000,385,30,0,130,1706,1708,"RCS4-SA8R-400-10"]
[1708,850,0,80000,80000,35000,345,30,0,130,1707,1709,"RCS4-SA8R-400-10"]
[1709,900,0,80000,80000,35000,310,30,0,130,1708,1710,"RCS4-SA8R-400-10"]
[1710,950,0,80000,80000,35000,285,30,0,130,1709,1711,"RCS4-SA8R-400-10"]
[1711,1000,0,80000,80000,35000,260,30,0,130,1710,1712,"RCS4-SA8R-400-10"]
[1712,1050,0,80000,80000,35000,235,30,0,130,1711,1713,"RCS4-SA8R-400-10"]
[1713,1100,0,80000,80000,35000,220,30,0,130,1712,-1,"RCS4-SA8R-400-10"]
[1714,600,0,60000,60000,20000,1200,25,0,120,-1,1715,"RCS4-SA8R-400-20"]
[1715,650,0,60000,60000,20000,1090,26,0,150,1714,1716,"RCS4-SA8R-400-20"]
[1716,700,0,60000,60000,20000,960,26,0,150,1715,1717,"RCS4-SA8R-400-20"]
[1717,750,0,60000,60000,20000,860,26,0,150,1716,1718,"RCS4-SA8R-400-20"]
[1718,800,0,60000,60000,20000,770,26,0,150,1717,1719,"RCS4-SA8R-400-20"]
[1719,850,0,60000,60000,20000,695,26,0,150,1718,1720,"RCS4-SA8R-400-20"]
[1720,900,0,60000,60000,20000,630,26,0,150,1719,1721,"RCS4-SA8R-400-20"]
[1721,950,0,60000,60000,20000,570,26,0,150,1720,1722,"RCS4-SA8R-400-20"]
[1722,1000,0,60000,60000,20000,520,26,0,150,1721,1723,"RCS4-SA8R-400-20"]
[1723,1050,0,60000,60000,20000,480,26,0,150,1722,1724,"RCS4-SA8R-400-20"]
[1724,1100,0,60000,60000,20000,440,26,0,150,1723,-1,"RCS4-SA8R-400-20"]
[1725,600,0,30000,30000,12000,1800,30,0,130,-1,1726,"RCS4-SA8R-400-30"]
[1726,650,0,30000,30000,12000,1640,25,0,100,1725,1727,"RCS4-SA8R-400-30"]
[1727,700,0,30000,30000,12000,1440,25,0,100,1726,1728,"RCS4-SA8R-400-30"]
[1728,750,0,30000,30000,12000,1280,25,0,100,1727,1729,"RCS4-SA8R-400-30"]
[1729,800,0,30000,30000,12000,1155,25,0,100,1728,1730,"RCS4-SA8R-400-30"]
[1730,850,0,30000,30000,12000,1040,25,0,100,1729,1731,"RCS4-SA8R-400-30"]
[1731,900,0,30000,30000,12000,940,25,0,100,1730,1732,"RCS4-SA8R-400-30"]
[1732,950,0,30000,30000,12000,855,25,0,100,1731,1733,"RCS4-SA8R-400-30"]
[1733,1000,0,30000,30000,12000,780,25,0,100,1732,1734,"RCS4-SA8R-400-30"]
[1734,1050,0,30000,30000,12000,715,25,0,100,1733,1735,"RCS4-SA8R-400-30"]
[1735,1100,0,30000,30000,12000,660,25,0,100,1734,-1,"RCS4-SA8R-400-30"]
[1736,650,0,8000,8000,-1,2500,30,0,134,-1,1737,"RCS4-SA8R-400-48"]
[1737,700,0,8000,8000,-1,2200,30,0,134,1736,1738,"RCS4-SA8R-400-48"]
[1738,750,0,8000,8000,-1,2180,30,0,134,1737,1739,"RCS4-SA8R-400-48"]
[1739,800,0,8000,8000,-1,1950,30,0,134,1738,1740,"RCS4-SA8R-400-48"]
[1740,850,0,8000,8000,-1,1760,30,0,134,1739,1741,"RCS4-SA8R-400-48"]
[1741,900,0,8000,8000,-1,1590,30,0,134,1740,1742,"RCS4-SA8R-400-48"]
[1742,950,0,8000,8000,-1,1450,30,0,134,1741,1743,"RCS4-SA8R-400-48"]
[1743,1000,0,8000,8000,-1,1320,30,0,134,1742,1744,"RCS4-SA8R-400-48"]
[1744,1050,0,8000,8000,-1,1210,30,0,134,1743,1745,"RCS4-SA8R-400-48"]
[1745,1100,0,8000,8000,-1,1110,30,0,134,1744,-1,"RCS4-SA8R-400-48"]
[1746,350,0,40000,40000,10000,150,30,0,175,-1,1747,"RCS4-WSA10C-60-2.5"]
[1747,400,0,40000,40000,10000,145,30,0,175,1746,1748,"RCS4-WSA10C-60-2.5"]
[1748,450,0,40000,40000,10000,120,30,0,175,1747,1749,"RCS4-WSA10C-60-2.5"]
[1749,500,0,40000,40000,10000,100,30,0,175,1748,-1,"RCS4-WSA10C-60-2.5"]
[1750,350,0,27000,27000,5000,300,30,0,145,-1,1751,"RCS4-WSA10C-60-5"]
[1751,400,0,27000,27000,5000,290,30,0,145,1750,1752,"RCS4-WSA10C-60-5"]
[1752,450,0,27000,27000,5000,245,30,0,150,1751,1753,"RCS4-WSA10C-60-5"]
[1753,500,0,27000,27000,5000,205,30,0,150,1752,-1,"RCS4-WSA10C-60-5"]
[1754,350,0,16000,16000,3000,600,30,0,117,-1,1755,"RCS4-WSA10C-60-10"]
[1755,400,0,16000,16000,3000,590,30,0,117,1754,1756,"RCS4-WSA10C-60-10"]
[1756,450,0,16000,16000,3000,490,30,0,115,1755,1757,"RCS4-WSA10C-60-10"]
[1757,500,0,16000,16000,3000,415,30,0,115,1756,-1,"RCS4-WSA10C-60-10"]
[1758,350,0,7000,7000,-1,960,30,0,130,-1,1759,"RCS4-WSA10C-60-16"]
[1759,400,0,7000,7000,-1,930,30,0,130,1758,1760,"RCS4-WSA10C-60-16"]
[1760,450,0,7000,7000,-1,775,30,0,130,1759,1761,"RCS4-WSA10C-60-16"]
[1761,500,0,7000,7000,-1,660,30,0,130,1760,-1,"RCS4-WSA10C-60-16"]
[1762,350,0,40000,40000,10000,150,30,0,171,-1,1763,"RCS4-WSA10R-60-2.5"]
[1763,400,0,40000,40000,10000,145,30,0,171,1762,1764,"RCS4-WSA10R-60-2.5"]
[1764,450,0,40000,40000,10000,120,30,0,171,1763,1765,"RCS4-WSA10R-60-2.5"]
[1765,500,0,40000,40000,10000,100,30,0,171,1764,-1,"RCS4-WSA10R-60-2.5"]
[1766,350,0,27000,27000,5000,300,28,0,148,-1,1767,"RCS4-WSA10R-60-5"]
[1767,400,0,27000,27000,5000,290,28,0,148,1766,1768,"RCS4-WSA10R-60-5"]
[1768,450,0,27000,27000,5000,245,28,0,135,1767,1769,"RCS4-WSA10R-60-5"]
[1769,500,0,27000,27000,5000,205,28,0,135,1768,-1,"RCS4-WSA10R-60-5"]
[1770,350,0,16000,16000,3000,600,30,0,114,-1,1771,"RCS4-WSA10R-60-10"]
[1771,400,0,16000,16000,3000,590,30,0,114,1770,1772,"RCS4-WSA10R-60-10"]
[1772,450,0,16000,16000,3000,490,30,0,120,1771,1773,"RCS4-WSA10R-60-10"]
[1773,500,0,16000,16000,3000,415,30,0,120,1772,-1,"RCS4-WSA10R-60-10"]
[1774,350,0,7000,7000,-1,960,30,0,140,-1,1775,"RCS4-WSA10R-60-16"]
[1775,400,0,7000,7000,-1,930,30,0,140,1774,1776,"RCS4-WSA10R-60-16"]
[1776,450,0,7000,7000,-1,775,38,0,150,1775,1777,"RCS4-WSA10R-60-16"]
[1777,500,0,7000,7000,-1,660,38,0,150,1776,-1,"RCS4-WSA10R-60-16"]
[1778,450,0,55000,55000,15000,180,30,0,135,-1,1779,"RCS4-WSA12C-100-3"]
[1779,500,0,55000,55000,15000,150,30,0,135,1778,1780,"RCS4-WSA12C-100-3"]
[1780,550,0,55000,55000,15000,130,30,0,135,1779,1781,"RCS4-WSA12C-100-3"]
[1781,600,0,55000,55000,15000,115,30,0,135,1780,1782,"RCS4-WSA12C-100-3"]
[1782,650,0,55000,55000,15000,100,30,0,135,1781,1783,"RCS4-WSA12C-100-3"]
[1783,700,0,55000,55000,15000,85,30,0,135,1782,1784,"RCS4-WSA12C-100-3"]
[1784,750,0,55000,55000,15000,75,30,0,135,1783,1785,"RCS4-WSA12C-100-3"]
[1785,800,0,55000,55000,15000,70,30,0,135,1784,-1,"RCS4-WSA12C-100-3"]
[1786,450,0,45000,45000,15000,360,30,0,150,-1,1787,"RCS4-WSA12C-100-6"]
[1787,500,0,45000,45000,15000,310,30,0,150,1786,1788,"RCS4-WSA12C-100-6"]
[1788,550,0,45000,45000,15000,265,29,0,140,1787,1789,"RCS4-WSA12C-100-6"]
[1789,600,0,45000,45000,15000,230,29,0,140,1788,1790,"RCS4-WSA12C-100-6"]
[1790,650,0,45000,45000,15000,200,29,0,140,1789,1791,"RCS4-WSA12C-100-6"]
[1791,700,0,45000,45000,15000,175,29,0,140,1790,1792,"RCS4-WSA12C-100-6"]
[1792,750,0,45000,45000,15000,155,29,0,140,1791,1793,"RCS4-WSA12C-100-6"]
[1793,800,0,45000,45000,15000,140,29,0,140,1792,-1,"RCS4-WSA12C-100-6"]
[1794,450,0,25000,25000,8000,720,30,0,120,-1,1795,"RCS4-WSA12C-100-12"]
[1795,500,0,25000,25000,8000,610,30,0,120,1794,1796,"RCS4-WSA12C-100-12"]
[1796,550,0,25000,25000,8000,535,28,0,110,1795,1797,"RCS4-WSA12C-100-12"]
[1797,600,0,25000,25000,8000,465,28,0,110,1796,1798,"RCS4-WSA12C-100-12"]
[1798,650,0,25000,25000,8000,405,28,0,110,1797,1799,"RCS4-WSA12C-100-12"]
[1799,700,0,25000,25000,8000,355,28,0,110,1798,1800,"RCS4-WSA12C-100-12"]
[1800,750,0,25000,25000,8000,315,28,0,110,1799,1801,"RCS4-WSA12C-100-12"]
[1801,800,0,25000,25000,8000,285,28,0,110,1800,-1,"RCS4-WSA12C-100-12"]
[1802,450,0,15000,15000,3000,1200,30,0,130,-1,1803,"RCS4-WSA12C-100-20"]
[1803,500,0,15000,15000,3000,1130,30,0,130,1802,1804,"RCS4-WSA12C-100-20"]
[1804,550,0,15000,15000,3000,970,30,0,125,1803,1805,"RCS4-WSA12C-100-20"]
[1805,600,0,15000,15000,3000,840,30,0,125,1804,1806,"RCS4-WSA12C-100-20"]
[1806,650,0,15000,15000,3000,740,30,0,125,1805,1807,"RCS4-WSA12C-100-20"]
[1807,700,0,15000,15000,3000,650,30,0,125,1806,1808,"RCS4-WSA12C-100-20"]
[1808,750,0,15000,15000,3000,580,30,0,125,1807,1809,"RCS4-WSA12C-100-20"]
[1809,800,0,15000,15000,3000,520,30,0,125,1808,-1,"RCS4-WSA12C-100-20"]
[1810,450,0,5000,5000,-1,1800,30,0,114,-1,1811,"RCS4-WSA12C-100-30"]
[1811,500,0,5000,5000,-1,1600,30,0,114,1810,1812,"RCS4-WSA12C-100-30"]
[1812,550,0,5000,5000,-1,1450,30,0,114,1811,1813,"RCS4-WSA12C-100-30"]
[1813,600,0,5000,5000,-1,1260,30,0,114,1812,1814,"RCS4-WSA12C-100-30"]
[1814,650,0,5000,5000,-1,1100,30,0,114,1813,1815,"RCS4-WSA12C-100-30"]
[1815,700,0,5000,5000,-1,970,30,0,114,1814,1816,"RCS4-WSA12C-100-30"]
[1816,750,0,5000,5000,-1,860,30,0,114,1815,1817,"RCS4-WSA12C-100-30"]
[1817,800,0,5000,5000,-1,770,30,0,114,1816,-1,"RCS4-WSA12C-100-30"]
[1818,450,0,55000,55000,15000,180,30,0,124,-1,1819,"RCS4-WSA12R-100-3"]
[1819,500,0,55000,55000,15000,150,30,0,124,1818,1820,"RCS4-WSA12R-100-3"]
[1820,550,0,55000,55000,15000,130,30,0,124,1819,1821,"RCS4-WSA12R-100-3"]
[1821,600,0,55000,55000,15000,115,30,0,124,1820,1822,"RCS4-WSA12R-100-3"]
[1822,650,0,55000,55000,15000,100,30,0,124,1821,1823,"RCS4-WSA12R-100-3"]
[1823,700,0,55000,55000,15000,85,30,0,124,1822,1824,"RCS4-WSA12R-100-3"]
[1824,750,0,55000,55000,15000,75,30,0,124,1823,1825,"RCS4-WSA12R-100-3"]
[1825,800,0,55000,55000,15000,70,30,0,124,1824,-1,"RCS4-WSA12R-100-3"]
[1826,450,0,43000,43000,15000,360,30,0,140,-1,1827,"RCS4-WSA12R-100-6"]
[1827,500,0,43000,43000,15000,310,30,0,140,1826,1828,"RCS4-WSA12R-100-6"]
[1828,550,0,43000,43000,15000,265,28,0,150,1827,1829,"RCS4-WSA12R-100-6"]
[1829,600,0,43000,43000,15000,230,28,0,150,1828,1830,"RCS4-WSA12R-100-6"]
[1830,650,0,43000,43000,15000,200,28,0,150,1829,1831,"RCS4-WSA12R-100-6"]
[1831,700,0,43000,43000,15000,175,28,0,150,1830,1832,"RCS4-WSA12R-100-6"]
[1832,750,0,43000,43000,15000,155,28,0,150,1831,1833,"RCS4-WSA12R-100-6"]
[1833,800,0,43000,43000,15000,140,28,0,150,1832,-1,"RCS4-WSA12R-100-6"]
[1834,450,0,23000,23000,8000,720,30,0,150,-1,1835,"RCS4-WSA12R-100-12"]
[1835,500,0,23000,23000,8000,610,30,0,150,1834,1836,"RCS4-WSA12R-100-12"]
[1836,550,0,23000,23000,8000,535,32,0,150,1835,1837,"RCS4-WSA12R-100-12"]
[1837,600,0,23000,23000,8000,465,32,0,150,1836,1838,"RCS4-WSA12R-100-12"]
[1838,650,0,23000,23000,8000,405,32,0,150,1837,1839,"RCS4-WSA12R-100-12"]
[1839,700,0,23000,23000,8000,355,32,0,150,1838,1840,"RCS4-WSA12R-100-12"]
[1840,750,0,23000,23000,8000,315,32,0,150,1839,1841,"RCS4-WSA12R-100-12"]
[1841,800,0,23000,23000,8000,285,32,0,150,1840,-1,"RCS4-WSA12R-100-12"]
[1842,450,0,13000,13000,3000,1200,30,0,90,-1,1843,"RCS4-WSA12R-100-20"]
[1843,500,0,13000,13000,3000,1130,30,0,90,1842,1844,"RCS4-WSA12R-100-20"]
[1844,550,0,13000,13000,3000,970,30,0,125,1843,1845,"RCS4-WSA12R-100-20"]
[1845,600,0,13000,13000,3000,840,30,0,125,1844,1846,"RCS4-WSA12R-100-20"]
[1846,650,0,13000,13000,3000,740,30,0,125,1845,1847,"RCS4-WSA12R-100-20"]
[1847,700,0,13000,13000,3000,650,30,0,125,1846,1848,"RCS4-WSA12R-100-20"]
[1848,750,0,13000,13000,3000,580,30,0,125,1847,1849,"RCS4-WSA12R-100-20"]
[1849,800,0,13000,13000,3000,520,30,0,125,1848,-1,"RCS4-WSA12R-100-20"]
[1850,450,0,5000,5000,-1,1800,30,0,113,-1,1851,"RCS4-WSA12R-100-30"]
[1851,500,0,5000,5000,-1,1600,30,0,113,1850,1852,"RCS4-WSA12R-100-30"]
[1852,550,0,5000,5000,-1,1450,30,0,130,1851,1853,"RCS4-WSA12R-100-30"]
[1853,600,0,5000,5000,-1,1260,30,0,130,1852,1854,"RCS4-WSA12R-100-30"]
[1854,650,0,5000,5000,-1,1100,30,0,130,1853,1855,"RCS4-WSA12R-100-30"]
[1855,700,0,5000,5000,-1,970,30,0,130,1854,1856,"RCS4-WSA12R-100-30"]
[1856,750,0,5000,5000,-1,860,30,0,130,1855,1857,"RCS4-WSA12R-100-30"]
[1857,800,0,5000,5000,-1,770,30,0,130,1856,-1,"RCS4-WSA12R-100-30"]
[1858,450,0,80000,80000,25000,240,30,0,120,-1,1859,"RCS4-WSA14C-200-4"]
[1859,500,0,80000,80000,25000,230,30,0,120,1858,1860,"RCS4-WSA14C-200-4"]
[1860,550,0,80000,80000,25000,200,30,0,140,1859,1861,"RCS4-WSA14C-200-4"]
[1861,600,0,80000,80000,25000,170,30,0,140,1860,1862,"RCS4-WSA14C-200-4"]
[1862,650,0,80000,80000,25000,150,30,0,140,1861,1863,"RCS4-WSA14C-200-4"]
[1863,700,0,80000,80000,25000,135,30,0,140,1862,1864,"RCS4-WSA14C-200-4"]
[1864,750,0,80000,80000,25000,120,30,0,140,1863,1865,"RCS4-WSA14C-200-4"]
[1865,800,0,80000,80000,25000,105,30,0,140,1864,-1,"RCS4-WSA14C-200-4"]
[1866,450,0,65000,65000,10000,480,30,0,110,-1,1867,"RCS4-WSA14C-200-8"]
[1867,500,0,65000,65000,10000,460,30,0,110,1866,1868,"RCS4-WSA14C-200-8"]
[1868,550,0,65000,65000,10000,400,30,0,160,1867,1869,"RCS4-WSA14C-200-8"]
[1869,600,0,65000,65000,10000,350,30,0,160,1868,1870,"RCS4-WSA14C-200-8"]
[1870,650,0,65000,65000,10000,305,30,0,160,1869,1871,"RCS4-WSA14C-200-8"]
[1871,700,0,65000,65000,10000,270,30,0,160,1870,1872,"RCS4-WSA14C-200-8"]
[1872,750,0,65000,65000,10000,240,30,0,160,1871,1873,"RCS4-WSA14C-200-8"]
[1873,800,0,65000,65000,10000,215,30,0,160,1872,-1,"RCS4-WSA14C-200-8"]
[1874,450,0,45000,45000,8000,960,25,0,92,-1,1875,"RCS4-WSA14C-200-16"]
[1875,500,0,45000,45000,8000,920,25,0,92,1874,1876,"RCS4-WSA14C-200-16"]
[1876,550,0,45000,45000,8000,790,25,0,92,1875,1877,"RCS4-WSA14C-200-16"]
[1877,600,0,45000,45000,8000,690,25,0,92,1876,1878,"RCS4-WSA14C-200-16"]
[1878,650,0,45000,45000,8000,610,25,0,92,1877,1879,"RCS4-WSA14C-200-16"]
[1879,700,0,45000,45000,8000,550,25,0,92,1878,1880,"RCS4-WSA14C-200-16"]
[1880,750,0,45000,45000,8000,490,25,0,92,1879,1881,"RCS4-WSA14C-200-16"]
[1881,800,0,45000,45000,8000,440,25,0,92,1880,-1,"RCS4-WSA14C-200-16"]
[1882,450,0,20000,20000,2500,1440,30,0,77,-1,1883,"RCS4-WSA14C-200-24"]
[1883,500,0,20000,20000,2500,1420,30,0,77,1882,1884,"RCS4-WSA14C-200-24"]
[1884,550,0,20000,20000,2500,1220,30,0,92,1883,1885,"RCS4-WSA14C-200-24"]
[1885,600,0,20000,20000,2500,1060,30,0,92,1884,1886,"RCS4-WSA14C-200-24"]
[1886,650,0,20000,20000,2500,930,30,0,92,1885,1887,"RCS4-WSA14C-200-24"]
[1887,700,0,20000,20000,2500,830,30,0,92,1886,1888,"RCS4-WSA14C-200-24"]
[1888,750,0,20000,20000,2500,740,30,0,92,1887,1889,"RCS4-WSA14C-200-24"]
[1889,800,0,20000,20000,2500,665,30,0,92,1888,-1,"RCS4-WSA14C-200-24"]
[1890,450,0,7000,7000,-1,2150,30,0,87,-1,1891,"RCS4-WSA14C-200-36"]
[1891,500,0,7000,7000,-1,1800,30,0,87,1890,1892,"RCS4-WSA14C-200-36"]
[1892,550,0,7000,7000,-1,1800,30,0,140,1891,1893,"RCS4-WSA14C-200-36"]
[1893,600,0,7000,7000,-1,1590,30,0,140,1892,1894,"RCS4-WSA14C-200-36"]
[1894,650,0,7000,7000,-1,1400,30,0,140,1893,1895,"RCS4-WSA14C-200-36"]
[1895,700,0,7000,7000,-1,1240,30,0,140,1894,1896,"RCS4-WSA14C-200-36"]
[1896,750,0,7000,7000,-1,1110,30,0,140,1895,1897,"RCS4-WSA14C-200-36"]
[1897,800,0,7000,7000,-1,990,30,0,140,1896,-1,"RCS4-WSA14C-200-36"]
[1898,450,0,75000,75000,25000,240,30,0,118,-1,1899,"RCS4-WSA14R-200-4"]
[1899,500,0,75000,75000,25000,230,30,0,118,1898,1900,"RCS4-WSA14R-200-4"]
[1900,550,0,75000,75000,25000,200,30,0,118,1899,1901,"RCS4-WSA14R-200-4"]
[1901,600,0,75000,75000,25000,170,30,0,118,1900,1902,"RCS4-WSA14R-200-4"]
[1902,650,0,75000,75000,25000,150,30,0,118,1901,1903,"RCS4-WSA14R-200-4"]
[1903,700,0,75000,75000,25000,135,30,0,118,1902,1904,"RCS4-WSA14R-200-4"]
[1904,750,0,75000,75000,25000,120,30,0,118,1903,1905,"RCS4-WSA14R-200-4"]
[1905,800,0,75000,75000,25000,105,30,0,118,1904,-1,"RCS4-WSA14R-200-4"]
[1906,450,0,65000,65000,10000,480,30,0,140,-1,1907,"RCS4-WSA14R-200-8"]
[1907,500,0,65000,65000,10000,460,30,0,140,1906,1908,"RCS4-WSA14R-200-8"]
[1908,550,0,65000,65000,10000,400,30,0,107,1907,1909,"RCS4-WSA14R-200-8"]
[1909,600,0,65000,65000,10000,350,30,0,107,1908,1910,"RCS4-WSA14R-200-8"]
[1910,650,0,65000,65000,10000,305,30,0,107,1909,1911,"RCS4-WSA14R-200-8"]
[1911,700,0,65000,65000,10000,270,30,0,107,1910,1912,"RCS4-WSA14R-200-8"]
[1912,750,0,65000,65000,10000,240,30,0,107,1911,1913,"RCS4-WSA14R-200-8"]
[1913,800,0,65000,65000,10000,215,30,0,107,1912,-1,"RCS4-WSA14R-200-8"]
[1914,450,0,45000,45000,8000,960,30,0,120,-1,1915,"RCS4-WSA14R-200-16"]
[1915,500,0,45000,45000,8000,920,30,0,120,1914,1916,"RCS4-WSA14R-200-16"]
[1916,550,0,45000,45000,8000,790,30,0,120,1915,1917,"RCS4-WSA14R-200-16"]
[1917,600,0,45000,45000,8000,690,30,0,120,1916,1918,"RCS4-WSA14R-200-16"]
[1918,650,0,45000,45000,8000,610,30,0,120,1917,1919,"RCS4-WSA14R-200-16"]
[1919,700,0,45000,45000,8000,550,30,0,120,1918,1920,"RCS4-WSA14R-200-16"]
[1920,750,0,45000,45000,8000,490,30,0,120,1919,1921,"RCS4-WSA14R-200-16"]
[1921,800,0,45000,45000,8000,440,30,0,120,1920,-1,"RCS4-WSA14R-200-16"]
[1922,450,0,20000,20000,2500,1440,25,0,120,-1,1923,"RCS4-WSA14R-200-24"]
[1923,500,0,20000,20000,2500,1420,25,0,120,1922,1924,"RCS4-WSA14R-200-24"]
[1924,550,0,20000,20000,2500,1220,25,0,120,1923,1925,"RCS4-WSA14R-200-24"]
[1925,600,0,20000,20000,2500,1060,25,0,120,1924,1926,"RCS4-WSA14R-200-24"]
[1926,650,0,20000,20000,2500,930,25,0,120,1925,1927,"RCS4-WSA14R-200-24"]
[1927,700,0,20000,20000,2500,830,25,0,120,1926,1928,"RCS4-WSA14R-200-24"]
[1928,750,0,20000,20000,2500,740,25,0,120,1927,1929,"RCS4-WSA14R-200-24"]
[1929,800,0,20000,20000,2500,665,25,0,120,1928,-1,"RCS4-WSA14R-200-24"]
[1930,450,0,7000,7000,-1,2150,35,0,120,-1,1931,"RCS4-WSA14R-200-36"]
[1931,500,0,7000,7000,-1,1710,35,0,120,1930,1932,"RCS4-WSA14R-200-36"]
[1932,550,0,7000,7000,-1,1710,35,0,120,1931,1933,"RCS4-WSA14R-200-36"]
[1933,600,0,7000,7000,-1,1590,35,0,120,1932,1934,"RCS4-WSA14R-200-36"]
[1934,650,0,7000,7000,-1,1400,35,0,120,1933,1935,"RCS4-WSA14R-200-36"]
[1935,700,0,7000,7000,-1,1240,35,0,120,1934,1936,"RCS4-WSA14R-200-36"]
[1936,750,0,7000,7000,-1,1110,35,0,120,1935,1937,"RCS4-WSA14R-200-36"]
[1937,800,0,7000,7000,-1,990,35,0,120,1936,-1,"RCS4-WSA14R-200-36"]
[1938,550,0,100000,100000,50000,300,30,0,140,-1,1939,"RCS4-WSA16C-400-5"]
[1939,600,0,100000,100000,50000,280,30,0,140,1938,1940,"RCS4-WSA16C-400-5"]
[1940,650,0,100000,100000,50000,240,30,0,140,1939,1941,"RCS4-WSA16C-400-5"]
[1941,700,0,100000,100000,50000,220,30,0,140,1940,1942,"RCS4-WSA16C-400-5"]
[1942,750,0,100000,100000,50000,195,30,0,140,1941,1943,"RCS4-WSA16C-400-5"]
[1943,800,0,100000,100000,50000,175,30,0,140,1942,1944,"RCS4-WSA16C-400-5"]
[1944,850,0,100000,100000,50000,160,30,0,140,1943,1945,"RCS4-WSA16C-400-5"]
[1945,900,0,100000,100000,50000,145,30,0,140,1944,1946,"RCS4-WSA16C-400-5"]
[1946,950,0,100000,100000,50000,130,30,0,140,1945,1947,"RCS4-WSA16C-400-5"]
[1947,1000,0,100000,100000,50000,120,30,0,140,1946,1948,"RCS4-WSA16C-400-5"]
[1948,1050,0,100000,100000,50000,110,30,0,140,1947,1949,"RCS4-WSA16C-400-5"]
[1949,1100,0,100000,100000,50000,100,30,0,140,1948,-1,"RCS4-WSA16C-400-5"]
[1950,550,0,80000,80000,35000,600,30,0,140,-1,1951,"RCS4-WSA16C-400-10"]
[1951,600,0,80000,80000,35000,560,30,0,140,1950,1952,"RCS4-WSA16C-400-10"]
[1952,650,0,80000,80000,35000,490,30,0,140,1951,1953,"RCS4-WSA16C-400-10"]
[1953,700,0,80000,80000,35000,440,30,0,140,1952,1954,"RCS4-WSA16C-400-10"]
[1954,750,0,80000,80000,35000,395,30,0,140,1953,1955,"RCS4-WSA16C-400-10"]
[1955,800,0,80000,80000,35000,355,30,0,140,1954,1956,"RCS4-WSA16C-400-10"]
[1956,850,0,80000,80000,35000,320,30,0,140,1955,1957,"RCS4-WSA16C-400-10"]
[1957,900,0,80000,80000,35000,290,30,0,140,1956,1958,"RCS4-WSA16C-400-10"]
[1958,950,0,80000,80000,35000,265,30,0,140,1957,1959,"RCS4-WSA16C-400-10"]
[1959,1000,0,80000,80000,35000,240,30,0,140,1958,1960,"RCS4-WSA16C-400-10"]
[1960,1050,0,80000,80000,35000,225,30,0,140,1959,1961,"RCS4-WSA16C-400-10"]
[1961,1100,0,80000,80000,35000,205,30,0,140,1960,-1,"RCS4-WSA16C-400-10"]
[1962,550,0,60000,60000,20000,1200,30,0,76,-1,1963,"RCS4-WSA16C-400-20"]
[1963,600,0,60000,60000,20000,1120,30,0,76,1962,1964,"RCS4-WSA16C-400-20"]
[1964,650,0,60000,60000,20000,990,29,0,140,1963,1965,"RCS4-WSA16C-400-20"]
[1965,700,0,60000,60000,20000,880,29,0,140,1964,1966,"RCS4-WSA16C-400-20"]
[1966,750,0,60000,60000,20000,780,29,0,140,1965,1967,"RCS4-WSA16C-400-20"]
[1967,800,0,60000,60000,20000,715,29,0,140,1966,1968,"RCS4-WSA16C-400-20"]
[1968,850,0,60000,60000,20000,645,29,0,140,1967,1969,"RCS4-WSA16C-400-20"]
[1969,900,0,60000,60000,20000,590,29,0,140,1968,1970,"RCS4-WSA16C-400-20"]
[1970,950,0,60000,60000,20000,535,29,0,140,1969,1971,"RCS4-WSA16C-400-20"]
[1971,1000,0,60000,60000,20000,490,29,0,140,1970,1972,"RCS4-WSA16C-400-20"]
[1972,1050,0,60000,60000,20000,450,29,0,140,1971,1973,"RCS4-WSA16C-400-20"]
[1973,1100,0,60000,60000,20000,415,29,0,140,1972,-1,"RCS4-WSA16C-400-20"]
[1974,550,0,30000,30000,12000,1800,30,0,78,-1,1975,"RCS4-WSA16C-400-30"]
[1975,600,0,30000,30000,12000,1680,30,0,78,1974,1976,"RCS4-WSA16C-400-30"]
[1976,650,0,30000,30000,12000,1480,30,0,120,1975,1977,"RCS4-WSA16C-400-30"]
[1977,700,0,30000,30000,12000,1320,30,0,120,1976,1978,"RCS4-WSA16C-400-30"]
[1978,750,0,30000,30000,12000,1180,30,0,120,1977,1979,"RCS4-WSA16C-400-30"]
[1979,800,0,30000,30000,12000,1060,30,0,120,1978,1980,"RCS4-WSA16C-400-30"]
[1980,850,0,30000,30000,12000,960,30,0,120,1979,1981,"RCS4-WSA16C-400-30"]
[1981,900,0,30000,30000,12000,870,30,0,120,1980,1982,"RCS4-WSA16C-400-30"]
[1982,950,0,30000,30000,12000,790,30,0,120,1981,1983,"RCS4-WSA16C-400-30"]
[1983,1000,0,30000,30000,12000,730,30,0,120,1982,1984,"RCS4-WSA16C-400-30"]
[1984,1050,0,30000,30000,12000,670,30,0,120,1983,1985,"RCS4-WSA16C-400-30"]
[1985,1100,0,30000,30000,12000,620,30,0,120,1984,-1,"RCS4-WSA16C-400-30"]
[1986,550,0,100000,100000,50000,300,30,0,140,-1,1987,"RCS4-WSA16R-400-5"]
[1987,600,0,100000,100000,50000,280,30,0,140,1986,1988,"RCS4-WSA16R-400-5"]
[1988,650,0,100000,100000,50000,240,20,0,224,1987,1989,"RCS4-WSA16R-400-5"]
[1989,700,0,100000,100000,50000,220,20,0,224,1988,1990,"RCS4-WSA16R-400-5"]
[1990,750,0,100000,100000,50000,195,20,0,224,1989,1991,"RCS4-WSA16R-400-5"]
[1991,800,0,100000,100000,50000,175,20,0,224,1990,1992,"RCS4-WSA16R-400-5"]
[1992,850,0,100000,100000,50000,160,20,0,224,1991,1993,"RCS4-WSA16R-400-5"]
[1993,900,0,100000,100000,50000,145,20,0,224,1992,1994,"RCS4-WSA16R-400-5"]
[1994,950,0,100000,100000,50000,130,20,0,224,1993,1995,"RCS4-WSA16R-400-5"]
[1995,1000,0,100000,100000,50000,120,20,0,224,1994,1996,"RCS4-WSA16R-400-5"]
[1996,1050,0,100000,100000,50000,110,20,0,224,1995,1997,"RCS4-WSA16R-400-5"]
[1997,1100,0,100000,100000,50000,100,20,0,224,1996,-1,"RCS4-WSA16R-400-5"]
[1998,550,0,80000,80000,35000,600,30,0,180,-1,1999,"RCS4-WSA16R-400-10"]
[1999,600,0,80000,80000,35000,560,30,0,180,1998,2000,"RCS4-WSA16R-400-10"]
[2000,650,0,80000,80000,35000,490,30,0,224,1999,2001,"RCS4-WSA16R-400-10"]
[2001,700,0,80000,80000,35000,440,30,0,224,2000,2002,"RCS4-WSA16R-400-10"]
[2002,750,0,80000,80000,35000,395,30,0,224,2001,2003,"RCS4-WSA16R-400-10"]
[2003,800,0,80000,80000,35000,355,30,0,224,2002,2004,"RCS4-WSA16R-400-10"]
[2004,850,0,80000,80000,35000,320,30,0,224,2003,2005,"RCS4-WSA16R-400-10"]
[2005,900,0,80000,80000,35000,290,30,0,224,2004,2006,"RCS4-WSA16R-400-10"]
[2006,950,0,80000,80000,35000,265,30,0,224,2005,2007,"RCS4-WSA16R-400-10"]
[2007,1000,0,80000,80000,35000,240,30,0,224,2006,2008,"RCS4-WSA16R-400-10"]
[2008,1050,0,80000,80000,35000,225,30,0,224,2007,2009,"RCS4-WSA16R-400-10"]
[2009,1100,0,80000,80000,35000,205,30,0,224,2008,-1,"RCS4-WSA16R-400-10"]
[2010,550,0,60000,60000,18000,1200,30,0,160,-1,2011,"RCS4-WSA16R-400-20"]
[2011,600,0,60000,60000,18000,1120,30,0,160,2010,2012,"RCS4-WSA16R-400-20"]
[2012,650,0,60000,60000,18000,990,33,0,150,2011,2013,"RCS4-WSA16R-400-20"]
[2013,700,0,60000,60000,18000,880,33,0,150,2012,2014,"RCS4-WSA16R-400-20"]
[2014,750,0,60000,60000,18000,780,33,0,150,2013,2015,"RCS4-WSA16R-400-20"]
[2015,800,0,60000,60000,18000,715,33,0,150,2014,2016,"RCS4-WSA16R-400-20"]
[2016,850,0,60000,60000,18000,645,33,0,150,2015,2017,"RCS4-WSA16R-400-20"]
[2017,900,0,60000,60000,18000,590,33,0,150,2016,2018,"RCS4-WSA16R-400-20"]
[2018,950,0,60000,60000,18000,535,33,0,150,2017,2019,"RCS4-WSA16R-400-20"]
[2019,1000,0,60000,60000,18000,490,33,0,150,2018,2020,"RCS4-WSA16R-400-20"]
[2020,1050,0,60000,60000,18000,450,33,0,150,2019,2021,"RCS4-WSA16R-400-20"]
[2021,1100,0,60000,60000,18000,415,33,0,150,2020,-1,"RCS4-WSA16R-400-20"]
[2022,550,0,30000,30000,12000,1800,29,0,130,-1,2023,"RCS4-WSA16R-400-30"]
[2023,600,0,30000,30000,12000,1680,29,0,130,2022,2024,"RCS4-WSA16R-400-30"]
[2024,650,0,30000,30000,12000,1480,30,0,128,2023,2025,"RCS4-WSA16R-400-30"]
[2025,700,0,30000,30000,12000,1320,30,0,128,2024,2026,"RCS4-WSA16R-400-30"]
[2026,750,0,30000,30000,12000,1180,30,0,128,2025,2027,"RCS4-WSA16R-400-30"]
[2027,800,0,30000,30000,12000,1060,30,0,128,2026,2028,"RCS4-WSA16R-400-30"]
[2028,850,0,30000,30000,12000,960,30,0,128,2027,2029,"RCS4-WSA16R-400-30"]
[2029,900,0,30000,30000,12000,870,30,0,128,2028,2030,"RCS4-WSA16R-400-30"]
[2030,950,0,30000,30000,12000,790,30,0,128,2029,2031,"RCS4-WSA16R-400-30"]
[2031,1000,0,30000,30000,12000,730,30,0,128,2030,2032,"RCS4-WSA16R-400-30"]
[2032,1050,0,30000,30000,12000,670,30,0,128,2031,2033,"RCS4-WSA16R-400-30"]
[2033,1100,0,30000,30000,12000,620,30,0,128,2032,-1,"RCS4-WSA16R-400-30","↑ Ver.3.5 追加"]

{"sheet":"MassDataLink","index":5,"n_rows":4056,"n_cols":10,"rows_kept":4056,"cut":false,"hidden":true,"merged":[[2811,6,2837,6],[2839,6,2865,6],[2867,6,2893,6],[2895,6,2921,6],[2923,6,2949,6],[2951,6,2977,6],[2726,6,2733,6],[2734,6,2748,6],[2674,6,2681,6],[2682,6,2696,6],[2697,6,2704,6],[2705,6,2709,6],[2749,6,2756,6],[2757,6,2761,6],[2801,6,2810,6],[2762,6,2765,6],[2766,6,2777,6],[2778,6,2785,6],[2786,6,2800,6],[2659,6,2661,6],[2662,6,2663,6],[2664,6,2673,6],[2626,6,2627,6],[2628,6,2637,6],[2638,6,2642,6],[2643,6,2652,6],[2710,6,2713,6],[2714,6,2725,6],[2606,6,2608,6],[2609,6,2616,6],[2617,6,2622,6],[2623,6,2625,6],[2583,6,2586,6],[2587,6,2594,6],[2595,6,2600,6],[2601,6,2605,6],[2653,6,2658,6],[2542,6,2544,6],[2507,6,2512,6],[2513,6,2515,6],[2516,6,2517,6],[2518,6,2523,6],[2565,6,2570,6],[2571,6,2574,6],[2575,6,2576,6],[2577,6,2582,6],[2545,6,2546,6],[2547,6,2552,6],[2553,6,2556,6],[2557,6,2564,6],[2495,6,2498,6],[2499,6,2506,6],[2441,6,2443,6],[2445,6,2447,6],[2449,6,2451,6],[2483,6,2486,6],[2524,6,2527,6],[2528,6,2535,6],[2536,6,2541,6],[2429,6,2431,6],[2433,6,2435,6],[2437,6,2439,6],[2411,6,2412,6],[2414,6,2416,6],[2418,6,2420,6],[2422,6,2424,6],[2487,6,2488,6],[2489,6,2494,6],[2396,6,2397,6],[2399,6,2401,6],[2403,6,2405,6],[2407,6,2409,6],[2381,6,2382,6],[2384,6,2386,6],[2388,6,2390,6],[2392,6,2394,6],[2426,6,2427,6],[2259,6,2271,6],[2185,6,2199,6],[2200,6,2203,6],[2204,6,2208,6],[2209,6,2210,6],[2315,6,2334,6],[2335,6,2347,6],[2348,6,2367,6],[2368,6,2380,6],[2272,6,2291,6],[2292,6,2304,6],[2305,6,2311,6],[2312,6,2314,6],[2155,6,2174,6],[2175,6,2184,6],[2111,6,2125,6],[2126,6,2130,6],[2131,6,2134,6],[2135,6,2136,6],[2211,6,2225,6],[2226,6,2238,6],[2239,6,2258,6],[2078,6,2085,6],[2086,6,2100,6],[2101,6,2110,6],[2035,6,2054,6],[2055,6,2062,6],[2063,6,2065,6],[2066,6,2067,6],[2137,6,2146,6],[2147,6,2154,6],[1987,6,1998,6],[1999,6,2006,6],[2007,6,2021,6],[2022,6,2034,6],[1958,6,1969,6],[1970,6,1979,6],[1980,6,1984,6],[1985,6,1986,6],[2068,6,2077,6],[1876,6,1882,6],[1826,6,1830,6],[1831,6,1840,6],[1841,6,1848,6],[1849,6,1860,6],[1918,6,1927,6],[1928,6,1934,6],[1940,6,1949,6],[1950,6,1957,6],[1935,6,1939,6],[1883,6,1887,6],[1888,6,1897,6],[1898,6,1905,6],[1906,6,1917,6],[1809,6,1818,6],[1819,6,1825,6],[1765,6,1766,6],[1767,6,1773,6],[1774,6,1778,6],[1779,6,1788,6],[1861,6,1870,6],[1871,6,1873,6],[1874,6,1875,6],[1747,6,1756,6],[1757,6,1761,6],[1762,6,1764,6],[1722,6,1726,6],[1727,6,1731,6],[1732,6,1734,6],[1735,6,1741,6],[1789,6,1796,6],[1797,6,1808,6],[1697,6,1699,6],[1700,6,1706,6],[1707,6,1711,6],[1712,6,1721,6],[1682,6,1686,6],[1687,6,1689,6],[1690,6,1691,6],[1692,6,1696,6],[1742,6,1746,6],[1625,6,1631,6],[1556,6,1573,6],[1574,6,1593,6],[1594,6,1611,6],[1612,6,1614,6],[1657,6,1659,6],[1660,6,1666,6],[1667,6,1671,6],[1672,6,1681,6],[1632,6,1636,6],[1637,6,1646,6],[1647,6,1651,6],[1652,6,1656,6],[1528,6,1535,6],[1536,6,1555,6],[1452,6,1456,6],[1457,6,1471,6],[1472,6,1484,6],[1485,6,1504,6],[1615,6,1616,6],[1617,6,1621,6],[1622,6,1624,6],[1440,6,1442,6],[1443,6,1444,6],[1445,6,1451,6],[1356,6,1363,6],[1364,6,1383,6],[1384,6,1401,6],[1402,6,1421,6],[1505,6,1517,6],[1518,6,1527,6],[1300,6,1312,6],[1313,6,1332,6],[1333,6,1345,6],[1346,6,1355,6],[1271,6,1272,6],[1273,6,1279,6],[1280,6,1284,6],[1285,6,1299,6],[1422,6,1439,6],[1244,6,1255,6],[1256,6,1267,6],[1268,6,1270,6],[1186,6,1192,6],[1193,6,1202,6],[1203,6,1214,6],[1215,6,1221,6],[1222,6,1231,6],[1232,6,1243,6],[1042,6,1051,6],[1146,6,1165,6],[1052,6,1058,6],[1059,6,1078,6],[1079,6,1098,6],[1099,6,1105,6],[1106,6,1125,6],[1126,6,1145,6],[1166,6,1185,6],[1005,6,1014,6],[1015,6,1021,6],[1022,6,1024,6],[968,6,977,6],[978,6,984,6],[985,6,987,6],[988,6,997,6],[1025,6,1034,6],[1035,6,1041,6],[945,6,947,6],[948,6,954,6],[955,6,957,6],[958,6,967,6],[917,6,919,6],[920,6,929,6],[930,6,939,6],[940,6,944,6],[998,6,1004,6],[869,6,873,6],[781,6,792,6],[793,6,810,6],[811,6,817,6],[818,6,820,6],[897,6,901,6],[902,6,906,6],[907,6,909,6],[910,6,916,6],[874,6,876,6],[877,6,883,6],[884,6,886,6],[887,6,896,6],[760,6,762,6],[763,6,780,6],[704,6,706,6],[707,6,713,6],[714,6,716,6],[717,6,734,6],[821,6,838,6],[839,6,850,6],[851,6,868,6],[663,6,680,6],[681,6,698,6],[699,6,703,6],[632,6,644,6],[645,6,649,6],[650,6,652,6],[653,6,659,6],[735,6,752,6],[753,6,759,6],[596,6,598,6],[599,6,608,6],[609,6,613,6],[614,6,631,6],[539,6,558,6],[559,6,570,6],[571,6,590,6],[591,6,595,6],[660,6,662,6],[429,6,448,6],[368,6,370,6],[371,6,390,6],[391,6,410,6],[411,6,415,6],[497,6,508,6],[509,6,528,6],[529,6,535,6],[536,6,538,6],[449,6,468,6],[469,6,475,6],[476,6,478,6],[479,6,496,6],[358,6,360,6],[361,6,367,6],[302,6,304,6],[305,6,314,6],[315,6,319,6],[320,6,339,6],[416,6,418,6],[419,6,425,6],[426,6,428,6],[265,6,276,6],[277,6,296,6],[297,6,301,6],[203,6,214,6],[215,6,234,6],[235,6,241,6],[242,6,244,6],[340,6,352,6],[353,6,357,6],[182,6,184,6],[185,6,202,6],[122,6,124,6],[125,6,131,6],[132,6,134,6],[135,6,154,6],[155,6,174,6],[175,6,181,6],[245,6,264,6],[74,6,76,6],[77,6,96,6],[97,6,116,6],[117,6,121,6],[1,8,1,9],[67,6,73,6],[26,6,45,6],[46,6,58,6],[59,6,63,6],[64,6,66,6],[3,6,7,6],[8,6,10,6],[11,6,20,6],[21,6,25,6]]}
[null,1,2,3,4,5,null,1000,{"$f":"COUNTIF(I4:I2811,\"つなぎまちがい\")","v":0},{"$f":"COUNTIF(J4:J2811,\"つなぎまちがい\")","v":0}]
["ﾃﾞｰﾀ№","ｱｸﾁｭｴｰﾀ姿勢","搬送負荷質量","加減速・速度ﾃﾞｰﾀ","前ﾃﾞｰﾀ№","次ﾃﾞｰﾀ№","備考",null,"ﾚｺｰﾄﾞﾘﾝｸのﾁｪｯｸ"]
[{"$f":"ModelData!A3","v":0},"0/1","1g","ﾚｺｰﾄﾞ№","ﾚｺｰﾄﾞ№","ﾚｺｰﾄﾞ№","型式-姿勢","質量","前ﾃﾞｰﾀ","次ﾃﾞｰﾀ"]
[{"$f":"A3+1","v":1},0,{"$f":"H4*$H$1","v":30000},{"$f":"AccVelDataLink!A4","v":1},-1,{"$f":"A5","v":2},{"$f":"AccVelDataLink!F4","v":"ISB-SXM-60-4-水平"},{"$f":"AccVelDataLink!G4","v":30},{"$f":"IF(E4=A3,\"○\",IF(G4=0,\"つなぎまちがい\",\"先頭\"))","v":"先頭"},{"$f":"IF(F4=A5,\"○\",IF(F4<>E5,\"つなぎまちがい\",\"終端\"))","v":"○"}]
[2,0,38000,{"$f":"AccVelDataLink!A5","v":2},{"$f":"A4","v":1},3,null,{"$f":"AccVelDataLink!G5","v":38},"○","○"]
[3,0,50000,{"$f":"AccVelDataLink!A6","v":3},2,4,null,{"$f":"AccVelDataLink!G6","v":50},"○","○"]
[4,0,55000,{"$f":"AccVelDataLink!A7","v":4},3,5,null,{"$f":"AccVelDataLink!G7","v":55},"○","○"]
[5,0,77000,{"$f":"AccVelDataLink!A8","v":5},4,6,null,{"$f":"AccVelDataLink!G8","v":77},"○","○"]
[6,1,12000,{"$f":"AccVelDataLink!A9","v":6},5,7,{"$f":"AccVelDataLink!F9","v":"ISB-SXM-60-4-垂直"},{"$f":"AccVelDataLink!G9","v":12},"○","○"]
[7,1,13000,{"$f":"AccVelDataLink!A10","v":7},6,8,null,{"$f":"AccVelDataLink!G10","v":13},"○","○"]
[8,1,14000,{"$f":"AccVelDataLink!A11","v":8},7,-1,null,{"$f":"AccVelDataLink!G11","v":14},"○","終端"]
[9,0,4000,{"$f":"AccVelDataLink!A12","v":9},-1,{"$f":"A13","v":10},{"$f":"AccVelDataLink!F12","v":"ISB-SXM-60-8-水平"},{"$f":"AccVelDataLink!G12","v":4},"先頭","○"]
[10,0,8000,{"$f":"AccVelDataLink!A13","v":10},{"$f":"A12","v":9},11,null,{"$f":"AccVelDataLink!G13","v":8},"○","○"]
[11,0,10200,{"$f":"AccVelDataLink!A14","v":11},10,12,null,{"$f":"AccVelDataLink!G14","v":10.199999999999999},"○","○"]
[12,0,12000,{"$f":"AccVelDataLink!A15","v":12},11,13,null,{"$f":"AccVelDataLink!G15","v":12},"○","○"]
[13,0,15000,{"$f":"AccVelDataLink!A16","v":13},12,14,null,{"$f":"AccVelDataLink!G16","v":15},"○","○"]
[14,0,20000,{"$f":"AccVelDataLink!A17","v":14},13,15,null,{"$f":"AccVelDataLink!G17","v":20},"○","○"]
[15,0,27000,{"$f":"AccVelDataLink!A18","v":15},14,16,null,{"$f":"AccVelDataLink!G18","v":27},"○","○"]
[16,0,31000,{"$f":"AccVelDataLink!A19","v":16},15,17,null,{"$f":"AccVelDataLink!G19","v":31},"○","○"]
[17,0,35000,{"$f":"AccVelDataLink!A20","v":17},16,18,null,{"$f":"AccVelDataLink!G20","v":35},"○","○"]
[18,0,40500,{"$f":"AccVelDataLink!A21","v":18},17,19,null,{"$f":"AccVelDataLink!G21","v":40.5},"○","○"]
[19,1,2000,{"$f":"AccVelDataLink!A22","v":19},18,20,{"$f":"AccVelDataLink!F22","v":"ISB-SXM-60-8-垂直"},{"$f":"AccVelDataLink!G22","v":2},"○","○"]
[20,1,4000,{"$f":"AccVelDataLink!A23","v":20},19,21,null,{"$f":"AccVelDataLink!G23","v":4},"○","○"]
[21,1,5000,{"$f":"AccVelDataLink!A24","v":21},20,22,null,{"$f":"AccVelDataLink!G24","v":5},"○","○"]
[22,1,6000,{"$f":"AccVelDataLink!A25","v":22},21,23,null,{"$f":"AccVelDataLink!G25","v":6},"○","○"]
[23,1,7000,{"$f":"AccVelDataLink!A26","v":23},22,-1,null,{"$f":"AccVelDataLink!G26","v":7},"○","終端"]
[24,0,1500,{"$f":"AccVelDataLink!A27","v":24},-1,{"$f":"A28","v":25},{"$f":"AccVelDataLink!F27","v":"ISB-SXM-60-16-水平"},{"$f":"AccVelDataLink!G27","v":1.5},"先頭","○"]
[25,0,1600,{"$f":"AccVelDataLink!A28","v":25},{"$f":"A27","v":24},26,null,{"$f":"AccVelDataLink!G28","v":1.6},"○","○"]
[26,0,1800,{"$f":"AccVelDataLink!A29","v":26},25,27,null,{"$f":"AccVelDataLink!G29","v":1.8},"○","○"]
[27,0,2000,{"$f":"AccVelDataLink!A30","v":27},26,28,null,{"$f":"AccVelDataLink!G30","v":2},"○","○"]
[28,0,2200,{"$f":"AccVelDataLink!A31","v":28},27,29,null,{"$f":"AccVelDataLink!G31","v":2.2000000000000002},"○","○"]
[29,0,2500,{"$f":"AccVelDataLink!A32","v":29},28,30,null,{"$f":"AccVelDataLink!G32","v":2.5},"○","○"]
[30,0,2800,{"$f":"AccVelDataLink!A33","v":30},29,31,null,{"$f":"AccVelDataLink!G33","v":2.8},"○","○"]
[31,0,3100,{"$f":"AccVelDataLink!A34","v":31},30,32,null,{"$f":"AccVelDataLink!G34","v":3.1},"○","○"]
[32,0,3500,{"$f":"AccVelDataLink!A35","v":32},31,33,null,{"$f":"AccVelDataLink!G35","v":3.5},"○","○"]
[33,0,4000,{"$f":"AccVelDataLink!A36","v":33},32,34,null,{"$f":"AccVelDataLink!G36","v":4},"○","○"]
[34,0,4500,{"$f":"AccVelDataLink!A37","v":34},33,35,null,{"$f":"AccVelDataLink!G37","v":4.5},"○","○"]
[35,0,5500,{"$f":"AccVelDataLink!A38","v":35},34,36,null,{"$f":"AccVelDataLink!G38","v":5.5},"○","○"]
[36,0,6000,{"$f":"AccVelDataLink!A39","v":36},35,37,null,{"$f":"AccVelDataLink!G39","v":6},"○","○"]
[37,0,7000,{"$f":"AccVelDataLink!A40","v":37},36,38,null,{"$f":"AccVelDataLink!G40","v":7},"○","○"]
[38,0,8500,{"$f":"AccVelDataLink!A41","v":38},37,39,null,{"$f":"AccVelDataLink!G41","v":8.5},"○","○"]
[39,0,10500,{"$f":"AccVelDataLink!A42","v":39},38,40,null,{"$f":"AccVelDataLink!G42","v":10.5},"○","○"]
[40,0,13000,{"$f":"AccVelDataLink!A43","v":40},39,41,null,{"$f":"AccVelDataLink!G43","v":13},"○","○"]
[41,0,15000,{"$f":"AccVelDataLink!A44","v":41},40,42,null,{"$f":"AccVelDataLink!G44","v":15},"○","○"]
[42,0,16900,{"$f":"AccVelDataLink!A45","v":42},41,43,null,{"$f":"AccVelDataLink!G45","v":16.899999999999999},"○","○"]
[43,0,19500,{"$f":"AccVelDataLink!A46","v":43},42,44,null,{"$f":"AccVelDataLink!G46","v":19.5},"○","○"]
[44,1,500,{"$f":"AccVelDataLink!A47","v":44},43,45,{"$f":"AccVelDataLink!F47","v":"ISB-SXM-60-16-垂直"},{"$f":"AccVelDataLink!G47","v":0.5},"○","○"]
[45,1,600,{"$f":"AccVelDataLink!A48","v":45},44,46,null,{"$f":"AccVelDataLink!G48","v":0.6},"○","○"]
[46,1,800,{"$f":"AccVelDataLink!A49","v":46},45,47,null,{"$f":"AccVelDataLink!G49","v":0.8},"○","○"]
[47,1,1000,{"$f":"AccVelDataLink!A50","v":47},46,48,null,{"$f":"AccVelDataLink!G50","v":1},"○","○"]
[48,1,1200,{"$f":"AccVelDataLink!A51","v":48},47,49,null,{"$f":"AccVelDataLink!G51","v":1.2},"○","○"]
[49,1,1400,{"$f":"AccVelDataLink!A52","v":49},48,50,null,{"$f":"AccVelDataLink!G52","v":1.4},"○","○"]
[50,1,1600,{"$f":"AccVelDataLink!A53","v":50},49,51,null,{"$f":"AccVelDataLink!G53","v":1.6},"○","○"]
[51,1,1800,{"$f":"AccVelDataLink!A54","v":51},50,52,null,{"$f":"AccVelDataLink!G54","v":1.8},"○","○"]
[52,1,2000,{"$f":"AccVelDataLink!A55","v":52},51,53,null,{"$f":"AccVelDataLink!G55","v":2},"○","○"]
[53,1,2300,{"$f":"AccVelDataLink!A56","v":53},52,54,null,{"$f":"AccVelDataLink!G56","v":2.2999999999999998},"○","○"]
[54,1,2600,{"$f":"AccVelDataLink!A57","v":54},53,55,null,{"$f":"AccVelDataLink!G57","v":2.6},"○","○"]
[55,1,3000,{"$f":"AccVelDataLink!A58","v":55},54,56,null,{"$f":"AccVelDataLink!G58","v":3},"○","○"]
[56,1,3500,{"$f":"AccVelDataLink!A59","v":56},55,-1,null,{"$f":"AccVelDataLink!G59","v":3.5},"○","終端"]
[57,0,45000,{"$f":"AccVelDataLink!A60","v":57},-1,{"$f":"A61","v":58},{"$f":"AccVelDataLink!F60","v":"ISB-MXM-100-5-水平"},{"$f":"AccVelDataLink!G60","v":45},"先頭","○"]
[58,0,60000,{"$f":"AccVelDataLink!A61","v":58},{"$f":"A60","v":57},59,null,{"$f":"AccVelDataLink!G61","v":60},"○","○"]
[59,0,80000,{"$f":"AccVelDataLink!A62","v":59},58,60,null,{"$f":"AccVelDataLink!G62","v":80},"○","○"]
[60,0,85000,{"$f":"AccVelDataLink!A63","v":60},59,61,null,{"$f":"AccVelDataLink!G63","v":85},"○","○"]
[61,0,119000,{"$f":"AccVelDataLink!A64","v":61},60,62,null,{"$f":"AccVelDataLink!G64","v":119},"○","○"]
[62,1,15000,{"$f":"AccVelDataLink!A65","v":62},61,63,{"$f":"AccVelDataLink!F65","v":"ISB-MXM-100-5-垂直"},{"$f":"AccVelDataLink!G65","v":15},"○","○"]
[63,1,17000,{"$f":"AccVelDataLink!A66","v":63},62,64,null,{"$f":"AccVelDataLink!G66","v":17},"○","○"]
[64,1,20000,{"$f":"AccVelDataLink!A67","v":64},63,-1,null,{"$f":"AccVelDataLink!G67","v":20},"○","終端"]
[{"$f":"A67+1","v":65},0,{"$f":"H68*$H$1","v":20000},{"$f":"AccVelDataLink!A68","v":65},-1,{"$f":"A69","v":66},{"$f":"AccVelDataLink!F68","v":"ISB-MXM-100-10-水平"},{"$f":"AccVelDataLink!G68","v":20},{"$f":"IF(E68=A67,\"○\",IF(G68=0,\"つなぎまちがい\",\"先頭\"))","v":"先頭"},{"$f":"IF(F68=A69,\"○\",IF(F68<>E69,\"つなぎまちがい\",\"終端\"))","v":"○"}]
[66,0,23000,{"$f":"AccVelDataLink!A69","v":66},{"$f":"A68","v":65},67,null,{"$f":"AccVelDataLink!G69","v":23},"○","○"]
[67,0,30000,{"$f":"AccVelDataLink!A70","v":67},66,68,null,{"$f":"AccVelDataLink!G70","v":30},"○","○"]
[68,0,45000,{"$f":"AccVelDataLink!A71","v":68},67,69,null,{"$f":"AccVelDataLink!G71","v":45},"○","○"]
[69,0,52000,{"$f":"AccVelDataLink!A72","v":69},68,70,null,{"$f":"AccVelDataLink!G72","v":52},"○","○"]
[70,0,58500,{"$f":"AccVelDataLink!A73","v":70},69,71,null,{"$f":"AccVelDataLink!G73","v":58.5},"○","○"]
[71,0,67500,{"$f":"AccVelDataLink!A74","v":71},70,72,null,{"$f":"AccVelDataLink!G74","v":67.5},"○","○"]
[72,1,7000,{"$f":"AccVelDataLink!A75","v":72},71,73,{"$f":"AccVelDataLink!F75","v":"ISB-MXM-100-10-垂直"},{"$f":"AccVelDataLink!G75","v":7},"○","○"]
[73,1,8000,{"$f":"AccVelDataLink!A76","v":73},72,74,null,{"$f":"AccVelDataLink!G76","v":8},"○","○"]
[74,1,10000,{"$f":"AccVelDataLink!A77","v":74},73,-1,null,{"$f":"AccVelDataLink!G77","v":10},"○","終端"]
[75,0,500,{"$f":"AccVelDataLink!A78","v":75},-1,{"$f":"A79","v":76},{"$f":"AccVelDataLink!F78","v":"ISB-MXM-100-20-水平"},{"$f":"AccVelDataLink!G78","v":0.5},"先頭","○"]
[76,0,1000,{"$f":"AccVelDataLink!A79","v":76},{"$f":"A78","v":75},77,null,{"$f":"AccVelDataLink!G79","v":1},"○","○"]
[77,0,1500,{"$f":"AccVelDataLink!A80","v":77},76,78,null,{"$f":"AccVelDataLink!G80","v":1.5},"○","○"]
[78,0,2000,{"$f":"AccVelDataLink!A81","v":78},77,79,null,{"$f":"AccVelDataLink!G81","v":2},"○","○"]
[79,0,2500,{"$f":"AccVelDataLink!A82","v":79},78,80,null,{"$f":"AccVelDataLink!G82","v":2.5},"○","○"]
[80,0,3000,{"$f":"AccVelDataLink!A83","v":80},79,81,null,{"$f":"AccVelDataLink!G83","v":3},"○","○"]
[81,0,4000,{"$f":"AccVelDataLink!A84","v":81},80,82,null,{"$f":"AccVelDataLink!G84","v":4},"○","○"]
[82,0,5000,{"$f":"AccVelDataLink!A85","v":82},81,83,null,{"$f":"AccVelDataLink!G85","v":5},"○","○"]
[83,0,6000,{"$f":"AccVelDataLink!A86","v":83},82,84,null,{"$f":"AccVelDataLink!G86","v":6},"○","○"]
[84,0,7000,{"$f":"AccVelDataLink!A87","v":84},83,85,null,{"$f":"AccVelDataLink!G87","v":7},"○","○"]
[85,0,8000,{"$f":"AccVelDataLink!A88","v":85},84,86,null,{"$f":"AccVelDataLink!G88","v":8},"○","○"]
[86,0,9000,{"$f":"AccVelDataLink!A89","v":86},85,87,null,{"$f":"AccVelDataLink!G89","v":9},"○","○"]
[87,0,11000,{"$f":"AccVelDataLink!A90","v":87},86,88,null,{"$f":"AccVelDataLink!G90","v":11},"○","○"]
[88,0,13000,{"$f":"AccVelDataLink!A91","v":88},87,89,null,{"$f":"AccVelDataLink!G91","v":13},"○","○"]
[89,0,15000,{"$f":"AccVelDataLink!A92","v":89},88,90,null,{"$f":"AccVelDataLink!G92","v":15},"○","○"]
[90,0,18000,{"$f":"AccVelDataLink!A93","v":90},89,91,null,{"$f":"AccVelDataLink!G93","v":18},"○","○"]
[91,0,23000,{"$f":"AccVelDataLink!A94","v":91},90,92,null,{"$f":"AccVelDataLink!G94","v":23},"○","○"]
[92,0,26500,{"$f":"AccVelDataLink!A95","v":92},91,93,null,{"$f":"AccVelDataLink!G95","v":26.5},"○","○"]
[93,0,30000,{"$f":"AccVelDataLink!A96","v":93},92,94,null,{"$f":"AccVelDataLink!G96","v":30},"○","○"]
[94,0,34500,{"$f":"AccVelDataLink!A97","v":94},93,-1,null,{"$f":"AccVelDataLink!G97","v":34.5},"○","終端"]
[95,0,750,{"$f":"AccVelDataLink!A98","v":95},-1,{"$f":"A99","v":96},{"$f":"AccVelDataLink!F98","v":"ISB-MXM-100-30-水平"},{"$f":"AccVelDataLink!G98","v":0.75},"先頭","○"]
[96,0,1000,{"$f":"AccVelDataLink!A99","v":96},{"$f":"A98","v":95},97,null,{"$f":"AccVelDataLink!G99","v":1},"○","○"]
[97,0,1250,{"$f":"AccVelDataLink!A100","v":97},96,98,null,{"$f":"AccVelDataLink!G100","v":1.25},"○","○"]
[98,0,1500,{"$f":"AccVelDataLink!A101","v":98},97,99,null,{"$f":"AccVelDataLink!G101","v":1.5},"○","○"]
[99,0,1750,{"$f":"AccVelDataLink!A102","v":99},98,100,null,{"$f":"AccVelDataLink!G102","v":1.75},"○","○"]
[100,0,2000,{"$f":"AccVelDataLink!A103","v":100},99,101,null,{"$f":"AccVelDataLink!G103","v":2},"○","○"]
[101,0,2250,{"$f":"AccVelDataLink!A104","v":101},100,102,null,{"$f":"AccVelDataLink!G104","v":2.25},"○","○"]
[102,0,2500,{"$f":"AccVelDataLink!A105","v":102},101,103,null,{"$f":"AccVelDataLink!G105","v":2.5},"○","○"]
[103,0,3000,{"$f":"AccVelDataLink!A106","v":103},102,104,null,{"$f":"AccVelDataLink!G106","v":3},"○","○"]
[104,0,3500,{"$f":"AccVelDataLink!A107","v":104},103,105,null,{"$f":"AccVelDataLink!G107","v":3.5},"○","○"]
[105,0,4000,{"$f":"AccVelDataLink!A108","v":105},104,106,null,{"$f":"AccVelDataLink!G108","v":4},"○","○"]
[106,0,5000,{"$f":"AccVelDataLink!A109","v":106},105,107,null,{"$f":"AccVelDataLink!G109","v":5},"○","○"]
[107,0,6000,{"$f":"AccVelDataLink!A110","v":107},106,108,null,{"$f":"AccVelDataLink!G110","v":6},"○","○"]
[108,0,7000,{"$f":"AccVelDataLink!A111","v":108},107,109,null,{"$f":"AccVelDataLink!G111","v":7},"○","○"]
[109,0,9000,{"$f":"AccVelDataLink!A112","v":109},108,110,null,{"$f":"AccVelDataLink!G112","v":9},"○","○"]
[110,0,11000,{"$f":"AccVelDataLink!A113","v":110},109,111,null,{"$f":"AccVelDataLink!G113","v":11},"○","○"]
[111,0,15000,{"$f":"AccVelDataLink!A114","v":111},110,112,null,{"$f":"AccVelDataLink!G114","v":15},"○","○"]
[112,0,17500,{"$f":"AccVelDataLink!A115","v":112},111,113,null,{"$f":"AccVelDataLink!G115","v":17.5},"○","○"]
[113,0,19500,{"$f":"AccVelDataLink!A116","v":113},112,114,null,{"$f":"AccVelDataLink!G116","v":19.5},"○","○"]
[114,0,22500,{"$f":"AccVelDataLink!A117","v":114},113,-1,null,{"$f":"AccVelDataLink!G117","v":22.5},"○","終端"]
[115,0,80000,{"$f":"AccVelDataLink!A118","v":115},-1,{"$f":"A119","v":116},{"$f":"AccVelDataLink!F118","v":"ISB-MXM-200-5-水平"},{"$f":"AccVelDataLink!G118","v":80},"先頭","○"]
[116,0,90000,{"$f":"AccVelDataLink!A119","v":116},{"$f":"A118","v":115},117,null,{"$f":"AccVelDataLink!G119","v":90},"○","○"]
[117,0,100000,{"$f":"AccVelDataLink!A120","v":117},116,118,null,{"$f":"AccVelDataLink!G120","v":100},"○","○"]
[118,0,110000,{"$f":"AccVelDataLink!A121","v":118},117,119,null,{"$f":"AccVelDataLink!G121","v":110},"○","○"]
[119,0,154000,{"$f":"AccVelDataLink!A122","v":119},118,120,null,{"$f":"AccVelDataLink!G122","v":154},"○","○"]
[120,1,30000,{"$f":"AccVelDataLink!A123","v":120},119,121,{"$f":"AccVelDataLink!F123","v":"ISB-MXM-200-5-垂直"},{"$f":"AccVelDataLink!G123","v":30},"○","○"]
[121,1,34000,{"$f":"AccVelDataLink!A124","v":121},120,122,null,{"$f":"AccVelDataLink!G124","v":34},"○","○"]
[122,1,40000,{"$f":"AccVelDataLink!A125","v":122},121,-1,null,{"$f":"AccVelDataLink!G125","v":40},"○","終端"]
[123,0,40000,{"$f":"AccVelDataLink!A126","v":123},-1,{"$f":"A127","v":124},{"$f":"AccVelDataLink!F126","v":"ISB-MXM-200-10-水平"},{"$f":"AccVelDataLink!G126","v":40},"先頭","○"]
[124,0,51000,{"$f":"AccVelDataLink!A127","v":124},{"$f":"A126","v":123},125,null,{"$f":"AccVelDataLink!G127","v":51},"○","○"]
[125,0,66000,{"$f":"AccVelDataLink!A128","v":125},124,126,null,{"$f":"AccVelDataLink!G128","v":66},"○","○"]
[126,0,90000,{"$f":"AccVelDataLink!A129","v":126},125,127,null,{"$f":"AccVelDataLink!G129","v":90},"○","○"]
[127,0,103500,{"$f":"AccVelDataLink!A130","v":127},126,128,null,{"$f":"AccVelDataLink!G130","v":103.5},"○","○"]
[128,0,117000,{"$f":"AccVelDataLink!A131","v":128},127,129,null,{"$f":"AccVelDataLink!G131","v":117},"○","○"]
[{"$f":"A131+1","v":129},0,{"$f":"H132*$H$1","v":135000},{"$f":"AccVelDataLink!A132","v":129},128,130,null,{"$f":"AccVelDataLink!G132","v":135},{"$f":"IF(E132=A131,\"○\",IF(G132=0,\"つなぎまちがい\",\"先頭\"))","v":"○"},{"$f":"IF(F132=A133,\"○\",IF(F132<>E133,\"つなぎまちがい\",\"終端\"))","v":"○"}]
[130,1,15000,{"$f":"AccVelDataLink!A133","v":130},129,131,{"$f":"AccVelDataLink!F133","v":"ISB-MXM-200-10-垂直"},{"$f":"AccVelDataLink!G133","v":15},"○","○"]
[131,1,17000,{"$f":"AccVelDataLink!A134","v":131},130,132,null,{"$f":"AccVelDataLink!G134","v":17},"○","○"]
[132,1,20000,{"$f":"AccVelDataLink!A135","v":132},131,-1,null,{"$f":"AccVelDataLink!G135","v":20},"○","終端"]
[133,0,4000,{"$f":"AccVelDataLink!A136","v":133},-1,{"$f":"A137","v":134},{"$f":"AccVelDataLink!F136","v":"ISB-MXM-200-20-水平"},{"$f":"AccVelDataLink!G136","v":4},"先頭","○"]
[134,0,5000,{"$f":"AccVelDataLink!A137","v":134},{"$f":"A136","v":133},135,null,{"$f":"AccVelDataLink!G137","v":5},"○","○"]
[135,0,6000,{"$f":"AccVelDataLink!A138","v":135},134,136,null,{"$f":"AccVelDataLink!G138","v":6},"○","○"]
[136,0,7000,{"$f":"AccVelDataLink!A139","v":136},135,137,null,{"$f":"AccVelDataLink!G139","v":7},"○","○"]
[137,0,8000,{"$f":"AccVelDataLink!A140","v":137},136,138,null,{"$f":"AccVelDataLink!G140","v":8},"○","○"]
[138,0,9000,{"$f":"AccVelDataLink!A141","v":138},137,139,null,{"$f":"AccVelDataLink!G141","v":9},"○","○"]
[139,0,10000,{"$f":"AccVelDataLink!A142","v":139},138,140,null,{"$f":"AccVelDataLink!G142","v":10},"○","○"]
[140,0,11000,{"$f":"AccVelDataLink!A143","v":140},139,141,null,{"$f":"AccVelDataLink!G143","v":11},"○","○"]
[141,0,12000,{"$f":"AccVelDataLink!A144","v":141},140,142,null,{"$f":"AccVelDataLink!G144","v":12},"○","○"]
[142,0,13000,{"$f":"AccVelDataLink!A145","v":142},141,143,null,{"$f":"AccVelDataLink!G145","v":13},"○","○"]
[143,0,15000,{"$f":"AccVelDataLink!A146","v":143},142,144,null,{"$f":"AccVelDataLink!G146","v":15},"○","○"]
[144,0,17000,{"$f":"AccVelDataLink!A147","v":144},143,145,null,{"$f":"AccVelDataLink!G147","v":17},"○","○"]
[145,0,20000,{"$f":"AccVelDataLink!A148","v":145},144,146,null,{"$f":"AccVelDataLink!G148","v":20},"○","○"]
[146,0,23000,{"$f":"AccVelDataLink!A149","v":146},145,147,null,{"$f":"AccVelDataLink!G149","v":23},"○","○"]
[147,0,28000,{"$f":"AccVelDataLink!A150","v":147},146,148,null,{"$f":"AccVelDataLink!G150","v":28},"○","○"]
[148,0,35000,{"$f":"AccVelDataLink!A151","v":148},147,149,null,{"$f":"AccVelDataLink!G151","v":35},"○","○"]
[149,0,45000,{"$f":"AccVelDataLink!A152","v":149},148,150,null,{"$f":"AccVelDataLink!G152","v":45},"○","○"]
[150,0,52000,{"$f":"AccVelDataLink!A153","v":150},149,151,null,{"$f":"AccVelDataLink!G153","v":52},"○","○"]
[151,0,58500,{"$f":"AccVelDataLink!A154","v":151},150,152,null,{"$f":"AccVelDataLink!G154","v":58.5},"○","○"]
[152,0,67500,{"$f":"AccVelDataLink!A155","v":152},151,-1,null,{"$f":"AccVelDataLink!G155","v":67.5},"○","終端"]
[153,0,4500,{"$f":"AccVelDataLink!A156","v":153},-1,{"$f":"A157","v":154},{"$f":"AccVelDataLink!F156","v":"ISB-MXM-200-30-水平"},{"$f":"AccVelDataLink!G156","v":4.5},"先頭","○"]
[154,0,5000,{"$f":"AccVelDataLink!A157","v":154},{"$f":"A156","v":153},155,null,{"$f":"AccVelDataLink!G157","v":5},"○","○"]
[155,0,5500,{"$f":"AccVelDataLink!A158","v":155},154,156,null,{"$f":"AccVelDataLink!G158","v":5.5},"○","○"]
[156,0,6000,{"$f":"AccVelDataLink!A159","v":156},155,157,null,{"$f":"AccVelDataLink!G159","v":6},"○","○"]
[157,0,6500,{"$f":"AccVelDataLink!A160","v":157},156,158,null,{"$f":"AccVelDataLink!G160","v":6.5},"○","○"]
[158,0,7000,{"$f":"AccVelDataLink!A161","v":158},157,159,null,{"$f":"AccVelDataLink!G161","v":7},"○","○"]
[159,0,7500,{"$f":"AccVelDataLink!A162","v":159},158,160,null,{"$f":"AccVelDataLink!G162","v":7.5},"○","○"]
[160,0,8000,{"$f":"AccVelDataLink!A163","v":160},159,161,null,{"$f":"AccVelDataLink!G163","v":8},"○","○"]
[161,0,9000,{"$f":"AccVelDataLink!A164","v":161},160,162,null,{"$f":"AccVelDataLink!G164","v":9},"○","○"]
[162,0,10000,{"$f":"AccVelDataLink!A165","v":162},161,163,null,{"$f":"AccVelDataLink!G165","v":10},"○","○"]
[163,0,12000,{"$f":"AccVelDataLink!A166","v":163},162,164,null,{"$f":"AccVelDataLink!G166","v":12},"○","○"]
[164,0,13000,{"$f":"AccVelDataLink!A167","v":164},163,165,null,{"$f":"AccVelDataLink!G167","v":13},"○","○"]
[165,0,15000,{"$f":"AccVelDataLink!A168","v":165},164,166,null,{"$f":"AccVelDataLink!G168","v":15},"○","○"]
[166,0,17000,{"$f":"AccVelDataLink!A169","v":166},165,167,null,{"$f":"AccVelDataLink!G169","v":17},"○","○"]
[167,0,20000,{"$f":"AccVelDataLink!A170","v":167},166,168,null,{"$f":"AccVelDataLink!G170","v":20},"○","○"]
[168,0,24000,{"$f":"AccVelDataLink!A171","v":168},167,169,null,{"$f":"AccVelDataLink!G171","v":24},"○","○"]
[169,0,30000,{"$f":"AccVelDataLink!A172","v":169},168,170,null,{"$f":"AccVelDataLink!G172","v":30},"○","○"]
[170,0,34500,{"$f":"AccVelDataLink!A173","v":170},169,171,null,{"$f":"AccVelDataLink!G173","v":34.5},"○","○"]
[171,0,39000,{"$f":"AccVelDataLink!A174","v":171},170,172,null,{"$f":"AccVelDataLink!G174","v":39},"○","○"]
[172,0,45000,{"$f":"AccVelDataLink!A175","v":172},171,-1,null,{"$f":"AccVelDataLink!G175","v":45},"○","終端"]
[173,0,40000,{"$f":"AccVelDataLink!A176","v":173},-1,{"$f":"A177","v":174},{"$f":"AccVelDataLink!F176","v":"ISB-LXM-200-10-水平"},{"$f":"AccVelDataLink!G176","v":40},"先頭","○"]
[174,0,51000,{"$f":"AccVelDataLink!A177","v":174},{"$f":"A176","v":173},175,null,{"$f":"AccVelDataLink!G177","v":51},"○","○"]
[175,0,66000,{"$f":"AccVelDataLink!A178","v":175},174,176,null,{"$f":"AccVelDataLink!G178","v":66},"○","○"]
[176,0,90000,{"$f":"AccVelDataLink!A179","v":176},175,177,null,{"$f":"AccVelDataLink!G179","v":90},"○","○"]
[177,0,103500,{"$f":"AccVelDataLink!A180","v":177},176,178,null,{"$f":"AccVelDataLink!G180","v":103.5},"○","○"]
[178,0,117000,{"$f":"AccVelDataLink!A181","v":178},177,179,null,{"$f":"AccVelDataLink!G181","v":117},"○","○"]
[179,0,135000,{"$f":"AccVelDataLink!A182","v":179},178,180,null,{"$f":"AccVelDataLink!G182","v":135},"○","○"]
[180,1,14000,{"$f":"AccVelDataLink!A183","v":180},179,181,{"$f":"AccVelDataLink!F183","v":"ISB-LXM-200-10-垂直"},{"$f":"AccVelDataLink!G183","v":14},"○","○"]
[181,1,16000,{"$f":"AccVelDataLink!A184","v":181},180,182,null,{"$f":"AccVelDataLink!G184","v":16},"○","○"]
[182,1,20000,{"$f":"AccVelDataLink!A185","v":182},181,-1,null,{"$f":"AccVelDataLink!G185","v":20},"○","終端"]
[183,0,1500,{"$f":"AccVelDataLink!A186","v":183},-1,{"$f":"A187","v":184},{"$f":"AccVelDataLink!F186","v":"ISB-LXM-200-20-水平"},{"$f":"AccVelDataLink!G186","v":1.5},"先頭","○"]
[184,0,3000,{"$f":"AccVelDataLink!A187","v":184},{"$f":"A186","v":183},185,null,{"$f":"AccVelDataLink!G187","v":3},"○","○"]
[185,0,4500,{"$f":"AccVelDataLink!A188","v":185},184,186,null,{"$f":"AccVelDataLink!G188","v":4.5},"○","○"]
[186,0,6000,{"$f":"AccVelDataLink!A189","v":186},185,187,null,{"$f":"AccVelDataLink!G189","v":6},"○","○"]
[187,0,8000,{"$f":"AccVelDataLink!A190","v":187},186,188,null,{"$f":"AccVelDataLink!G190","v":8},"○","○"]
[188,0,10000,{"$f":"AccVelDataLink!A191","v":188},187,189,null,{"$f":"AccVelDataLink!G191","v":10},"○","○"]
[189,0,12000,{"$f":"AccVelDataLink!A192","v":189},188,190,null,{"$f":"AccVelDataLink!G192","v":12},"○","○"]
[190,0,13000,{"$f":"AccVelDataLink!A193","v":190},189,191,null,{"$f":"AccVelDataLink!G193","v":13},"○","○"]
[191,0,15000,{"$f":"AccVelDataLink!A194","v":191},190,192,null,{"$f":"AccVelDataLink!G194","v":15},"○","○"]
[192,0,17000,{"$f":"AccVelDataLink!A195","v":192},191,193,null,{"$f":"AccVelDataLink!G195","v":17},"○","○"]
[{"$f":"A195+1","v":193},0,{"$f":"H196*$H$1","v":20000},{"$f":"AccVelDataLink!A196","v":193},192,194,null,{"$f":"AccVelDataLink!G196","v":20},{"$f":"IF(E196=A195,\"○\",IF(G196=0,\"つなぎまちがい\",\"先頭\"))","v":"○"},{"$f":"IF(F196=A197,\"○\",IF(F196<>E197,\"つなぎまちがい\",\"終端\"))","v":"○"}]
[194,0,23000,{"$f":"AccVelDataLink!A197","v":194},193,195,null,{"$f":"AccVelDataLink!G197","v":23},"○","○"]
[195,0,28000,{"$f":"AccVelDataLink!A198","v":195},194,196,null,{"$f":"AccVelDataLink!G198","v":28},"○","○"]
[196,0,35000,{"$f":"AccVelDataLink!A199","v":196},195,197,null,{"$f":"AccVelDataLink!G199","v":35},"○","○"]
[197,0,45000,{"$f":"AccVelDataLink!A200","v":197},196,198,null,{"$f":"AccVelDataLink!G200","v":45},"○","○"]
[198,0,52000,{"$f":"AccVelDataLink!A201","v":198},197,199,null,{"$f":"AccVelDataLink!G201","v":52},"○","○"]
[199,0,58500,{"$f":"AccVelDataLink!A202","v":199},198,200,null,{"$f":"AccVelDataLink!G202","v":58.5},"○","○"]
[200,0,67500,{"$f":"AccVelDataLink!A203","v":200},199,201,null,{"$f":"AccVelDataLink!G203","v":67.5},"○","○"]
[201,1,1500,{"$f":"AccVelDataLink!A204","v":201},200,202,{"$f":"AccVelDataLink!F204","v":"ISB-LXM-200-20-垂直"},{"$f":"AccVelDataLink!G204","v":1.5},"○","○"]
[202,1,2000,{"$f":"AccVelDataLink!A205","v":202},201,203,null,{"$f":"AccVelDataLink!G205","v":2},"○","○"]
[203,1,2500,{"$f":"AccVelDataLink!A206","v":203},202,204,null,{"$f":"AccVelDataLink!G206","v":2.5},"○","○"]
[204,1,3000,{"$f":"AccVelDataLink!A207","v":204},203,205,null,{"$f":"AccVelDataLink!G207","v":3},"○","○"]
[205,1,4000,{"$f":"AccVelDataLink!A208","v":205},204,206,null,{"$f":"AccVelDataLink!G208","v":4},"○","○"]
[206,1,5000,{"$f":"AccVelDataLink!A209","v":206},205,207,null,{"$f":"AccVelDataLink!G209","v":5},"○","○"]
[207,1,5500,{"$f":"AccVelDataLink!A210","v":207},206,208,null,{"$f":"AccVelDataLink!G210","v":5.5},"○","○"]
[208,1,6000,{"$f":"AccVelDataLink!A211","v":208},207,209,null,{"$f":"AccVelDataLink!G211","v":6},"○","○"]
[209,1,7000,{"$f":"AccVelDataLink!A212","v":209},208,210,null,{"$f":"AccVelDataLink!G212","v":7},"○","○"]
[210,1,7500,{"$f":"AccVelDataLink!A213","v":210},209,211,null,{"$f":"AccVelDataLink!G213","v":7.5},"○","○"]
[211,1,8500,{"$f":"AccVelDataLink!A214","v":211},210,212,null,{"$f":"AccVelDataLink!G214","v":8.5},"○","○"]
[212,1,10000,{"$f":"AccVelDataLink!A215","v":212},211,-1,null,{"$f":"AccVelDataLink!G215","v":10},"○","終端"]
[213,0,2000,{"$f":"AccVelDataLink!A216","v":213},-1,{"$f":"A217","v":214},{"$f":"AccVelDataLink!F216","v":"ISB-LXM-200-40-水平"},{"$f":"AccVelDataLink!G216","v":2},"先頭","○"]
[214,0,2500,{"$f":"AccVelDataLink!A217","v":214},{"$f":"A216","v":213},215,null,{"$f":"AccVelDataLink!G217","v":2.5},"○","○"]
[215,0,3000,{"$f":"AccVelDataLink!A218","v":215},214,216,null,{"$f":"AccVelDataLink!G218","v":3},"○","○"]
[216,0,3500,{"$f":"AccVelDataLink!A219","v":216},215,217,null,{"$f":"AccVelDataLink!G219","v":3.5},"○","○"]
[217,0,4000,{"$f":"AccVelDataLink!A220","v":217},216,218,null,{"$f":"AccVelDataLink!G220","v":4},"○","○"]
[218,0,4500,{"$f":"AccVelDataLink!A221","v":218},217,219,null,{"$f":"AccVelDataLink!G221","v":4.5},"○","○"]
[219,0,5000,{"$f":"AccVelDataLink!A222","v":219},218,220,null,{"$f":"AccVelDataLink!G222","v":5},"○","○"]
[220,0,5500,{"$f":"AccVelDataLink!A223","v":220},219,221,null,{"$f":"AccVelDataLink!G223","v":5.5},"○","○"]
[221,0,6000,{"$f":"AccVelDataLink!A224","v":221},220,222,null,{"$f":"AccVelDataLink!G224","v":6},"○","○"]
[222,0,6500,{"$f":"AccVelDataLink!A225","v":222},221,223,null,{"$f":"AccVelDataLink!G225","v":6.5},"○","○"]
[223,0,7000,{"$f":"AccVelDataLink!A226","v":223},222,224,null,{"$f":"AccVelDataLink!G226","v":7},"○","○"]
[224,0,7500,{"$f":"AccVelDataLink!A227","v":224},223,225,null,{"$f":"AccVelDataLink!G227","v":7.5},"○","○"]
[225,0,8000,{"$f":"AccVelDataLink!A228","v":225},224,226,null,{"$f":"AccVelDataLink!G228","v":8},"○","○"]
[226,0,9000,{"$f":"AccVelDataLink!A229","v":226},225,227,null,{"$f":"AccVelDataLink!G229","v":9},"○","○"]
[227,0,10500,{"$f":"AccVelDataLink!A230","v":227},226,228,null,{"$f":"AccVelDataLink!G230","v":10.5},"○","○"]
[228,0,12000,{"$f":"AccVelDataLink!A231","v":228},227,229,null,{"$f":"AccVelDataLink!G231","v":12},"○","○"]
[229,0,15000,{"$f":"AccVelDataLink!A232","v":229},228,230,null,{"$f":"AccVelDataLink!G232","v":15},"○","○"]
[230,0,17500,{"$f":"AccVelDataLink!A233","v":230},229,231,null,{"$f":"AccVelDataLink!G233","v":17.5},"○","○"]
[231,0,19500,{"$f":"AccVelDataLink!A234","v":231},230,232,null,{"$f":"AccVelDataLink!G234","v":19.5},"○","○"]
[232,0,22500,{"$f":"AccVelDataLink!A235","v":232},231,-1,null,{"$f":"AccVelDataLink!G235","v":22.5},"○","終端"]
[233,0,60000,{"$f":"AccVelDataLink!A236","v":233},-1,{"$f":"A237","v":234},{"$f":"AccVelDataLink!F236","v":"ISB-LXM-400-10-水平"},{"$f":"AccVelDataLink!G236","v":60},"先頭","○"]
[234,0,73000,{"$f":"AccVelDataLink!A237","v":234},{"$f":"A236","v":233},235,null,{"$f":"AccVelDataLink!G237","v":73},"○","○"]
[235,0,92000,{"$f":"AccVelDataLink!A238","v":235},234,236,null,{"$f":"AccVelDataLink!G238","v":92},"○","○"]
[236,0,120000,{"$f":"AccVelDataLink!A239","v":236},235,237,null,{"$f":"AccVelDataLink!G239","v":120},"○","○"]
[237,0,138000,{"$f":"AccVelDataLink!A240","v":237},236,238,null,{"$f":"AccVelDataLink!G240","v":138},"○","○"]
[238,0,156000,{"$f":"AccVelDataLink!A241","v":238},237,239,null,{"$f":"AccVelDataLink!G241","v":156},"○","○"]
[239,0,180000,{"$f":"AccVelDataLink!A242","v":239},238,240,null,{"$f":"AccVelDataLink!G242","v":180},"○","○"]
[240,1,30000,{"$f":"AccVelDataLink!A243","v":240},239,241,{"$f":"AccVelDataLink!F243","v":"ISB-LXM-400-10-垂直"},{"$f":"AccVelDataLink!G243","v":30},"○","○"]
[241,1,34000,{"$f":"AccVelDataLink!A244","v":241},240,242,null,{"$f":"AccVelDataLink!G244","v":34},"○","○"]
[242,1,40000,{"$f":"AccVelDataLink!A245","v":242},241,-1,null,{"$f":"AccVelDataLink!G245","v":40},"○","終端"]
[243,0,5000,{"$f":"AccVelDataLink!A246","v":243},-1,{"$f":"A247","v":244},{"$f":"AccVelDataLink!F246","v":"ISB-LXM-400-20-水平"},{"$f":"AccVelDataLink!G246","v":5},"先頭","○"]
[244,0,6000,{"$f":"AccVelDataLink!A247","v":244},{"$f":"A246","v":243},245,null,{"$f":"AccVelDataLink!G247","v":6},"○","○"]
[245,0,7000,{"$f":"AccVelDataLink!A248","v":245},244,246,null,{"$f":"AccVelDataLink!G248","v":7},"○","○"]
[246,0,9000,{"$f":"AccVelDataLink!A249","v":246},245,247,null,{"$f":"AccVelDataLink!G249","v":9},"○","○"]
[247,0,12000,{"$f":"AccVelDataLink!A250","v":247},246,248,null,{"$f":"AccVelDataLink!G250","v":12},"○","○"]
[248,0,15000,{"$f":"AccVelDataLink!A251","v":248},247,249,null,{"$f":"AccVelDataLink!G251","v":15},"○","○"]
[249,0,18000,{"$f":"AccVelDataLink!A252","v":249},248,250,null,{"$f":"AccVelDataLink!G252","v":18},"○","○"]
[250,0,21000,{"$f":"AccVelDataLink!A253","v":250},249,251,null,{"$f":"AccVelDataLink!G253","v":21},"○","○"]
[251,0,24000,{"$f":"AccVelDataLink!A254","v":251},250,252,null,{"$f":"AccVelDataLink!G254","v":24},"○","○"]
[252,0,27000,{"$f":"AccVelDataLink!A255","v":252},251,253,null,{"$f":"AccVelDataLink!G255","v":27},"○","○"]
[253,0,30000,{"$f":"AccVelDataLink!A256","v":253},252,254,null,{"$f":"AccVelDataLink!G256","v":30},"○","○"]
[254,0,35000,{"$f":"AccVelDataLink!A257","v":254},253,255,null,{"$f":"AccVelDataLink!G257","v":35},"○","○"]
[255,0,40000,{"$f":"AccVelDataLink!A258","v":255},254,256,null,{"$f":"AccVelDataLink!G258","v":40},"○","○"]
[256,0,47000,{"$f":"AccVelDataLink!A259","v":256},255,257,null,{"$f":"AccVelDataLink!G259","v":47},"○","○"]
[{"$f":"A259+1","v":257},0,{"$f":"H260*$H$1","v":57000},{"$f":"AccVelDataLink!A260","v":257},256,258,null,{"$f":"AccVelDataLink!G260","v":57},{"$f":"IF(E260=A259,\"○\",IF(G260=0,\"つなぎまちがい\",\"先頭\"))","v":"○"},{"$f":"IF(F260=A261,\"○\",IF(F260<>E261,\"つなぎまちがい\",\"終端\"))","v":"○"}]
[258,0,70000,{"$f":"AccVelDataLink!A261","v":258},257,259,null,{"$f":"AccVelDataLink!G261","v":70},"○","○"]
[259,0,90000,{"$f":"AccVelDataLink!A262","v":259},258,260,null,{"$f":"AccVelDataLink!G262","v":90},"○","○"]
[260,0,103500,{"$f":"AccVelDataLink!A263","v":260},259,261,null,{"$f":"AccVelDataLink!G263","v":103.5},"○","○"]
[261,0,117000,{"$f":"AccVelDataLink!A264","v":261},260,262,null,{"$f":"AccVelDataLink!G264","v":117},"○","○"]
[262,0,135000,{"$f":"AccVelDataLink!A265","v":262},261,263,null,{"$f":"AccVelDataLink!G265","v":135},"○","○"]
[263,1,5000,{"$f":"AccVelDataLink!A266","v":263},262,264,{"$f":"AccVelDataLink!F266","v":"ISB-LXM-400-20-垂直"},{"$f":"AccVelDataLink!G266","v":5},"○","○"]
[264,1,6000,{"$f":"AccVelDataLink!A267","v":264},263,265,null,{"$f":"AccVelDataLink!G267","v":6},"○","○"]
[265,1,7000,{"$f":"AccVelDataLink!A268","v":265},264,266,null,{"$f":"AccVelDataLink!G268","v":7},"○","○"]
[266,1,8000,{"$f":"AccVelDataLink!A269","v":266},265,267,null,{"$f":"AccVelDataLink!G269","v":8},"○","○"]
[267,1,9000,{"$f":"AccVelDataLink!A270","v":267},266,268,null,{"$f":"AccVelDataLink!G270","v":9},"○","○"]
[268,1,10000,{"$f":"AccVelDataLink!A271","v":268},267,269,null,{"$f":"AccVelDataLink!G271","v":10},"○","○"]
[269,1,11000,{"$f":"AccVelDataLink!A272","v":269},268,270,null,{"$f":"AccVelDataLink!G272","v":11},"○","○"]
[270,1,12000,{"$f":"AccVelDataLink!A273","v":270},269,271,null,{"$f":"AccVelDataLink!G273","v":12},"○","○"]
[271,1,14000,{"$f":"AccVelDataLink!A274","v":271},270,272,null,{"$f":"AccVelDataLink!G274","v":14},"○","○"]
[272,1,15000,{"$f":"AccVelDataLink!A275","v":272},271,273,null,{"$f":"AccVelDataLink!G275","v":15},"○","○"]
[273,1,17000,{"$f":"AccVelDataLink!A276","v":273},272,274,null,{"$f":"AccVelDataLink!G276","v":17},"○","○"]
[274,1,20000,{"$f":"AccVelDataLink!A277","v":274},273,-1,null,{"$f":"AccVelDataLink!G277","v":20},"○","終端"]
[275,0,6500,{"$f":"AccVelDataLink!A278","v":275},-1,{"$f":"A279","v":276},{"$f":"AccVelDataLink!F278","v":"ISB-LXM-400-40-水平"},{"$f":"AccVelDataLink!G278","v":6.5},"先頭","○"]
[276,0,7000,{"$f":"AccVelDataLink!A279","v":276},{"$f":"A278","v":275},277,null,{"$f":"AccVelDataLink!G279","v":7},"○","○"]
[277,0,8000,{"$f":"AccVelDataLink!A280","v":277},276,278,null,{"$f":"AccVelDataLink!G280","v":8},"○","○"]
[278,0,9000,{"$f":"AccVelDataLink!A281","v":278},277,279,null,{"$f":"AccVelDataLink!G281","v":9},"○","○"]
[279,0,10000,{"$f":"AccVelDataLink!A282","v":279},278,280,null,{"$f":"AccVelDataLink!G282","v":10},"○","○"]
[280,0,11000,{"$f":"AccVelDataLink!A283","v":280},279,281,null,{"$f":"AccVelDataLink!G283","v":11},"○","○"]
[281,0,12000,{"$f":"AccVelDataLink!A284","v":281},280,282,null,{"$f":"AccVelDataLink!G284","v":12},"○","○"]
[282,0,13500,{"$f":"AccVelDataLink!A285","v":282},281,283,null,{"$f":"AccVelDataLink!G285","v":13.5},"○","○"]
[283,0,15000,{"$f":"AccVelDataLink!A286","v":283},282,284,null,{"$f":"AccVelDataLink!G286","v":15},"○","○"]
[284,0,16000,{"$f":"AccVelDataLink!A287","v":284},283,285,null,{"$f":"AccVelDataLink!G287","v":16},"○","○"]
[285,0,17000,{"$f":"AccVelDataLink!A288","v":285},284,286,null,{"$f":"AccVelDataLink!G288","v":17},"○","○"]
[286,0,19000,{"$f":"AccVelDataLink!A289","v":286},285,287,null,{"$f":"AccVelDataLink!G289","v":19},"○","○"]
[287,0,21000,{"$f":"AccVelDataLink!A290","v":287},286,288,null,{"$f":"AccVelDataLink!G290","v":21},"○","○"]
[288,0,23000,{"$f":"AccVelDataLink!A291","v":288},287,289,null,{"$f":"AccVelDataLink!G291","v":23},"○","○"]
[289,0,27000,{"$f":"AccVelDataLink!A292","v":289},288,290,null,{"$f":"AccVelDataLink!G292","v":27},"○","○"]
[290,0,32000,{"$f":"AccVelDataLink!A293","v":290},289,291,null,{"$f":"AccVelDataLink!G293","v":32},"○","○"]
[291,0,40000,{"$f":"AccVelDataLink!A294","v":291},290,292,null,{"$f":"AccVelDataLink!G294","v":40},"○","○"]
[292,0,46000,{"$f":"AccVelDataLink!A295","v":292},291,293,null,{"$f":"AccVelDataLink!G295","v":46},"○","○"]
[293,0,52000,{"$f":"AccVelDataLink!A296","v":293},292,294,null,{"$f":"AccVelDataLink!G296","v":52},"○","○"]
[294,0,60000,{"$f":"AccVelDataLink!A297","v":294},293,-1,null,{"$f":"AccVelDataLink!G297","v":60},"○","終端"]
[295,0,30000,{"$f":"AccVelDataLink!A298","v":295},-1,{"$f":"A299","v":296},{"$f":"AccVelDataLink!F298","v":"ISB-SXL-60-4-水平"},{"$f":"AccVelDataLink!G298","v":30},"先頭","○"]
[296,0,38000,{"$f":"AccVelDataLink!A299","v":296},{"$f":"A298","v":295},297,null,{"$f":"AccVelDataLink!G299","v":38},"○","○"]
[297,0,50000,{"$f":"AccVelDataLink!A300","v":297},296,298,null,{"$f":"AccVelDataLink!G300","v":50},"○","○"]
[298,0,55000,{"$f":"AccVelDataLink!A301","v":298},297,299,null,{"$f":"AccVelDataLink!G301","v":55},"○","○"]
[299,0,77000,{"$f":"AccVelDataLink!A302","v":299},298,300,null,{"$f":"AccVelDataLink!G302","v":77},"○","○"]
[300,1,12000,{"$f":"AccVelDataLink!A303","v":300},299,301,{"$f":"AccVelDataLink!F303","v":"ISB-SXL-60-4-垂直"},{"$f":"AccVelDataLink!G303","v":12},"○","○"]
[301,1,13000,{"$f":"AccVelDataLink!A304","v":301},300,302,null,{"$f":"AccVelDataLink!G304","v":13},"○","○"]
[302,1,14000,{"$f":"AccVelDataLink!A305","v":302},301,-1,null,{"$f":"AccVelDataLink!G305","v":14},"○","終端"]
[303,0,4000,{"$f":"AccVelDataLink!A306","v":303},-1,{"$f":"A307","v":304},{"$f":"AccVelDataLink!F306","v":"ISB-SXL-60-8-水平"},{"$f":"AccVelDataLink!G306","v":4},"先頭","○"]
[304,0,8000,{"$f":"AccVelDataLink!A307","v":304},{"$f":"A306","v":303},305,null,{"$f":"AccVelDataLink!G307","v":8},"○","○"]
[305,0,10200,{"$f":"AccVelDataLink!A308","v":305},304,306,null,{"$f":"AccVelDataLink!G308","v":10.199999999999999},"○","○"]
[306,0,12000,{"$f":"AccVelDataLink!A309","v":306},305,307,null,{"$f":"AccVelDataLink!G309","v":12},"○","○"]
[307,0,15000,{"$f":"AccVelDataLink!A310","v":307},306,308,null,{"$f":"AccVelDataLink!G310","v":15},"○","○"]
[308,0,20000,{"$f":"AccVelDataLink!A311","v":308},307,309,null,{"$f":"AccVelDataLink!G311","v":20},"○","○"]
[309,0,27000,{"$f":"AccVelDataLink!A312","v":309},308,310,null,{"$f":"AccVelDataLink!G312","v":27},"○","○"]
[310,0,31000,{"$f":"AccVelDataLink!A313","v":310},309,311,null,{"$f":"AccVelDataLink!G313","v":31},"○","○"]
[311,0,35000,{"$f":"AccVelDataLink!A314","v":311},310,312,null,{"$f":"AccVelDataLink!G314","v":35},"○","○"]
[312,0,40500,{"$f":"AccVelDataLink!A315","v":312},311,313,null,{"$f":"AccVelDataLink!G315","v":40.5},"○","○"]
[313,1,2000,{"$f":"AccVelDataLink!A316","v":313},312,314,{"$f":"AccVelDataLink!F316","v":"ISB-SXL-60-8-垂直"},{"$f":"AccVelDataLink!G316","v":2},"○","○"]
[314,1,4000,{"$f":"AccVelDataLink!A317","v":314},313,315,null,{"$f":"AccVelDataLink!G317","v":4},"○","○"]
[315,1,5000,{"$f":"AccVelDataLink!A318","v":315},314,316,null,{"$f":"AccVelDataLink!G318","v":5},"○","○"]
[316,1,6000,{"$f":"AccVelDataLink!A319","v":316},315,317,null,{"$f":"AccVelDataLink!G319","v":6},"○","○"]
[317,1,7000,{"$f":"AccVelDataLink!A320","v":317},316,-1,null,{"$f":"AccVelDataLink!G320","v":7},"○","終端"]
[318,0,1500,{"$f":"AccVelDataLink!A321","v":318},-1,{"$f":"A322","v":319},{"$f":"AccVelDataLink!F321","v":"ISB-SXL-60-16-水平"},{"$f":"AccVelDataLink!G321","v":1.5},"先頭","○"]
[319,0,1600,{"$f":"AccVelDataLink!A322","v":319},{"$f":"A321","v":318},320,null,{"$f":"AccVelDataLink!G322","v":1.6},"○","○"]
[320,0,1800,{"$f":"AccVelDataLink!A323","v":320},319,321,null,{"$f":"AccVelDataLink!G323","v":1.8},"○","○"]
[{"$f":"A323+1","v":321},0,{"$f":"H324*$H$1","v":2000},{"$f":"AccVelDataLink!A324","v":321},320,322,null,{"$f":"AccVelDataLink!G324","v":2},{"$f":"IF(E324=A323,\"○\",IF(G324=0,\"つなぎまちがい\",\"先頭\"))","v":"○"},{"$f":"IF(F324=A325,\"○\",IF(F324<>E325,\"つなぎまちがい\",\"終端\"))","v":"○"}]
[322,0,2200,{"$f":"AccVelDataLink!A325","v":322},321,323,null,{"$f":"AccVelDataLink!G325","v":2.2000000000000002},"○","○"]
[323,0,2500,{"$f":"AccVelDataLink!A326","v":323},322,324,null,{"$f":"AccVelDataLink!G326","v":2.5},"○","○"]
[324,0,2800,{"$f":"AccVelDataLink!A327","v":324},323,325,null,{"$f":"AccVelDataLink!G327","v":2.8},"○","○"]
[325,0,3100,{"$f":"AccVelDataLink!A328","v":325},324,326,null,{"$f":"AccVelDataLink!G328","v":3.1},"○","○"]
[326,0,3500,{"$f":"AccVelDataLink!A329","v":326},325,327,null,{"$f":"AccVelDataLink!G329","v":3.5},"○","○"]
[327,0,4000,{"$f":"AccVelDataLink!A330","v":327},326,328,null,{"$f":"AccVelDataLink!G330","v":4},"○","○"]
[328,0,4500,{"$f":"AccVelDataLink!A331","v":328},327,329,null,{"$f":"AccVelDataLink!G331","v":4.5},"○","○"]
[329,0,5500,{"$f":"AccVelDataLink!A332","v":329},328,330,null,{"$f":"AccVelDataLink!G332","v":5.5},"○","○"]
[330,0,6000,{"$f":"AccVelDataLink!A333","v":330},329,331,null,{"$f":"AccVelDataLink!G333","v":6},"○","○"]
[331,0,7000,{"$f":"AccVelDataLink!A334","v":331},330,332,null,{"$f":"AccVelDataLink!G334","v":7},"○","○"]
[332,0,8500,{"$f":"AccVelDataLink!A335","v":332},331,333,null,{"$f":"AccVelDataLink!G335","v":8.5},"○","○"]
[333,0,10500,{"$f":"AccVelDataLink!A336","v":333},332,334,null,{"$f":"AccVelDataLink!G336","v":10.5},"○","○"]
[334,0,13000,{"$f":"AccVelDataLink!A337","v":334},333,335,null,{"$f":"AccVelDataLink!G337","v":13},"○","○"]
[335,0,15000,{"$f":"AccVelDataLink!A338","v":335},334,336,null,{"$f":"AccVelDataLink!G338","v":15},"○","○"]
[336,0,16900,{"$f":"AccVelDataLink!A339","v":336},335,337,null,{"$f":"AccVelDataLink!G339","v":16.899999999999999},"○","○"]
[337,0,19500,{"$f":"AccVelDataLink!A340","v":337},336,338,null,{"$f":"AccVelDataLink!G340","v":19.5},"○","○"]
[338,1,500,{"$f":"AccVelDataLink!A341","v":338},337,339,{"$f":"AccVelDataLink!F341","v":"ISB-SXL-60-16-垂直"},{"$f":"AccVelDataLink!G341","v":0.5},"○","○"]
[339,1,600,{"$f":"AccVelDataLink!A342","v":339},338,340,null,{"$f":"AccVelDataLink!G342","v":0.6},"○","○"]
[340,1,800,{"$f":"AccVelDataLink!A343","v":340},339,341,null,{"$f":"AccVelDataLink!G343","v":0.8},"○","○"]
[341,1,1000,{"$f":"AccVelDataLink!A344","v":341},340,342,null,{"$f":"AccVelDataLink!G344","v":1},"○","○"]
[342,1,1200,{"$f":"AccVelDataLink!A345","v":342},341,343,null,{"$f":"AccVelDataLink!G345","v":1.2},"○","○"]
[343,1,1400,{"$f":"AccVelDataLink!A346","v":343},342,344,null,{"$f":"AccVelDataLink!G346","v":1.4},"○","○"]
[344,1,1600,{"$f":"AccVelDataLink!A347","v":344},343,345,null,{"$f":"AccVelDataLink!G347","v":1.6},"○","○"]
[345,1,1800,{"$f":"AccVelDataLink!A348","v":345},344,346,null,{"$f":"AccVelDataLink!G348","v":1.8},"○","○"]
[346,1,2000,{"$f":"AccVelDataLink!A349","v":346},345,347,null,{"$f":"AccVelDataLink!G349","v":2},"○","○"]
[347,1,2300,{"$f":"AccVelDataLink!A350","v":347},346,348,null,{"$f":"AccVelDataLink!G350","v":2.2999999999999998},"○","○"]
[348,1,2600,{"$f":"AccVelDataLink!A351","v":348},347,349,null,{"$f":"AccVelDataLink!G351","v":2.6},"○","○"]
[349,1,3000,{"$f":"AccVelDataLink!A352","v":349},348,350,null,{"$f":"AccVelDataLink!G352","v":3},"○","○"]
[350,1,3500,{"$f":"AccVelDataLink!A353","v":350},349,-1,null,{"$f":"AccVelDataLink!G353","v":3.5},"○","終端"]
[351,0,45000,{"$f":"AccVelDataLink!A354","v":351},-1,{"$f":"A355","v":352},{"$f":"AccVelDataLink!F354","v":"ISB-MXL-100-5-水平"},{"$f":"AccVelDataLink!G354","v":45},"先頭","○"]
[352,0,60000,{"$f":"AccVelDataLink!A355","v":352},{"$f":"A354","v":351},353,null,{"$f":"AccVelDataLink!G355","v":60},"○","○"]
[353,0,80000,{"$f":"AccVelDataLink!A356","v":353},352,354,null,{"$f":"AccVelDataLink!G356","v":80},"○","○"]
[354,0,85000,{"$f":"AccVelDataLink!A357","v":354},353,355,null,{"$f":"AccVelDataLink!G357","v":85},"○","○"]
[355,0,119000,{"$f":"AccVelDataLink!A358","v":355},354,356,null,{"$f":"AccVelDataLink!G358","v":119},"○","○"]
[356,1,15000,{"$f":"AccVelDataLink!A359","v":356},355,357,{"$f":"AccVelDataLink!F359","v":"ISB-MXL-100-5-垂直"},{"$f":"AccVelDataLink!G359","v":15},"○","○"]
[357,1,17000,{"$f":"AccVelDataLink!A360","v":357},356,358,null,{"$f":"AccVelDataLink!G360","v":17},"○","○"]
[358,1,20000,{"$f":"AccVelDataLink!A361","v":358},357,-1,null,{"$f":"AccVelDataLink!G361","v":20},"○","終端"]
[359,0,20000,{"$f":"AccVelDataLink!A362","v":359},-1,{"$f":"A363","v":360},{"$f":"AccVelDataLink!F362","v":"ISB-MXL-100-10-水平"},{"$f":"AccVelDataLink!G362","v":20},"先頭","○"]
[360,0,23000,{"$f":"AccVelDataLink!A363","v":360},{"$f":"A362","v":359},361,null,{"$f":"AccVelDataLink!G363","v":23},"○","○"]
[361,0,30000,{"$f":"AccVelDataLink!A364","v":361},360,362,null,{"$f":"AccVelDataLink!G364","v":30},"○","○"]
[362,0,45000,{"$f":"AccVelDataLink!A365","v":362},361,363,null,{"$f":"AccVelDataLink!G365","v":45},"○","○"]
[363,0,52000,{"$f":"AccVelDataLink!A366","v":363},362,364,null,{"$f":"AccVelDataLink!G366","v":52},"○","○"]
[364,0,58500,{"$f":"AccVelDataLink!A367","v":364},363,365,null,{"$f":"AccVelDataLink!G367","v":58.5},"○","○"]
[365,0,67500,{"$f":"AccVelDataLink!A368","v":365},364,366,null,{"$f":"AccVelDataLink!G368","v":67.5},"○","○"]
[366,1,7000,{"$f":"AccVelDataLink!A369","v":366},365,367,{"$f":"AccVelDataLink!F369","v":"ISB-MXL-100-10-垂直"},{"$f":"AccVelDataLink!G369","v":7},"○","○"]
[367,1,8000,{"$f":"AccVelDataLink!A370","v":367},366,368,null,{"$f":"AccVelDataLink!G370","v":8},"○","○"]
[368,1,10000,{"$f":"AccVelDataLink!A371","v":368},367,-1,null,{"$f":"AccVelDataLink!G371","v":10},"○","終端"]
[369,0,500,{"$f":"AccVelDataLink!A372","v":369},-1,{"$f":"A373","v":370},{"$f":"AccVelDataLink!F372","v":"ISB-MXL-100-20-水平"},{"$f":"AccVelDataLink!G372","v":0.5},"先頭","○"]
[370,0,1000,{"$f":"AccVelDataLink!A373","v":370},{"$f":"A372","v":369},371,null,{"$f":"AccVelDataLink!G373","v":1},"○","○"]
[371,0,1500,{"$f":"AccVelDataLink!A374","v":371},370,372,null,{"$f":"AccVelDataLink!G374","v":1.5},"○","○"]
[372,0,2000,{"$f":"AccVelDataLink!A375","v":372},371,373,null,{"$f":"AccVelDataLink!G375","v":2},"○","○"]
[373,0,2500,{"$f":"AccVelDataLink!A376","v":373},372,374,null,{"$f":"AccVelDataLink!G376","v":2.5},"○","○"]
[374,0,3000,{"$f":"AccVelDataLink!A377","v":374},373,375,null,{"$f":"AccVelDataLink!G377","v":3},"○","○"]
[375,0,4000,{"$f":"AccVelDataLink!A378","v":375},374,376,null,{"$f":"AccVelDataLink!G378","v":4},"○","○"]
[376,0,5000,{"$f":"AccVelDataLink!A379","v":376},375,377,null,{"$f":"AccVelDataLink!G379","v":5},"○","○"]
[377,0,6000,{"$f":"AccVelDataLink!A380","v":377},376,378,null,{"$f":"AccVelDataLink!G380","v":6},"○","○"]
[378,0,7000,{"$f":"AccVelDataLink!A381","v":378},377,379,null,{"$f":"AccVelDataLink!G381","v":7},"○","○"]
[379,0,8000,{"$f":"AccVelDataLink!A382","v":379},378,380,null,{"$f":"AccVelDataLink!G382","v":8},"○","○"]
[380,0,9000,{"$f":"AccVelDataLink!A383","v":380},379,381,null,{"$f":"AccVelDataLink!G383","v":9},"○","○"]
[381,0,11000,{"$f":"AccVelDataLink!A384","v":381},380,382,null,{"$f":"AccVelDataLink!G384","v":11},"○","○"]
[382,0,13000,{"$f":"AccVelDataLink!A385","v":382},381,383,null,{"$f":"AccVelDataLink!G385","v":13},"○","○"]
[383,0,15000,{"$f":"AccVelDataLink!A386","v":383},382,384,null,{"$f":"AccVelDataLink!G386","v":15},"○","○"]
[384,0,18000,{"$f":"AccVelDataLink!A387","v":384},383,385,null,{"$f":"AccVelDataLink!G387","v":18},"○","○"]
[{"$f":"A387+1","v":385},0,{"$f":"H388*$H$1","v":23000},{"$f":"AccVelDataLink!A388","v":385},384,386,null,{"$f":"AccVelDataLink!G388","v":23},{"$f":"IF(E388=A387,\"○\",IF(G388=0,\"つなぎまちがい\",\"先頭\"))","v":"○"},{"$f":"IF(F388=A389,\"○\",IF(F388<>E389,\"つなぎまちがい\",\"終端\"))","v":"○"}]
[386,0,26500,{"$f":"AccVelDataLink!A389","v":386},385,387,null,{"$f":"AccVelDataLink!G389","v":26.5},"○","○"]
[387,0,30000,{"$f":"AccVelDataLink!A390","v":387},386,388,null,{"$f":"AccVelDataLink!G390","v":30},"○","○"]
[388,0,34500,{"$f":"AccVelDataLink!A391","v":388},387,-1,null,{"$f":"AccVelDataLink!G391","v":34.5},"○","終端"]
[389,0,750,{"$f":"AccVelDataLink!A392","v":389},-1,{"$f":"A393","v":390},{"$f":"AccVelDataLink!F392","v":"ISB-MXL-100-30-水平"},{"$f":"AccVelDataLink!G392","v":0.75},"先頭","○"]
[390,0,1000,{"$f":"AccVelDataLink!A393","v":390},{"$f":"A392","v":389},391,null,{"$f":"AccVelDataLink!G393","v":1},"○","○"]
[391,0,1250,{"$f":"AccVelDataLink!A394","v":391},390,392,null,{"$f":"AccVelDataLink!G394","v":1.25},"○","○"]
[392,0,1500,{"$f":"AccVelDataLink!A395","v":392},391,393,null,{"$f":"AccVelDataLink!G395","v":1.5},"○","○"]
[393,0,1750,{"$f":"AccVelDataLink!A396","v":393},392,394,null,{"$f":"AccVelDataLink!G396","v":1.75},"○","○"]
[394,0,2000,{"$f":"AccVelDataLink!A397","v":394},393,395,null,{"$f":"AccVelDataLink!G397","v":2},"○","○"]
[395,0,2250,{"$f":"AccVelDataLink!A398","v":395},394,396,null,{"$f":"AccVelDataLink!G398","v":2.25},"○","○"]
[396,0,2500,{"$f":"AccVelDataLink!A399","v":396},395,397,null,{"$f":"AccVelDataLink!G399","v":2.5},"○","○"]
[397,0,3000,{"$f":"AccVelDataLink!A400","v":397},396,398,null,{"$f":"AccVelDataLink!G400","v":3},"○","○"]
[398,0,3500,{"$f":"AccVelDataLink!A401","v":398},397,399,null,{"$f":"AccVelDataLink!G401","v":3.5},"○","○"]
[399,0,4000,{"$f":"AccVelDataLink!A402","v":399},398,400,null,{"$f":"AccVelDataLink!G402","v":4},"○","○"]
[400,0,5000,{"$f":"AccVelDataLink!A403","v":400},399,401,null,{"$f":"AccVelDataLink!G403","v":5},"○","○"]
[401,0,6000,{"$f":"AccVelDataLink!A404","v":401},400,402,null,{"$f":"AccVelDataLink!G404","v":6},"○","○"]
[402,0,7000,{"$f":"AccVelDataLink!A405","v":402},401,403,null,{"$f":"AccVelDataLink!G405","v":7},"○","○"]
[403,0,9000,{"$f":"AccVelDataLink!A406","v":403},402,404,null,{"$f":"AccVelDataLink!G406","v":9},"○","○"]
[404,0,11000,{"$f":"AccVelDataLink!A407","v":404},403,405,null,{"$f":"AccVelDataLink!G407","v":11},"○","○"]
[405,0,15000,{"$f":"AccVelDataLink!A408","v":405},404,406,null,{"$f":"AccVelDataLink!G408","v":15},"○","○"]
[406,0,17500,{"$f":"AccVelDataLink!A409","v":406},405,407,null,{"$f":"AccVelDataLink!G409","v":17.5},"○","○"]
[407,0,19500,{"$f":"AccVelDataLink!A410","v":407},406,408,null,{"$f":"AccVelDataLink!G410","v":19.5},"○","○"]
[408,0,22500,{"$f":"AccVelDataLink!A411","v":408},407,-1,null,{"$f":"AccVelDataLink!G411","v":22.5},"○","終端"]
[409,0,80000,{"$f":"AccVelDataLink!A412","v":409},-1,{"$f":"A413","v":410},{"$f":"AccVelDataLink!F412","v":"ISB-MXL-200-5-水平"},{"$f":"AccVelDataLink!G412","v":80},"先頭","○"]
[410,0,90000,{"$f":"AccVelDataLink!A413","v":410},{"$f":"A412","v":409},411,null,{"$f":"AccVelDataLink!G413","v":90},"○","○"]
[411,0,100000,{"$f":"AccVelDataLink!A414","v":411},410,412,null,{"$f":"AccVelDataLink!G414","v":100},"○","○"]
[412,0,110000,{"$f":"AccVelDataLink!A415","v":412},411,413,null,{"$f":"AccVelDataLink!G415","v":110},"○","○"]
[413,0,154000,{"$f":"AccVelDataLink!A416","v":413},412,414,null,{"$f":"AccVelDataLink!G416","v":154},"○","○"]
[414,1,30000,{"$f":"AccVelDataLink!A417","v":414},413,415,{"$f":"AccVelDataLink!F417","v":"ISB-MXL-200-5-垂直"},{"$f":"AccVelDataLink!G417","v":30},"○","○"]
[415,1,34000,{"$f":"AccVelDataLink!A418","v":415},414,416,null,{"$f":"AccVelDataLink!G418","v":34},"○","○"]
[416,1,40000,{"$f":"AccVelDataLink!A419","v":416},415,-1,null,{"$f":"AccVelDataLink!G419","v":40},"○","終端"]
[417,0,40000,{"$f":"AccVelDataLink!A420","v":417},-1,{"$f":"A421","v":418},{"$f":"AccVelDataLink!F420","v":"ISB-MXL-200-10-水平"},{"$f":"AccVelDataLink!G420","v":40},"先頭","○"]
[418,0,51000,{"$f":"AccVelDataLink!A421","v":418},{"$f":"A420","v":417},419,null,{"$f":"AccVelDataLink!G421","v":51},"○","○"]
[419,0,66000,{"$f":"AccVelDataLink!A422","v":419},418,420,null,{"$f":"AccVelDataLink!G422","v":66},"○","○"]
[420,0,90000,{"$f":"AccVelDataLink!A423","v":420},419,421,null,{"$f":"AccVelDataLink!G423","v":90},"○","○"]
[421,0,103500,{"$f":"AccVelDataLink!A424","v":421},420,422,null,{"$f":"AccVelDataLink!G424","v":103.5},"○","○"]
[422,0,117000,{"$f":"AccVelDataLink!A425","v":422},421,423,null,{"$f":"AccVelDataLink!G425","v":117},"○","○"]
[423,0,135000,{"$f":"AccVelDataLink!A426","v":423},422,424,null,{"$f":"AccVelDataLink!G426","v":135},"○","○"]
[424,1,15000,{"$f":"AccVelDataLink!A427","v":424},423,425,{"$f":"AccVelDataLink!F427","v":"ISB-MXL-200-10-垂直"},{"$f":"AccVelDataLink!G427","v":15},"○","○"]
[425,1,17000,{"$f":"AccVelDataLink!A428","v":425},424,426,null,{"$f":"AccVelDataLink!G428","v":17},"○","○"]
[426,1,20000,{"$f":"AccVelDataLink!A429","v":426},425,-1,null,{"$f":"AccVelDataLink!G429","v":20},"○","終端"]
[427,0,4000,{"$f":"AccVelDataLink!A430","v":427},-1,{"$f":"A431","v":428},{"$f":"AccVelDataLink!F430","v":"ISB-MXL-200-20-水平"},{"$f":"AccVelDataLink!G430","v":4},"先頭","○"]
[428,0,5000,{"$f":"AccVelDataLink!A431","v":428},{"$f":"A430","v":427},429,null,{"$f":"AccVelDataLink!G431","v":5},"○","○"]
[429,0,6000,{"$f":"AccVelDataLink!A432","v":429},428,430,null,{"$f":"AccVelDataLink!G432","v":6},"○","○"]
[430,0,7000,{"$f":"AccVelDataLink!A433","v":430},429,431,null,{"$f":"AccVelDataLink!G433","v":7},"○","○"]
[431,0,8000,{"$f":"AccVelDataLink!A434","v":431},430,432,null,{"$f":"AccVelDataLink!G434","v":8},"○","○"]
[432,0,9000,{"$f":"AccVelDataLink!A435","v":432},431,433,null,{"$f":"AccVelDataLink!G435","v":9},"○","○"]
[433,0,10000,{"$f":"AccVelDataLink!A436","v":433},432,434,null,{"$f":"AccVelDataLink!G436","v":10},"○","○"]
[434,0,11000,{"$f":"AccVelDataLink!A437","v":434},433,435,null,{"$f":"AccVelDataLink!G437","v":11},"○","○"]
[435,0,12000,{"$f":"AccVelDataLink!A438","v":435},434,436,null,{"$f":"AccVelDataLink!G438","v":12},"○","○"]
[436,0,13000,{"$f":"AccVelDataLink!A439","v":436},435,437,null,{"$f":"AccVelDataLink!G439","v":13},"○","○"]
[437,0,15000,{"$f":"AccVelDataLink!A440","v":437},436,438,null,{"$f":"AccVelDataLink!G440","v":15},"○","○"]
[438,0,17000,{"$f":"AccVelDataLink!A441","v":438},437,439,null,{"$f":"AccVelDataLink!G441","v":17},"○","○"]
[439,0,20000,{"$f":"AccVelDataLink!A442","v":439},438,440,null,{"$f":"AccVelDataLink!G442","v":20},"○","○"]
[440,0,23000,{"$f":"AccVelDataLink!A443","v":440},439,441,null,{"$f":"AccVelDataLink!G443","v":23},"○","○"]
[441,0,28000,{"$f":"AccVelDataLink!A444","v":441},440,442,null,{"$f":"AccVelDataLink!G444","v":28},"○","○"]
[442,0,35000,{"$f":"AccVelDataLink!A445","v":442},441,443,null,{"$f":"AccVelDataLink!G445","v":35},"○","○"]
[443,0,45000,{"$f":"AccVelDataLink!A446","v":443},442,444,null,{"$f":"AccVelDataLink!G446","v":45},"○","○"]
[444,0,52000,{"$f":"AccVelDataLink!A447","v":444},443,445,null,{"$f":"AccVelDataLink!G447","v":52},"○","○"]
[445,0,58500,{"$f":"AccVelDataLink!A448","v":445},444,446,null,{"$f":"AccVelDataLink!G448","v":58.5},"○","○"]
[446,0,67500,{"$f":"AccVelDataLink!A449","v":446},445,-1,null,{"$f":"AccVelDataLink!G449","v":67.5},"○","終端"]
[447,0,4500,{"$f":"AccVelDataLink!A450","v":447},-1,{"$f":"A451","v":448},{"$f":"AccVelDataLink!F450","v":"ISB-MXL-200-30-水平"},{"$f":"AccVelDataLink!G450","v":4.5},"先頭","○"]
[448,0,5000,{"$f":"AccVelDataLink!A451","v":448},{"$f":"A450","v":447},449,null,{"$f":"AccVelDataLink!G451","v":5},"○","○"]
[{"$f":"A451+1","v":449},0,{"$f":"H452*$H$1","v":5500},{"$f":"AccVelDataLink!A452","v":449},448,450,null,{"$f":"AccVelDataLink!G452","v":5.5},{"$f":"IF(E452=A451,\"○\",IF(G452=0,\"つなぎまちがい\",\"先頭\"))","v":"○"},{"$f":"IF(F452=A453,\"○\",IF(F452<>E453,\"つなぎまちがい\",\"終端\"))","v":"○"}]
[450,0,6000,{"$f":"AccVelDataLink!A453","v":450},449,451,null,{"$f":"AccVelDataLink!G453","v":6},"○","○"]
[451,0,6500,{"$f":"AccVelDataLink!A454","v":451},450,452,null,{"$f":"AccVelDataLink!G454","v":6.5},"○","○"]
[452,0,7000,{"$f":"AccVelDataLink!A455","v":452},451,453,null,{"$f":"AccVelDataLink!G455","v":7},"○","○"]
[453,0,7500,{"$f":"AccVelDataLink!A456","v":453},452,454,null,{"$f":"AccVelDataLink!G456","v":7.5},"○","○"]
[454,0,8000,{"$f":"AccVelDataLink!A457","v":454},453,455,null,{"$f":"AccVelDataLink!G457","v":8},"○","○"]
[455,0,9000,{"$f":"AccVelDataLink!A458","v":455},454,456,null,{"$f":"AccVelDataLink!G458","v":9},"○","○"]
[456,0,10000,{"$f":"AccVelDataLink!A459","v":456},455,457,null,{"$f":"AccVelDataLink!G459","v":10},"○","○"]
[457,0,12000,{"$f":"AccVelDataLink!A460","v":457},456,458,null,{"$f":"AccVelDataLink!G460","v":12},"○","○"]
[458,0,13000,{"$f":"AccVelDataLink!A461","v":458},457,459,null,{"$f":"AccVelDataLink!G461","v":13},"○","○"]
[459,0,15000,{"$f":"AccVelDataLink!A462","v":459},458,460,null,{"$f":"AccVelDataLink!G462","v":15},"○","○"]
[460,0,17000,{"$f":"AccVelDataLink!A463","v":460},459,461,null,{"$f":"AccVelDataLink!G463","v":17},"○","○"]
[461,0,20000,{"$f":"AccVelDataLink!A464","v":461},460,462,null,{"$f":"AccVelDataLink!G464","v":20},"○","○"]
[462,0,24000,{"$f":"AccVelDataLink!A465","v":462},461,463,null,{"$f":"AccVelDataLink!G465","v":24},"○","○"]
[463,0,30000,{"$f":"AccVelDataLink!A466","v":463},462,464,null,{"$f":"AccVelDataLink!G466","v":30},"○","○"]
[464,0,34500,{"$f":"AccVelDataLink!A467","v":464},463,465,null,{"$f":"AccVelDataLink!G467","v":34.5},"○","○"]
[465,0,39000,{"$f":"AccVelDataLink!A468","v":465},464,466,null,{"$f":"AccVelDataLink!G468","v":39},"○","○"]
[466,0,45000,{"$f":"AccVelDataLink!A469","v":466},465,-1,null,{"$f":"AccVelDataLink!G469","v":45},"○","終端"]
[467,0,40000,{"$f":"AccVelDataLink!A470","v":467},-1,{"$f":"A471","v":468},{"$f":"AccVelDataLink!F470","v":"ISB-LXL-200-10-水平"},{"$f":"AccVelDataLink!G470","v":40},"先頭","○"]
[468,0,51000,{"$f":"AccVelDataLink!A471","v":468},{"$f":"A470","v":467},469,null,{"$f":"AccVelDataLink!G471","v":51},"○","○"]
[469,0,66000,{"$f":"AccVelDataLink!A472","v":469},468,470,null,{"$f":"AccVelDataLink!G472","v":66},"○","○"]
[470,0,90000,{"$f":"AccVelDataLink!A473","v":470},469,471,null,{"$f":"AccVelDataLink!G473","v":90},"○","○"]
[471,0,103500,{"$f":"AccVelDataLink!A474","v":471},470,472,null,{"$f":"AccVelDataLink!G474","v":103.5},"○","○"]
[472,0,117000,{"$f":"AccVelDataLink!A475","v":472},471,473,null,{"$f":"AccVelDataLink!G475","v":117},"○","○"]
[473,0,135000,{"$f":"AccVelDataLink!A476","v":473},472,474,null,{"$f":"AccVelDataLink!G476","v":135},"○","○"]
[474,1,14000,{"$f":"AccVelDataLink!A477","v":474},473,475,{"$f":"AccVelDataLink!F477","v":"ISB-LXL-200-10-垂直"},{"$f":"AccVelDataLink!G477","v":14},"○","○"]
[475,1,16000,{"$f":"AccVelDataLink!A478","v":475},474,476,null,{"$f":"AccVelDataLink!G478","v":16},"○","○"]
[476,1,20000,{"$f":"AccVelDataLink!A479","v":476},475,-1,null,{"$f":"AccVelDataLink!G479","v":20},"○","終端"]
[477,0,1500,{"$f":"AccVelDataLink!A480","v":477},-1,{"$f":"A481","v":478},{"$f":"AccVelDataLink!F480","v":"ISB-LXL-200-20-水平"},{"$f":"AccVelDataLink!G480","v":1.5},"先頭","○"]
[478,0,3000,{"$f":"AccVelDataLink!A481","v":478},{"$f":"A480","v":477},479,null,{"$f":"AccVelDataLink!G481","v":3},"○","○"]
[479,0,4500,{"$f":"AccVelDataLink!A482","v":479},478,480,null,{"$f":"AccVelDataLink!G482","v":4.5},"○","○"]
[480,0,6000,{"$f":"AccVelDataLink!A483","v":480},479,481,null,{"$f":"AccVelDataLink!G483","v":6},"○","○"]
[481,0,8000,{"$f":"AccVelDataLink!A484","v":481},480,482,null,{"$f":"AccVelDataLink!G484","v":8},"○","○"]
[482,0,10000,{"$f":"AccVelDataLink!A485","v":482},481,483,null,{"$f":"AccVelDataLink!G485","v":10},"○","○"]
[483,0,12000,{"$f":"AccVelDataLink!A486","v":483},482,484,null,{"$f":"AccVelDataLink!G486","v":12},"○","○"]
[484,0,13000,{"$f":"AccVelDataLink!A487","v":484},483,485,null,{"$f":"AccVelDataLink!G487","v":13},"○","○"]
[485,0,15000,{"$f":"AccVelDataLink!A488","v":485},484,486,null,{"$f":"AccVelDataLink!G488","v":15},"○","○"]
[486,0,17000,{"$f":"AccVelDataLink!A489","v":486},485,487,null,{"$f":"AccVelDataLink!G489","v":17},"○","○"]
[487,0,20000,{"$f":"AccVelDataLink!A490","v":487},486,488,null,{"$f":"AccVelDataLink!G490","v":20},"○","○"]
[488,0,23000,{"$f":"AccVelDataLink!A491","v":488},487,489,null,{"$f":"AccVelDataLink!G491","v":23},"○","○"]
[489,0,28000,{"$f":"AccVelDataLink!A492","v":489},488,490,null,{"$f":"AccVelDataLink!G492","v":28},"○","○"]
[490,0,35000,{"$f":"AccVelDataLink!A493","v":490},489,491,null,{"$f":"AccVelDataLink!G493","v":35},"○","○"]
[491,0,45000,{"$f":"AccVelDataLink!A494","v":491},490,492,null,{"$f":"AccVelDataLink!G494","v":45},"○","○"]
[492,0,52000,{"$f":"AccVelDataLink!A495","v":492},491,493,null,{"$f":"AccVelDataLink!G495","v":52},"○","○"]
[493,0,58500,{"$f":"AccVelDataLink!A496","v":493},492,494,null,{"$f":"AccVelDataLink!G496","v":58.5},"○","○"]
[494,0,67500,{"$f":"AccVelDataLink!A497","v":494},493,495,null,{"$f":"AccVelDataLink!G497","v":67.5},"○","○"]
[495,1,1500,{"$f":"AccVelDataLink!A498","v":495},{"$f":"A497","v":494},{"$f":"A499","v":496},{"$f":"AccVelDataLink!F498","v":"ISB-LXL-200-20-垂直"},{"$f":"AccVelDataLink!G498","v":1.5},"○","○"]
[496,1,2000,{"$f":"AccVelDataLink!A499","v":496},495,497,null,{"$f":"AccVelDataLink!G499","v":2},"○","○"]
[497,1,2500,{"$f":"AccVelDataLink!A500","v":497},496,498,null,{"$f":"AccVelDataLink!G500","v":2.5},"○","○"]
[498,1,3000,{"$f":"AccVelDataLink!A501","v":498},497,499,null,{"$f":"AccVelDataLink!G501","v":3},"○","○"]
[499,1,4000,{"$f":"AccVelDataLink!A502","v":499},498,500,null,{"$f":"AccVelDataLink!G502","v":4},"○","○"]
[500,1,5000,{"$f":"AccVelDataLink!A503","v":500},499,501,null,{"$f":"AccVelDataLink!G503","v":5},"○","○"]
[501,1,5500,{"$f":"AccVelDataLink!A504","v":501},500,502,null,{"$f":"AccVelDataLink!G504","v":5.5},"○","○"]
[502,1,6000,{"$f":"AccVelDataLink!A505","v":502},501,503,null,{"$f":"AccVelDataLink!G505","v":6},"○","○"]
[503,1,7000,{"$f":"AccVelDataLink!A506","v":503},502,504,null,{"$f":"AccVelDataLink!G506","v":7},"○","○"]
[504,1,7500,{"$f":"AccVelDataLink!A507","v":504},503,505,null,{"$f":"AccVelDataLink!G507","v":7.5},"○","○"]
[505,1,8500,{"$f":"AccVelDataLink!A508","v":505},504,506,null,{"$f":"AccVelDataLink!G508","v":8.5},"○","○"]
[506,1,10000,{"$f":"AccVelDataLink!A509","v":506},505,-1,null,{"$f":"AccVelDataLink!G509","v":10},"○","終端"]
[507,0,2000,{"$f":"AccVelDataLink!A510","v":507},-1,{"$f":"A511","v":508},{"$f":"AccVelDataLink!F510","v":"ISB-LXL-200-40-水平"},{"$f":"AccVelDataLink!G510","v":2},"先頭","○"]
[508,0,2500,{"$f":"AccVelDataLink!A511","v":508},{"$f":"A510","v":507},509,null,{"$f":"AccVelDataLink!G511","v":2.5},"○","○"]
[509,0,3000,{"$f":"AccVelDataLink!A512","v":509},508,510,null,{"$f":"AccVelDataLink!G512","v":3},"○","○"]
[510,0,3500,{"$f":"AccVelDataLink!A513","v":510},509,511,null,{"$f":"AccVelDataLink!G513","v":3.5},"○","○"]
[511,0,4000,{"$f":"AccVelDataLink!A514","v":511},510,512,null,{"$f":"AccVelDataLink!G514","v":4},"○","○"]
[512,0,4500,{"$f":"AccVelDataLink!A515","v":512},511,513,null,{"$f":"AccVelDataLink!G515","v":4.5},"○","○"]
[{"$f":"A515+1","v":513},0,{"$f":"H516*$H$1","v":5000},{"$f":"AccVelDataLink!A516","v":513},512,514,null,{"$f":"AccVelDataLink!G516","v":5},{"$f":"IF(E516=A515,\"○\",IF(G516=0,\"つなぎまちがい\",\"先頭\"))","v":"○"},{"$f":"IF(F516=A517,\"○\",IF(F516<>E517,\"つなぎまちがい\",\"終端\"))","v":"○"}]
[514,0,5500,{"$f":"AccVelDataLink!A517","v":514},513,515,null,{"$f":"AccVelDataLink!G517","v":5.5},"○","○"]
[515,0,6000,{"$f":"AccVelDataLink!A518","v":515},514,516,null,{"$f":"AccVelDataLink!G518","v":6},"○","○"]
[516,0,6500,{"$f":"AccVelDataLink!A519","v":516},515,517,null,{"$f":"AccVelDataLink!G519","v":6.5},"○","○"]
[517,0,7000,{"$f":"AccVelDataLink!A520","v":517},516,518,null,{"$f":"AccVelDataLink!G520","v":7},"○","○"]
[518,0,7500,{"$f":"AccVelDataLink!A521","v":518},517,519,null,{"$f":"AccVelDataLink!G521","v":7.5},"○","○"]
[519,0,8000,{"$f":"AccVelDataLink!A522","v":519},518,520,null,{"$f":"AccVelDataLink!G522","v":8},"○","○"]
[520,0,9000,{"$f":"AccVelDataLink!A523","v":520},519,521,null,{"$f":"AccVelDataLink!G523","v":9},"○","○"]
[521,0,10500,{"$f":"AccVelDataLink!A524","v":521},520,522,null,{"$f":"AccVelDataLink!G524","v":10.5},"○","○"]
[522,0,12000,{"$f":"AccVelDataLink!A525","v":522},521,523,null,{"$f":"AccVelDataLink!G525","v":12},"○","○"]
[523,0,15000,{"$f":"AccVelDataLink!A526","v":523},522,524,null,{"$f":"AccVelDataLink!G526","v":15},"○","○"]
[524,0,17500,{"$f":"AccVelDataLink!A527","v":524},523,525,null,{"$f":"AccVelDataLink!G527","v":17.5},"○","○"]
[525,0,19500,{"$f":"AccVelDataLink!A528","v":525},524,526,null,{"$f":"AccVelDataLink!G528","v":19.5},"○","○"]
[526,0,22500,{"$f":"AccVelDataLink!A529","v":526},525,-1,null,{"$f":"AccVelDataLink!G529","v":22.5},"○","終端"]
[527,0,60000,{"$f":"AccVelDataLink!A530","v":527},-1,{"$f":"A531","v":528},{"$f":"AccVelDataLink!F530","v":"ISB-LXL-400-10-水平"},{"$f":"AccVelDataLink!G530","v":60},"先頭","○"]
[528,0,73000,{"$f":"AccVelDataLink!A531","v":528},{"$f":"A530","v":527},529,null,{"$f":"AccVelDataLink!G531","v":73},"○","○"]
[529,0,92000,{"$f":"AccVelDataLink!A532","v":529},528,530,null,{"$f":"AccVelDataLink!G532","v":92},"○","○"]
[530,0,120000,{"$f":"AccVelDataLink!A533","v":530},529,531,null,{"$f":"AccVelDataLink!G533","v":120},"○","○"]
[531,0,138000,{"$f":"AccVelDataLink!A534","v":531},530,532,null,{"$f":"AccVelDataLink!G534","v":138},"○","○"]
[532,0,156000,{"$f":"AccVelDataLink!A535","v":532},531,533,null,{"$f":"AccVelDataLink!G535","v":156},"○","○"]
[533,0,180000,{"$f":"AccVelDataLink!A536","v":533},532,534,null,{"$f":"AccVelDataLink!G536","v":180},"○","○"]
[534,1,30000,{"$f":"AccVelDataLink!A537","v":534},533,535,{"$f":"AccVelDataLink!F537","v":"ISB-LXL-400-10-垂直"},{"$f":"AccVelDataLink!G537","v":30},"○","○"]
[535,1,34000,{"$f":"AccVelDataLink!A538","v":535},534,536,null,{"$f":"AccVelDataLink!G538","v":34},"○","○"]
[536,1,40000,{"$f":"AccVelDataLink!A539","v":536},535,-1,null,{"$f":"AccVelDataLink!G539","v":40},"○","終端"]
[537,0,5000,{"$f":"AccVelDataLink!A540","v":537},-1,{"$f":"A541","v":538},{"$f":"AccVelDataLink!F540","v":"ISB-LXL-400-20-水平"},{"$f":"AccVelDataLink!G540","v":5},"先頭","○"]
[538,0,6000,{"$f":"AccVelDataLink!A541","v":538},{"$f":"A540","v":537},539,null,{"$f":"AccVelDataLink!G541","v":6},"○","○"]
[539,0,7000,{"$f":"AccVelDataLink!A542","v":539},538,540,null,{"$f":"AccVelDataLink!G542","v":7},"○","○"]
[540,0,9000,{"$f":"AccVelDataLink!A543","v":540},539,541,null,{"$f":"AccVelDataLink!G543","v":9},"○","○"]
[541,0,12000,{"$f":"AccVelDataLink!A544","v":541},540,542,null,{"$f":"AccVelDataLink!G544","v":12},"○","○"]
[542,0,15000,{"$f":"AccVelDataLink!A545","v":542},541,543,null,{"$f":"AccVelDataLink!G545","v":15},"○","○"]
[543,0,18000,{"$f":"AccVelDataLink!A546","v":543},542,544,null,{"$f":"AccVelDataLink!G546","v":18},"○","○"]
[544,0,21000,{"$f":"AccVelDataLink!A547","v":544},543,545,null,{"$f":"AccVelDataLink!G547","v":21},"○","○"]
[545,0,24000,{"$f":"AccVelDataLink!A548","v":545},544,546,null,{"$f":"AccVelDataLink!G548","v":24},"○","○"]
[546,0,27000,{"$f":"AccVelDataLink!A549","v":546},545,547,null,{"$f":"AccVelDataLink!G549","v":27},"○","○"]
[547,0,30000,{"$f":"AccVelDataLink!A550","v":547},546,548,null,{"$f":"AccVelDataLink!G550","v":30},"○","○"]
[548,0,35000,{"$f":"AccVelDataLink!A551","v":548},547,549,null,{"$f":"AccVelDataLink!G551","v":35},"○","○"]
[549,0,40000,{"$f":"AccVelDataLink!A552","v":549},548,550,null,{"$f":"AccVelDataLink!G552","v":40},"○","○"]
[550,0,47000,{"$f":"AccVelDataLink!A553","v":550},549,551,null,{"$f":"AccVelDataLink!G553","v":47},"○","○"]
[551,0,57000,{"$f":"AccVelDataLink!A554","v":551},550,552,null,{"$f":"AccVelDataLink!G554","v":57},"○","○"]
[552,0,70000,{"$f":"AccVelDataLink!A555","v":552},551,553,null,{"$f":"AccVelDataLink!G555","v":70},"○","○"]
[553,0,90000,{"$f":"AccVelDataLink!A556","v":553},552,554,null,{"$f":"AccVelDataLink!G556","v":90},"○","○"]
[554,0,103500,{"$f":"AccVelDataLink!A557","v":554},553,555,null,{"$f":"AccVelDataLink!G557","v":103.5},"○","○"]
[555,0,117000,{"$f":"AccVelDataLink!A558","v":555},554,556,null,{"$f":"AccVelDataLink!G558","v":117},"○","○"]
[556,0,135000,{"$f":"AccVelDataLink!A559","v":556},555,557,null,{"$f":"AccVelDataLink!G559","v":135},"○","○"]
[557,1,5000,{"$f":"AccVelDataLink!A560","v":557},{"$f":"A559","v":556},{"$f":"A561","v":558},{"$f":"AccVelDataLink!F560","v":"ISB-LXL-400-20-垂直"},{"$f":"AccVelDataLink!G560","v":5},"○","○"]
[558,1,6000,{"$f":"AccVelDataLink!A561","v":558},557,559,null,{"$f":"AccVelDataLink!G561","v":6},"○","○"]
[559,1,7000,{"$f":"AccVelDataLink!A562","v":559},558,560,null,{"$f":"AccVelDataLink!G562","v":7},"○","○"]
[560,1,8000,{"$f":"AccVelDataLink!A563","v":560},559,561,null,{"$f":"AccVelDataLink!G563","v":8},"○","○"]
[561,1,9000,{"$f":"AccVelDataLink!A564","v":561},560,562,null,{"$f":"AccVelDataLink!G564","v":9},"○","○"]
[562,1,10000,{"$f":"AccVelDataLink!A565","v":562},561,563,null,{"$f":"AccVelDataLink!G565","v":10},"○","○"]
[563,1,11000,{"$f":"AccVelDataLink!A566","v":563},562,564,null,{"$f":"AccVelDataLink!G566","v":11},"○","○"]
[564,1,12000,{"$f":"AccVelDataLink!A567","v":564},563,565,null,{"$f":"AccVelDataLink!G567","v":12},"○","○"]
[565,1,14000,{"$f":"AccVelDataLink!A568","v":565},564,566,null,{"$f":"AccVelDataLink!G568","v":14},"○","○"]
[566,1,15000,{"$f":"AccVelDataLink!A569","v":566},565,567,null,{"$f":"AccVelDataLink!G569","v":15},"○","○"]
[567,1,17000,{"$f":"AccVelDataLink!A570","v":567},566,568,null,{"$f":"AccVelDataLink!G570","v":17},"○","○"]
[568,1,20000,{"$f":"AccVelDataLink!A571","v":568},567,-1,null,{"$f":"AccVelDataLink!G571","v":20},"○","終端"]
[569,0,6500,{"$f":"AccVelDataLink!A572","v":569},-1,{"$f":"A573","v":570},{"$f":"AccVelDataLink!F572","v":"ISB-LXL-400-40-水平"},{"$f":"AccVelDataLink!G572","v":6.5},"先頭","○"]
[570,0,7000,{"$f":"AccVelDataLink!A573","v":570},{"$f":"A572","v":569},571,null,{"$f":"AccVelDataLink!G573","v":7},"○","○"]
[571,0,8000,{"$f":"AccVelDataLink!A574","v":571},570,572,null,{"$f":"AccVelDataLink!G574","v":8},"○","○"]
[572,0,9000,{"$f":"AccVelDataLink!A575","v":572},571,573,null,{"$f":"AccVelDataLink!G575","v":9},"○","○"]
[573,0,10000,{"$f":"AccVelDataLink!A576","v":573},572,574,null,{"$f":"AccVelDataLink!G576","v":10},"○","○"]
[574,0,11000,{"$f":"AccVelDataLink!A577","v":574},573,575,null,{"$f":"AccVelDataLink!G577","v":11},"○","○"]
[575,0,12000,{"$f":"AccVelDataLink!A578","v":575},574,576,null,{"$f":"AccVelDataLink!G578","v":12},"○","○"]
[576,0,13500,{"$f":"AccVelDataLink!A579","v":576},575,577,null,{"$f":"AccVelDataLink!G579","v":13.5},"○","○"]
[{"$f":"A579+1","v":577},0,{"$f":"H580*$H$1","v":15000},{"$f":"AccVelDataLink!A580","v":577},576,578,null,{"$f":"AccVelDataLink!G580","v":15},{"$f":"IF(E580=A579,\"○\",IF(G580=0,\"つなぎまちがい\",\"先頭\"))","v":"○"},{"$f":"IF(F580=A581,\"○\",IF(F580<>E581,\"つなぎまちがい\",\"終端\"))","v":"○"}]
[578,0,16000,{"$f":"AccVelDataLink!A581","v":578},577,579,null,{"$f":"AccVelDataLink!G581","v":16},"○","○"]
[579,0,17000,{"$f":"AccVelDataLink!A582","v":579},578,580,null,{"$f":"AccVelDataLink!G582","v":17},"○","○"]
[580,0,19000,{"$f":"AccVelDataLink!A583","v":580},579,581,null,{"$f":"AccVelDataLink!G583","v":19},"○","○"]
[581,0,21000,{"$f":"AccVelDataLink!A584","v":581},580,582,null,{"$f":"AccVelDataLink!G584","v":21},"○","○"]
[582,0,23000,{"$f":"AccVelDataLink!A585","v":582},581,583,null,{"$f":"AccVelDataLink!G585","v":23},"○","○"]
[583,0,27000,{"$f":"AccVelDataLink!A586","v":583},582,584,null,{"$f":"AccVelDataLink!G586","v":27},"○","○"]
[584,0,32000,{"$f":"AccVelDataLink!A587","v":584},583,585,null,{"$f":"AccVelDataLink!G587","v":32},"○","○"]
[585,0,40000,{"$f":"AccVelDataLink!A588","v":585},584,586,null,{"$f":"AccVelDataLink!G588","v":40},"○","○"]
[586,0,46000,{"$f":"AccVelDataLink!A589","v":586},585,587,null,{"$f":"AccVelDataLink!G589","v":46},"○","○"]
[587,0,52000,{"$f":"AccVelDataLink!A590","v":587},586,588,null,{"$f":"AccVelDataLink!G590","v":52},"○","○"]
[588,0,60000,{"$f":"AccVelDataLink!A591","v":588},587,-1,null,{"$f":"AccVelDataLink!G591","v":60},"○","終端"]
[589,0,30000,{"$f":"AccVelDataLink!A592","v":589},-1,{"$f":"A593","v":590},{"$f":"AccVelDataLink!F592","v":"ISDB-S-60-4-水平"},{"$f":"AccVelDataLink!G592","v":30},"先頭","○"]
[590,0,38000,{"$f":"AccVelDataLink!A593","v":590},{"$f":"A592","v":589},591,null,{"$f":"AccVelDataLink!G593","v":38},"○","○"]
[591,0,50000,{"$f":"AccVelDataLink!A594","v":591},590,592,null,{"$f":"AccVelDataLink!G594","v":50},"○","○"]
[592,0,55000,{"$f":"AccVelDataLink!A595","v":592},591,593,null,{"$f":"AccVelDataLink!G595","v":55},"○","○"]
[593,0,77000,{"$f":"AccVelDataLink!A596","v":593},592,594,null,{"$f":"AccVelDataLink!G596","v":77},"○","○"]
[594,1,12000,{"$f":"AccVelDataLink!A597","v":594},593,595,{"$f":"AccVelDataLink!F597","v":"ISDB-S-60-4-垂直"},{"$f":"AccVelDataLink!G597","v":12},"○","○"]
[595,1,13000,{"$f":"AccVelDataLink!A598","v":595},594,596,null,{"$f":"AccVelDataLink!G598","v":13},"○","○"]
[596,1,14000,{"$f":"AccVelDataLink!A599","v":596},595,-1,null,{"$f":"AccVelDataLink!G599","v":14},"○","終端"]
[597,0,4000,{"$f":"AccVelDataLink!A600","v":597},-1,{"$f":"A601","v":598},{"$f":"AccVelDataLink!F600","v":"ISDB-S-60-8-水平"},{"$f":"AccVelDataLink!G600","v":4},"先頭","○"]
[598,0,8000,{"$f":"AccVelDataLink!A601","v":598},{"$f":"A600","v":597},599,null,{"$f":"AccVelDataLink!G601","v":8},"○","○"]
[599,0,10200,{"$f":"AccVelDataLink!A602","v":599},598,600,null,{"$f":"AccVelDataLink!G602","v":10.199999999999999},"○","○"]
[600,0,12000,{"$f":"AccVelDataLink!A603","v":600},599,601,null,{"$f":"AccVelDataLink!G603","v":12},"○","○"]
[601,0,15000,{"$f":"AccVelDataLink!A604","v":601},600,602,null,{"$f":"AccVelDataLink!G604","v":15},"○","○"]
[602,0,20000,{"$f":"AccVelDataLink!A605","v":602},601,603,null,{"$f":"AccVelDataLink!G605","v":20},"○","○"]
[603,0,27000,{"$f":"AccVelDataLink!A606","v":603},602,604,null,{"$f":"AccVelDataLink!G606","v":27},"○","○"]
[604,0,31000,{"$f":"AccVelDataLink!A607","v":604},603,605,null,{"$f":"AccVelDataLink!G607","v":31},"○","○"]
[605,0,35000,{"$f":"AccVelDataLink!A608","v":605},604,606,null,{"$f":"AccVelDataLink!G608","v":35},"○","○"]
[606,0,40500,{"$f":"AccVelDataLink!A609","v":606},605,607,null,{"$f":"AccVelDataLink!G609","v":40.5},"○","○"]
[607,1,2000,{"$f":"AccVelDataLink!A610","v":607},606,608,{"$f":"AccVelDataLink!F610","v":"ISDB-S-60-8-垂直"},{"$f":"AccVelDataLink!G610","v":2},"○","○"]
[608,1,4000,{"$f":"AccVelDataLink!A611","v":608},607,609,null,{"$f":"AccVelDataLink!G611","v":4},"○","○"]
[609,1,5000,{"$f":"AccVelDataLink!A612","v":609},608,610,null,{"$f":"AccVelDataLink!G612","v":5},"○","○"]
[610,1,5500,{"$f":"AccVelDataLink!A613","v":610},609,611,null,{"$f":"AccVelDataLink!G613","v":5.5},"○","○"]
[611,1,6000,{"$f":"AccVelDataLink!A614","v":611},610,-1,null,{"$f":"AccVelDataLink!G614","v":6},"○","終端"]
[612,0,1800,{"$f":"AccVelDataLink!A615","v":612},-1,{"$f":"A616","v":613},{"$f":"AccVelDataLink!F615","v":"ISDB-S-60-16-水平"},{"$f":"AccVelDataLink!G615","v":1.8},"先頭","○"]
[613,0,2000,{"$f":"AccVelDataLink!A616","v":613},{"$f":"A615","v":612},614,null,{"$f":"AccVelDataLink!G616","v":2},"○","○"]
[614,0,2200,{"$f":"AccVelDataLink!A617","v":614},613,615,null,{"$f":"AccVelDataLink!G617","v":2.2000000000000002},"○","○"]
[615,0,2500,{"$f":"AccVelDataLink!A618","v":615},614,616,null,{"$f":"AccVelDataLink!G618","v":2.5},"○","○"]
[616,0,2800,{"$f":"AccVelDataLink!A619","v":616},615,617,null,{"$f":"AccVelDataLink!G619","v":2.8},"○","○"]
[617,0,3100,{"$f":"AccVelDataLink!A620","v":617},616,618,null,{"$f":"AccVelDataLink!G620","v":3.1},"○","○"]
[618,0,3500,{"$f":"AccVelDataLink!A621","v":618},617,619,null,{"$f":"AccVelDataLink!G621","v":3.5},"○","○"]
[619,0,4000,{"$f":"AccVelDataLink!A622","v":619},618,620,null,{"$f":"AccVelDataLink!G622","v":4},"○","○"]
[620,0,4500,{"$f":"AccVelDataLink!A623","v":620},619,621,null,{"$f":"AccVelDataLink!G623","v":4.5},"○","○"]
[621,0,5500,{"$f":"AccVelDataLink!A624","v":621},620,622,null,{"$f":"AccVelDataLink!G624","v":5.5},"○","○"]
[622,0,6000,{"$f":"AccVelDataLink!A625","v":622},621,623,null,{"$f":"AccVelDataLink!G625","v":6},"○","○"]
[623,0,7000,{"$f":"AccVelDataLink!A626","v":623},622,624,null,{"$f":"AccVelDataLink!G626","v":7},"○","○"]
[624,0,8500,{"$f":"AccVelDataLink!A627","v":624},623,625,null,{"$f":"AccVelDataLink!G627","v":8.5},"○","○"]
[625,0,10500,{"$f":"AccVelDataLink!A628","v":625},624,626,null,{"$f":"AccVelDataLink!G628","v":10.5},"○","○"]
[626,0,13000,{"$f":"AccVelDataLink!A629","v":626},625,627,null,{"$f":"AccVelDataLink!G629","v":13},"○","○"]
[627,0,15000,{"$f":"AccVelDataLink!A630","v":627},626,628,null,{"$f":"AccVelDataLink!G630","v":15},"○","○"]
[628,0,16900,{"$f":"AccVelDataLink!A631","v":628},627,629,null,{"$f":"AccVelDataLink!G631","v":16.899999999999999},"○","○"]
[629,0,19500,{"$f":"AccVelDataLink!A632","v":629},628,630,null,{"$f":"AccVelDataLink!G632","v":19.5},"○","○"]
[630,1,500,{"$f":"AccVelDataLink!A633","v":630},{"$f":"A632","v":629},{"$f":"A634","v":631},{"$f":"AccVelDataLink!F633","v":"ISDB-S-60-16-垂直"},{"$f":"AccVelDataLink!G633","v":0.5},"○","○"]
[631,1,600,{"$f":"AccVelDataLink!A634","v":631},630,632,null,{"$f":"AccVelDataLink!G634","v":0.6},"○","○"]
[632,1,800,{"$f":"AccVelDataLink!A635","v":632},631,633,null,{"$f":"AccVelDataLink!G635","v":0.8},"○","○"]
[633,1,1000,{"$f":"AccVelDataLink!A636","v":633},632,634,null,{"$f":"AccVelDataLink!G636","v":1},"○","○"]
[634,1,1200,{"$f":"AccVelDataLink!A637","v":634},633,635,null,{"$f":"AccVelDataLink!G637","v":1.2},"○","○"]
[635,1,1400,{"$f":"AccVelDataLink!A638","v":635},634,636,null,{"$f":"AccVelDataLink!G638","v":1.4},"○","○"]
[636,1,1600,{"$f":"AccVelDataLink!A639","v":636},635,637,null,{"$f":"AccVelDataLink!G639","v":1.6},"○","○"]
[637,1,1800,{"$f":"AccVelDataLink!A640","v":637},636,638,null,{"$f":"AccVelDataLink!G640","v":1.8},"○","○"]
[638,1,2000,{"$f":"AccVelDataLink!A641","v":638},637,639,null,{"$f":"AccVelDataLink!G641","v":2},"○","○"]
[639,1,2300,{"$f":"AccVelDataLink!A642","v":639},638,640,null,{"$f":"AccVelDataLink!G642","v":2.2999999999999998},"○","○"]
[640,1,2500,{"$f":"AccVelDataLink!A643","v":640},639,641,null,{"$f":"AccVelDataLink!G643","v":2.5},"○","○"]
[{"$f":"A643+1","v":641},1,{"$f":"H644*$H$1","v":2800},{"$f":"AccVelDataLink!A644","v":641},640,642,null,{"$f":"AccVelDataLink!G644","v":2.8},{"$f":"IF(E644=A643,\"○\",IF(G644=0,\"つなぎまちがい\",\"先頭\"))","v":"○"},{"$f":"IF(F644=A645,\"○\",IF(F644<>E645,\"つなぎまちがい\",\"終端\"))","v":"○"}]
[642,1,3000,{"$f":"AccVelDataLink!A645","v":642},641,-1,null,{"$f":"AccVelDataLink!G645","v":3},"○","終端"]
[643,0,45000,{"$f":"AccVelDataLink!A646","v":643},-1,{"$f":"A647","v":644},{"$f":"AccVelDataLink!F646","v":"ISDB-M-100-5-水平"},{"$f":"AccVelDataLink!G646","v":45},"先頭","○"]
[644,0,60000,{"$f":"AccVelDataLink!A647","v":644},{"$f":"A646","v":643},645,null,{"$f":"AccVelDataLink!G647","v":60},"○","○"]
[645,0,80000,{"$f":"AccVelDataLink!A648","v":645},644,646,null,{"$f":"AccVelDataLink!G648","v":80},"○","○"]
[646,0,85000,{"$f":"AccVelDataLink!A649","v":646},645,647,null,{"$f":"AccVelDataLink!G649","v":85},"○","○"]
[647,0,119000,{"$f":"AccVelDataLink!A650","v":647},646,648,null,{"$f":"AccVelDataLink!G650","v":119},"○","○"]
[648,1,15000,{"$f":"AccVelDataLink!A651","v":648},647,649,{"$f":"AccVelDataLink!F651","v":"ISDB-M-100-5-垂直"},{"$f":"AccVelDataLink!G651","v":15},"○","○"]
[649,1,17000,{"$f":"AccVelDataLink!A652","v":649},648,650,null,{"$f":"AccVelDataLink!G652","v":17},"○","○"]
[650,1,20000,{"$f":"AccVelDataLink!A653","v":650},649,-1,null,{"$f":"AccVelDataLink!G653","v":20},"○","終端"]
[651,0,20000,{"$f":"AccVelDataLink!A654","v":651},-1,{"$f":"A655","v":652},{"$f":"AccVelDataLink!F654","v":"ISDB-M-100-10-水平"},{"$f":"AccVelDataLink!G654","v":20},"先頭","○"]
[652,0,23000,{"$f":"AccVelDataLink!A655","v":652},{"$f":"A654","v":651},653,null,{"$f":"AccVelDataLink!G655","v":23},"○","○"]
[653,0,30000,{"$f":"AccVelDataLink!A656","v":653},652,654,null,{"$f":"AccVelDataLink!G656","v":30},"○","○"]
[654,0,45000,{"$f":"AccVelDataLink!A657","v":654},653,655,null,{"$f":"AccVelDataLink!G657","v":45},"○","○"]
[655,0,52000,{"$f":"AccVelDataLink!A658","v":655},654,656,null,{"$f":"AccVelDataLink!G658","v":52},"○","○"]
[656,0,58500,{"$f":"AccVelDataLink!A659","v":656},655,657,null,{"$f":"AccVelDataLink!G659","v":58.5},"○","○"]
[657,0,67500,{"$f":"AccVelDataLink!A660","v":657},656,658,null,{"$f":"AccVelDataLink!G660","v":67.5},"○","○"]
[658,1,7000,{"$f":"AccVelDataLink!A661","v":658},657,659,{"$f":"AccVelDataLink!F661","v":"ISDB-M-100-10-垂直"},{"$f":"AccVelDataLink!G661","v":7},"○","○"]
[659,1,8000,{"$f":"AccVelDataLink!A662","v":659},658,660,null,{"$f":"AccVelDataLink!G662","v":8},"○","○"]
[660,1,10000,{"$f":"AccVelDataLink!A663","v":660},659,-1,null,{"$f":"AccVelDataLink!G663","v":10},"○","終端"]
[661,0,1500,{"$f":"AccVelDataLink!A664","v":661},-1,{"$f":"A665","v":662},{"$f":"AccVelDataLink!F664","v":"ISDB-M-100-20-水平"},{"$f":"AccVelDataLink!G664","v":1.5},"先頭","○"]
[662,0,2000,{"$f":"AccVelDataLink!A665","v":662},{"$f":"A664","v":661},663,null,{"$f":"AccVelDataLink!G665","v":2},"○","○"]
[663,0,2500,{"$f":"AccVelDataLink!A666","v":663},662,664,null,{"$f":"AccVelDataLink!G666","v":2.5},"○","○"]
[664,0,3000,{"$f":"AccVelDataLink!A667","v":664},663,665,null,{"$f":"AccVelDataLink!G667","v":3},"○","○"]
[665,0,4000,{"$f":"AccVelDataLink!A668","v":665},664,666,null,{"$f":"AccVelDataLink!G668","v":4},"○","○"]
[666,0,5000,{"$f":"AccVelDataLink!A669","v":666},665,667,null,{"$f":"AccVelDataLink!G669","v":5},"○","○"]
[667,0,6000,{"$f":"AccVelDataLink!A670","v":667},666,668,null,{"$f":"AccVelDataLink!G670","v":6},"○","○"]
[668,0,7000,{"$f":"AccVelDataLink!A671","v":668},667,669,null,{"$f":"AccVelDataLink!G671","v":7},"○","○"]
[669,0,8000,{"$f":"AccVelDataLink!A672","v":669},668,670,null,{"$f":"AccVelDataLink!G672","v":8},"○","○"]
[670,0,9000,{"$f":"AccVelDataLink!A673","v":670},669,671,null,{"$f":"AccVelDataLink!G673","v":9},"○","○"]
[671,0,11000,{"$f":"AccVelDataLink!A674","v":671},670,672,null,{"$f":"AccVelDataLink!G674","v":11},"○","○"]
[672,0,13000,{"$f":"AccVelDataLink!A675","v":672},671,673,null,{"$f":"AccVelDataLink!G675","v":13},"○","○"]
[673,0,15000,{"$f":"AccVelDataLink!A676","v":673},672,674,null,{"$f":"AccVelDataLink!G676","v":15},"○","○"]
[674,0,18000,{"$f":"AccVelDataLink!A677","v":674},673,675,null,{"$f":"AccVelDataLink!G677","v":18},"○","○"]
[675,0,23000,{"$f":"AccVelDataLink!A678","v":675},674,676,null,{"$f":"AccVelDataLink!G678","v":23},"○","○"]
[676,0,26500,{"$f":"AccVelDataLink!A679","v":676},675,677,null,{"$f":"AccVelDataLink!G679","v":26.5},"○","○"]
[677,0,30000,{"$f":"AccVelDataLink!A680","v":677},676,678,null,{"$f":"AccVelDataLink!G680","v":30},"○","○"]
[678,0,34500,{"$f":"AccVelDataLink!A681","v":678},677,-1,null,{"$f":"AccVelDataLink!G681","v":34.5},"○","終端"]
[679,0,1250,{"$f":"AccVelDataLink!A682","v":679},-1,{"$f":"A683","v":680},{"$f":"AccVelDataLink!F682","v":"ISDB-M-100-30-水平"},{"$f":"AccVelDataLink!G682","v":1.25},"先頭","○"]
[680,0,1500,{"$f":"AccVelDataLink!A683","v":680},{"$f":"A682","v":679},681,null,{"$f":"AccVelDataLink!G683","v":1.5},"○","○"]
[681,0,1750,{"$f":"AccVelDataLink!A684","v":681},680,682,null,{"$f":"AccVelDataLink!G684","v":1.75},"○","○"]
[682,0,2000,{"$f":"AccVelDataLink!A685","v":682},681,683,null,{"$f":"AccVelDataLink!G685","v":2},"○","○"]
[683,0,2250,{"$f":"AccVelDataLink!A686","v":683},682,684,null,{"$f":"AccVelDataLink!G686","v":2.25},"○","○"]
[684,0,2500,{"$f":"AccVelDataLink!A687","v":684},683,685,null,{"$f":"AccVelDataLink!G687","v":2.5},"○","○"]
[685,0,3000,{"$f":"AccVelDataLink!A688","v":685},684,686,null,{"$f":"AccVelDataLink!G688","v":3},"○","○"]
[686,0,3500,{"$f":"AccVelDataLink!A689","v":686},685,687,null,{"$f":"AccVelDataLink!G689","v":3.5},"○","○"]
[687,0,4000,{"$f":"AccVelDataLink!A690","v":687},686,688,null,{"$f":"AccVelDataLink!G690","v":4},"○","○"]
[688,0,5000,{"$f":"AccVelDataLink!A691","v":688},687,689,null,{"$f":"AccVelDataLink!G691","v":5},"○","○"]
[689,0,6000,{"$f":"AccVelDataLink!A692","v":689},688,690,null,{"$f":"AccVelDataLink!G692","v":6},"○","○"]
[690,0,7000,{"$f":"AccVelDataLink!A693","v":690},689,691,null,{"$f":"AccVelDataLink!G693","v":7},"○","○"]
[691,0,9000,{"$f":"AccVelDataLink!A694","v":691},690,692,null,{"$f":"AccVelDataLink!G694","v":9},"○","○"]
[692,0,11000,{"$f":"AccVelDataLink!A695","v":692},691,693,null,{"$f":"AccVelDataLink!G695","v":11},"○","○"]
[693,0,15000,{"$f":"AccVelDataLink!A696","v":693},692,694,null,{"$f":"AccVelDataLink!G696","v":15},"○","○"]
[694,0,17500,{"$f":"AccVelDataLink!A697","v":694},693,695,null,{"$f":"AccVelDataLink!G697","v":17.5},"○","○"]
[695,0,19500,{"$f":"AccVelDataLink!A698","v":695},694,696,null,{"$f":"AccVelDataLink!G698","v":19.5},"○","○"]
[696,0,22500,{"$f":"AccVelDataLink!A699","v":696},695,-1,null,{"$f":"AccVelDataLink!G699","v":22.5},"○","終端"]
[697,0,80000,{"$f":"AccVelDataLink!A700","v":697},-1,{"$f":"A701","v":698},{"$f":"AccVelDataLink!F700","v":"ISDB-M-200-5-水平"},{"$f":"AccVelDataLink!G700","v":80},"先頭","○"]
[698,0,90000,{"$f":"AccVelDataLink!A701","v":698},{"$f":"A700","v":697},699,null,{"$f":"AccVelDataLink!G701","v":90},"○","○"]
[699,0,100000,{"$f":"AccVelDataLink!A702","v":699},698,700,null,{"$f":"AccVelDataLink!G702","v":100},"○","○"]
[700,0,110000,{"$f":"AccVelDataLink!A703","v":700},699,701,null,{"$f":"AccVelDataLink!G703","v":110},"○","○"]
[701,0,154000,{"$f":"AccVelDataLink!A704","v":701},700,702,null,{"$f":"AccVelDataLink!G704","v":154},"○","○"]
[702,1,30000,{"$f":"AccVelDataLink!A705","v":702},701,703,{"$f":"AccVelDataLink!F705","v":"ISDB-M-200-5-垂直"},{"$f":"AccVelDataLink!G705","v":30},"○","○"]
[703,1,34000,{"$f":"AccVelDataLink!A706","v":703},702,704,null,{"$f":"AccVelDataLink!G706","v":34},"○","○"]
[704,1,40000,{"$f":"AccVelDataLink!A707","v":704},703,-1,null,{"$f":"AccVelDataLink!G707","v":40},"○","終端"]
[{"$f":"A707+1","v":705},0,{"$f":"H708*$H$1","v":40000},{"$f":"AccVelDataLink!A708","v":705},-1,{"$f":"A709","v":706},{"$f":"AccVelDataLink!F708","v":"ISDB-M-200-10-水平"},{"$f":"AccVelDataLink!G708","v":40},{"$f":"IF(E708=A707,\"○\",IF(G708=0,\"つなぎまちがい\",\"先頭\"))","v":"先頭"},{"$f":"IF(F708=A709,\"○\",IF(F708<>E709,\"つなぎまちがい\",\"終端\"))","v":"○"}]
[706,0,51000,{"$f":"AccVelDataLink!A709","v":706},{"$f":"A708","v":705},707,null,{"$f":"AccVelDataLink!G709","v":51},"○","○"]
[707,0,66000,{"$f":"AccVelDataLink!A710","v":707},706,708,null,{"$f":"AccVelDataLink!G710","v":66},"○","○"]
[708,0,90000,{"$f":"AccVelDataLink!A711","v":708},707,709,null,{"$f":"AccVelDataLink!G711","v":90},"○","○"]
[709,0,103500,{"$f":"AccVelDataLink!A712","v":709},708,710,null,{"$f":"AccVelDataLink!G712","v":103.5},"○","○"]
[710,0,117000,{"$f":"AccVelDataLink!A713","v":710},709,711,null,{"$f":"AccVelDataLink!G713","v":117},"○","○"]
[711,0,135000,{"$f":"AccVelDataLink!A714","v":711},710,712,null,{"$f":"AccVelDataLink!G714","v":135},"○","○"]
[712,1,15000,{"$f":"AccVelDataLink!A715","v":712},711,713,{"$f":"AccVelDataLink!F715","v":"ISDB-M-200-10-垂直"},{"$f":"AccVelDataLink!G715","v":15},"○","○"]
[713,1,17000,{"$f":"AccVelDataLink!A716","v":713},712,714,null,{"$f":"AccVelDataLink!G716","v":17},"○","○"]
[714,1,20000,{"$f":"AccVelDataLink!A717","v":714},713,-1,null,{"$f":"AccVelDataLink!G717","v":20},"○","終端"]
[715,0,6000,{"$f":"AccVelDataLink!A718","v":715},-1,{"$f":"A719","v":716},{"$f":"AccVelDataLink!F718","v":"ISDB-M-200-20-水平"},{"$f":"AccVelDataLink!G718","v":6},"先頭","○"]
[716,0,7000,{"$f":"AccVelDataLink!A719","v":716},{"$f":"A718","v":715},717,null,{"$f":"AccVelDataLink!G719","v":7},"○","○"]
[717,0,8000,{"$f":"AccVelDataLink!A720","v":717},716,718,null,{"$f":"AccVelDataLink!G720","v":8},"○","○"]
[718,0,9000,{"$f":"AccVelDataLink!A721","v":718},717,719,null,{"$f":"AccVelDataLink!G721","v":9},"○","○"]
[719,0,10000,{"$f":"AccVelDataLink!A722","v":719},718,720,null,{"$f":"AccVelDataLink!G722","v":10},"○","○"]
[720,0,11000,{"$f":"AccVelDataLink!A723","v":720},719,721,null,{"$f":"AccVelDataLink!G723","v":11},"○","○"]
[721,0,12000,{"$f":"AccVelDataLink!A724","v":721},720,722,null,{"$f":"AccVelDataLink!G724","v":12},"○","○"]
[722,0,13000,{"$f":"AccVelDataLink!A725","v":722},721,723,null,{"$f":"AccVelDataLink!G725","v":13},"○","○"]
[723,0,16000,{"$f":"AccVelDataLink!A726","v":723},722,724,null,{"$f":"AccVelDataLink!G726","v":16},"○","○"]
[724,0,18000,{"$f":"AccVelDataLink!A727","v":724},723,725,null,{"$f":"AccVelDataLink!G727","v":18},"○","○"]
[725,0,20000,{"$f":"AccVelDataLink!A728","v":725},724,726,null,{"$f":"AccVelDataLink!G728","v":20},"○","○"]
[726,0,23000,{"$f":"AccVelDataLink!A729","v":726},725,727,null,{"$f":"AccVelDataLink!G729","v":23},"○","○"]
[727,0,28000,{"$f":"AccVelDataLink!A730","v":727},726,728,null,{"$f":"AccVelDataLink!G730","v":28},"○","○"]
[728,0,35000,{"$f":"AccVelDataLink!A731","v":728},727,729,null,{"$f":"AccVelDataLink!G731","v":35},"○","○"]
[729,0,45000,{"$f":"AccVelDataLink!A732","v":729},728,730,null,{"$f":"AccVelDataLink!G732","v":45},"○","○"]
[730,0,52000,{"$f":"AccVelDataLink!A733","v":730},729,731,null,{"$f":"AccVelDataLink!G733","v":52},"○","○"]
[731,0,58500,{"$f":"AccVelDataLink!A734","v":731},730,732,null,{"$f":"AccVelDataLink!G734","v":58.5},"○","○"]
[732,0,67500,{"$f":"AccVelDataLink!A735","v":732},731,-1,null,{"$f":"AccVelDataLink!G735","v":67.5},"○","終端"]
[733,0,5500,{"$f":"AccVelDataLink!A736","v":733},-1,{"$f":"A737","v":734},{"$f":"AccVelDataLink!F736","v":"ISDB-M-200-30-水平"},{"$f":"AccVelDataLink!G736","v":5.5},"先頭","○"]
[734,0,6000,{"$f":"AccVelDataLink!A737","v":734},{"$f":"A736","v":733},735,null,{"$f":"AccVelDataLink!G737","v":6},"○","○"]
[735,0,6500,{"$f":"AccVelDataLink!A738","v":735},734,736,null,{"$f":"AccVelDataLink!G738","v":6.5},"○","○"]
[736,0,7000,{"$f":"AccVelDataLink!A739","v":736},735,737,null,{"$f":"AccVelDataLink!G739","v":7},"○","○"]
[737,0,7500,{"$f":"AccVelDataLink!A740","v":737},736,738,null,{"$f":"AccVelDataLink!G740","v":7.5},"○","○"]
[738,0,8000,{"$f":"AccVelDataLink!A741","v":738},737,739,null,{"$f":"AccVelDataLink!G741","v":8},"○","○"]
[739,0,9000,{"$f":"AccVelDataLink!A742","v":739},738,740,null,{"$f":"AccVelDataLink!G742","v":9},"○","○"]
[740,0,10000,{"$f":"AccVelDataLink!A743","v":740},739,741,null,{"$f":"AccVelDataLink!G743","v":10},"○","○"]
[741,0,12000,{"$f":"AccVelDataLink!A744","v":741},740,742,null,{"$f":"AccVelDataLink!G744","v":12},"○","○"]
[742,0,13000,{"$f":"AccVelDataLink!A745","v":742},741,743,null,{"$f":"AccVelDataLink!G745","v":13},"○","○"]
[743,0,15000,{"$f":"AccVelDataLink!A746","v":743},742,744,null,{"$f":"AccVelDataLink!G746","v":15},"○","○"]
[744,0,17000,{"$f":"AccVelDataLink!A747","v":744},743,745,null,{"$f":"AccVelDataLink!G747","v":17},"○","○"]
[745,0,20000,{"$f":"AccVelDataLink!A748","v":745},744,746,null,{"$f":"AccVelDataLink!G748","v":20},"○","○"]
[746,0,24000,{"$f":"AccVelDataLink!A749","v":746},745,747,null,{"$f":"AccVelDataLink!G749","v":24},"○","○"]
[747,0,30000,{"$f":"AccVelDataLink!A750","v":747},746,748,null,{"$f":"AccVelDataLink!G750","v":30},"○","○"]
[748,0,34500,{"$f":"AccVelDataLink!A751","v":748},747,749,null,{"$f":"AccVelDataLink!G751","v":34.5},"○","○"]
[749,0,39000,{"$f":"AccVelDataLink!A752","v":749},748,750,null,{"$f":"AccVelDataLink!G752","v":39},"○","○"]
[750,0,45000,{"$f":"AccVelDataLink!A753","v":750},749,-1,null,{"$f":"AccVelDataLink!G753","v":45},"○","終端"]
[751,0,40000,{"$f":"AccVelDataLink!A754","v":751},-1,{"$f":"A755","v":752},{"$f":"AccVelDataLink!F754","v":"ISDB-L-200-10-水平"},{"$f":"AccVelDataLink!G754","v":40},"先頭","○"]
[752,0,51000,{"$f":"AccVelDataLink!A755","v":752},{"$f":"A754","v":751},753,null,{"$f":"AccVelDataLink!G755","v":51},"○","○"]
[753,0,66000,{"$f":"AccVelDataLink!A756","v":753},752,754,null,{"$f":"AccVelDataLink!G756","v":66},"○","○"]
[754,0,90000,{"$f":"AccVelDataLink!A757","v":754},753,755,null,{"$f":"AccVelDataLink!G757","v":90},"○","○"]
[755,0,103500,{"$f":"AccVelDataLink!A758","v":755},754,756,null,{"$f":"AccVelDataLink!G758","v":103.5},"○","○"]
[756,0,117000,{"$f":"AccVelDataLink!A759","v":756},755,757,null,{"$f":"AccVelDataLink!G759","v":117},"○","○"]
[757,0,135000,{"$f":"AccVelDataLink!A760","v":757},756,758,null,{"$f":"AccVelDataLink!G760","v":135},"○","○"]
[758,1,14000,{"$f":"AccVelDataLink!A761","v":758},757,759,{"$f":"AccVelDataLink!F761","v":"ISDB-L-200-10-垂直"},{"$f":"AccVelDataLink!G761","v":14},"○","○"]
[759,1,16000,{"$f":"AccVelDataLink!A762","v":759},758,760,null,{"$f":"AccVelDataLink!G762","v":16},"○","○"]
[760,1,20000,{"$f":"AccVelDataLink!A763","v":760},759,-1,null,{"$f":"AccVelDataLink!G763","v":20},"○","終端"]
[761,0,1500,{"$f":"AccVelDataLink!A764","v":761},-1,{"$f":"A765","v":762},{"$f":"AccVelDataLink!F764","v":"ISDB-L-200-20-水平"},{"$f":"AccVelDataLink!G764","v":1.5},"先頭","○"]
[762,0,3000,{"$f":"AccVelDataLink!A765","v":762},{"$f":"A764","v":761},763,null,{"$f":"AccVelDataLink!G765","v":3},"○","○"]
[763,0,4500,{"$f":"AccVelDataLink!A766","v":763},762,764,null,{"$f":"AccVelDataLink!G766","v":4.5},"○","○"]
[764,0,6000,{"$f":"AccVelDataLink!A767","v":764},763,765,null,{"$f":"AccVelDataLink!G767","v":6},"○","○"]
[765,0,8000,{"$f":"AccVelDataLink!A768","v":765},764,766,null,{"$f":"AccVelDataLink!G768","v":8},"○","○"]
[766,0,10000,{"$f":"AccVelDataLink!A769","v":766},765,767,null,{"$f":"AccVelDataLink!G769","v":10},"○","○"]
[767,0,12000,{"$f":"AccVelDataLink!A770","v":767},766,768,null,{"$f":"AccVelDataLink!G770","v":12},"○","○"]
[768,0,13000,{"$f":"AccVelDataLink!A771","v":768},767,769,null,{"$f":"AccVelDataLink!G771","v":13},"○","○"]
[{"$f":"A771+1","v":769},0,{"$f":"H772*$H$1","v":15000},{"$f":"AccVelDataLink!A772","v":769},768,770,null,{"$f":"AccVelDataLink!G772","v":15},{"$f":"IF(E772=A771,\"○\",IF(G772=0,\"つなぎまちがい\",\"先頭\"))","v":"○"},{"$f":"IF(F772=A773,\"○\",IF(F772<>E773,\"つなぎまちがい\",\"終端\"))","v":"○"}]
[770,0,17000,{"$f":"AccVelDataLink!A773","v":770},769,771,null,{"$f":"AccVelDataLink!G773","v":17},"○","○"]
[771,0,20000,{"$f":"AccVelDataLink!A774","v":771},770,772,null,{"$f":"AccVelDataLink!G774","v":20},"○","○"]
[772,0,23000,{"$f":"AccVelDataLink!A775","v":772},771,773,null,{"$f":"AccVelDataLink!G775","v":23},"○","○"]
[773,0,28000,{"$f":"AccVelDataLink!A776","v":773},772,774,null,{"$f":"AccVelDataLink!G776","v":28},"○","○"]
[774,0,35000,{"$f":"AccVelDataLink!A777","v":774},773,775,null,{"$f":"AccVelDataLink!G777","v":35},"○","○"]
[775,0,45000,{"$f":"AccVelDataLink!A778","v":775},774,776,null,{"$f":"AccVelDataLink!G778","v":45},"○","○"]
[776,0,52000,{"$f":"AccVelDataLink!A779","v":776},775,777,null,{"$f":"AccVelDataLink!G779","v":52},"○","○"]
[777,0,58500,{"$f":"AccVelDataLink!A780","v":777},776,778,null,{"$f":"AccVelDataLink!G780","v":58.5},"○","○"]
[778,0,67500,{"$f":"AccVelDataLink!A781","v":778},777,779,null,{"$f":"AccVelDataLink!G781","v":67.5},"○","○"]
[779,1,1500,{"$f":"AccVelDataLink!A782","v":779},{"$f":"A781","v":778},{"$f":"A783","v":780},{"$f":"AccVelDataLink!F782","v":"ISDB-L-200-20-垂直"},{"$f":"AccVelDataLink!G782","v":1.5},"○","○"]
[780,1,2000,{"$f":"AccVelDataLink!A783","v":780},779,781,null,{"$f":"AccVelDataLink!G783","v":2},"○","○"]
[781,1,2500,{"$f":"AccVelDataLink!A784","v":781},780,782,null,{"$f":"AccVelDataLink!G784","v":2.5},"○","○"]
[782,1,3000,{"$f":"AccVelDataLink!A785","v":782},781,783,null,{"$f":"AccVelDataLink!G785","v":3},"○","○"]
[783,1,4000,{"$f":"AccVelDataLink!A786","v":783},782,784,null,{"$f":"AccVelDataLink!G786","v":4},"○","○"]
[784,1,5000,{"$f":"AccVelDataLink!A787","v":784},783,785,null,{"$f":"AccVelDataLink!G787","v":5},"○","○"]
[785,1,5500,{"$f":"AccVelDataLink!A788","v":785},784,786,null,{"$f":"AccVelDataLink!G788","v":5.5},"○","○"]
[786,1,6000,{"$f":"AccVelDataLink!A789","v":786},785,787,null,{"$f":"AccVelDataLink!G789","v":6},"○","○"]
[787,1,7000,{"$f":"AccVelDataLink!A790","v":787},786,788,null,{"$f":"AccVelDataLink!G790","v":7},"○","○"]
[788,1,7500,{"$f":"AccVelDataLink!A791","v":788},787,789,null,{"$f":"AccVelDataLink!G791","v":7.5},"○","○"]
[789,1,8500,{"$f":"AccVelDataLink!A792","v":789},788,790,null,{"$f":"AccVelDataLink!G792","v":8.5},"○","○"]
[790,1,9000,{"$f":"AccVelDataLink!A793","v":790},789,-1,null,{"$f":"AccVelDataLink!G793","v":9},"○","終端"]
[791,0,2500,{"$f":"AccVelDataLink!A794","v":791},-1,{"$f":"A795","v":792},{"$f":"AccVelDataLink!F794","v":"ISDB-L-200-40-水平"},{"$f":"AccVelDataLink!G794","v":2.5},"先頭","○"]
[792,0,3000,{"$f":"AccVelDataLink!A795","v":792},{"$f":"A794","v":791},793,null,{"$f":"AccVelDataLink!G795","v":3},"○","○"]
[793,0,3500,{"$f":"AccVelDataLink!A796","v":793},792,794,null,{"$f":"AccVelDataLink!G796","v":3.5},"○","○"]
[794,0,4000,{"$f":"AccVelDataLink!A797","v":794},793,795,null,{"$f":"AccVelDataLink!G797","v":4},"○","○"]
[795,0,5000,{"$f":"AccVelDataLink!A798","v":795},794,796,null,{"$f":"AccVelDataLink!G798","v":5},"○","○"]
[796,0,5500,{"$f":"AccVelDataLink!A799","v":796},795,797,null,{"$f":"AccVelDataLink!G799","v":5.5},"○","○"]
[797,0,6000,{"$f":"AccVelDataLink!A800","v":797},796,798,null,{"$f":"AccVelDataLink!G800","v":6},"○","○"]
[798,0,6500,{"$f":"AccVelDataLink!A801","v":798},797,799,null,{"$f":"AccVelDataLink!G801","v":6.5},"○","○"]
[799,0,7000,{"$f":"AccVelDataLink!A802","v":799},798,800,null,{"$f":"AccVelDataLink!G802","v":7},"○","○"]
[800,0,7500,{"$f":"AccVelDataLink!A803","v":800},799,801,null,{"$f":"AccVelDataLink!G803","v":7.5},"○","○"]
[801,0,8000,{"$f":"AccVelDataLink!A804","v":801},800,802,null,{"$f":"AccVelDataLink!G804","v":8},"○","○"]
[802,0,9000,{"$f":"AccVelDataLink!A805","v":802},801,803,null,{"$f":"AccVelDataLink!G805","v":9},"○","○"]
[803,0,10500,{"$f":"AccVelDataLink!A806","v":803},802,804,null,{"$f":"AccVelDataLink!G806","v":10.5},"○","○"]
[804,0,12000,{"$f":"AccVelDataLink!A807","v":804},803,805,null,{"$f":"AccVelDataLink!G807","v":12},"○","○"]
[805,0,15000,{"$f":"AccVelDataLink!A808","v":805},804,806,null,{"$f":"AccVelDataLink!G808","v":15},"○","○"]
[806,0,17500,{"$f":"AccVelDataLink!A809","v":806},805,807,null,{"$f":"AccVelDataLink!G809","v":17.5},"○","○"]
[807,0,19500,{"$f":"AccVelDataLink!A810","v":807},806,808,null,{"$f":"AccVelDataLink!G810","v":19.5},"○","○"]
[808,0,22500,{"$f":"AccVelDataLink!A811","v":808},807,-1,null,{"$f":"AccVelDataLink!G811","v":22.5},"○","終端"]
[809,0,60000,{"$f":"AccVelDataLink!A812","v":809},-1,{"$f":"A813","v":810},{"$f":"AccVelDataLink!F812","v":"ISDB-L-400-10-水平"},{"$f":"AccVelDataLink!G812","v":60},"先頭","○"]
[810,0,73000,{"$f":"AccVelDataLink!A813","v":810},{"$f":"A812","v":809},811,null,{"$f":"AccVelDataLink!G813","v":73},"○","○"]
[811,0,92000,{"$f":"AccVelDataLink!A814","v":811},810,812,null,{"$f":"AccVelDataLink!G814","v":92},"○","○"]
[812,0,120000,{"$f":"AccVelDataLink!A815","v":812},811,813,null,{"$f":"AccVelDataLink!G815","v":120},"○","○"]
[813,0,138000,{"$f":"AccVelDataLink!A816","v":813},812,814,null,{"$f":"AccVelDataLink!G816","v":138},"○","○"]
[814,0,156000,{"$f":"AccVelDataLink!A817","v":814},813,815,null,{"$f":"AccVelDataLink!G817","v":156},"○","○"]
[815,0,180000,{"$f":"AccVelDataLink!A818","v":815},814,816,null,{"$f":"AccVelDataLink!G818","v":180},"○","○"]
[816,1,30000,{"$f":"AccVelDataLink!A819","v":816},815,817,{"$f":"AccVelDataLink!F819","v":"ISDB-L-400-10-垂直"},{"$f":"AccVelDataLink!G819","v":30},"○","○"]
[817,1,35000,{"$f":"AccVelDataLink!A820","v":817},816,818,null,{"$f":"AccVelDataLink!G820","v":35},"○","○"]
[818,1,40000,{"$f":"AccVelDataLink!A821","v":818},817,-1,null,{"$f":"AccVelDataLink!G821","v":40},"○","終端"]
[819,0,7000,{"$f":"AccVelDataLink!A822","v":819},-1,{"$f":"A823","v":820},{"$f":"AccVelDataLink!F822","v":"ISDB-L-400-20-水平"},{"$f":"AccVelDataLink!G822","v":7},"先頭","○"]
[820,0,9000,{"$f":"AccVelDataLink!A823","v":820},{"$f":"A822","v":819},821,null,{"$f":"AccVelDataLink!G823","v":9},"○","○"]
[821,0,12000,{"$f":"AccVelDataLink!A824","v":821},820,822,null,{"$f":"AccVelDataLink!G824","v":12},"○","○"]
[822,0,15000,{"$f":"AccVelDataLink!A825","v":822},821,823,null,{"$f":"AccVelDataLink!G825","v":15},"○","○"]
[823,0,18000,{"$f":"AccVelDataLink!A826","v":823},822,824,null,{"$f":"AccVelDataLink!G826","v":18},"○","○"]
[824,0,21000,{"$f":"AccVelDataLink!A827","v":824},823,825,null,{"$f":"AccVelDataLink!G827","v":21},"○","○"]
[825,0,24000,{"$f":"AccVelDataLink!A828","v":825},824,826,null,{"$f":"AccVelDataLink!G828","v":24},"○","○"]
[826,0,27000,{"$f":"AccVelDataLink!A829","v":826},825,827,null,{"$f":"AccVelDataLink!G829","v":27},"○","○"]
[827,0,30000,{"$f":"AccVelDataLink!A830","v":827},826,828,null,{"$f":"AccVelDataLink!G830","v":30},"○","○"]
[828,0,35000,{"$f":"AccVelDataLink!A831","v":828},827,829,null,{"$f":"AccVelDataLink!G831","v":35},"○","○"]
[829,0,40000,{"$f":"AccVelDataLink!A832","v":829},828,830,null,{"$f":"AccVelDataLink!G832","v":40},"○","○"]
[830,0,47000,{"$f":"AccVelDataLink!A833","v":830},829,831,null,{"$f":"AccVelDataLink!G833","v":47},"○","○"]
[831,0,57000,{"$f":"AccVelDataLink!A834","v":831},830,832,null,{"$f":"AccVelDataLink!G834","v":57},"○","○"]
[832,0,70000,{"$f":"AccVelDataLink!A835","v":832},831,833,null,{"$f":"AccVelDataLink!G835","v":70},"○","○"]
[{"$f":"A835+1","v":833},0,{"$f":"H836*$H$1","v":90000},{"$f":"AccVelDataLink!A836","v":833},832,834,null,{"$f":"AccVelDataLink!G836","v":90},{"$f":"IF(E836=A835,\"○\",IF(G836=0,\"つなぎまちがい\",\"先頭\"))","v":"○"},{"$f":"IF(F836=A837,\"○\",IF(F836<>E837,\"つなぎまちがい\",\"終端\"))","v":"○"}]
[834,0,103500,{"$f":"AccVelDataLink!A837","v":834},833,835,null,{"$f":"AccVelDataLink!G837","v":103.5},"○","○"]
[835,0,117000,{"$f":"AccVelDataLink!A838","v":835},834,836,null,{"$f":"AccVelDataLink!G838","v":117},"○","○"]
[836,0,135000,{"$f":"AccVelDataLink!A839","v":836},835,837,null,{"$f":"AccVelDataLink!G839","v":135},"○","○"]
[837,1,5000,{"$f":"AccVelDataLink!A840","v":837},{"$f":"A839","v":836},{"$f":"A841","v":838},{"$f":"AccVelDataLink!F840","v":"ISDB-L-400-20-垂直"},{"$f":"AccVelDataLink!G840","v":5},"○","○"]
[838,1,6000,{"$f":"AccVelDataLink!A841","v":838},837,839,null,{"$f":"AccVelDataLink!G841","v":6},"○","○"]
[839,1,7000,{"$f":"AccVelDataLink!A842","v":839},838,840,null,{"$f":"AccVelDataLink!G842","v":7},"○","○"]
[840,1,8000,{"$f":"AccVelDataLink!A843","v":840},839,841,null,{"$f":"AccVelDataLink!G843","v":8},"○","○"]
[841,1,9000,{"$f":"AccVelDataLink!A844","v":841},840,842,null,{"$f":"AccVelDataLink!G844","v":9},"○","○"]
[842,1,10000,{"$f":"AccVelDataLink!A845","v":842},841,843,null,{"$f":"AccVelDataLink!G845","v":10},"○","○"]
[843,1,11000,{"$f":"AccVelDataLink!A846","v":843},842,844,null,{"$f":"AccVelDataLink!G846","v":11},"○","○"]
[844,1,12000,{"$f":"AccVelDataLink!A847","v":844},843,845,null,{"$f":"AccVelDataLink!G847","v":12},"○","○"]
[845,1,14000,{"$f":"AccVelDataLink!A848","v":845},844,846,null,{"$f":"AccVelDataLink!G848","v":14},"○","○"]
[846,1,15000,{"$f":"AccVelDataLink!A849","v":846},845,847,null,{"$f":"AccVelDataLink!G849","v":15},"○","○"]
[847,1,17000,{"$f":"AccVelDataLink!A850","v":847},846,848,null,{"$f":"AccVelDataLink!G850","v":17},"○","○"]
[848,1,20000,{"$f":"AccVelDataLink!A851","v":848},847,-1,null,{"$f":"AccVelDataLink!G851","v":20},"○","終端"]
[849,0,7000,{"$f":"AccVelDataLink!A852","v":849},-1,{"$f":"A853","v":850},{"$f":"AccVelDataLink!F852","v":"ISDB-L-400-40-水平"},{"$f":"AccVelDataLink!G852","v":7},"先頭","○"]
[850,0,8000,{"$f":"AccVelDataLink!A853","v":850},{"$f":"A852","v":849},851,null,{"$f":"AccVelDataLink!G853","v":8},"○","○"]
[851,0,9000,{"$f":"AccVelDataLink!A854","v":851},850,852,null,{"$f":"AccVelDataLink!G854","v":9},"○","○"]
[852,0,10000,{"$f":"AccVelDataLink!A855","v":852},851,853,null,{"$f":"AccVelDataLink!G855","v":10},"○","○"]
[853,0,11000,{"$f":"AccVelDataLink!A856","v":853},852,854,null,{"$f":"AccVelDataLink!G856","v":11},"○","○"]
[854,0,12000,{"$f":"AccVelDataLink!A857","v":854},853,855,null,{"$f":"AccVelDataLink!G857","v":12},"○","○"]
[855,0,13000,{"$f":"AccVelDataLink!A858","v":855},854,856,null,{"$f":"AccVelDataLink!G858","v":13},"○","○"]
[856,0,15000,{"$f":"AccVelDataLink!A859","v":856},855,857,null,{"$f":"AccVelDataLink!G859","v":15},"○","○"]
[857,0,17000,{"$f":"AccVelDataLink!A860","v":857},856,858,null,{"$f":"AccVelDataLink!G860","v":17},"○","○"]
[858,0,19000,{"$f":"AccVelDataLink!A861","v":858},857,859,null,{"$f":"AccVelDataLink!G861","v":19},"○","○"]
[859,0,21000,{"$f":"AccVelDataLink!A862","v":859},858,860,null,{"$f":"AccVelDataLink!G862","v":21},"○","○"]
[860,0,23000,{"$f":"AccVelDataLink!A863","v":860},859,861,null,{"$f":"AccVelDataLink!G863","v":23},"○","○"]
[861,0,27000,{"$f":"AccVelDataLink!A864","v":861},860,862,null,{"$f":"AccVelDataLink!G864","v":27},"○","○"]
[862,0,32000,{"$f":"AccVelDataLink!A865","v":862},861,863,null,{"$f":"AccVelDataLink!G865","v":32},"○","○"]
[863,0,40000,{"$f":"AccVelDataLink!A866","v":863},862,864,null,{"$f":"AccVelDataLink!G866","v":40},"○","○"]
[864,0,46000,{"$f":"AccVelDataLink!A867","v":864},863,865,null,{"$f":"AccVelDataLink!G867","v":46},"○","○"]
[865,0,52000,{"$f":"AccVelDataLink!A868","v":865},864,866,null,{"$f":"AccVelDataLink!G868","v":52},"○","○"]
[866,0,60000,{"$f":"AccVelDataLink!A869","v":866},865,-1,null,{"$f":"AccVelDataLink!G869","v":60},"○","終端"]
[867,0,30000,{"$f":"AccVelDataLink!A870","v":867},-1,{"$f":"A871","v":868},{"$f":"AccVelDataLink!F870","v":"ISDBCR-S-60-4-水平"},{"$f":"AccVelDataLink!G870","v":30},"先頭","○"]
[868,0,38000,{"$f":"AccVelDataLink!A871","v":868},{"$f":"A870","v":867},869,null,{"$f":"AccVelDataLink!G871","v":38},"○","○"]
[869,0,50000,{"$f":"AccVelDataLink!A872","v":869},868,870,null,{"$f":"AccVelDataLink!G872","v":50},"○","○"]
[870,0,55000,{"$f":"AccVelDataLink!A873","v":870},869,871,null,{"$f":"AccVelDataLink!G873","v":55},"○","○"]
[871,0,71000,{"$f":"AccVelDataLink!A874","v":871},870,872,null,{"$f":"AccVelDataLink!G874","v":71},"○","○"]
[872,1,12000,{"$f":"AccVelDataLink!A875","v":872},871,873,{"$f":"AccVelDataLink!F875","v":"ISDBCR-S-60-4-垂直"},{"$f":"AccVelDataLink!G875","v":12},"○","○"]
[873,1,13000,{"$f":"AccVelDataLink!A876","v":873},872,874,null,{"$f":"AccVelDataLink!G876","v":13},"○","○"]
[874,1,14000,{"$f":"AccVelDataLink!A877","v":874},873,-1,null,{"$f":"AccVelDataLink!G877","v":14},"○","終端"]
[875,0,12000,{"$f":"AccVelDataLink!A878","v":875},-1,{"$f":"A879","v":876},{"$f":"AccVelDataLink!F878","v":"ISDBCR-S-60-8-水平"},{"$f":"AccVelDataLink!G878","v":12},"先頭","○"]
[876,0,15000,{"$f":"AccVelDataLink!A879","v":876},{"$f":"A878","v":875},877,null,{"$f":"AccVelDataLink!G879","v":15},"○","○"]
[877,0,20000,{"$f":"AccVelDataLink!A880","v":877},876,878,null,{"$f":"AccVelDataLink!G880","v":20},"○","○"]
[878,0,27000,{"$f":"AccVelDataLink!A881","v":878},877,879,null,{"$f":"AccVelDataLink!G881","v":27},"○","○"]
[879,0,30000,{"$f":"AccVelDataLink!A882","v":879},878,880,null,{"$f":"AccVelDataLink!G882","v":30},"○","○"]
[880,0,32500,{"$f":"AccVelDataLink!A883","v":880},879,881,null,{"$f":"AccVelDataLink!G883","v":32.5},"○","○"]
[881,0,35000,{"$f":"AccVelDataLink!A884","v":881},880,882,null,{"$f":"AccVelDataLink!G884","v":35},"○","○"]
[882,1,5000,{"$f":"AccVelDataLink!A885","v":882},881,883,{"$f":"AccVelDataLink!F885","v":"ISDBCR-S-60-8-垂直"},{"$f":"AccVelDataLink!G885","v":5},"○","○"]
[883,1,5500,{"$f":"AccVelDataLink!A886","v":883},882,884,null,{"$f":"AccVelDataLink!G886","v":5.5},"○","○"]
[884,1,6000,{"$f":"AccVelDataLink!A887","v":884},883,-1,null,{"$f":"AccVelDataLink!G887","v":6},"○","終端"]
[885,0,4500,{"$f":"AccVelDataLink!A888","v":885},-1,{"$f":"A889","v":886},{"$f":"AccVelDataLink!F888","v":"ISDBCR-S-60-16-水平"},{"$f":"AccVelDataLink!G888","v":4.5},"先頭","○"]
[886,0,5500,{"$f":"AccVelDataLink!A889","v":886},{"$f":"A888","v":885},887,null,{"$f":"AccVelDataLink!G889","v":5.5},"○","○"]
[887,0,6000,{"$f":"AccVelDataLink!A890","v":887},886,888,null,{"$f":"AccVelDataLink!G890","v":6},"○","○"]
[888,0,7000,{"$f":"AccVelDataLink!A891","v":888},887,889,null,{"$f":"AccVelDataLink!G891","v":7},"○","○"]
[889,0,8500,{"$f":"AccVelDataLink!A892","v":889},888,890,null,{"$f":"AccVelDataLink!G892","v":8.5},"○","○"]
[890,0,10500,{"$f":"AccVelDataLink!A893","v":890},889,891,null,{"$f":"AccVelDataLink!G893","v":10.5},"○","○"]
[891,0,13000,{"$f":"AccVelDataLink!A894","v":891},890,892,null,{"$f":"AccVelDataLink!G894","v":13},"○","○"]
[892,0,14500,{"$f":"AccVelDataLink!A895","v":892},891,893,null,{"$f":"AccVelDataLink!G895","v":14.5},"○","○"]
[893,0,15500,{"$f":"AccVelDataLink!A896","v":893},892,894,null,{"$f":"AccVelDataLink!G896","v":15.5},"○","○"]
[894,0,17000,{"$f":"AccVelDataLink!A897","v":894},893,895,null,{"$f":"AccVelDataLink!G897","v":17},"○","○"]
[895,1,2000,{"$f":"AccVelDataLink!A898","v":895},894,896,{"$f":"AccVelDataLink!F898","v":"ISDBCR-S-60-16-垂直"},{"$f":"AccVelDataLink!G898","v":2},"○","○"]
[896,1,2300,{"$f":"AccVelDataLink!A899","v":896},895,897,null,{"$f":"AccVelDataLink!G899","v":2.2999999999999998},"○","○"]
[{"$f":"A899+1","v":897},1,{"$f":"H900*$H$1","v":2500},{"$f":"AccVelDataLink!A900","v":897},896,898,null,{"$f":"AccVelDataLink!G900","v":2.5},{"$f":"IF(E900=A899,\"○\",IF(G900=0,\"つなぎまちがい\",\"先頭\"))","v":"○"},{"$f":"IF(F900=A901,\"○\",IF(F900<>E901,\"つなぎまちがい\",\"終端\"))","v":"○"}]
[898,1,2800,{"$f":"AccVelDataLink!A901","v":898},897,899,null,{"$f":"AccVelDataLink!G901","v":2.8},"○","○"]
[899,1,3000,{"$f":"AccVelDataLink!A902","v":899},898,-1,null,{"$f":"AccVelDataLink!G902","v":3},"○","終端"]
[900,0,45000,{"$f":"AccVelDataLink!A903","v":900},-1,{"$f":"A904","v":901},{"$f":"AccVelDataLink!F903","v":"ISDBCR-M-100-5-水平"},{"$f":"AccVelDataLink!G903","v":45},"先頭","○"]
[901,0,60000,{"$f":"AccVelDataLink!A904","v":901},{"$f":"A903","v":900},902,null,{"$f":"AccVelDataLink!G904","v":60},"○","○"]
[902,0,80000,{"$f":"AccVelDataLink!A905","v":902},901,903,null,{"$f":"AccVelDataLink!G905","v":80},"○","○"]
[903,0,85000,{"$f":"AccVelDataLink!A906","v":903},902,904,null,{"$f":"AccVelDataLink!G906","v":85},"○","○"]
[904,0,110000,{"$f":"AccVelDataLink!A907","v":904},903,905,null,{"$f":"AccVelDataLink!G907","v":110},"○","○"]
[905,1,15000,{"$f":"AccVelDataLink!A908","v":905},904,906,{"$f":"AccVelDataLink!F908","v":"ISDBCR-M-100-5-垂直"},{"$f":"AccVelDataLink!G908","v":15},"○","○"]
[906,1,17000,{"$f":"AccVelDataLink!A909","v":906},905,907,null,{"$f":"AccVelDataLink!G909","v":17},"○","○"]
[907,1,20000,{"$f":"AccVelDataLink!A910","v":907},906,-1,null,{"$f":"AccVelDataLink!G910","v":20},"○","終端"]
[908,0,20000,{"$f":"AccVelDataLink!A911","v":908},-1,{"$f":"A912","v":909},{"$f":"AccVelDataLink!F911","v":"ISDBCR-M-100-10-水平"},{"$f":"AccVelDataLink!G911","v":20},"先頭","○"]
[909,0,23000,{"$f":"AccVelDataLink!A912","v":909},{"$f":"A911","v":908},910,null,{"$f":"AccVelDataLink!G912","v":23},"○","○"]
[910,0,30000,{"$f":"AccVelDataLink!A913","v":910},909,911,null,{"$f":"AccVelDataLink!G913","v":30},"○","○"]
[911,0,45000,{"$f":"AccVelDataLink!A914","v":911},910,912,null,{"$f":"AccVelDataLink!G914","v":45},"○","○"]
[912,0,49500,{"$f":"AccVelDataLink!A915","v":912},911,913,null,{"$f":"AccVelDataLink!G915","v":49.5},"○","○"]
[913,0,54000,{"$f":"AccVelDataLink!A916","v":913},912,914,null,{"$f":"AccVelDataLink!G916","v":54},"○","○"]
[914,0,58500,{"$f":"AccVelDataLink!A917","v":914},913,915,null,{"$f":"AccVelDataLink!G917","v":58.5},"○","○"]
[915,1,7000,{"$f":"AccVelDataLink!A918","v":915},914,916,{"$f":"AccVelDataLink!F918","v":"ISDBCR-M-100-10-垂直"},{"$f":"AccVelDataLink!G918","v":7},"○","○"]
[916,1,8000,{"$f":"AccVelDataLink!A919","v":916},915,917,null,{"$f":"AccVelDataLink!G919","v":8},"○","○"]
[917,1,10000,{"$f":"AccVelDataLink!A920","v":917},916,-1,null,{"$f":"AccVelDataLink!G920","v":10},"○","終端"]
[918,0,8000,{"$f":"AccVelDataLink!A921","v":918},-1,{"$f":"A922","v":919},{"$f":"AccVelDataLink!F921","v":"ISDBCR-M-100-20-水平"},{"$f":"AccVelDataLink!G921","v":8},"先頭","○"]
[919,0,9000,{"$f":"AccVelDataLink!A922","v":919},{"$f":"A921","v":918},920,null,{"$f":"AccVelDataLink!G922","v":9},"○","○"]
[920,0,11000,{"$f":"AccVelDataLink!A923","v":920},919,921,null,{"$f":"AccVelDataLink!G923","v":11},"○","○"]
[921,0,13000,{"$f":"AccVelDataLink!A924","v":921},920,922,null,{"$f":"AccVelDataLink!G924","v":13},"○","○"]
[922,0,15000,{"$f":"AccVelDataLink!A925","v":922},921,923,null,{"$f":"AccVelDataLink!G925","v":15},"○","○"]
[923,0,18000,{"$f":"AccVelDataLink!A926","v":923},922,924,null,{"$f":"AccVelDataLink!G926","v":18},"○","○"]
[924,0,23000,{"$f":"AccVelDataLink!A927","v":924},923,925,null,{"$f":"AccVelDataLink!G927","v":23},"○","○"]
[925,0,25000,{"$f":"AccVelDataLink!A928","v":925},924,926,null,{"$f":"AccVelDataLink!G928","v":25},"○","○"]
[926,0,27500,{"$f":"AccVelDataLink!A929","v":926},925,927,null,{"$f":"AccVelDataLink!G929","v":27.5},"○","○"]
[927,0,30000,{"$f":"AccVelDataLink!A930","v":927},926,-1,null,{"$f":"AccVelDataLink!G930","v":30},"○","終端"]
[928,0,4000,{"$f":"AccVelDataLink!A931","v":928},-1,{"$f":"A932","v":929},{"$f":"AccVelDataLink!F931","v":"ISDBCR-M-100-30-水平"},{"$f":"AccVelDataLink!G931","v":4},"先頭","○"]
[929,0,5000,{"$f":"AccVelDataLink!A932","v":929},{"$f":"A931","v":928},930,null,{"$f":"AccVelDataLink!G932","v":5},"○","○"]
[930,0,6000,{"$f":"AccVelDataLink!A933","v":930},929,931,null,{"$f":"AccVelDataLink!G933","v":6},"○","○"]
[931,0,7000,{"$f":"AccVelDataLink!A934","v":931},930,932,null,{"$f":"AccVelDataLink!G934","v":7},"○","○"]
[932,0,9000,{"$f":"AccVelDataLink!A935","v":932},931,933,null,{"$f":"AccVelDataLink!G935","v":9},"○","○"]
[933,0,11000,{"$f":"AccVelDataLink!A936","v":933},932,934,null,{"$f":"AccVelDataLink!G936","v":11},"○","○"]
[934,0,15000,{"$f":"AccVelDataLink!A937","v":934},933,935,null,{"$f":"AccVelDataLink!G937","v":15},"○","○"]
[935,0,16500,{"$f":"AccVelDataLink!A938","v":935},934,936,null,{"$f":"AccVelDataLink!G938","v":16.5},"○","○"]
[936,0,18000,{"$f":"AccVelDataLink!A939","v":936},935,937,null,{"$f":"AccVelDataLink!G939","v":18},"○","○"]
[937,0,19500,{"$f":"AccVelDataLink!A940","v":937},936,-1,null,{"$f":"AccVelDataLink!G940","v":19.5},"○","終端"]
[938,0,80000,{"$f":"AccVelDataLink!A941","v":938},-1,{"$f":"A942","v":939},{"$f":"AccVelDataLink!F941","v":"ISDBCR-M-200-5-水平"},{"$f":"AccVelDataLink!G941","v":80},"先頭","○"]
[939,0,90000,{"$f":"AccVelDataLink!A942","v":939},{"$f":"A941","v":938},940,null,{"$f":"AccVelDataLink!G942","v":90},"○","○"]
[940,0,100000,{"$f":"AccVelDataLink!A943","v":940},939,941,null,{"$f":"AccVelDataLink!G943","v":100},"○","○"]
[941,0,110000,{"$f":"AccVelDataLink!A944","v":941},940,942,null,{"$f":"AccVelDataLink!G944","v":110},"○","○"]
[942,0,143000,{"$f":"AccVelDataLink!A945","v":942},941,943,null,{"$f":"AccVelDataLink!G945","v":143},"○","○"]
[943,1,30000,{"$f":"AccVelDataLink!A946","v":943},942,944,{"$f":"AccVelDataLink!F946","v":"ISDBCR-M-200-5-垂直"},{"$f":"AccVelDataLink!G946","v":30},"○","○"]
[944,1,34000,{"$f":"AccVelDataLink!A947","v":944},943,945,null,{"$f":"AccVelDataLink!G947","v":34},"○","○"]
[945,1,40000,{"$f":"AccVelDataLink!A948","v":945},944,-1,null,{"$f":"AccVelDataLink!G948","v":40},"○","終端"]
[946,0,40000,{"$f":"AccVelDataLink!A949","v":946},-1,{"$f":"A950","v":947},{"$f":"AccVelDataLink!F949","v":"ISDBCR-M-200-10-水平"},{"$f":"AccVelDataLink!G949","v":40},"先頭","○"]
[947,0,51000,{"$f":"AccVelDataLink!A950","v":947},{"$f":"A949","v":946},948,null,{"$f":"AccVelDataLink!G950","v":51},"○","○"]
[948,0,66000,{"$f":"AccVelDataLink!A951","v":948},947,949,null,{"$f":"AccVelDataLink!G951","v":66},"○","○"]
[949,0,90000,{"$f":"AccVelDataLink!A952","v":949},948,950,null,{"$f":"AccVelDataLink!G952","v":90},"○","○"]
[950,0,99000,{"$f":"AccVelDataLink!A953","v":950},949,951,null,{"$f":"AccVelDataLink!G953","v":99},"○","○"]
[951,0,108000,{"$f":"AccVelDataLink!A954","v":951},950,952,null,{"$f":"AccVelDataLink!G954","v":108},"○","○"]
[952,0,117000,{"$f":"AccVelDataLink!A955","v":952},951,953,null,{"$f":"AccVelDataLink!G955","v":117},"○","○"]
[953,1,15000,{"$f":"AccVelDataLink!A956","v":953},952,954,{"$f":"AccVelDataLink!F956","v":"ISDBCR-M-200-10-垂直"},{"$f":"AccVelDataLink!G956","v":15},"○","○"]
[954,1,17000,{"$f":"AccVelDataLink!A957","v":954},953,955,null,{"$f":"AccVelDataLink!G957","v":17},"○","○"]
[955,1,20000,{"$f":"AccVelDataLink!A958","v":955},954,-1,null,{"$f":"AccVelDataLink!G958","v":20},"○","終端"]
[956,0,16000,{"$f":"AccVelDataLink!A959","v":956},-1,{"$f":"A960","v":957},{"$f":"AccVelDataLink!F959","v":"ISDBCR-M-200-20-水平"},{"$f":"AccVelDataLink!G959","v":16},"先頭","○"]
[957,0,18000,{"$f":"AccVelDataLink!A960","v":957},{"$f":"A959","v":956},958,null,{"$f":"AccVelDataLink!G960","v":18},"○","○"]
[958,0,20000,{"$f":"AccVelDataLink!A961","v":958},957,959,null,{"$f":"AccVelDataLink!G961","v":20},"○","○"]
[959,0,23000,{"$f":"AccVelDataLink!A962","v":959},958,960,null,{"$f":"AccVelDataLink!G962","v":23},"○","○"]
[960,0,28000,{"$f":"AccVelDataLink!A963","v":960},959,961,null,{"$f":"AccVelDataLink!G963","v":28},"○","○"]
[{"$f":"A963+1","v":961},0,{"$f":"H964*$H$1","v":35000},{"$f":"AccVelDataLink!A964","v":961},960,962,null,{"$f":"AccVelDataLink!G964","v":35},{"$f":"IF(E964=A963,\"○\",IF(G964=0,\"つなぎまちがい\",\"先頭\"))","v":"○"},{"$f":"IF(F964=A965,\"○\",IF(F964<>E965,\"つなぎまちがい\",\"終端\"))","v":"○"}]
[962,0,45000,{"$f":"AccVelDataLink!A965","v":962},961,963,null,{"$f":"AccVelDataLink!G965","v":45},"○","○"]
[963,0,49500,{"$f":"AccVelDataLink!A966","v":963},962,964,null,{"$f":"AccVelDataLink!G966","v":49.5},"○","○"]
[964,0,54000,{"$f":"AccVelDataLink!A967","v":964},963,965,null,{"$f":"AccVelDataLink!G967","v":54},"○","○"]
[965,0,58500,{"$f":"AccVelDataLink!A968","v":965},964,-1,null,{"$f":"AccVelDataLink!G968","v":58.5},"○","終端"]
[966,0,12000,{"$f":"AccVelDataLink!A969","v":966},-1,{"$f":"A970","v":967},{"$f":"AccVelDataLink!F969","v":"ISDBCR-M-200-30-水平"},{"$f":"AccVelDataLink!G969","v":12},"先頭","○"]
[967,0,13000,{"$f":"AccVelDataLink!A970","v":967},{"$f":"A969","v":966},968,null,{"$f":"AccVelDataLink!G970","v":13},"○","○"]
[968,0,15000,{"$f":"AccVelDataLink!A971","v":968},967,969,null,{"$f":"AccVelDataLink!G971","v":15},"○","○"]
[969,0,17000,{"$f":"AccVelDataLink!A972","v":969},968,970,null,{"$f":"AccVelDataLink!G972","v":17},"○","○"]
[970,0,20000,{"$f":"AccVelDataLink!A973","v":970},969,971,null,{"$f":"AccVelDataLink!G973","v":20},"○","○"]
[971,0,24000,{"$f":"AccVelDataLink!A974","v":971},970,972,null,{"$f":"AccVelDataLink!G974","v":24},"○","○"]
[972,0,30000,{"$f":"AccVelDataLink!A975","v":972},971,973,null,{"$f":"AccVelDataLink!G975","v":30},"○","○"]
[973,0,33000,{"$f":"AccVelDataLink!A976","v":973},972,974,null,{"$f":"AccVelDataLink!G976","v":33},"○","○"]
[974,0,36000,{"$f":"AccVelDataLink!A977","v":974},973,975,null,{"$f":"AccVelDataLink!G977","v":36},"○","○"]
[975,0,39000,{"$f":"AccVelDataLink!A978","v":975},974,-1,null,{"$f":"AccVelDataLink!G978","v":39},"○","終端"]
[976,0,40000,{"$f":"AccVelDataLink!A979","v":976},-1,{"$f":"A980","v":977},{"$f":"AccVelDataLink!F979","v":"ISDBCR-L-200-10-水平"},{"$f":"AccVelDataLink!G979","v":40},"先頭","○"]
[977,0,51000,{"$f":"AccVelDataLink!A980","v":977},{"$f":"A979","v":976},978,null,{"$f":"AccVelDataLink!G980","v":51},"○","○"]
[978,0,66000,{"$f":"AccVelDataLink!A981","v":978},977,979,null,{"$f":"AccVelDataLink!G981","v":66},"○","○"]
[979,0,90000,{"$f":"AccVelDataLink!A982","v":979},978,980,null,{"$f":"AccVelDataLink!G982","v":90},"○","○"]
[980,0,99000,{"$f":"AccVelDataLink!A983","v":980},979,981,null,{"$f":"AccVelDataLink!G983","v":99},"○","○"]
[981,0,108000,{"$f":"AccVelDataLink!A984","v":981},980,982,null,{"$f":"AccVelDataLink!G984","v":108},"○","○"]
[982,0,117000,{"$f":"AccVelDataLink!A985","v":982},981,983,null,{"$f":"AccVelDataLink!G985","v":117},"○","○"]
[983,1,14000,{"$f":"AccVelDataLink!A986","v":983},982,984,{"$f":"AccVelDataLink!F986","v":"ISDBCR-L-200-10-垂直"},{"$f":"AccVelDataLink!G986","v":14},"○","○"]
[984,1,16000,{"$f":"AccVelDataLink!A987","v":984},983,985,null,{"$f":"AccVelDataLink!G987","v":16},"○","○"]
[985,1,20000,{"$f":"AccVelDataLink!A988","v":985},984,-1,null,{"$f":"AccVelDataLink!G988","v":20},"○","終端"]
[986,0,15000,{"$f":"AccVelDataLink!A989","v":986},-1,{"$f":"A990","v":987},{"$f":"AccVelDataLink!F989","v":"ISDBCR-L-200-20-水平"},{"$f":"AccVelDataLink!G989","v":15},"先頭","○"]
[987,0,17000,{"$f":"AccVelDataLink!A990","v":987},{"$f":"A989","v":986},988,null,{"$f":"AccVelDataLink!G990","v":17},"○","○"]
[988,0,20000,{"$f":"AccVelDataLink!A991","v":988},987,989,null,{"$f":"AccVelDataLink!G991","v":20},"○","○"]
[989,0,23000,{"$f":"AccVelDataLink!A992","v":989},988,990,null,{"$f":"AccVelDataLink!G992","v":23},"○","○"]
[990,0,28000,{"$f":"AccVelDataLink!A993","v":990},989,991,null,{"$f":"AccVelDataLink!G993","v":28},"○","○"]
[991,0,35000,{"$f":"AccVelDataLink!A994","v":991},990,992,null,{"$f":"AccVelDataLink!G994","v":35},"○","○"]
[992,0,45000,{"$f":"AccVelDataLink!A995","v":992},991,993,null,{"$f":"AccVelDataLink!G995","v":45},"○","○"]
[993,0,49500,{"$f":"AccVelDataLink!A996","v":993},992,994,null,{"$f":"AccVelDataLink!G996","v":49.5},"○","○"]
[994,0,54000,{"$f":"AccVelDataLink!A997","v":994},993,995,null,{"$f":"AccVelDataLink!G997","v":54},"○","○"]
[995,0,58500,{"$f":"AccVelDataLink!A998","v":995},994,996,null,{"$f":"AccVelDataLink!G998","v":58.5},"○","○"]
[996,1,5000,{"$f":"AccVelDataLink!A999","v":996},{"$f":"A998","v":995},{"$f":"A1000","v":997},{"$f":"AccVelDataLink!F999","v":"ISDBCR-L-200-20-垂直"},{"$f":"AccVelDataLink!G999","v":5},"○","○"]
[997,1,5500,{"$f":"AccVelDataLink!A1000","v":997},996,998,null,{"$f":"AccVelDataLink!G1000","v":5.5},"○","○"]
[998,1,6000,{"$f":"AccVelDataLink!A1001","v":998},997,999,null,{"$f":"AccVelDataLink!G1001","v":6},"○","○"]
[999,1,7000,{"$f":"AccVelDataLink!A1002","v":999},998,1000,null,{"$f":"AccVelDataLink!G1002","v":7},"○","○"]
[1000,1,7500,{"$f":"AccVelDataLink!A1003","v":1000},999,1001,null,{"$f":"AccVelDataLink!G1003","v":7.5},"○","○"]
[1001,1,8500,{"$f":"AccVelDataLink!A1004","v":1001},1000,1002,null,{"$f":"AccVelDataLink!G1004","v":8.5},"○","○"]
[1002,1,9000,{"$f":"AccVelDataLink!A1005","v":1002},1001,-1,null,{"$f":"AccVelDataLink!G1005","v":9},"○","終端"]
[1003,0,7000,{"$f":"AccVelDataLink!A1006","v":1003},-1,{"$f":"A1007","v":1004},{"$f":"AccVelDataLink!F1006","v":"ISDBCR-L-200-40-水平"},{"$f":"AccVelDataLink!G1006","v":7},"先頭","○"]
[1004,0,7500,{"$f":"AccVelDataLink!A1007","v":1004},{"$f":"A1006","v":1003},1005,null,{"$f":"AccVelDataLink!G1007","v":7.5},"○","○"]
[1005,0,8000,{"$f":"AccVelDataLink!A1008","v":1005},1004,1006,null,{"$f":"AccVelDataLink!G1008","v":8},"○","○"]
[1006,0,9000,{"$f":"AccVelDataLink!A1009","v":1006},1005,1007,null,{"$f":"AccVelDataLink!G1009","v":9},"○","○"]
[1007,0,10500,{"$f":"AccVelDataLink!A1010","v":1007},1006,1008,null,{"$f":"AccVelDataLink!G1010","v":10.5},"○","○"]
[1008,0,12000,{"$f":"AccVelDataLink!A1011","v":1008},1007,1009,null,{"$f":"AccVelDataLink!G1011","v":12},"○","○"]
[1009,0,15000,{"$f":"AccVelDataLink!A1012","v":1009},1008,1010,null,{"$f":"AccVelDataLink!G1012","v":15},"○","○"]
[1010,0,16500,{"$f":"AccVelDataLink!A1013","v":1010},1009,1011,null,{"$f":"AccVelDataLink!G1013","v":16.5},"○","○"]
[1011,0,18000,{"$f":"AccVelDataLink!A1014","v":1011},1010,1012,null,{"$f":"AccVelDataLink!G1014","v":18},"○","○"]
[1012,0,19500,{"$f":"AccVelDataLink!A1015","v":1012},1011,-1,null,{"$f":"AccVelDataLink!G1015","v":19.5},"○","終端"]
[1013,0,60000,{"$f":"AccVelDataLink!A1016","v":1013},-1,{"$f":"A1017","v":1014},{"$f":"AccVelDataLink!F1016","v":"ISDBCR-L-400-10-水平"},{"$f":"AccVelDataLink!G1016","v":60},"先頭","○"]
[1014,0,73000,{"$f":"AccVelDataLink!A1017","v":1014},{"$f":"A1016","v":1013},1015,null,{"$f":"AccVelDataLink!G1017","v":73},"○","○"]
[1015,0,92000,{"$f":"AccVelDataLink!A1018","v":1015},1014,1016,null,{"$f":"AccVelDataLink!G1018","v":92},"○","○"]
[1016,0,120000,{"$f":"AccVelDataLink!A1019","v":1016},1015,1017,null,{"$f":"AccVelDataLink!G1019","v":120},"○","○"]
[1017,0,132000,{"$f":"AccVelDataLink!A1020","v":1017},1016,1018,null,{"$f":"AccVelDataLink!G1020","v":132},"○","○"]
[1018,0,144000,{"$f":"AccVelDataLink!A1021","v":1018},1017,1019,null,{"$f":"AccVelDataLink!G1021","v":144},"○","○"]
[1019,0,156000,{"$f":"AccVelDataLink!A1022","v":1019},1018,1020,null,{"$f":"AccVelDataLink!G1022","v":156},"○","○"]
[1020,1,30000,{"$f":"AccVelDataLink!A1023","v":1020},1019,1021,{"$f":"AccVelDataLink!F1023","v":"ISDBCR-L-400-10-垂直"},{"$f":"AccVelDataLink!G1023","v":30},"○","○"]
[1021,1,35000,{"$f":"AccVelDataLink!A1024","v":1021},1020,1022,null,{"$f":"AccVelDataLink!G1024","v":35},"○","○"]
[1022,1,40000,{"$f":"AccVelDataLink!A1025","v":1022},1021,-1,null,{"$f":"AccVelDataLink!G1025","v":40},"○","終端"]
[1023,0,30000,{"$f":"AccVelDataLink!A1026","v":1023},-1,{"$f":"A1027","v":1024},{"$f":"AccVelDataLink!F1026","v":"ISDBCR-L-400-20-水平"},{"$f":"AccVelDataLink!G1026","v":30},"先頭","○"]
[1024,0,35000,{"$f":"AccVelDataLink!A1027","v":1024},{"$f":"A1026","v":1023},1025,null,{"$f":"AccVelDataLink!G1027","v":35},"○","○"]
[{"$f":"A1027+1","v":1025},0,{"$f":"H1028*$H$1","v":40000},{"$f":"AccVelDataLink!A1028","v":1025},1024,1026,null,{"$f":"AccVelDataLink!G1028","v":40},{"$f":"IF(E1028=A1027,\"○\",IF(G1028=0,\"つなぎまちがい\",\"先頭\"))","v":"○"},{"$f":"IF(F1028=A1029,\"○\",IF(F1028<>E1029,\"つなぎまちがい\",\"終端\"))","v":"○"}]
[1026,0,47000,{"$f":"AccVelDataLink!A1029","v":1026},1025,1027,null,{"$f":"AccVelDataLink!G1029","v":47},"○","○"]
[1027,0,57000,{"$f":"AccVelDataLink!A1030","v":1027},1026,1028,null,{"$f":"AccVelDataLink!G1030","v":57},"○","○"]
[1028,0,70000,{"$f":"AccVelDataLink!A1031","v":1028},1027,1029,null,{"$f":"AccVelDataLink!G1031","v":70},"○","○"]
[1029,0,90000,{"$f":"AccVelDataLink!A1032","v":1029},1028,1030,null,{"$f":"AccVelDataLink!G1032","v":90},"○","○"]
[1030,0,99000,{"$f":"AccVelDataLink!A1033","v":1030},1029,1031,null,{"$f":"AccVelDataLink!G1033","v":99},"○","○"]
[1031,0,108000,{"$f":"AccVelDataLink!A1034","v":1031},1030,1032,null,{"$f":"AccVelDataLink!G1034","v":108},"○","○"]
[1032,0,117000,{"$f":"AccVelDataLink!A1035","v":1032},1031,1033,null,{"$f":"AccVelDataLink!G1035","v":117},"○","○"]
[1033,1,10000,{"$f":"AccVelDataLink!A1036","v":1033},1032,1034,{"$f":"AccVelDataLink!F1036","v":"ISDBCR-L-400-20-垂直"},{"$f":"AccVelDataLink!G1036","v":10},"○","○"]
[1034,1,11000,{"$f":"AccVelDataLink!A1037","v":1034},1033,1035,null,{"$f":"AccVelDataLink!G1037","v":11},"○","○"]
[1035,1,12000,{"$f":"AccVelDataLink!A1038","v":1035},1034,1036,null,{"$f":"AccVelDataLink!G1038","v":12},"○","○"]
[1036,1,14000,{"$f":"AccVelDataLink!A1039","v":1036},1035,1037,null,{"$f":"AccVelDataLink!G1039","v":14},"○","○"]
[1037,1,15000,{"$f":"AccVelDataLink!A1040","v":1037},1036,1038,null,{"$f":"AccVelDataLink!G1040","v":15},"○","○"]
[1038,1,17000,{"$f":"AccVelDataLink!A1041","v":1038},1037,1039,null,{"$f":"AccVelDataLink!G1041","v":17},"○","○"]
[1039,1,20000,{"$f":"AccVelDataLink!A1042","v":1039},1038,-1,null,{"$f":"AccVelDataLink!G1042","v":20},"○","終端"]
[1040,0,17000,{"$f":"AccVelDataLink!A1043","v":1040},-1,{"$f":"A1044","v":1041},{"$f":"AccVelDataLink!F1043","v":"ISDBCR-L-400-40-水平"},{"$f":"AccVelDataLink!G1043","v":17},"先頭","○"]
[1041,0,19000,{"$f":"AccVelDataLink!A1044","v":1041},{"$f":"A1043","v":1040},1042,null,{"$f":"AccVelDataLink!G1044","v":19},"○","○"]
[1042,0,21000,{"$f":"AccVelDataLink!A1045","v":1042},1041,1043,null,{"$f":"AccVelDataLink!G1045","v":21},"○","○"]
[1043,0,23000,{"$f":"AccVelDataLink!A1046","v":1043},1042,1044,null,{"$f":"AccVelDataLink!G1046","v":23},"○","○"]
[1044,0,27000,{"$f":"AccVelDataLink!A1047","v":1044},1043,1045,null,{"$f":"AccVelDataLink!G1047","v":27},"○","○"]
[1045,0,32000,{"$f":"AccVelDataLink!A1048","v":1045},1044,1046,null,{"$f":"AccVelDataLink!G1048","v":32},"○","○"]
[1046,0,40000,{"$f":"AccVelDataLink!A1049","v":1046},1045,1047,null,{"$f":"AccVelDataLink!G1049","v":40},"○","○"]
[1047,0,44000,{"$f":"AccVelDataLink!A1050","v":1047},1046,1048,null,{"$f":"AccVelDataLink!G1050","v":44},"○","○"]
[1048,0,48000,{"$f":"AccVelDataLink!A1051","v":1048},1047,1049,null,{"$f":"AccVelDataLink!G1051","v":48},"○","○"]
[1049,0,52000,{"$f":"AccVelDataLink!A1052","v":1049},1048,-1,null,{"$f":"AccVelDataLink!G1052","v":52},"○","終端"]
[1050,0,50000,{"$f":"AccVelDataLink!A1053","v":1050},-1,{"$f":"A1054","v":1051},{"$f":"AccVelDataLink!F1053","v":"SSPA-SXM-200-10-水平"},{"$f":"AccVelDataLink!G1053","v":50},"先頭","○"]
[1051,0,60000,{"$f":"AccVelDataLink!A1054","v":1051},{"$f":"A1053","v":1050},1052,null,{"$f":"AccVelDataLink!G1054","v":60},"○","○"]
[1052,0,72000,{"$f":"AccVelDataLink!A1055","v":1052},1051,1053,null,{"$f":"AccVelDataLink!G1055","v":72},"○","○"]
[1053,0,90000,{"$f":"AccVelDataLink!A1056","v":1053},1052,1054,null,{"$f":"AccVelDataLink!G1056","v":90},"○","○"]
[1054,0,103000,{"$f":"AccVelDataLink!A1057","v":1054},1053,1055,null,{"$f":"AccVelDataLink!G1057","v":103},"○","○"]
[1055,0,117000,{"$f":"AccVelDataLink!A1058","v":1055},1054,1056,null,{"$f":"AccVelDataLink!G1058","v":117},"○","○"]
[1056,0,135000,{"$f":"AccVelDataLink!A1059","v":1056},1055,-1,null,{"$f":"AccVelDataLink!G1059","v":135},"○","終端"]
[1057,0,7500,{"$f":"AccVelDataLink!A1060","v":1057},-1,{"$f":"A1061","v":1058},{"$f":"AccVelDataLink!F1060","v":"SSPA-SXM-200-20-水平"},{"$f":"AccVelDataLink!G1060","v":7.5},"先頭","○"]
[1058,0,8000,{"$f":"AccVelDataLink!A1061","v":1058},{"$f":"A1060","v":1057},1059,null,{"$f":"AccVelDataLink!G1061","v":8},"○","○"]
[1059,0,8500,{"$f":"AccVelDataLink!A1062","v":1059},1058,1060,null,{"$f":"AccVelDataLink!G1062","v":8.5},"○","○"]
[1060,0,9000,{"$f":"AccVelDataLink!A1063","v":1060},1059,1061,null,{"$f":"AccVelDataLink!G1063","v":9},"○","○"]
[1061,0,9500,{"$f":"AccVelDataLink!A1064","v":1061},1060,1062,null,{"$f":"AccVelDataLink!G1064","v":9.5},"○","○"]
[1062,0,10500,{"$f":"AccVelDataLink!A1065","v":1062},1061,1063,null,{"$f":"AccVelDataLink!G1065","v":10.5},"○","○"]
[1063,0,11500,{"$f":"AccVelDataLink!A1066","v":1063},1062,1064,null,{"$f":"AccVelDataLink!G1066","v":11.5},"○","○"]
[1064,0,12500,{"$f":"AccVelDataLink!A1067","v":1064},1063,1065,null,{"$f":"AccVelDataLink!G1067","v":12.5},"○","○"]
[1065,0,14000,{"$f":"AccVelDataLink!A1068","v":1065},1064,1066,null,{"$f":"AccVelDataLink!G1068","v":14},"○","○"]
[1066,0,15500,{"$f":"AccVelDataLink!A1069","v":1066},1065,1067,null,{"$f":"AccVelDataLink!G1069","v":15.5},"○","○"]
[1067,0,17000,{"$f":"AccVelDataLink!A1070","v":1067},1066,1068,null,{"$f":"AccVelDataLink!G1070","v":17},"○","○"]
[1068,0,19500,{"$f":"AccVelDataLink!A1071","v":1068},1067,1069,null,{"$f":"AccVelDataLink!G1071","v":19.5},"○","○"]
[1069,0,22500,{"$f":"AccVelDataLink!A1072","v":1069},1068,1070,null,{"$f":"AccVelDataLink!G1072","v":22.5},"○","○"]
[1070,0,26000,{"$f":"AccVelDataLink!A1073","v":1070},1069,1071,null,{"$f":"AccVelDataLink!G1073","v":26},"○","○"]
[1071,0,30000,{"$f":"AccVelDataLink!A1074","v":1071},1070,1072,null,{"$f":"AccVelDataLink!G1074","v":30},"○","○"]
[1072,0,36000,{"$f":"AccVelDataLink!A1075","v":1072},1071,1073,null,{"$f":"AccVelDataLink!G1075","v":36},"○","○"]
[1073,0,45000,{"$f":"AccVelDataLink!A1076","v":1073},1072,1074,null,{"$f":"AccVelDataLink!G1076","v":45},"○","○"]
[1074,0,52000,{"$f":"AccVelDataLink!A1077","v":1074},1073,1075,null,{"$f":"AccVelDataLink!G1077","v":52},"○","○"]
[1075,0,58500,{"$f":"AccVelDataLink!A1078","v":1075},1074,1076,null,{"$f":"AccVelDataLink!G1078","v":58.5},"○","○"]
[1076,0,67500,{"$f":"AccVelDataLink!A1079","v":1076},1075,-1,null,{"$f":"AccVelDataLink!G1079","v":67.5},"○","終端"]
[1077,0,4500,{"$f":"AccVelDataLink!A1080","v":1077},-1,{"$f":"A1081","v":1078},{"$f":"AccVelDataLink!F1080","v":"SSPA-SXM-200-30-水平"},{"$f":"AccVelDataLink!G1080","v":4.5},"先頭","○"]
[1078,0,5000,{"$f":"AccVelDataLink!A1081","v":1078},{"$f":"A1080","v":1077},1079,null,{"$f":"AccVelDataLink!G1081","v":5},"○","○"]
[1079,0,5500,{"$f":"AccVelDataLink!A1082","v":1079},1078,1080,null,{"$f":"AccVelDataLink!G1082","v":5.5},"○","○"]
[1080,0,6000,{"$f":"AccVelDataLink!A1083","v":1080},1079,1081,null,{"$f":"AccVelDataLink!G1083","v":6},"○","○"]
[1081,0,6500,{"$f":"AccVelDataLink!A1084","v":1081},1080,1082,null,{"$f":"AccVelDataLink!G1084","v":6.5},"○","○"]
[1082,0,7000,{"$f":"AccVelDataLink!A1085","v":1082},1081,1083,null,{"$f":"AccVelDataLink!G1085","v":7},"○","○"]
[1083,0,8000,{"$f":"AccVelDataLink!A1086","v":1083},1082,1084,null,{"$f":"AccVelDataLink!G1086","v":8},"○","○"]
[1084,0,9000,{"$f":"AccVelDataLink!A1087","v":1084},1083,1085,null,{"$f":"AccVelDataLink!G1087","v":9},"○","○"]
[1085,0,10000,{"$f":"AccVelDataLink!A1088","v":1085},1084,1086,null,{"$f":"AccVelDataLink!G1088","v":10},"○","○"]
[1086,0,11000,{"$f":"AccVelDataLink!A1089","v":1086},1085,1087,null,{"$f":"AccVelDataLink!G1089","v":11},"○","○"]
[1087,0,12000,{"$f":"AccVelDataLink!A1090","v":1087},1086,1088,null,{"$f":"AccVelDataLink!G1090","v":12},"○","○"]
[1088,0,13000,{"$f":"AccVelDataLink!A1091","v":1088},1087,1089,null,{"$f":"AccVelDataLink!G1091","v":13},"○","○"]
[{"$f":"A1091+1","v":1089},0,{"$f":"H1092*$H$1","v":15000},{"$f":"AccVelDataLink!A1092","v":1089},1088,1090,null,{"$f":"AccVelDataLink!G1092","v":15},{"$f":"IF(E1092=A1091,\"○\",IF(G1092=0,\"つなぎまちがい\",\"先頭\"))","v":"○"},{"$f":"IF(F1092=A1093,\"○\",IF(F1092<>E1093,\"つなぎまちがい\",\"終端\"))","v":"○"}]
[1090,0,17000,{"$f":"AccVelDataLink!A1093","v":1090},1089,1091,null,{"$f":"AccVelDataLink!G1093","v":17},"○","○"]
[1091,0,20000,{"$f":"AccVelDataLink!A1094","v":1091},1090,1092,null,{"$f":"AccVelDataLink!G1094","v":20},"○","○"]
[1092,0,24000,{"$f":"AccVelDataLink!A1095","v":1092},1091,1093,null,{"$f":"AccVelDataLink!G1095","v":24},"○","○"]
[1093,0,30000,{"$f":"AccVelDataLink!A1096","v":1093},1092,1094,null,{"$f":"AccVelDataLink!G1096","v":30},"○","○"]
[1094,0,34500,{"$f":"AccVelDataLink!A1097","v":1094},1093,1095,null,{"$f":"AccVelDataLink!G1097","v":34.5},"○","○"]
[1095,0,39000,{"$f":"AccVelDataLink!A1098","v":1095},1094,1096,null,{"$f":"AccVelDataLink!G1098","v":39},"○","○"]
[1096,0,45000,{"$f":"AccVelDataLink!A1099","v":1096},1095,-1,null,{"$f":"AccVelDataLink!G1099","v":45},"○","終端"]
[1097,0,70000,{"$f":"AccVelDataLink!A1100","v":1097},-1,{"$f":"A1101","v":1098},{"$f":"AccVelDataLink!F1100","v":"SSPA-MXM-400-10-水平"},{"$f":"AccVelDataLink!G1100","v":70},"先頭","○"]
[1098,0,80000,{"$f":"AccVelDataLink!A1101","v":1098},{"$f":"A1100","v":1097},1099,null,{"$f":"AccVelDataLink!G1101","v":80},"○","○"]
[1099,0,96000,{"$f":"AccVelDataLink!A1102","v":1099},1098,1100,null,{"$f":"AccVelDataLink!G1102","v":96},"○","○"]
[1100,0,120000,{"$f":"AccVelDataLink!A1103","v":1100},1099,1101,null,{"$f":"AccVelDataLink!G1103","v":120},"○","○"]
[1101,0,138000,{"$f":"AccVelDataLink!A1104","v":1101},1100,1102,null,{"$f":"AccVelDataLink!G1104","v":138},"○","○"]
[1102,0,156000,{"$f":"AccVelDataLink!A1105","v":1102},1101,1103,null,{"$f":"AccVelDataLink!G1105","v":156},"○","○"]
[1103,0,180000,{"$f":"AccVelDataLink!A1106","v":1103},1102,-1,null,{"$f":"AccVelDataLink!G1106","v":180},"○","終端"]
[1104,0,12000,{"$f":"AccVelDataLink!A1107","v":1104},-1,{"$f":"A1108","v":1105},{"$f":"AccVelDataLink!F1107","v":"SSPA-MXM-400-20-水平"},{"$f":"AccVelDataLink!G1107","v":12},"先頭","○"]
[1105,0,13000,{"$f":"AccVelDataLink!A1108","v":1105},{"$f":"A1107","v":1104},1106,null,{"$f":"AccVelDataLink!G1108","v":13},"○","○"]
[1106,0,14000,{"$f":"AccVelDataLink!A1109","v":1106},1105,1107,null,{"$f":"AccVelDataLink!G1109","v":14},"○","○"]
[1107,0,15000,{"$f":"AccVelDataLink!A1110","v":1107},1106,1108,null,{"$f":"AccVelDataLink!G1110","v":15},"○","○"]
[1108,0,16000,{"$f":"AccVelDataLink!A1111","v":1108},1107,1109,null,{"$f":"AccVelDataLink!G1111","v":16},"○","○"]
[1109,0,18000,{"$f":"AccVelDataLink!A1112","v":1109},1108,1110,null,{"$f":"AccVelDataLink!G1112","v":18},"○","○"]
[1110,0,20000,{"$f":"AccVelDataLink!A1113","v":1110},1109,1111,null,{"$f":"AccVelDataLink!G1113","v":20},"○","○"]
[1111,0,23000,{"$f":"AccVelDataLink!A1114","v":1111},1110,1112,null,{"$f":"AccVelDataLink!G1114","v":23},"○","○"]
[1112,0,26000,{"$f":"AccVelDataLink!A1115","v":1112},1111,1113,null,{"$f":"AccVelDataLink!G1115","v":26},"○","○"]
[1113,0,30000,{"$f":"AccVelDataLink!A1116","v":1113},1112,1114,null,{"$f":"AccVelDataLink!G1116","v":30},"○","○"]
[1114,0,34000,{"$f":"AccVelDataLink!A1117","v":1114},1113,1115,null,{"$f":"AccVelDataLink!G1117","v":34},"○","○"]
[1115,0,39000,{"$f":"AccVelDataLink!A1118","v":1115},1114,1116,null,{"$f":"AccVelDataLink!G1118","v":39},"○","○"]
[1116,0,45000,{"$f":"AccVelDataLink!A1119","v":1116},1115,1117,null,{"$f":"AccVelDataLink!G1119","v":45},"○","○"]
[1117,0,51000,{"$f":"AccVelDataLink!A1120","v":1117},1116,1118,null,{"$f":"AccVelDataLink!G1120","v":51},"○","○"]
[1118,0,60000,{"$f":"AccVelDataLink!A1121","v":1118},1117,1119,null,{"$f":"AccVelDataLink!G1121","v":60},"○","○"]
[1119,0,72000,{"$f":"AccVelDataLink!A1122","v":1119},1118,1120,null,{"$f":"AccVelDataLink!G1122","v":72},"○","○"]
[1120,0,90000,{"$f":"AccVelDataLink!A1123","v":1120},1119,1121,null,{"$f":"AccVelDataLink!G1123","v":90},"○","○"]
[1121,0,103500,{"$f":"AccVelDataLink!A1124","v":1121},1120,1122,null,{"$f":"AccVelDataLink!G1124","v":103.5},"○","○"]
[1122,0,117000,{"$f":"AccVelDataLink!A1125","v":1122},1121,1123,null,{"$f":"AccVelDataLink!G1125","v":117},"○","○"]
[1123,0,135000,{"$f":"AccVelDataLink!A1126","v":1123},1122,-1,null,{"$f":"AccVelDataLink!G1126","v":135},"○","終端"]
[1124,0,5500,{"$f":"AccVelDataLink!A1127","v":1124},-1,{"$f":"A1128","v":1125},{"$f":"AccVelDataLink!F1127","v":"SSPA-MXM-400-40-水平"},{"$f":"AccVelDataLink!G1127","v":5.5},"先頭","○"]
[1125,0,6000,{"$f":"AccVelDataLink!A1128","v":1125},{"$f":"A1127","v":1124},1126,null,{"$f":"AccVelDataLink!G1128","v":6},"○","○"]
[1126,0,6500,{"$f":"AccVelDataLink!A1129","v":1126},1125,1127,null,{"$f":"AccVelDataLink!G1129","v":6.5},"○","○"]
[1127,0,7000,{"$f":"AccVelDataLink!A1130","v":1127},1126,1128,null,{"$f":"AccVelDataLink!G1130","v":7},"○","○"]
[1128,0,8000,{"$f":"AccVelDataLink!A1131","v":1128},1127,1129,null,{"$f":"AccVelDataLink!G1131","v":8},"○","○"]
[1129,0,9000,{"$f":"AccVelDataLink!A1132","v":1129},1128,1130,null,{"$f":"AccVelDataLink!G1132","v":9},"○","○"]
[1130,0,10000,{"$f":"AccVelDataLink!A1133","v":1130},1129,1131,null,{"$f":"AccVelDataLink!G1133","v":10},"○","○"]
[1131,0,11500,{"$f":"AccVelDataLink!A1134","v":1131},1130,1132,null,{"$f":"AccVelDataLink!G1134","v":11.5},"○","○"]
[1132,0,13500,{"$f":"AccVelDataLink!A1135","v":1132},1131,1133,null,{"$f":"AccVelDataLink!G1135","v":13.5},"○","○"]
[1133,0,15000,{"$f":"AccVelDataLink!A1136","v":1133},1132,1134,null,{"$f":"AccVelDataLink!G1136","v":15},"○","○"]
[1134,0,17000,{"$f":"AccVelDataLink!A1137","v":1134},1133,1135,null,{"$f":"AccVelDataLink!G1137","v":17},"○","○"]
[1135,0,19500,{"$f":"AccVelDataLink!A1138","v":1135},1134,1136,null,{"$f":"AccVelDataLink!G1138","v":19.5},"○","○"]
[1136,0,22500,{"$f":"AccVelDataLink!A1139","v":1136},1135,1137,null,{"$f":"AccVelDataLink!G1139","v":22.5},"○","○"]
[1137,0,25500,{"$f":"AccVelDataLink!A1140","v":1137},1136,1138,null,{"$f":"AccVelDataLink!G1140","v":25.5},"○","○"]
[1138,0,30000,{"$f":"AccVelDataLink!A1141","v":1138},1137,1139,null,{"$f":"AccVelDataLink!G1141","v":30},"○","○"]
[1139,0,36000,{"$f":"AccVelDataLink!A1142","v":1139},1138,1140,null,{"$f":"AccVelDataLink!G1142","v":36},"○","○"]
[1140,0,45000,{"$f":"AccVelDataLink!A1143","v":1140},1139,1141,null,{"$f":"AccVelDataLink!G1143","v":45},"○","○"]
[1141,0,52000,{"$f":"AccVelDataLink!A1144","v":1141},1140,1142,null,{"$f":"AccVelDataLink!G1144","v":52},"○","○"]
[1142,0,58500,{"$f":"AccVelDataLink!A1145","v":1142},1141,1143,null,{"$f":"AccVelDataLink!G1145","v":58.5},"○","○"]
[1143,0,67500,{"$f":"AccVelDataLink!A1146","v":1143},1142,-1,null,{"$f":"AccVelDataLink!G1146","v":67.5},"○","終端"]
[1144,0,15000,{"$f":"AccVelDataLink!A1147","v":1144},-1,{"$f":"A1148","v":1145},{"$f":"AccVelDataLink!F1147","v":"SSPA-LXM-750-25-水平"},{"$f":"AccVelDataLink!G1147","v":15},"先頭","○"]
[1145,0,17000,{"$f":"AccVelDataLink!A1148","v":1145},{"$f":"A1147","v":1144},1146,null,{"$f":"AccVelDataLink!G1148","v":17},"○","○"]
[1146,0,19000,{"$f":"AccVelDataLink!A1149","v":1146},1145,1147,null,{"$f":"AccVelDataLink!G1149","v":19},"○","○"]
[1147,0,22000,{"$f":"AccVelDataLink!A1150","v":1147},1146,1148,null,{"$f":"AccVelDataLink!G1150","v":22},"○","○"]
[1148,0,25000,{"$f":"AccVelDataLink!A1151","v":1148},1147,1149,null,{"$f":"AccVelDataLink!G1151","v":25},"○","○"]
[1149,0,28000,{"$f":"AccVelDataLink!A1152","v":1149},1148,1150,null,{"$f":"AccVelDataLink!G1152","v":28},"○","○"]
[1150,0,32000,{"$f":"AccVelDataLink!A1153","v":1150},1149,1151,null,{"$f":"AccVelDataLink!G1153","v":32},"○","○"]
[1151,0,36000,{"$f":"AccVelDataLink!A1154","v":1151},1150,1152,null,{"$f":"AccVelDataLink!G1154","v":36},"○","○"]
[1152,0,40000,{"$f":"AccVelDataLink!A1155","v":1152},1151,1153,null,{"$f":"AccVelDataLink!G1155","v":40},"○","○"]
[{"$f":"A1155+1","v":1153},0,{"$f":"H1156*$H$1","v":44000},{"$f":"AccVelDataLink!A1156","v":1153},1152,1154,null,{"$f":"AccVelDataLink!G1156","v":44},{"$f":"IF(E1156=A1155,\"○\",IF(G1156=0,\"つなぎまちがい\",\"先頭\"))","v":"○"},{"$f":"IF(F1156=A1157,\"○\",IF(F1156<>E1157,\"つなぎまちがい\",\"終端\"))","v":"○"}]
[1154,0,48000,{"$f":"AccVelDataLink!A1157","v":1154},1153,1155,null,{"$f":"AccVelDataLink!G1157","v":48},"○","○"]
[1155,0,53000,{"$f":"AccVelDataLink!A1158","v":1155},1154,1156,null,{"$f":"AccVelDataLink!G1158","v":53},"○","○"]
[1156,0,60000,{"$f":"AccVelDataLink!A1159","v":1156},1155,1157,null,{"$f":"AccVelDataLink!G1159","v":60},"○","○"]
[1157,0,69000,{"$f":"AccVelDataLink!A1160","v":1157},1156,1158,null,{"$f":"AccVelDataLink!G1160","v":69},"○","○"]
[1158,0,80000,{"$f":"AccVelDataLink!A1161","v":1158},1157,1159,null,{"$f":"AccVelDataLink!G1161","v":80},"○","○"]
[1159,0,96000,{"$f":"AccVelDataLink!A1162","v":1159},1158,1160,null,{"$f":"AccVelDataLink!G1162","v":96},"○","○"]
[1160,0,120000,{"$f":"AccVelDataLink!A1163","v":1160},1159,1161,null,{"$f":"AccVelDataLink!G1163","v":120},"○","○"]
[1161,0,138000,{"$f":"AccVelDataLink!A1164","v":1161},1160,1162,null,{"$f":"AccVelDataLink!G1164","v":138},"○","○"]
[1162,0,156000,{"$f":"AccVelDataLink!A1165","v":1162},1161,1163,null,{"$f":"AccVelDataLink!G1165","v":156},"○","○"]
[1163,0,180000,{"$f":"AccVelDataLink!A1166","v":1163},1162,-1,null,{"$f":"AccVelDataLink!G1166","v":180},"○","終端"]
[1164,0,8000,{"$f":"AccVelDataLink!A1167","v":1164},-1,{"$f":"A1168","v":1165},{"$f":"AccVelDataLink!F1167","v":"SSPA-LXM-750-50-水平"},{"$f":"AccVelDataLink!G1167","v":8},"先頭","○"]
[1165,0,9000,{"$f":"AccVelDataLink!A1168","v":1165},{"$f":"A1167","v":1164},1166,null,{"$f":"AccVelDataLink!G1168","v":9},"○","○"]
[1166,0,10000,{"$f":"AccVelDataLink!A1169","v":1166},1165,1167,null,{"$f":"AccVelDataLink!G1169","v":10},"○","○"]
[1167,0,11000,{"$f":"AccVelDataLink!A1170","v":1167},1166,1168,null,{"$f":"AccVelDataLink!G1170","v":11},"○","○"]
[1168,0,12000,{"$f":"AccVelDataLink!A1171","v":1168},1167,1169,null,{"$f":"AccVelDataLink!G1171","v":12},"○","○"]
[1169,0,14000,{"$f":"AccVelDataLink!A1172","v":1169},1168,1170,null,{"$f":"AccVelDataLink!G1172","v":14},"○","○"]
[1170,0,16000,{"$f":"AccVelDataLink!A1173","v":1170},1169,1171,null,{"$f":"AccVelDataLink!G1173","v":16},"○","○"]
[1171,0,18000,{"$f":"AccVelDataLink!A1174","v":1171},1170,1172,null,{"$f":"AccVelDataLink!G1174","v":18},"○","○"]
[1172,0,20000,{"$f":"AccVelDataLink!A1175","v":1172},1171,1173,null,{"$f":"AccVelDataLink!G1175","v":20},"○","○"]
[1173,0,22000,{"$f":"AccVelDataLink!A1176","v":1173},1172,1174,null,{"$f":"AccVelDataLink!G1176","v":22},"○","○"]
[1174,0,24000,{"$f":"AccVelDataLink!A1177","v":1174},1173,1175,null,{"$f":"AccVelDataLink!G1177","v":24},"○","○"]
[1175,0,27000,{"$f":"AccVelDataLink!A1178","v":1175},1174,1176,null,{"$f":"AccVelDataLink!G1178","v":27},"○","○"]
[1176,0,30000,{"$f":"AccVelDataLink!A1179","v":1176},1175,1177,null,{"$f":"AccVelDataLink!G1179","v":30},"○","○"]
[1177,0,34000,{"$f":"AccVelDataLink!A1180","v":1177},1176,1178,null,{"$f":"AccVelDataLink!G1180","v":34},"○","○"]
[1178,0,40000,{"$f":"AccVelDataLink!A1181","v":1178},1177,1179,null,{"$f":"AccVelDataLink!G1181","v":40},"○","○"]
[1179,0,48000,{"$f":"AccVelDataLink!A1182","v":1179},1178,1180,null,{"$f":"AccVelDataLink!G1182","v":48},"○","○"]
[1180,0,60000,{"$f":"AccVelDataLink!A1183","v":1180},1179,1181,null,{"$f":"AccVelDataLink!G1183","v":60},"○","○"]
[1181,0,69000,{"$f":"AccVelDataLink!A1184","v":1181},1180,1182,null,{"$f":"AccVelDataLink!G1184","v":69},"○","○"]
[1182,0,78000,{"$f":"AccVelDataLink!A1185","v":1182},1181,1183,null,{"$f":"AccVelDataLink!G1185","v":78},"○","○"]
[1183,0,90000,{"$f":"AccVelDataLink!A1186","v":1183},1182,-1,null,{"$f":"AccVelDataLink!G1186","v":90},"○","終端"]
[1184,0,50000,{"$f":"AccVelDataLink!A1187","v":1184},-1,{"$f":"A1188","v":1185},{"$f":"AccVelDataLink!F1187","v":"SSPDACR-S-200-10-水平"},{"$f":"AccVelDataLink!G1187","v":50},"先頭","○"]
[1185,0,60000,{"$f":"AccVelDataLink!A1188","v":1185},{"$f":"A1187","v":1184},1186,null,{"$f":"AccVelDataLink!G1188","v":60},"○","○"]
[1186,0,72000,{"$f":"AccVelDataLink!A1189","v":1186},1185,1187,null,{"$f":"AccVelDataLink!G1189","v":72},"○","○"]
[1187,0,90000,{"$f":"AccVelDataLink!A1190","v":1187},1186,1188,null,{"$f":"AccVelDataLink!G1190","v":90},"○","○"]
[1188,0,99000,{"$f":"AccVelDataLink!A1191","v":1188},1187,1189,null,{"$f":"AccVelDataLink!G1191","v":99},"○","○"]
[1189,0,108000,{"$f":"AccVelDataLink!A1192","v":1189},1188,1190,null,{"$f":"AccVelDataLink!G1192","v":108},"○","○"]
[1190,0,117000,{"$f":"AccVelDataLink!A1193","v":1190},1189,-1,null,{"$f":"AccVelDataLink!G1193","v":117},"○","終端"]
[1191,0,17000,{"$f":"AccVelDataLink!A1194","v":1191},-1,{"$f":"A1195","v":1192},{"$f":"AccVelDataLink!F1194","v":"SSPDACR-S-200-20-水平"},{"$f":"AccVelDataLink!G1194","v":17},"先頭","○"]
[1192,0,19500,{"$f":"AccVelDataLink!A1195","v":1192},{"$f":"A1194","v":1191},1193,null,{"$f":"AccVelDataLink!G1195","v":19.5},"○","○"]
[1193,0,22500,{"$f":"AccVelDataLink!A1196","v":1193},1192,1194,null,{"$f":"AccVelDataLink!G1196","v":22.5},"○","○"]
[1194,0,26000,{"$f":"AccVelDataLink!A1197","v":1194},1193,1195,null,{"$f":"AccVelDataLink!G1197","v":26},"○","○"]
[1195,0,30000,{"$f":"AccVelDataLink!A1198","v":1195},1194,1196,null,{"$f":"AccVelDataLink!G1198","v":30},"○","○"]
[1196,0,36000,{"$f":"AccVelDataLink!A1199","v":1196},1195,1197,null,{"$f":"AccVelDataLink!G1199","v":36},"○","○"]
[1197,0,45000,{"$f":"AccVelDataLink!A1200","v":1197},1196,1198,null,{"$f":"AccVelDataLink!G1200","v":45},"○","○"]
[1198,0,49500,{"$f":"AccVelDataLink!A1201","v":1198},1197,1199,null,{"$f":"AccVelDataLink!G1201","v":49.5},"○","○"]
[1199,0,54000,{"$f":"AccVelDataLink!A1202","v":1199},1198,1200,null,{"$f":"AccVelDataLink!G1202","v":54},"○","○"]
[1200,0,58500,{"$f":"AccVelDataLink!A1203","v":1200},1199,-1,null,{"$f":"AccVelDataLink!G1203","v":58.5},"○","終端"]
[1201,0,10000,{"$f":"AccVelDataLink!A1204","v":1201},-1,{"$f":"A1205","v":1202},{"$f":"AccVelDataLink!F1204","v":"SSPDACR-S-200-30-水平"},{"$f":"AccVelDataLink!G1204","v":10},"先頭","○"]
[1202,0,11000,{"$f":"AccVelDataLink!A1205","v":1202},{"$f":"A1204","v":1201},1203,null,{"$f":"AccVelDataLink!G1205","v":11},"○","○"]
[1203,0,12000,{"$f":"AccVelDataLink!A1206","v":1203},1202,1204,null,{"$f":"AccVelDataLink!G1206","v":12},"○","○"]
[1204,0,13000,{"$f":"AccVelDataLink!A1207","v":1204},1203,1205,null,{"$f":"AccVelDataLink!G1207","v":13},"○","○"]
[1205,0,15000,{"$f":"AccVelDataLink!A1208","v":1205},1204,1206,null,{"$f":"AccVelDataLink!G1208","v":15},"○","○"]
[1206,0,17000,{"$f":"AccVelDataLink!A1209","v":1206},1205,1207,null,{"$f":"AccVelDataLink!G1209","v":17},"○","○"]
[1207,0,20000,{"$f":"AccVelDataLink!A1210","v":1207},1206,1208,null,{"$f":"AccVelDataLink!G1210","v":20},"○","○"]
[1208,0,24000,{"$f":"AccVelDataLink!A1211","v":1208},1207,1209,null,{"$f":"AccVelDataLink!G1211","v":24},"○","○"]
[1209,0,30000,{"$f":"AccVelDataLink!A1212","v":1209},1208,1210,null,{"$f":"AccVelDataLink!G1212","v":30},"○","○"]
[1210,0,33000,{"$f":"AccVelDataLink!A1213","v":1210},1209,1211,null,{"$f":"AccVelDataLink!G1213","v":33},"○","○"]
[1211,0,36000,{"$f":"AccVelDataLink!A1214","v":1211},1210,1212,null,{"$f":"AccVelDataLink!G1214","v":36},"○","○"]
[1212,0,39000,{"$f":"AccVelDataLink!A1215","v":1212},1211,-1,null,{"$f":"AccVelDataLink!G1215","v":39},"○","終端"]
[1213,0,70000,{"$f":"AccVelDataLink!A1216","v":1213},-1,{"$f":"A1217","v":1214},{"$f":"AccVelDataLink!F1216","v":"SSPDACR-M-400-10-水平"},{"$f":"AccVelDataLink!G1216","v":70},"先頭","○"]
[1214,0,80000,{"$f":"AccVelDataLink!A1217","v":1214},{"$f":"A1216","v":1213},1215,null,{"$f":"AccVelDataLink!G1217","v":80},"○","○"]
[1215,0,96000,{"$f":"AccVelDataLink!A1218","v":1215},1214,1216,null,{"$f":"AccVelDataLink!G1218","v":96},"○","○"]
[1216,0,120000,{"$f":"AccVelDataLink!A1219","v":1216},1215,1217,null,{"$f":"AccVelDataLink!G1219","v":120},"○","○"]
[{"$f":"A1219+1","v":1217},0,{"$f":"H1220*$H$1","v":132000},{"$f":"AccVelDataLink!A1220","v":1217},1216,1218,null,{"$f":"AccVelDataLink!G1220","v":132},{"$f":"IF(E1220=A1219,\"○\",IF(G1220=0,\"つなぎまちがい\",\"先頭\"))","v":"○"},{"$f":"IF(F1220=A1221,\"○\",IF(F1220<>E1221,\"つなぎまちがい\",\"終端\"))","v":"○"}]
[1218,0,144000,{"$f":"AccVelDataLink!A1221","v":1218},1217,1219,null,{"$f":"AccVelDataLink!G1221","v":144},"○","○"]
[1219,0,156000,{"$f":"AccVelDataLink!A1222","v":1219},1218,-1,null,{"$f":"AccVelDataLink!G1222","v":156},"○","終端"]
[1220,0,34000,{"$f":"AccVelDataLink!A1223","v":1220},-1,{"$f":"A1224","v":1221},{"$f":"AccVelDataLink!F1223","v":"SSPDACR-M-400-20-水平"},{"$f":"AccVelDataLink!G1223","v":34},"先頭","○"]
[1221,0,39000,{"$f":"AccVelDataLink!A1224","v":1221},{"$f":"A1223","v":1220},1222,null,{"$f":"AccVelDataLink!G1224","v":39},"○","○"]
[1222,0,45000,{"$f":"AccVelDataLink!A1225","v":1222},1221,1223,null,{"$f":"AccVelDataLink!G1225","v":45},"○","○"]
[1223,0,51000,{"$f":"AccVelDataLink!A1226","v":1223},1222,1224,null,{"$f":"AccVelDataLink!G1226","v":51},"○","○"]
[1224,0,60000,{"$f":"AccVelDataLink!A1227","v":1224},1223,1225,null,{"$f":"AccVelDataLink!G1227","v":60},"○","○"]
[1225,0,72000,{"$f":"AccVelDataLink!A1228","v":1225},1224,1226,null,{"$f":"AccVelDataLink!G1228","v":72},"○","○"]
[1226,0,90000,{"$f":"AccVelDataLink!A1229","v":1226},1225,1227,null,{"$f":"AccVelDataLink!G1229","v":90},"○","○"]
[1227,0,99000,{"$f":"AccVelDataLink!A1230","v":1227},1226,1228,null,{"$f":"AccVelDataLink!G1230","v":99},"○","○"]
[1228,0,108000,{"$f":"AccVelDataLink!A1231","v":1228},1227,1229,null,{"$f":"AccVelDataLink!G1231","v":108},"○","○"]
[1229,0,117000,{"$f":"AccVelDataLink!A1232","v":1229},1228,-1,null,{"$f":"AccVelDataLink!G1232","v":117},"○","終端"]
[1230,0,13500,{"$f":"AccVelDataLink!A1233","v":1230},-1,{"$f":"A1234","v":1231},{"$f":"AccVelDataLink!F1233","v":"SSPDACR-M-400-40-水平"},{"$f":"AccVelDataLink!G1233","v":13.5},"先頭","○"]
[1231,0,15000,{"$f":"AccVelDataLink!A1234","v":1231},{"$f":"A1233","v":1230},1232,null,{"$f":"AccVelDataLink!G1234","v":15},"○","○"]
[1232,0,17000,{"$f":"AccVelDataLink!A1235","v":1232},1231,1233,null,{"$f":"AccVelDataLink!G1235","v":17},"○","○"]
[1233,0,19500,{"$f":"AccVelDataLink!A1236","v":1233},1232,1234,null,{"$f":"AccVelDataLink!G1236","v":19.5},"○","○"]
[1234,0,22500,{"$f":"AccVelDataLink!A1237","v":1234},1233,1235,null,{"$f":"AccVelDataLink!G1237","v":22.5},"○","○"]
[1235,0,25500,{"$f":"AccVelDataLink!A1238","v":1235},1234,1236,null,{"$f":"AccVelDataLink!G1238","v":25.5},"○","○"]
[1236,0,30000,{"$f":"AccVelDataLink!A1239","v":1236},1235,1237,null,{"$f":"AccVelDataLink!G1239","v":30},"○","○"]
[1237,0,36000,{"$f":"AccVelDataLink!A1240","v":1237},1236,1238,null,{"$f":"AccVelDataLink!G1240","v":36},"○","○"]
[1238,0,45000,{"$f":"AccVelDataLink!A1241","v":1238},1237,1239,null,{"$f":"AccVelDataLink!G1241","v":45},"○","○"]
[1239,0,49500,{"$f":"AccVelDataLink!A1242","v":1239},1238,1240,null,{"$f":"AccVelDataLink!G1242","v":49.5},"○","○"]
[1240,0,54000,{"$f":"AccVelDataLink!A1243","v":1240},1239,1241,null,{"$f":"AccVelDataLink!G1243","v":54},"○","○"]
[1241,0,58500,{"$f":"AccVelDataLink!A1244","v":1241},1240,-1,null,{"$f":"AccVelDataLink!G1244","v":58.5},"○","終端"]
[1242,0,40000,{"$f":"AccVelDataLink!A1245","v":1242},-1,{"$f":"A1246","v":1243},{"$f":"AccVelDataLink!F1245","v":"SSPDACR-L-750-25-水平"},{"$f":"AccVelDataLink!G1245","v":40},"先頭","○"]
[1243,0,44000,{"$f":"AccVelDataLink!A1246","v":1243},{"$f":"A1245","v":1242},1244,null,{"$f":"AccVelDataLink!G1246","v":44},"○","○"]
[1244,0,48000,{"$f":"AccVelDataLink!A1247","v":1244},1243,1245,null,{"$f":"AccVelDataLink!G1247","v":48},"○","○"]
[1245,0,53000,{"$f":"AccVelDataLink!A1248","v":1245},1244,1246,null,{"$f":"AccVelDataLink!G1248","v":53},"○","○"]
[1246,0,60000,{"$f":"AccVelDataLink!A1249","v":1246},1245,1247,null,{"$f":"AccVelDataLink!G1249","v":60},"○","○"]
[1247,0,69000,{"$f":"AccVelDataLink!A1250","v":1247},1246,1248,null,{"$f":"AccVelDataLink!G1250","v":69},"○","○"]
[1248,0,80000,{"$f":"AccVelDataLink!A1251","v":1248},1247,1249,null,{"$f":"AccVelDataLink!G1251","v":80},"○","○"]
[1249,0,96000,{"$f":"AccVelDataLink!A1252","v":1249},1248,1250,null,{"$f":"AccVelDataLink!G1252","v":96},"○","○"]
[1250,0,120000,{"$f":"AccVelDataLink!A1253","v":1250},1249,1251,null,{"$f":"AccVelDataLink!G1253","v":120},"○","○"]
[1251,0,132000,{"$f":"AccVelDataLink!A1254","v":1251},1250,1252,null,{"$f":"AccVelDataLink!G1254","v":132},"○","○"]
[1252,0,144000,{"$f":"AccVelDataLink!A1255","v":1252},1251,1253,null,{"$f":"AccVelDataLink!G1255","v":144},"○","○"]
[1253,0,156000,{"$f":"AccVelDataLink!A1256","v":1253},1252,-1,null,{"$f":"AccVelDataLink!G1256","v":156},"○","終端"]
[1254,0,20000,{"$f":"AccVelDataLink!A1257","v":1254},-1,{"$f":"A1258","v":1255},{"$f":"AccVelDataLink!F1257","v":"SSPDACR-L-750-50-水平"},{"$f":"AccVelDataLink!G1257","v":20},"先頭","○"]
[1255,0,22000,{"$f":"AccVelDataLink!A1258","v":1255},{"$f":"A1257","v":1254},1256,null,{"$f":"AccVelDataLink!G1258","v":22},"○","○"]
[1256,0,24000,{"$f":"AccVelDataLink!A1259","v":1256},1255,1257,null,{"$f":"AccVelDataLink!G1259","v":24},"○","○"]
[1257,0,27000,{"$f":"AccVelDataLink!A1260","v":1257},1256,1258,null,{"$f":"AccVelDataLink!G1260","v":27},"○","○"]
[1258,0,30000,{"$f":"AccVelDataLink!A1261","v":1258},1257,1259,null,{"$f":"AccVelDataLink!G1261","v":30},"○","○"]
[1259,0,34000,{"$f":"AccVelDataLink!A1262","v":1259},1258,1260,null,{"$f":"AccVelDataLink!G1262","v":34},"○","○"]
[1260,0,40000,{"$f":"AccVelDataLink!A1263","v":1260},1259,1261,null,{"$f":"AccVelDataLink!G1263","v":40},"○","○"]
[1261,0,48000,{"$f":"AccVelDataLink!A1264","v":1261},1260,1262,null,{"$f":"AccVelDataLink!G1264","v":48},"○","○"]
[1262,0,60000,{"$f":"AccVelDataLink!A1265","v":1262},1261,1263,null,{"$f":"AccVelDataLink!G1265","v":60},"○","○"]
[1263,0,66000,{"$f":"AccVelDataLink!A1266","v":1263},1262,1264,null,{"$f":"AccVelDataLink!G1266","v":66},"○","○"]
[1264,0,72000,{"$f":"AccVelDataLink!A1267","v":1264},1263,1265,null,{"$f":"AccVelDataLink!G1267","v":72},"○","○"]
[1265,0,78000,{"$f":"AccVelDataLink!A1268","v":1265},1264,-1,null,{"$f":"AccVelDataLink!G1268","v":78},"○","終端"]
[1266,0,65000,{"$f":"AccVelDataLink!A1269","v":1266},-1,{"$f":"A1270","v":1267},{"$f":"AccVelDataLink!F1269","v":"RCS3-SA8C-100-5-水平"},{"$f":"AccVelDataLink!G1269","v":65},"先頭","○"]
[1267,0,80000,{"$f":"AccVelDataLink!A1270","v":1267},{"$f":"A1269","v":1266},{"$f":"A1271","v":1268},null,{"$f":"AccVelDataLink!G1270","v":80},"○","○"]
[1268,0,120000,{"$f":"AccVelDataLink!A1271","v":1268},{"$f":"A1270","v":1267},{"$f":"A1272","v":1269},null,{"$f":"AccVelDataLink!G1271","v":120},"○","○"]
[1269,1,12000,{"$f":"AccVelDataLink!A1272","v":1269},{"$f":"A1271","v":1268},{"$f":"A1273","v":1270},{"$f":"AccVelDataLink!F1272","v":"RCS3-SA8C-100-5-垂直"},{"$f":"AccVelDataLink!G1272","v":12},"○","○"]
[1270,1,16000,{"$f":"AccVelDataLink!A1273","v":1270},{"$f":"A1272","v":1269},-1,null,{"$f":"AccVelDataLink!G1273","v":16},"○","終端"]
[1271,0,8000,{"$f":"AccVelDataLink!A1274","v":1271},-1,{"$f":"A1275","v":1272},{"$f":"AccVelDataLink!F1274","v":"RCS3-SA8C-100-10-水平"},{"$f":"AccVelDataLink!G1274","v":8},"先頭","○"]
[1272,0,13000,{"$f":"AccVelDataLink!A1275","v":1272},{"$f":"A1274","v":1271},1273,null,{"$f":"AccVelDataLink!G1275","v":13},"○","○"]
[1273,0,20000,{"$f":"AccVelDataLink!A1276","v":1273},1272,1274,null,{"$f":"AccVelDataLink!G1276","v":20},"○","○"]
[1274,0,28000,{"$f":"AccVelDataLink!A1277","v":1274},1273,1275,null,{"$f":"AccVelDataLink!G1277","v":28},"○","○"]
[1275,0,40000,{"$f":"AccVelDataLink!A1278","v":1275},1274,1276,null,{"$f":"AccVelDataLink!G1278","v":40},"○","○"]
[1276,0,48000,{"$f":"AccVelDataLink!A1279","v":1276},1275,1277,null,{"$f":"AccVelDataLink!G1279","v":48},"○","○"]
[1277,0,60000,{"$f":"AccVelDataLink!A1280","v":1277},1276,1278,null,{"$f":"AccVelDataLink!G1280","v":60},"○","○"]
[1278,1,2500,{"$f":"AccVelDataLink!A1281","v":1278},1277,1279,{"$f":"AccVelDataLink!F1281","v":"RCS3-SA8C-100-10-垂直"},{"$f":"AccVelDataLink!G1281","v":2.5},"○","○"]
[1279,1,3000,{"$f":"AccVelDataLink!A1282","v":1279},1278,1280,null,{"$f":"AccVelDataLink!G1282","v":3},"○","○"]
[1280,1,4000,{"$f":"AccVelDataLink!A1283","v":1280},1279,1281,null,{"$f":"AccVelDataLink!G1283","v":4},"○","○"]
[{"$f":"A1283+1","v":1281},1,{"$f":"H1284*$H$1","v":5500},{"$f":"AccVelDataLink!A1284","v":1281},1280,1282,null,{"$f":"AccVelDataLink!G1284","v":5.5},{"$f":"IF(E1284=A1283,\"○\",IF(G1284=0,\"つなぎまちがい\",\"先頭\"))","v":"○"},{"$f":"IF(F1284=A1285,\"○\",IF(F1284<>E1285,\"つなぎまちがい\",\"終端\"))","v":"○"}]
[1282,1,8000,{"$f":"AccVelDataLink!A1285","v":1282},1281,-1,null,{"$f":"AccVelDataLink!G1285","v":8},"○","終端"]
[1283,0,1500,{"$f":"AccVelDataLink!A1286","v":1283},-1,{"$f":"A1287","v":1284},{"$f":"AccVelDataLink!F1286","v":"RCS3-SA8C-100-20-水平"},{"$f":"AccVelDataLink!G1286","v":1.5},"先頭","○"]
[1284,0,1700,{"$f":"AccVelDataLink!A1287","v":1284},{"$f":"A1286","v":1283},1285,null,{"$f":"AccVelDataLink!G1287","v":1.7},"○","○"]
[1285,0,1900,{"$f":"AccVelDataLink!A1288","v":1285},1284,1286,null,{"$f":"AccVelDataLink!G1288","v":1.9},"○","○"]
[1286,0,2150,{"$f":"AccVelDataLink!A1289","v":1286},1285,1287,null,{"$f":"AccVelDataLink!G1289","v":2.15},"○","○"]
[1287,0,2550,{"$f":"AccVelDataLink!A1290","v":1287},1286,1288,null,{"$f":"AccVelDataLink!G1290","v":2.5499999999999998},"○","○"]
[1288,0,3000,{"$f":"AccVelDataLink!A1291","v":1288},1287,1289,null,{"$f":"AccVelDataLink!G1291","v":3},"○","○"]
[1289,0,3500,{"$f":"AccVelDataLink!A1292","v":1289},1288,1290,null,{"$f":"AccVelDataLink!G1292","v":3.5},"○","○"]
[1290,0,4200,{"$f":"AccVelDataLink!A1293","v":1290},1289,1291,null,{"$f":"AccVelDataLink!G1293","v":4.2},"○","○"]
[1291,0,5000,{"$f":"AccVelDataLink!A1294","v":1291},1290,1292,null,{"$f":"AccVelDataLink!G1294","v":5},"○","○"]
[1292,0,7000,{"$f":"AccVelDataLink!A1295","v":1292},1291,1293,null,{"$f":"AccVelDataLink!G1295","v":7},"○","○"]
[1293,0,10000,{"$f":"AccVelDataLink!A1296","v":1293},1292,1294,null,{"$f":"AccVelDataLink!G1296","v":10},"○","○"]
[1294,0,14000,{"$f":"AccVelDataLink!A1297","v":1294},1293,1295,null,{"$f":"AccVelDataLink!G1297","v":14},"○","○"]
[1295,0,20000,{"$f":"AccVelDataLink!A1298","v":1295},1294,1296,null,{"$f":"AccVelDataLink!G1298","v":20},"○","○"]
[1296,0,24000,{"$f":"AccVelDataLink!A1299","v":1296},1295,1297,null,{"$f":"AccVelDataLink!G1299","v":24},"○","○"]
[1297,0,30000,{"$f":"AccVelDataLink!A1300","v":1297},1296,1298,null,{"$f":"AccVelDataLink!G1300","v":30},"○","○"]
[1298,1,250,{"$f":"AccVelDataLink!A1301","v":1298},{"$f":"A1300","v":1297},{"$f":"A1302","v":1299},{"$f":"AccVelDataLink!F1301","v":"RCS3-SA8C-100-20-垂直"},{"$f":"AccVelDataLink!G1301","v":0.25},"○","○"]
[1299,1,300,{"$f":"AccVelDataLink!A1302","v":1299},1298,1300,null,{"$f":"AccVelDataLink!G1302","v":0.3},"○","○"]
[1300,1,350,{"$f":"AccVelDataLink!A1303","v":1300},1299,1301,null,{"$f":"AccVelDataLink!G1303","v":0.35},"○","○"]
[1301,1,400,{"$f":"AccVelDataLink!A1304","v":1301},1300,1302,null,{"$f":"AccVelDataLink!G1304","v":0.4},"○","○"]
[1302,1,550,{"$f":"AccVelDataLink!A1305","v":1302},1301,1303,null,{"$f":"AccVelDataLink!G1305","v":0.55000000000000004},"○","○"]
[1303,1,750,{"$f":"AccVelDataLink!A1306","v":1303},1302,1304,null,{"$f":"AccVelDataLink!G1306","v":0.75},"○","○"]
[1304,1,1000,{"$f":"AccVelDataLink!A1307","v":1304},1303,1305,null,{"$f":"AccVelDataLink!G1307","v":1},"○","○"]
[1305,1,1250,{"$f":"AccVelDataLink!A1308","v":1305},1304,1306,null,{"$f":"AccVelDataLink!G1308","v":1.25},"○","○"]
[1306,1,1500,{"$f":"AccVelDataLink!A1309","v":1306},1305,1307,null,{"$f":"AccVelDataLink!G1309","v":1.5},"○","○"]
[1307,1,1750,{"$f":"AccVelDataLink!A1310","v":1307},1306,1308,null,{"$f":"AccVelDataLink!G1310","v":1.75},"○","○"]
[1308,1,2000,{"$f":"AccVelDataLink!A1311","v":1308},1307,1309,null,{"$f":"AccVelDataLink!G1311","v":2},"○","○"]
[1309,1,3000,{"$f":"AccVelDataLink!A1312","v":1309},1308,1310,null,{"$f":"AccVelDataLink!G1312","v":3},"○","○"]
[1310,1,4000,{"$f":"AccVelDataLink!A1313","v":1310},1309,-1,null,{"$f":"AccVelDataLink!G1313","v":4},"○","終端"]
[1311,0,250,{"$f":"AccVelDataLink!A1314","v":1311},-1,{"$f":"A1315","v":1312},{"$f":"AccVelDataLink!F1314","v":"RCS3-SA8C-100-30-水平"},{"$f":"AccVelDataLink!G1314","v":0.25},"先頭","○"]
[1312,0,300,{"$f":"AccVelDataLink!A1315","v":1312},{"$f":"A1314","v":1311},1313,null,{"$f":"AccVelDataLink!G1315","v":0.3},"○","○"]
[1313,0,350,{"$f":"AccVelDataLink!A1316","v":1313},1312,1314,null,{"$f":"AccVelDataLink!G1316","v":0.35},"○","○"]
[1314,0,400,{"$f":"AccVelDataLink!A1317","v":1314},1313,1315,null,{"$f":"AccVelDataLink!G1317","v":0.4},"○","○"]
[1315,0,450,{"$f":"AccVelDataLink!A1318","v":1315},1314,1316,null,{"$f":"AccVelDataLink!G1318","v":0.45},"○","○"]
[1316,0,500,{"$f":"AccVelDataLink!A1319","v":1316},1315,1317,null,{"$f":"AccVelDataLink!G1319","v":0.5},"○","○"]
[1317,0,550,{"$f":"AccVelDataLink!A1320","v":1317},1316,1318,null,{"$f":"AccVelDataLink!G1320","v":0.55000000000000004},"○","○"]
[1318,0,600,{"$f":"AccVelDataLink!A1321","v":1318},1317,1319,null,{"$f":"AccVelDataLink!G1321","v":0.6},"○","○"]
[1319,0,700,{"$f":"AccVelDataLink!A1322","v":1319},1318,1320,null,{"$f":"AccVelDataLink!G1322","v":0.7},"○","○"]
[1320,0,800,{"$f":"AccVelDataLink!A1323","v":1320},1319,1321,null,{"$f":"AccVelDataLink!G1323","v":0.8},"○","○"]
[1321,0,1000,{"$f":"AccVelDataLink!A1324","v":1321},1320,1322,null,{"$f":"AccVelDataLink!G1324","v":1},"○","○"]
[1322,0,2000,{"$f":"AccVelDataLink!A1325","v":1322},1321,1323,null,{"$f":"AccVelDataLink!G1325","v":2},"○","○"]
[1323,0,3000,{"$f":"AccVelDataLink!A1326","v":1323},1322,1324,null,{"$f":"AccVelDataLink!G1326","v":3},"○","○"]
[1324,0,4000,{"$f":"AccVelDataLink!A1327","v":1324},1323,1325,null,{"$f":"AccVelDataLink!G1327","v":4},"○","○"]
[1325,0,5000,{"$f":"AccVelDataLink!A1328","v":1325},1324,1326,null,{"$f":"AccVelDataLink!G1328","v":5},"○","○"]
[1326,0,6000,{"$f":"AccVelDataLink!A1329","v":1326},1325,1327,null,{"$f":"AccVelDataLink!G1329","v":6},"○","○"]
[1327,0,7000,{"$f":"AccVelDataLink!A1330","v":1327},1326,1328,null,{"$f":"AccVelDataLink!G1330","v":7},"○","○"]
[1328,0,8000,{"$f":"AccVelDataLink!A1331","v":1328},1327,1329,null,{"$f":"AccVelDataLink!G1331","v":8},"○","○"]
[1329,0,9600,{"$f":"AccVelDataLink!A1332","v":1329},1328,1330,null,{"$f":"AccVelDataLink!G1332","v":9.6},"○","○"]
[1330,0,12000,{"$f":"AccVelDataLink!A1333","v":1330},1329,{"$f":"A1334","v":1331},null,{"$f":"AccVelDataLink!G1333","v":12},"○","○"]
[1331,1,100,{"$f":"AccVelDataLink!A1334","v":1331},{"$f":"A1333","v":1330},{"$f":"A1335","v":1332},{"$f":"AccVelDataLink!F1334","v":"RCS3-SA8C-100-30-垂直"},{"$f":"AccVelDataLink!G1334","v":0.1},"○","○"]
[1332,1,150,{"$f":"AccVelDataLink!A1335","v":1332},1331,1333,null,{"$f":"AccVelDataLink!G1335","v":0.15},"○","○"]
[1333,1,200,{"$f":"AccVelDataLink!A1336","v":1333},1332,1334,null,{"$f":"AccVelDataLink!G1336","v":0.2},"○","○"]
[1334,1,300,{"$f":"AccVelDataLink!A1337","v":1334},1333,1335,null,{"$f":"AccVelDataLink!G1337","v":0.3},"○","○"]
[1335,1,400,{"$f":"AccVelDataLink!A1338","v":1335},1334,1336,null,{"$f":"AccVelDataLink!G1338","v":0.4},"○","○"]
[1336,1,500,{"$f":"AccVelDataLink!A1339","v":1336},1335,1337,null,{"$f":"AccVelDataLink!G1339","v":0.5},"○","○"]
[1337,1,600,{"$f":"AccVelDataLink!A1340","v":1337},1336,1338,null,{"$f":"AccVelDataLink!G1340","v":0.6},"○","○"]
[1338,1,750,{"$f":"AccVelDataLink!A1341","v":1338},1337,1339,null,{"$f":"AccVelDataLink!G1341","v":0.75},"○","○"]
[1339,1,1000,{"$f":"AccVelDataLink!A1342","v":1339},1338,1340,null,{"$f":"AccVelDataLink!G1342","v":1},"○","○"]
[1340,1,1200,{"$f":"AccVelDataLink!A1343","v":1340},1339,1341,null,{"$f":"AccVelDataLink!G1343","v":1.2},"○","○"]
[1341,1,1500,{"$f":"AccVelDataLink!A1344","v":1341},1340,1342,null,{"$f":"AccVelDataLink!G1344","v":1.5},"○","○"]
[1342,1,1750,{"$f":"AccVelDataLink!A1345","v":1342},1341,1343,null,{"$f":"AccVelDataLink!G1345","v":1.75},"○","○"]
[1343,1,2000,{"$f":"AccVelDataLink!A1346","v":1343},1342,-1,null,{"$f":"AccVelDataLink!G1346","v":2},"○","終端"]
[1344,0,2000,{"$f":"AccVelDataLink!A1347","v":1344},-1,{"$f":"A1348","v":1345},{"$f":"AccVelDataLink!F1347","v":"RCS3-SA8C-150-10-水平"},{"$f":"AccVelDataLink!G1347","v":2},"先頭","○"]
[{"$f":"A1347+1","v":1345},0,{"$f":"H1348*$H$1","v":5000},{"$f":"AccVelDataLink!A1348","v":1345},{"$f":"A1347","v":1344},1346,null,{"$f":"AccVelDataLink!G1348","v":5},{"$f":"IF(E1348=A1347,\"○\",IF(G1348=0,\"つなぎまちがい\",\"先頭\"))","v":"○"},{"$f":"IF(F1348=A1349,\"○\",IF(F1348<>E1349,\"つなぎまちがい\",\"終端\"))","v":"○"}]
[1346,0,10000,{"$f":"AccVelDataLink!A1349","v":1346},1345,1347,null,{"$f":"AccVelDataLink!G1349","v":10},"○","○"]
[1347,0,15000,{"$f":"AccVelDataLink!A1350","v":1347},1346,1348,null,{"$f":"AccVelDataLink!G1350","v":15},"○","○"]
[1348,0,20000,{"$f":"AccVelDataLink!A1351","v":1348},1347,1349,null,{"$f":"AccVelDataLink!G1351","v":20},"○","○"]
[1349,0,30000,{"$f":"AccVelDataLink!A1352","v":1349},1348,1350,null,{"$f":"AccVelDataLink!G1352","v":30},"○","○"]
[1350,0,42000,{"$f":"AccVelDataLink!A1353","v":1350},1349,1351,null,{"$f":"AccVelDataLink!G1353","v":42},"○","○"]
[1351,0,60000,{"$f":"AccVelDataLink!A1354","v":1351},1350,1352,null,{"$f":"AccVelDataLink!G1354","v":60},"○","○"]
[1352,0,72000,{"$f":"AccVelDataLink!A1355","v":1352},1351,1353,null,{"$f":"AccVelDataLink!G1355","v":72},"○","○"]
[1353,0,90000,{"$f":"AccVelDataLink!A1356","v":1353},1352,1354,null,{"$f":"AccVelDataLink!G1356","v":90},"○","○"]
[1354,1,1500,{"$f":"AccVelDataLink!A1357","v":1354},{"$f":"A1356","v":1353},{"$f":"A1358","v":1355},{"$f":"AccVelDataLink!F1357","v":"RCS3-SA8C-150-10-垂直"},{"$f":"AccVelDataLink!G1357","v":1.5},"○","○"]
[1355,1,1800,{"$f":"AccVelDataLink!A1358","v":1355},1354,1356,null,{"$f":"AccVelDataLink!G1358","v":1.8},"○","○"]
[1356,1,2300,{"$f":"AccVelDataLink!A1359","v":1356},1355,1357,null,{"$f":"AccVelDataLink!G1359","v":2.2999999999999998},"○","○"]
[1357,1,3000,{"$f":"AccVelDataLink!A1360","v":1357},1356,1358,null,{"$f":"AccVelDataLink!G1360","v":3},"○","○"]
[1358,1,4000,{"$f":"AccVelDataLink!A1361","v":1358},1357,1359,null,{"$f":"AccVelDataLink!G1361","v":4},"○","○"]
[1359,1,6000,{"$f":"AccVelDataLink!A1362","v":1359},1358,1360,null,{"$f":"AccVelDataLink!G1362","v":6},"○","○"]
[1360,1,8500,{"$f":"AccVelDataLink!A1363","v":1360},1359,1361,null,{"$f":"AccVelDataLink!G1363","v":8.5},"○","○"]
[1361,1,12000,{"$f":"AccVelDataLink!A1364","v":1361},1360,-1,null,{"$f":"AccVelDataLink!G1364","v":12},"○","終端"]
[1362,0,1500,{"$f":"AccVelDataLink!A1365","v":1362},-1,{"$f":"A1366","v":1363},{"$f":"AccVelDataLink!F1365","v":"RCS3-SA8C-150-20-水平"},{"$f":"AccVelDataLink!G1365","v":1.5},"先頭","○"]
[1363,0,1700,{"$f":"AccVelDataLink!A1366","v":1363},{"$f":"A1365","v":1362},1364,null,{"$f":"AccVelDataLink!G1366","v":1.7},"○","○"]
[1364,0,1900,{"$f":"AccVelDataLink!A1367","v":1364},1363,1365,null,{"$f":"AccVelDataLink!G1367","v":1.9},"○","○"]
[1365,0,2100,{"$f":"AccVelDataLink!A1368","v":1365},1364,1366,null,{"$f":"AccVelDataLink!G1368","v":2.1},"○","○"]
[1366,0,2300,{"$f":"AccVelDataLink!A1369","v":1366},1365,1367,null,{"$f":"AccVelDataLink!G1369","v":2.2999999999999998},"○","○"]
[1367,0,2500,{"$f":"AccVelDataLink!A1370","v":1367},1366,1368,null,{"$f":"AccVelDataLink!G1370","v":2.5},"○","○"]
[1368,0,2700,{"$f":"AccVelDataLink!A1371","v":1368},1367,1369,null,{"$f":"AccVelDataLink!G1371","v":2.7},"○","○"]
[1369,0,2900,{"$f":"AccVelDataLink!A1372","v":1369},1368,1370,null,{"$f":"AccVelDataLink!G1372","v":2.9},"○","○"]
[1370,0,3200,{"$f":"AccVelDataLink!A1373","v":1370},1369,1371,null,{"$f":"AccVelDataLink!G1373","v":3.2},"○","○"]
[1371,0,3600,{"$f":"AccVelDataLink!A1374","v":1371},1370,1372,null,{"$f":"AccVelDataLink!G1374","v":3.6},"○","○"]
[1372,0,4000,{"$f":"AccVelDataLink!A1375","v":1372},1371,1373,null,{"$f":"AccVelDataLink!G1375","v":4},"○","○"]
[1373,0,4800,{"$f":"AccVelDataLink!A1376","v":1373},1372,1374,null,{"$f":"AccVelDataLink!G1376","v":4.8},"○","○"]
[1374,0,6000,{"$f":"AccVelDataLink!A1377","v":1374},1373,1375,null,{"$f":"AccVelDataLink!G1377","v":6},"○","○"]
[1375,0,7500,{"$f":"AccVelDataLink!A1378","v":1375},1374,1376,null,{"$f":"AccVelDataLink!G1378","v":7.5},"○","○"]
[1376,0,11000,{"$f":"AccVelDataLink!A1379","v":1376},1375,1377,null,{"$f":"AccVelDataLink!G1379","v":11},"○","○"]
[1377,0,15000,{"$f":"AccVelDataLink!A1380","v":1377},1376,1378,null,{"$f":"AccVelDataLink!G1380","v":15},"○","○"]
[1378,0,21000,{"$f":"AccVelDataLink!A1381","v":1378},1377,1379,null,{"$f":"AccVelDataLink!G1381","v":21},"○","○"]
[1379,0,30000,{"$f":"AccVelDataLink!A1382","v":1379},1378,1380,null,{"$f":"AccVelDataLink!G1382","v":30},"○","○"]
[1380,0,36000,{"$f":"AccVelDataLink!A1383","v":1380},1379,1381,null,{"$f":"AccVelDataLink!G1383","v":36},"○","○"]
[1381,0,45000,{"$f":"AccVelDataLink!A1384","v":1381},1380,1382,null,{"$f":"AccVelDataLink!G1384","v":45},"○","○"]
[1382,1,250,{"$f":"AccVelDataLink!A1385","v":1382},{"$f":"A1384","v":1381},{"$f":"A1386","v":1383},{"$f":"AccVelDataLink!F1385","v":"RCS3-SA8C-150-20-垂直"},{"$f":"AccVelDataLink!G1385","v":0.25},"○","○"]
[1383,1,300,{"$f":"AccVelDataLink!A1386","v":1383},1382,1384,null,{"$f":"AccVelDataLink!G1386","v":0.3},"○","○"]
[1384,1,350,{"$f":"AccVelDataLink!A1387","v":1384},1383,1385,null,{"$f":"AccVelDataLink!G1387","v":0.35},"○","○"]
[1385,1,400,{"$f":"AccVelDataLink!A1388","v":1385},1384,1386,null,{"$f":"AccVelDataLink!G1388","v":0.4},"○","○"]
[1386,1,450,{"$f":"AccVelDataLink!A1389","v":1386},1385,1387,null,{"$f":"AccVelDataLink!G1389","v":0.45},"○","○"]
[1387,1,550,{"$f":"AccVelDataLink!A1390","v":1387},1386,1388,null,{"$f":"AccVelDataLink!G1390","v":0.55000000000000004},"○","○"]
[1388,1,650,{"$f":"AccVelDataLink!A1391","v":1388},1387,1389,null,{"$f":"AccVelDataLink!G1391","v":0.65},"○","○"]
[1389,1,750,{"$f":"AccVelDataLink!A1392","v":1389},1388,1390,null,{"$f":"AccVelDataLink!G1392","v":0.75},"○","○"]
[1390,1,850,{"$f":"AccVelDataLink!A1393","v":1390},1389,1391,null,{"$f":"AccVelDataLink!G1393","v":0.85},"○","○"]
[1391,1,1000,{"$f":"AccVelDataLink!A1394","v":1391},1390,1392,null,{"$f":"AccVelDataLink!G1394","v":1},"○","○"]
[1392,1,1200,{"$f":"AccVelDataLink!A1395","v":1392},1391,1393,null,{"$f":"AccVelDataLink!G1395","v":1.2},"○","○"]
[1393,1,1400,{"$f":"AccVelDataLink!A1396","v":1393},1392,1394,null,{"$f":"AccVelDataLink!G1396","v":1.4},"○","○"]
[1394,1,1650,{"$f":"AccVelDataLink!A1397","v":1394},1393,1395,null,{"$f":"AccVelDataLink!G1397","v":1.65},"○","○"]
[1395,1,2000,{"$f":"AccVelDataLink!A1398","v":1395},1394,1396,null,{"$f":"AccVelDataLink!G1398","v":2},"○","○"]
[1396,1,2400,{"$f":"AccVelDataLink!A1399","v":1396},1395,1397,null,{"$f":"AccVelDataLink!G1399","v":2.4},"○","○"]
[1397,1,3000,{"$f":"AccVelDataLink!A1400","v":1397},1396,1398,null,{"$f":"AccVelDataLink!G1400","v":3},"○","○"]
[1398,1,4000,{"$f":"AccVelDataLink!A1401","v":1398},1397,1399,null,{"$f":"AccVelDataLink!G1401","v":4},"○","○"]
[1399,1,6000,{"$f":"AccVelDataLink!A1402","v":1399},1398,-1,null,{"$f":"AccVelDataLink!G1402","v":6},"○","終端"]
[1400,0,500,{"$f":"AccVelDataLink!A1403","v":1400},-1,{"$f":"A1404","v":1401},{"$f":"AccVelDataLink!F1403","v":"RCS3-SA8C-150-30-水平"},{"$f":"AccVelDataLink!G1403","v":0.5},"先頭","○"]
[1401,0,600,{"$f":"AccVelDataLink!A1404","v":1401},{"$f":"A1403","v":1400},1402,null,{"$f":"AccVelDataLink!G1404","v":0.6},"○","○"]
[1402,0,700,{"$f":"AccVelDataLink!A1405","v":1402},1401,1403,null,{"$f":"AccVelDataLink!G1405","v":0.7},"○","○"]
[1403,0,800,{"$f":"AccVelDataLink!A1406","v":1403},1402,1404,null,{"$f":"AccVelDataLink!G1406","v":0.8},"○","○"]
[1404,0,900,{"$f":"AccVelDataLink!A1407","v":1404},1403,1405,null,{"$f":"AccVelDataLink!G1407","v":0.9},"○","○"]
[1405,0,1000,{"$f":"AccVelDataLink!A1408","v":1405},1404,1406,null,{"$f":"AccVelDataLink!G1408","v":1},"○","○"]
[1406,0,1150,{"$f":"AccVelDataLink!A1409","v":1406},1405,1407,null,{"$f":"AccVelDataLink!G1409","v":1.1499999999999999},"○","○"]
[1407,0,1300,{"$f":"AccVelDataLink!A1410","v":1407},1406,1408,null,{"$f":"AccVelDataLink!G1410","v":1.3},"○","○"]
[1408,0,1500,{"$f":"AccVelDataLink!A1411","v":1408},1407,1409,null,{"$f":"AccVelDataLink!G1411","v":1.5},"○","○"]
[{"$f":"A1411+1","v":1409},0,{"$f":"H1412*$H$1","v":1700},{"$f":"AccVelDataLink!A1412","v":1409},1408,1410,null,{"$f":"AccVelDataLink!G1412","v":1.7},{"$f":"IF(E1412=A1411,\"○\",IF(G1412=0,\"つなぎまちがい\",\"先頭\"))","v":"○"},{"$f":"IF(F1412=A1413,\"○\",IF(F1412<>E1413,\"つなぎまちがい\",\"終端\"))","v":"○"}]
[1410,0,2000,{"$f":"AccVelDataLink!A1413","v":1410},1409,1411,null,{"$f":"AccVelDataLink!G1413","v":2},"○","○"]
[1411,0,3000,{"$f":"AccVelDataLink!A1414","v":1411},1410,1412,null,{"$f":"AccVelDataLink!G1414","v":3},"○","○"]
[1412,0,4500,{"$f":"AccVelDataLink!A1415","v":1412},1411,1413,null,{"$f":"AccVelDataLink!G1415","v":4.5},"○","○"]
[1413,0,6000,{"$f":"AccVelDataLink!A1416","v":1413},1412,1414,null,{"$f":"AccVelDataLink!G1416","v":6},"○","○"]
[1414,0,8000,{"$f":"AccVelDataLink!A1417","v":1414},1413,1415,null,{"$f":"AccVelDataLink!G1417","v":8},"○","○"]
[1415,0,10000,{"$f":"AccVelDataLink!A1418","v":1415},1414,1416,null,{"$f":"AccVelDataLink!G1418","v":10},"○","○"]
[1416,0,11000,{"$f":"AccVelDataLink!A1419","v":1416},1415,1417,null,{"$f":"AccVelDataLink!G1419","v":11},"○","○"]
[1417,0,12000,{"$f":"AccVelDataLink!A1420","v":1417},1416,1418,null,{"$f":"AccVelDataLink!G1420","v":12},"○","○"]
[1418,0,14400,{"$f":"AccVelDataLink!A1421","v":1418},1417,1419,null,{"$f":"AccVelDataLink!G1421","v":14.4},"○","○"]
[1419,0,18000,{"$f":"AccVelDataLink!A1422","v":1419},1418,1420,null,{"$f":"AccVelDataLink!G1422","v":18},"○","○"]
[1420,1,100,{"$f":"AccVelDataLink!A1423","v":1420},{"$f":"A1422","v":1419},{"$f":"A1424","v":1421},{"$f":"AccVelDataLink!F1423","v":"RCS3-SA8C-150-30-垂直"},{"$f":"AccVelDataLink!G1423","v":0.1},"○","○"]
[1421,1,150,{"$f":"AccVelDataLink!A1424","v":1421},1420,1422,null,{"$f":"AccVelDataLink!G1424","v":0.15},"○","○"]
[1422,1,200,{"$f":"AccVelDataLink!A1425","v":1422},1421,1423,null,{"$f":"AccVelDataLink!G1425","v":0.2},"○","○"]
[1423,1,250,{"$f":"AccVelDataLink!A1426","v":1423},1422,1424,null,{"$f":"AccVelDataLink!G1426","v":0.25},"○","○"]
[1424,1,300,{"$f":"AccVelDataLink!A1427","v":1424},1423,1425,null,{"$f":"AccVelDataLink!G1427","v":0.3},"○","○"]
[1425,1,350,{"$f":"AccVelDataLink!A1428","v":1425},1424,1426,null,{"$f":"AccVelDataLink!G1428","v":0.35},"○","○"]
[1426,1,400,{"$f":"AccVelDataLink!A1429","v":1426},1425,1427,null,{"$f":"AccVelDataLink!G1429","v":0.4},"○","○"]
[1427,1,500,{"$f":"AccVelDataLink!A1430","v":1427},1426,1428,null,{"$f":"AccVelDataLink!G1430","v":0.5},"○","○"]
[1428,1,600,{"$f":"AccVelDataLink!A1431","v":1428},1427,1429,null,{"$f":"AccVelDataLink!G1431","v":0.6},"○","○"]
[1429,1,750,{"$f":"AccVelDataLink!A1432","v":1429},1428,1430,null,{"$f":"AccVelDataLink!G1432","v":0.75},"○","○"]
[1430,1,900,{"$f":"AccVelDataLink!A1433","v":1430},1429,1431,null,{"$f":"AccVelDataLink!G1433","v":0.9},"○","○"]
[1431,1,1050,{"$f":"AccVelDataLink!A1434","v":1431},1430,1432,null,{"$f":"AccVelDataLink!G1434","v":1.05},"○","○"]
[1432,1,1250,{"$f":"AccVelDataLink!A1435","v":1432},1431,1433,null,{"$f":"AccVelDataLink!G1435","v":1.25},"○","○"]
[1433,1,1500,{"$f":"AccVelDataLink!A1436","v":1433},1432,1434,null,{"$f":"AccVelDataLink!G1436","v":1.5},"○","○"]
[1434,1,1750,{"$f":"AccVelDataLink!A1437","v":1434},1433,1435,null,{"$f":"AccVelDataLink!G1437","v":1.75},"○","○"]
[1435,1,2000,{"$f":"AccVelDataLink!A1438","v":1435},1434,1436,null,{"$f":"AccVelDataLink!G1438","v":2},"○","○"]
[1436,1,2500,{"$f":"AccVelDataLink!A1439","v":1436},1435,1437,null,{"$f":"AccVelDataLink!G1439","v":2.5},"○","○"]
[1437,1,3000,{"$f":"AccVelDataLink!A1440","v":1437},1436,-1,null,{"$f":"AccVelDataLink!G1440","v":3},"○","終端"]
[1438,0,65000,{"$f":"AccVelDataLink!A1441","v":1438},-1,{"$f":"A1442","v":1439},{"$f":"AccVelDataLink!F1441","v":"RCS3-SS8C-100-5-水平"},{"$f":"AccVelDataLink!G1441","v":65},"先頭","○"]
[1439,0,80000,{"$f":"AccVelDataLink!A1442","v":1439},{"$f":"A1441","v":1438},{"$f":"A1443","v":1440},null,{"$f":"AccVelDataLink!G1442","v":80},"○","○"]
[1440,0,120000,{"$f":"AccVelDataLink!A1443","v":1440},{"$f":"A1442","v":1439},{"$f":"A1444","v":1441},null,{"$f":"AccVelDataLink!G1443","v":120},"○","○"]
[1441,1,12000,{"$f":"AccVelDataLink!A1444","v":1441},{"$f":"A1443","v":1440},{"$f":"A1445","v":1442},{"$f":"AccVelDataLink!F1444","v":"RCS3-SS8C-100-5-垂直"},{"$f":"AccVelDataLink!G1444","v":12},"○","○"]
[1442,1,16000,{"$f":"AccVelDataLink!A1445","v":1442},{"$f":"A1444","v":1441},-1,null,{"$f":"AccVelDataLink!G1445","v":16},"○","終端"]
[1443,0,8000,{"$f":"AccVelDataLink!A1446","v":1443},-1,{"$f":"A1447","v":1444},{"$f":"AccVelDataLink!F1446","v":"RCS3-SS8C-100-10-水平"},{"$f":"AccVelDataLink!G1446","v":8},"先頭","○"]
[1444,0,13000,{"$f":"AccVelDataLink!A1447","v":1444},{"$f":"A1446","v":1443},1445,null,{"$f":"AccVelDataLink!G1447","v":13},"○","○"]
[1445,0,20000,{"$f":"AccVelDataLink!A1448","v":1445},1444,1446,null,{"$f":"AccVelDataLink!G1448","v":20},"○","○"]
[1446,0,28000,{"$f":"AccVelDataLink!A1449","v":1446},1445,1447,null,{"$f":"AccVelDataLink!G1449","v":28},"○","○"]
[1447,0,40000,{"$f":"AccVelDataLink!A1450","v":1447},1446,1448,null,{"$f":"AccVelDataLink!G1450","v":40},"○","○"]
[1448,0,48000,{"$f":"AccVelDataLink!A1451","v":1448},1447,1449,null,{"$f":"AccVelDataLink!G1451","v":48},"○","○"]
[1449,0,60000,{"$f":"AccVelDataLink!A1452","v":1449},1448,1450,null,{"$f":"AccVelDataLink!G1452","v":60},"○","○"]
[1450,1,2500,{"$f":"AccVelDataLink!A1453","v":1450},{"$f":"A1452","v":1449},{"$f":"A1454","v":1451},{"$f":"AccVelDataLink!F1453","v":"RCS3-SS8C-100-10-垂直"},{"$f":"AccVelDataLink!G1453","v":2.5},"○","○"]
[1451,1,3000,{"$f":"AccVelDataLink!A1454","v":1451},{"$f":"A1453","v":1450},{"$f":"A1455","v":1452},null,{"$f":"AccVelDataLink!G1454","v":3},"○","○"]
[1452,1,4000,{"$f":"AccVelDataLink!A1455","v":1452},{"$f":"A1454","v":1451},{"$f":"A1456","v":1453},null,{"$f":"AccVelDataLink!G1455","v":4},"○","○"]
[1453,1,5500,{"$f":"AccVelDataLink!A1456","v":1453},{"$f":"A1455","v":1452},{"$f":"A1457","v":1454},null,{"$f":"AccVelDataLink!G1456","v":5.5},"○","○"]
[1454,1,8000,{"$f":"AccVelDataLink!A1457","v":1454},{"$f":"A1456","v":1453},-1,null,{"$f":"AccVelDataLink!G1457","v":8},"○","終端"]
[1455,0,1500,{"$f":"AccVelDataLink!A1458","v":1455},-1,{"$f":"A1459","v":1456},{"$f":"AccVelDataLink!F1458","v":"RCS3-SS8C-100-20-水平"},{"$f":"AccVelDataLink!G1458","v":1.5},"先頭","○"]
[1456,0,1700,{"$f":"AccVelDataLink!A1459","v":1456},{"$f":"A1458","v":1455},1457,null,{"$f":"AccVelDataLink!G1459","v":1.7},"○","○"]
[1457,0,1900,{"$f":"AccVelDataLink!A1460","v":1457},1456,1458,null,{"$f":"AccVelDataLink!G1460","v":1.9},"○","○"]
[1458,0,2150,{"$f":"AccVelDataLink!A1461","v":1458},1457,1459,null,{"$f":"AccVelDataLink!G1461","v":2.15},"○","○"]
[1459,0,2550,{"$f":"AccVelDataLink!A1462","v":1459},1458,1460,null,{"$f":"AccVelDataLink!G1462","v":2.5499999999999998},"○","○"]
[1460,0,3000,{"$f":"AccVelDataLink!A1463","v":1460},1459,1461,null,{"$f":"AccVelDataLink!G1463","v":3},"○","○"]
[1461,0,3500,{"$f":"AccVelDataLink!A1464","v":1461},1460,1462,null,{"$f":"AccVelDataLink!G1464","v":3.5},"○","○"]
[1462,0,4200,{"$f":"AccVelDataLink!A1465","v":1462},1461,1463,null,{"$f":"AccVelDataLink!G1465","v":4.2},"○","○"]
[1463,0,5000,{"$f":"AccVelDataLink!A1466","v":1463},1462,1464,null,{"$f":"AccVelDataLink!G1466","v":5},"○","○"]
[1464,0,7000,{"$f":"AccVelDataLink!A1467","v":1464},1463,1465,null,{"$f":"AccVelDataLink!G1467","v":7},"○","○"]
[1465,0,10000,{"$f":"AccVelDataLink!A1468","v":1465},1464,1466,null,{"$f":"AccVelDataLink!G1468","v":10},"○","○"]
[1466,0,14000,{"$f":"AccVelDataLink!A1469","v":1466},1465,1467,null,{"$f":"AccVelDataLink!G1469","v":14},"○","○"]
[1467,0,20000,{"$f":"AccVelDataLink!A1470","v":1467},1466,1468,null,{"$f":"AccVelDataLink!G1470","v":20},"○","○"]
[1468,0,24000,{"$f":"AccVelDataLink!A1471","v":1468},1467,1469,null,{"$f":"AccVelDataLink!G1471","v":24},"○","○"]
[1469,0,30000,{"$f":"AccVelDataLink!A1472","v":1469},1468,1470,null,{"$f":"AccVelDataLink!G1472","v":30},"○","○"]
[1470,1,250,{"$f":"AccVelDataLink!A1473","v":1470},{"$f":"A1472","v":1469},{"$f":"A1474","v":1471},{"$f":"AccVelDataLink!F1473","v":"RCS3-SS8C-100-20-垂直"},{"$f":"AccVelDataLink!G1473","v":0.25},"○","○"]
[1471,1,300,{"$f":"AccVelDataLink!A1474","v":1471},1470,1472,null,{"$f":"AccVelDataLink!G1474","v":0.3},"○","○"]
[1472,1,350,{"$f":"AccVelDataLink!A1475","v":1472},1471,1473,null,{"$f":"AccVelDataLink!G1475","v":0.35},"○","○"]
[{"$f":"A1475+1","v":1473},1,{"$f":"H1476*$H$1","v":400},{"$f":"AccVelDataLink!A1476","v":1473},1472,1474,null,{"$f":"AccVelDataLink!G1476","v":0.4},{"$f":"IF(E1476=A1475,\"○\",IF(G1476=0,\"つなぎまちがい\",\"先頭\"))","v":"○"},{"$f":"IF(F1476=A1477,\"○\",IF(F1476<>E1477,\"つなぎまちがい\",\"終端\"))","v":"○"}]
[1474,1,550,{"$f":"AccVelDataLink!A1477","v":1474},1473,1475,null,{"$f":"AccVelDataLink!G1477","v":0.55000000000000004},"○","○"]
[1475,1,750,{"$f":"AccVelDataLink!A1478","v":1475},1474,1476,null,{"$f":"AccVelDataLink!G1478","v":0.75},"○","○"]
[1476,1,1000,{"$f":"AccVelDataLink!A1479","v":1476},1475,1477,null,{"$f":"AccVelDataLink!G1479","v":1},"○","○"]
[1477,1,1250,{"$f":"AccVelDataLink!A1480","v":1477},1476,1478,null,{"$f":"AccVelDataLink!G1480","v":1.25},"○","○"]
[1478,1,1500,{"$f":"AccVelDataLink!A1481","v":1478},1477,1479,null,{"$f":"AccVelDataLink!G1481","v":1.5},"○","○"]
[1479,1,1750,{"$f":"AccVelDataLink!A1482","v":1479},1478,1480,null,{"$f":"AccVelDataLink!G1482","v":1.75},"○","○"]
[1480,1,2000,{"$f":"AccVelDataLink!A1483","v":1480},1479,1481,null,{"$f":"AccVelDataLink!G1483","v":2},"○","○"]
[1481,1,3000,{"$f":"AccVelDataLink!A1484","v":1481},1480,1482,null,{"$f":"AccVelDataLink!G1484","v":3},"○","○"]
[1482,1,4000,{"$f":"AccVelDataLink!A1485","v":1482},1481,-1,null,{"$f":"AccVelDataLink!G1485","v":4},"○","終端"]
[1483,0,250,{"$f":"AccVelDataLink!A1486","v":1483},-1,{"$f":"A1487","v":1484},{"$f":"AccVelDataLink!F1486","v":"RCS3-SS8C-100-30-水平"},{"$f":"AccVelDataLink!G1486","v":0.25},"先頭","○"]
[1484,0,300,{"$f":"AccVelDataLink!A1487","v":1484},{"$f":"A1486","v":1483},1485,null,{"$f":"AccVelDataLink!G1487","v":0.3},"○","○"]
[1485,0,350,{"$f":"AccVelDataLink!A1488","v":1485},1484,1486,null,{"$f":"AccVelDataLink!G1488","v":0.35},"○","○"]
[1486,0,400,{"$f":"AccVelDataLink!A1489","v":1486},1485,1487,null,{"$f":"AccVelDataLink!G1489","v":0.4},"○","○"]
[1487,0,450,{"$f":"AccVelDataLink!A1490","v":1487},1486,1488,null,{"$f":"AccVelDataLink!G1490","v":0.45},"○","○"]
[1488,0,500,{"$f":"AccVelDataLink!A1491","v":1488},1487,1489,null,{"$f":"AccVelDataLink!G1491","v":0.5},"○","○"]
[1489,0,550,{"$f":"AccVelDataLink!A1492","v":1489},1488,1490,null,{"$f":"AccVelDataLink!G1492","v":0.55000000000000004},"○","○"]
[1490,0,600,{"$f":"AccVelDataLink!A1493","v":1490},1489,1491,null,{"$f":"AccVelDataLink!G1493","v":0.6},"○","○"]
[1491,0,700,{"$f":"AccVelDataLink!A1494","v":1491},1490,1492,null,{"$f":"AccVelDataLink!G1494","v":0.7},"○","○"]
[1492,0,800,{"$f":"AccVelDataLink!A1495","v":1492},1491,1493,null,{"$f":"AccVelDataLink!G1495","v":0.8},"○","○"]
[1493,0,1000,{"$f":"AccVelDataLink!A1496","v":1493},1492,1494,null,{"$f":"AccVelDataLink!G1496","v":1},"○","○"]
[1494,0,2000,{"$f":"AccVelDataLink!A1497","v":1494},1493,1495,null,{"$f":"AccVelDataLink!G1497","v":2},"○","○"]
[1495,0,3000,{"$f":"AccVelDataLink!A1498","v":1495},1494,1496,null,{"$f":"AccVelDataLink!G1498","v":3},"○","○"]
[1496,0,4000,{"$f":"AccVelDataLink!A1499","v":1496},1495,1497,null,{"$f":"AccVelDataLink!G1499","v":4},"○","○"]
[1497,0,5000,{"$f":"AccVelDataLink!A1500","v":1497},1496,1498,null,{"$f":"AccVelDataLink!G1500","v":5},"○","○"]
[1498,0,6000,{"$f":"AccVelDataLink!A1501","v":1498},1497,1499,null,{"$f":"AccVelDataLink!G1501","v":6},"○","○"]
[1499,0,7000,{"$f":"AccVelDataLink!A1502","v":1499},1498,1500,null,{"$f":"AccVelDataLink!G1502","v":7},"○","○"]
[1500,0,8000,{"$f":"AccVelDataLink!A1503","v":1500},1499,1501,null,{"$f":"AccVelDataLink!G1503","v":8},"○","○"]
[1501,0,9600,{"$f":"AccVelDataLink!A1504","v":1501},1500,1502,null,{"$f":"AccVelDataLink!G1504","v":9.6},"○","○"]
[1502,0,12000,{"$f":"AccVelDataLink!A1505","v":1502},1501,1503,null,{"$f":"AccVelDataLink!G1505","v":12},"○","○"]
[1503,1,100,{"$f":"AccVelDataLink!A1506","v":1503},{"$f":"A1505","v":1502},{"$f":"A1507","v":1504},{"$f":"AccVelDataLink!F1506","v":"RCS3-SS8C-100-30-垂直"},{"$f":"AccVelDataLink!G1506","v":0.1},"○","○"]
[1504,1,150,{"$f":"AccVelDataLink!A1507","v":1504},1503,1505,null,{"$f":"AccVelDataLink!G1507","v":0.15},"○","○"]
[1505,1,200,{"$f":"AccVelDataLink!A1508","v":1505},1504,1506,null,{"$f":"AccVelDataLink!G1508","v":0.2},"○","○"]
[1506,1,300,{"$f":"AccVelDataLink!A1509","v":1506},1505,1507,null,{"$f":"AccVelDataLink!G1509","v":0.3},"○","○"]
[1507,1,400,{"$f":"AccVelDataLink!A1510","v":1507},1506,1508,null,{"$f":"AccVelDataLink!G1510","v":0.4},"○","○"]
[1508,1,500,{"$f":"AccVelDataLink!A1511","v":1508},1507,1509,null,{"$f":"AccVelDataLink!G1511","v":0.5},"○","○"]
[1509,1,600,{"$f":"AccVelDataLink!A1512","v":1509},1508,1510,null,{"$f":"AccVelDataLink!G1512","v":0.6},"○","○"]
[1510,1,750,{"$f":"AccVelDataLink!A1513","v":1510},1509,1511,null,{"$f":"AccVelDataLink!G1513","v":0.75},"○","○"]
[1511,1,1000,{"$f":"AccVelDataLink!A1514","v":1511},1510,1512,null,{"$f":"AccVelDataLink!G1514","v":1},"○","○"]
[1512,1,1200,{"$f":"AccVelDataLink!A1515","v":1512},1511,1513,null,{"$f":"AccVelDataLink!G1515","v":1.2},"○","○"]
[1513,1,1500,{"$f":"AccVelDataLink!A1516","v":1513},1512,1514,null,{"$f":"AccVelDataLink!G1516","v":1.5},"○","○"]
[1514,1,1750,{"$f":"AccVelDataLink!A1517","v":1514},1513,1515,null,{"$f":"AccVelDataLink!G1517","v":1.75},"○","○"]
[1515,1,2000,{"$f":"AccVelDataLink!A1518","v":1515},1514,-1,null,{"$f":"AccVelDataLink!G1518","v":2},"○","終端"]
[1516,0,2000,{"$f":"AccVelDataLink!A1519","v":1516},-1,{"$f":"A1520","v":1517},{"$f":"AccVelDataLink!F1519","v":"RCS3-SS8C-150-10-水平"},{"$f":"AccVelDataLink!G1519","v":2},"先頭","○"]
[1517,0,5000,{"$f":"AccVelDataLink!A1520","v":1517},{"$f":"A1519","v":1516},1518,null,{"$f":"AccVelDataLink!G1520","v":5},"○","○"]
[1518,0,10000,{"$f":"AccVelDataLink!A1521","v":1518},1517,1519,null,{"$f":"AccVelDataLink!G1521","v":10},"○","○"]
[1519,0,15000,{"$f":"AccVelDataLink!A1522","v":1519},1518,1520,null,{"$f":"AccVelDataLink!G1522","v":15},"○","○"]
[1520,0,20000,{"$f":"AccVelDataLink!A1523","v":1520},1519,1521,null,{"$f":"AccVelDataLink!G1523","v":20},"○","○"]
[1521,0,30000,{"$f":"AccVelDataLink!A1524","v":1521},1520,1522,null,{"$f":"AccVelDataLink!G1524","v":30},"○","○"]
[1522,0,42000,{"$f":"AccVelDataLink!A1525","v":1522},1521,1523,null,{"$f":"AccVelDataLink!G1525","v":42},"○","○"]
[1523,0,60000,{"$f":"AccVelDataLink!A1526","v":1523},1522,1524,null,{"$f":"AccVelDataLink!G1526","v":60},"○","○"]
[1524,0,72000,{"$f":"AccVelDataLink!A1527","v":1524},1523,1525,null,{"$f":"AccVelDataLink!G1527","v":72},"○","○"]
[1525,0,90000,{"$f":"AccVelDataLink!A1528","v":1525},1524,1526,null,{"$f":"AccVelDataLink!G1528","v":90},"○","○"]
[1526,1,1500,{"$f":"AccVelDataLink!A1529","v":1526},{"$f":"A1528","v":1525},{"$f":"A1530","v":1527},{"$f":"AccVelDataLink!F1529","v":"RCS3-SS8C-150-10-垂直"},{"$f":"AccVelDataLink!G1529","v":1.5},"○","○"]
[1527,1,1800,{"$f":"AccVelDataLink!A1530","v":1527},1526,1528,null,{"$f":"AccVelDataLink!G1530","v":1.8},"○","○"]
[1528,1,2300,{"$f":"AccVelDataLink!A1531","v":1528},1527,1529,null,{"$f":"AccVelDataLink!G1531","v":2.2999999999999998},"○","○"]
[1529,1,3000,{"$f":"AccVelDataLink!A1532","v":1529},1528,1530,null,{"$f":"AccVelDataLink!G1532","v":3},"○","○"]
[1530,1,4000,{"$f":"AccVelDataLink!A1533","v":1530},1529,1531,null,{"$f":"AccVelDataLink!G1533","v":4},"○","○"]
[1531,1,6000,{"$f":"AccVelDataLink!A1534","v":1531},1530,1532,null,{"$f":"AccVelDataLink!G1534","v":6},"○","○"]
[1532,1,8500,{"$f":"AccVelDataLink!A1535","v":1532},1531,1533,null,{"$f":"AccVelDataLink!G1535","v":8.5},"○","○"]
[1533,1,12000,{"$f":"AccVelDataLink!A1536","v":1533},1532,-1,null,{"$f":"AccVelDataLink!G1536","v":12},"○","終端"]
[1534,0,1500,{"$f":"AccVelDataLink!A1537","v":1534},-1,{"$f":"A1538","v":1535},{"$f":"AccVelDataLink!F1537","v":"RCS3-SS8C-150-20-水平"},{"$f":"AccVelDataLink!G1537","v":1.5},"先頭","○"]
[1535,0,1700,{"$f":"AccVelDataLink!A1538","v":1535},{"$f":"A1537","v":1534},1536,null,{"$f":"AccVelDataLink!G1538","v":1.7},"○","○"]
[1536,0,1900,{"$f":"AccVelDataLink!A1539","v":1536},1535,1537,null,{"$f":"AccVelDataLink!G1539","v":1.9},"○","○"]
[{"$f":"A1539+1","v":1537},0,{"$f":"H1540*$H$1","v":2100},{"$f":"AccVelDataLink!A1540","v":1537},1536,1538,null,{"$f":"AccVelDataLink!G1540","v":2.1},{"$f":"IF(E1540=A1539,\"○\",IF(G1540=0,\"つなぎまちがい\",\"先頭\"))","v":"○"},{"$f":"IF(F1540=A1541,\"○\",IF(F1540<>E1541,\"つなぎまちがい\",\"終端\"))","v":"○"}]
[1538,0,2300,{"$f":"AccVelDataLink!A1541","v":1538},1537,1539,null,{"$f":"AccVelDataLink!G1541","v":2.2999999999999998},"○","○"]
[1539,0,2500,{"$f":"AccVelDataLink!A1542","v":1539},1538,1540,null,{"$f":"AccVelDataLink!G1542","v":2.5},"○","○"]
[1540,0,2700,{"$f":"AccVelDataLink!A1543","v":1540},1539,1541,null,{"$f":"AccVelDataLink!G1543","v":2.7},"○","○"]
[1541,0,2900,{"$f":"AccVelDataLink!A1544","v":1541},1540,1542,null,{"$f":"AccVelDataLink!G1544","v":2.9},"○","○"]
[1542,0,3200,{"$f":"AccVelDataLink!A1545","v":1542},1541,1543,null,{"$f":"AccVelDataLink!G1545","v":3.2},"○","○"]
[1543,0,3600,{"$f":"AccVelDataLink!A1546","v":1543},1542,1544,null,{"$f":"AccVelDataLink!G1546","v":3.6},"○","○"]
[1544,0,4000,{"$f":"AccVelDataLink!A1547","v":1544},1543,1545,null,{"$f":"AccVelDataLink!G1547","v":4},"○","○"]
[1545,0,4800,{"$f":"AccVelDataLink!A1548","v":1545},1544,1546,null,{"$f":"AccVelDataLink!G1548","v":4.8},"○","○"]
[1546,0,6000,{"$f":"AccVelDataLink!A1549","v":1546},1545,1547,null,{"$f":"AccVelDataLink!G1549","v":6},"○","○"]
[1547,0,7500,{"$f":"AccVelDataLink!A1550","v":1547},1546,1548,null,{"$f":"AccVelDataLink!G1550","v":7.5},"○","○"]
[1548,0,11000,{"$f":"AccVelDataLink!A1551","v":1548},1547,1549,null,{"$f":"AccVelDataLink!G1551","v":11},"○","○"]
[1549,0,15000,{"$f":"AccVelDataLink!A1552","v":1549},1548,1550,null,{"$f":"AccVelDataLink!G1552","v":15},"○","○"]
[1550,0,21000,{"$f":"AccVelDataLink!A1553","v":1550},1549,1551,null,{"$f":"AccVelDataLink!G1553","v":21},"○","○"]
[1551,0,30000,{"$f":"AccVelDataLink!A1554","v":1551},1550,1552,null,{"$f":"AccVelDataLink!G1554","v":30},"○","○"]
[1552,0,36000,{"$f":"AccVelDataLink!A1555","v":1552},1551,1553,null,{"$f":"AccVelDataLink!G1555","v":36},"○","○"]
[1553,0,45000,{"$f":"AccVelDataLink!A1556","v":1553},1552,1554,null,{"$f":"AccVelDataLink!G1556","v":45},"○","○"]
[1554,1,250,{"$f":"AccVelDataLink!A1557","v":1554},{"$f":"A1556","v":1553},{"$f":"A1558","v":1555},{"$f":"AccVelDataLink!F1557","v":"RCS3-SS8C-150-20-垂直"},{"$f":"AccVelDataLink!G1557","v":0.25},"○","○"]
[1555,1,300,{"$f":"AccVelDataLink!A1558","v":1555},1554,1556,null,{"$f":"AccVelDataLink!G1558","v":0.3},"○","○"]
[1556,1,350,{"$f":"AccVelDataLink!A1559","v":1556},1555,1557,null,{"$f":"AccVelDataLink!G1559","v":0.35},"○","○"]
[1557,1,400,{"$f":"AccVelDataLink!A1560","v":1557},1556,1558,null,{"$f":"AccVelDataLink!G1560","v":0.4},"○","○"]
[1558,1,450,{"$f":"AccVelDataLink!A1561","v":1558},1557,1559,null,{"$f":"AccVelDataLink!G1561","v":0.45},"○","○"]
[1559,1,550,{"$f":"AccVelDataLink!A1562","v":1559},1558,1560,null,{"$f":"AccVelDataLink!G1562","v":0.55000000000000004},"○","○"]
[1560,1,650,{"$f":"AccVelDataLink!A1563","v":1560},1559,1561,null,{"$f":"AccVelDataLink!G1563","v":0.65},"○","○"]
[1561,1,750,{"$f":"AccVelDataLink!A1564","v":1561},1560,1562,null,{"$f":"AccVelDataLink!G1564","v":0.75},"○","○"]
[1562,1,850,{"$f":"AccVelDataLink!A1565","v":1562},1561,1563,null,{"$f":"AccVelDataLink!G1565","v":0.85},"○","○"]
[1563,1,1000,{"$f":"AccVelDataLink!A1566","v":1563},1562,1564,null,{"$f":"AccVelDataLink!G1566","v":1},"○","○"]
[1564,1,1200,{"$f":"AccVelDataLink!A1567","v":1564},1563,1565,null,{"$f":"AccVelDataLink!G1567","v":1.2},"○","○"]
[1565,1,1400,{"$f":"AccVelDataLink!A1568","v":1565},1564,1566,null,{"$f":"AccVelDataLink!G1568","v":1.4},"○","○"]
[1566,1,1650,{"$f":"AccVelDataLink!A1569","v":1566},1565,1567,null,{"$f":"AccVelDataLink!G1569","v":1.65},"○","○"]
[1567,1,2000,{"$f":"AccVelDataLink!A1570","v":1567},1566,1568,null,{"$f":"AccVelDataLink!G1570","v":2},"○","○"]
[1568,1,2400,{"$f":"AccVelDataLink!A1571","v":1568},1567,1569,null,{"$f":"AccVelDataLink!G1571","v":2.4},"○","○"]
[1569,1,3000,{"$f":"AccVelDataLink!A1572","v":1569},1568,1570,null,{"$f":"AccVelDataLink!G1572","v":3},"○","○"]
[1570,1,4000,{"$f":"AccVelDataLink!A1573","v":1570},1569,1571,null,{"$f":"AccVelDataLink!G1573","v":4},"○","○"]
[1571,1,6000,{"$f":"AccVelDataLink!A1574","v":1571},1570,-1,null,{"$f":"AccVelDataLink!G1574","v":6},"○","終端"]
[1572,0,500,{"$f":"AccVelDataLink!A1575","v":1572},-1,{"$f":"A1576","v":1573},{"$f":"AccVelDataLink!F1575","v":"RCS3-SS8C-150-30-水平"},{"$f":"AccVelDataLink!G1575","v":0.5},"先頭","○"]
[1573,0,600,{"$f":"AccVelDataLink!A1576","v":1573},{"$f":"A1575","v":1572},1574,null,{"$f":"AccVelDataLink!G1576","v":0.6},"○","○"]
[1574,0,700,{"$f":"AccVelDataLink!A1577","v":1574},1573,1575,null,{"$f":"AccVelDataLink!G1577","v":0.7},"○","○"]
[1575,0,800,{"$f":"AccVelDataLink!A1578","v":1575},1574,1576,null,{"$f":"AccVelDataLink!G1578","v":0.8},"○","○"]
[1576,0,900,{"$f":"AccVelDataLink!A1579","v":1576},1575,1577,null,{"$f":"AccVelDataLink!G1579","v":0.9},"○","○"]
[1577,0,1000,{"$f":"AccVelDataLink!A1580","v":1577},1576,1578,null,{"$f":"AccVelDataLink!G1580","v":1},"○","○"]
[1578,0,1150,{"$f":"AccVelDataLink!A1581","v":1578},1577,1579,null,{"$f":"AccVelDataLink!G1581","v":1.1499999999999999},"○","○"]
[1579,0,1300,{"$f":"AccVelDataLink!A1582","v":1579},1578,1580,null,{"$f":"AccVelDataLink!G1582","v":1.3},"○","○"]
[1580,0,1500,{"$f":"AccVelDataLink!A1583","v":1580},1579,1581,null,{"$f":"AccVelDataLink!G1583","v":1.5},"○","○"]
[1581,0,1700,{"$f":"AccVelDataLink!A1584","v":1581},1580,1582,null,{"$f":"AccVelDataLink!G1584","v":1.7},"○","○"]
[1582,0,2000,{"$f":"AccVelDataLink!A1585","v":1582},1581,1583,null,{"$f":"AccVelDataLink!G1585","v":2},"○","○"]
[1583,0,3000,{"$f":"AccVelDataLink!A1586","v":1583},1582,1584,null,{"$f":"AccVelDataLink!G1586","v":3},"○","○"]
[1584,0,4500,{"$f":"AccVelDataLink!A1587","v":1584},1583,1585,null,{"$f":"AccVelDataLink!G1587","v":4.5},"○","○"]
[1585,0,6000,{"$f":"AccVelDataLink!A1588","v":1585},1584,1586,null,{"$f":"AccVelDataLink!G1588","v":6},"○","○"]
[1586,0,8000,{"$f":"AccVelDataLink!A1589","v":1586},1585,1587,null,{"$f":"AccVelDataLink!G1589","v":8},"○","○"]
[1587,0,10000,{"$f":"AccVelDataLink!A1590","v":1587},1586,1588,null,{"$f":"AccVelDataLink!G1590","v":10},"○","○"]
[1588,0,11000,{"$f":"AccVelDataLink!A1591","v":1588},1587,1589,null,{"$f":"AccVelDataLink!G1591","v":11},"○","○"]
[1589,0,12000,{"$f":"AccVelDataLink!A1592","v":1589},1588,1590,null,{"$f":"AccVelDataLink!G1592","v":12},"○","○"]
[1590,0,14400,{"$f":"AccVelDataLink!A1593","v":1590},1589,1591,null,{"$f":"AccVelDataLink!G1593","v":14.4},"○","○"]
[1591,0,18000,{"$f":"AccVelDataLink!A1594","v":1591},1590,1592,null,{"$f":"AccVelDataLink!G1594","v":18},"○","○"]
[1592,1,100,{"$f":"AccVelDataLink!A1595","v":1592},{"$f":"A1594","v":1591},{"$f":"A1596","v":1593},{"$f":"AccVelDataLink!F1595","v":"RCS3-SS8C-150-30-垂直"},{"$f":"AccVelDataLink!G1595","v":0.1},"○","○"]
[1593,1,150,{"$f":"AccVelDataLink!A1596","v":1593},1592,1594,null,{"$f":"AccVelDataLink!G1596","v":0.15},"○","○"]
[1594,1,200,{"$f":"AccVelDataLink!A1597","v":1594},1593,1595,null,{"$f":"AccVelDataLink!G1597","v":0.2},"○","○"]
[1595,1,250,{"$f":"AccVelDataLink!A1598","v":1595},1594,1596,null,{"$f":"AccVelDataLink!G1598","v":0.25},"○","○"]
[1596,1,300,{"$f":"AccVelDataLink!A1599","v":1596},1595,1597,null,{"$f":"AccVelDataLink!G1599","v":0.3},"○","○"]
[1597,1,350,{"$f":"AccVelDataLink!A1600","v":1597},1596,1598,null,{"$f":"AccVelDataLink!G1600","v":0.35},"○","○"]
[1598,1,400,{"$f":"AccVelDataLink!A1601","v":1598},1597,1599,null,{"$f":"AccVelDataLink!G1601","v":0.4},"○","○"]
[1599,1,500,{"$f":"AccVelDataLink!A1602","v":1599},1598,1600,null,{"$f":"AccVelDataLink!G1602","v":0.5},"○","○"]
[1600,1,600,{"$f":"AccVelDataLink!A1603","v":1600},1599,1601,null,{"$f":"AccVelDataLink!G1603","v":0.6},"○","○"]
[{"$f":"A1603+1","v":1601},1,{"$f":"H1604*$H$1","v":750},{"$f":"AccVelDataLink!A1604","v":1601},1600,1602,null,{"$f":"AccVelDataLink!G1604","v":0.75},{"$f":"IF(E1604=A1603,\"○\",IF(G1604=0,\"つなぎまちがい\",\"先頭\"))","v":"○"},{"$f":"IF(F1604=A1605,\"○\",IF(F1604<>E1605,\"つなぎまちがい\",\"終端\"))","v":"○"}]
[1602,1,900,{"$f":"AccVelDataLink!A1605","v":1602},1601,1603,null,{"$f":"AccVelDataLink!G1605","v":0.9},"○","○"]
[1603,1,1050,{"$f":"AccVelDataLink!A1606","v":1603},1602,1604,null,{"$f":"AccVelDataLink!G1606","v":1.05},"○","○"]
[1604,1,1250,{"$f":"AccVelDataLink!A1607","v":1604},1603,1605,null,{"$f":"AccVelDataLink!G1607","v":1.25},"○","○"]
[1605,1,1500,{"$f":"AccVelDataLink!A1608","v":1605},1604,1606,null,{"$f":"AccVelDataLink!G1608","v":1.5},"○","○"]
[1606,1,1750,{"$f":"AccVelDataLink!A1609","v":1606},1605,1607,null,{"$f":"AccVelDataLink!G1609","v":1.75},"○","○"]
[1607,1,2000,{"$f":"AccVelDataLink!A1610","v":1607},1606,1608,null,{"$f":"AccVelDataLink!G1610","v":2},"○","○"]
[1608,1,2500,{"$f":"AccVelDataLink!A1611","v":1608},1607,1609,null,{"$f":"AccVelDataLink!G1611","v":2.5},"○","○"]
[1609,1,3000,{"$f":"AccVelDataLink!A1612","v":1609},1608,-1,null,{"$f":"AccVelDataLink!G1612","v":3},"○","終端"]
[1610,0,65000,{"$f":"AccVelDataLink!A1613","v":1610},-1,{"$f":"A1614","v":1611},{"$f":"AccVelDataLink!F1613","v":"RCS3CR-SA8C-100-5-水平"},{"$f":"AccVelDataLink!G1613","v":65},"先頭","○"]
[1611,0,80000,{"$f":"AccVelDataLink!A1614","v":1611},{"$f":"A1613","v":1610},{"$f":"A1615","v":1612},null,{"$f":"AccVelDataLink!G1614","v":80},"○","○"]
[1612,0,104000,{"$f":"AccVelDataLink!A1615","v":1612},{"$f":"A1614","v":1611},{"$f":"A1616","v":1613},null,{"$f":"AccVelDataLink!G1615","v":104},"○","○"]
[1613,1,12000,{"$f":"AccVelDataLink!A1616","v":1613},{"$f":"A1615","v":1612},{"$f":"A1617","v":1614},{"$f":"AccVelDataLink!F1616","v":"RCS3CR-SA8C-100-5-垂直"},{"$f":"AccVelDataLink!G1616","v":12},"○","○"]
[1614,1,16000,{"$f":"AccVelDataLink!A1617","v":1614},{"$f":"A1616","v":1613},-1,null,{"$f":"AccVelDataLink!G1617","v":16},"○","終端"]
[1615,0,20000,{"$f":"AccVelDataLink!A1618","v":1615},-1,{"$f":"A1619","v":1616},{"$f":"AccVelDataLink!F1618","v":"RCS3CR-SA8C-100-10-水平"},{"$f":"AccVelDataLink!G1618","v":20},"先頭","○"]
[1616,0,28000,{"$f":"AccVelDataLink!A1619","v":1616},{"$f":"A1618","v":1615},1617,null,{"$f":"AccVelDataLink!G1619","v":28},"○","○"]
[1617,0,40000,{"$f":"AccVelDataLink!A1620","v":1617},1616,1618,null,{"$f":"AccVelDataLink!G1620","v":40},"○","○"]
[1618,0,46000,{"$f":"AccVelDataLink!A1621","v":1618},1617,1619,null,{"$f":"AccVelDataLink!G1621","v":46},"○","○"]
[1619,0,52000,{"$f":"AccVelDataLink!A1622","v":1619},1618,1620,null,{"$f":"AccVelDataLink!G1622","v":52},"○","○"]
[1620,1,4000,{"$f":"AccVelDataLink!A1623","v":1620},1619,1621,{"$f":"AccVelDataLink!F1623","v":"RCS3CR-SA8C-100-10-垂直"},{"$f":"AccVelDataLink!G1623","v":4},"○","○"]
[1621,1,5500,{"$f":"AccVelDataLink!A1624","v":1621},1620,1622,null,{"$f":"AccVelDataLink!G1624","v":5.5},"○","○"]
[1622,1,8000,{"$f":"AccVelDataLink!A1625","v":1622},1621,-1,null,{"$f":"AccVelDataLink!G1625","v":8},"○","終端"]
[1623,0,5000,{"$f":"AccVelDataLink!A1626","v":1623},-1,{"$f":"A1627","v":1624},{"$f":"AccVelDataLink!F1626","v":"RCS3CR-SA8C-100-20-水平"},{"$f":"AccVelDataLink!G1626","v":5},"先頭","○"]
[1624,0,7000,{"$f":"AccVelDataLink!A1627","v":1624},{"$f":"A1626","v":1623},1625,null,{"$f":"AccVelDataLink!G1627","v":7},"○","○"]
[1625,0,10000,{"$f":"AccVelDataLink!A1628","v":1625},1624,1626,null,{"$f":"AccVelDataLink!G1628","v":10},"○","○"]
[1626,0,14000,{"$f":"AccVelDataLink!A1629","v":1626},1625,1627,null,{"$f":"AccVelDataLink!G1629","v":14},"○","○"]
[1627,0,20000,{"$f":"AccVelDataLink!A1630","v":1627},1626,1628,null,{"$f":"AccVelDataLink!G1630","v":20},"○","○"]
[1628,0,23000,{"$f":"AccVelDataLink!A1631","v":1628},1627,1629,null,{"$f":"AccVelDataLink!G1631","v":23},"○","○"]
[1629,0,26000,{"$f":"AccVelDataLink!A1632","v":1629},1628,1630,null,{"$f":"AccVelDataLink!G1632","v":26},"○","○"]
[1630,1,1500,{"$f":"AccVelDataLink!A1633","v":1630},{"$f":"A1632","v":1629},{"$f":"A1634","v":1631},{"$f":"AccVelDataLink!F1633","v":"RCS3CR-SA8C-100-20-垂直"},{"$f":"AccVelDataLink!G1633","v":1.5},"○","○"]
[1631,1,1750,{"$f":"AccVelDataLink!A1634","v":1631},{"$f":"A1633","v":1630},{"$f":"A1635","v":1632},null,{"$f":"AccVelDataLink!G1634","v":1.75},"○","○"]
[1632,1,2000,{"$f":"AccVelDataLink!A1635","v":1632},{"$f":"A1634","v":1631},{"$f":"A1636","v":1633},null,{"$f":"AccVelDataLink!G1635","v":2},"○","○"]
[1633,1,3000,{"$f":"AccVelDataLink!A1636","v":1633},{"$f":"A1635","v":1632},{"$f":"A1637","v":1634},null,{"$f":"AccVelDataLink!G1636","v":3},"○","○"]
[1634,1,4000,{"$f":"AccVelDataLink!A1637","v":1634},{"$f":"A1636","v":1633},-1,null,{"$f":"AccVelDataLink!G1637","v":4},"○","終端"]
[1635,0,1000,{"$f":"AccVelDataLink!A1638","v":1635},-1,{"$f":"A1639","v":1636},{"$f":"AccVelDataLink!F1638","v":"RCS3CR-SA8C-100-30-水平"},{"$f":"AccVelDataLink!G1638","v":1},"先頭","○"]
[1636,0,2000,{"$f":"AccVelDataLink!A1639","v":1636},{"$f":"A1638","v":1635},1637,null,{"$f":"AccVelDataLink!G1639","v":2},"○","○"]
[1637,0,3000,{"$f":"AccVelDataLink!A1640","v":1637},1636,1638,null,{"$f":"AccVelDataLink!G1640","v":3},"○","○"]
[1638,0,4000,{"$f":"AccVelDataLink!A1641","v":1638},1637,1639,null,{"$f":"AccVelDataLink!G1641","v":4},"○","○"]
[1639,0,5000,{"$f":"AccVelDataLink!A1642","v":1639},1638,1640,null,{"$f":"AccVelDataLink!G1642","v":5},"○","○"]
[1640,0,6000,{"$f":"AccVelDataLink!A1643","v":1640},1639,1641,null,{"$f":"AccVelDataLink!G1643","v":6},"○","○"]
[1641,0,7000,{"$f":"AccVelDataLink!A1644","v":1641},1640,1642,null,{"$f":"AccVelDataLink!G1644","v":7},"○","○"]
[1642,0,8000,{"$f":"AccVelDataLink!A1645","v":1642},1641,1643,null,{"$f":"AccVelDataLink!G1645","v":8},"○","○"]
[1643,0,9500,{"$f":"AccVelDataLink!A1646","v":1643},1642,1644,null,{"$f":"AccVelDataLink!G1646","v":9.5},"○","○"]
[1644,0,10500,{"$f":"AccVelDataLink!A1647","v":1644},1643,1645,null,{"$f":"AccVelDataLink!G1647","v":10.5},"○","○"]
[1645,1,1000,{"$f":"AccVelDataLink!A1648","v":1645},{"$f":"A1647","v":1644},{"$f":"A1649","v":1646},{"$f":"AccVelDataLink!F1648","v":"RCS3CR-SA8C-100-30-垂直"},{"$f":"AccVelDataLink!G1648","v":1},"○","○"]
[1646,1,1200,{"$f":"AccVelDataLink!A1649","v":1646},{"$f":"A1648","v":1645},{"$f":"A1650","v":1647},null,{"$f":"AccVelDataLink!G1649","v":1.2},"○","○"]
[1647,1,1500,{"$f":"AccVelDataLink!A1650","v":1647},{"$f":"A1649","v":1646},{"$f":"A1651","v":1648},null,{"$f":"AccVelDataLink!G1650","v":1.5},"○","○"]
[1648,1,1750,{"$f":"AccVelDataLink!A1651","v":1648},{"$f":"A1650","v":1647},{"$f":"A1652","v":1649},null,{"$f":"AccVelDataLink!G1651","v":1.75},"○","○"]
[1649,1,2000,{"$f":"AccVelDataLink!A1652","v":1649},{"$f":"A1651","v":1648},-1,null,{"$f":"AccVelDataLink!G1652","v":2},"○","終端"]
[1650,0,30000,{"$f":"AccVelDataLink!A1653","v":1650},-1,{"$f":"A1654","v":1651},{"$f":"AccVelDataLink!F1653","v":"RCS3CR-SA8C-150-10-水平"},{"$f":"AccVelDataLink!G1653","v":30},"先頭","○"]
[1651,0,42000,{"$f":"AccVelDataLink!A1654","v":1651},{"$f":"A1653","v":1650},1652,null,{"$f":"AccVelDataLink!G1654","v":42},"○","○"]
[1652,0,60000,{"$f":"AccVelDataLink!A1655","v":1652},1651,1653,null,{"$f":"AccVelDataLink!G1655","v":60},"○","○"]
[1653,0,69000,{"$f":"AccVelDataLink!A1656","v":1653},1652,1654,null,{"$f":"AccVelDataLink!G1656","v":69},"○","○"]
[1654,0,78000,{"$f":"AccVelDataLink!A1657","v":1654},1653,1655,null,{"$f":"AccVelDataLink!G1657","v":78},"○","○"]
[1655,1,6000,{"$f":"AccVelDataLink!A1658","v":1655},1654,1656,{"$f":"AccVelDataLink!F1658","v":"RCS3CR-SA8C-150-10-垂直"},{"$f":"AccVelDataLink!G1658","v":6},"○","○"]
[1656,1,8500,{"$f":"AccVelDataLink!A1659","v":1656},1655,1657,null,{"$f":"AccVelDataLink!G1659","v":8.5},"○","○"]
[1657,1,12000,{"$f":"AccVelDataLink!A1660","v":1657},1656,-1,null,{"$f":"AccVelDataLink!G1660","v":12},"○","終端"]
[1658,0,7500,{"$f":"AccVelDataLink!A1661","v":1658},-1,{"$f":"A1662","v":1659},{"$f":"AccVelDataLink!F1661","v":"RCS3CR-SA8C-150-20-水平"},{"$f":"AccVelDataLink!G1661","v":7.5},"先頭","○"]
[1659,0,11000,{"$f":"AccVelDataLink!A1662","v":1659},{"$f":"A1661","v":1658},1660,null,{"$f":"AccVelDataLink!G1662","v":11},"○","○"]
[1660,0,15000,{"$f":"AccVelDataLink!A1663","v":1660},1659,1661,null,{"$f":"AccVelDataLink!G1663","v":15},"○","○"]
[1661,0,21000,{"$f":"AccVelDataLink!A1664","v":1661},1660,1662,null,{"$f":"AccVelDataLink!G1664","v":21},"○","○"]
[1662,0,30000,{"$f":"AccVelDataLink!A1665","v":1662},1661,1663,null,{"$f":"AccVelDataLink!G1665","v":30},"○","○"]
[1663,0,34500,{"$f":"AccVelDataLink!A1666","v":1663},1662,1664,null,{"$f":"AccVelDataLink!G1666","v":34.5},"○","○"]
[1664,0,39000,{"$f":"AccVelDataLink!A1667","v":1664},1663,1665,null,{"$f":"AccVelDataLink!G1667","v":39},"○","○"]
[{"$f":"A1667+1","v":1665},1,{"$f":"H1668*$H$1","v":2000},{"$f":"AccVelDataLink!A1668","v":1665},{"$f":"A1667","v":1664},{"$f":"A1669","v":1666},{"$f":"AccVelDataLink!F1668","v":"RCS3CR-SA8C-150-20-垂直"},{"$f":"AccVelDataLink!G1668","v":2},{"$f":"IF(E1668=A1667,\"○\",IF(G1668=0,\"つなぎまちがい\",\"先頭\"))","v":"○"},{"$f":"IF(F1668=A1669,\"○\",IF(F1668<>E1669,\"つなぎまちがい\",\"終端\"))","v":"○"}]
[1666,1,2400,{"$f":"AccVelDataLink!A1669","v":1666},{"$f":"A1668","v":1665},{"$f":"A1670","v":1667},null,{"$f":"AccVelDataLink!G1669","v":2.4},"○","○"]
[1667,1,3000,{"$f":"AccVelDataLink!A1670","v":1667},{"$f":"A1669","v":1666},{"$f":"A1671","v":1668},null,{"$f":"AccVelDataLink!G1670","v":3},"○","○"]
[1668,1,4000,{"$f":"AccVelDataLink!A1671","v":1668},{"$f":"A1670","v":1667},{"$f":"A1672","v":1669},null,{"$f":"AccVelDataLink!G1671","v":4},"○","○"]
[1669,1,6000,{"$f":"AccVelDataLink!A1672","v":1669},{"$f":"A1671","v":1668},-1,null,{"$f":"AccVelDataLink!G1672","v":6},"○","終端"]
[1670,0,2000,{"$f":"AccVelDataLink!A1673","v":1670},-1,{"$f":"A1674","v":1671},{"$f":"AccVelDataLink!F1673","v":"RCS3CR-SA8C-150-30-水平"},{"$f":"AccVelDataLink!G1673","v":2},"先頭","○"]
[1671,0,3000,{"$f":"AccVelDataLink!A1674","v":1671},{"$f":"A1673","v":1670},1672,null,{"$f":"AccVelDataLink!G1674","v":3},"○","○"]
[1672,0,4500,{"$f":"AccVelDataLink!A1675","v":1672},1671,1673,null,{"$f":"AccVelDataLink!G1675","v":4.5},"○","○"]
[1673,0,6000,{"$f":"AccVelDataLink!A1676","v":1673},1672,1674,null,{"$f":"AccVelDataLink!G1676","v":6},"○","○"]
[1674,0,8000,{"$f":"AccVelDataLink!A1677","v":1674},1673,1675,null,{"$f":"AccVelDataLink!G1677","v":8},"○","○"]
[1675,0,10000,{"$f":"AccVelDataLink!A1678","v":1675},1674,1676,null,{"$f":"AccVelDataLink!G1678","v":10},"○","○"]
[1676,0,11000,{"$f":"AccVelDataLink!A1679","v":1676},1675,1677,null,{"$f":"AccVelDataLink!G1679","v":11},"○","○"]
[1677,0,12000,{"$f":"AccVelDataLink!A1680","v":1677},1676,1678,null,{"$f":"AccVelDataLink!G1680","v":12},"○","○"]
[1678,0,14000,{"$f":"AccVelDataLink!A1681","v":1678},1677,1679,null,{"$f":"AccVelDataLink!G1681","v":14},"○","○"]
[1679,0,15500,{"$f":"AccVelDataLink!A1682","v":1679},1678,1680,null,{"$f":"AccVelDataLink!G1682","v":15.5},"○","○"]
[1680,1,1500,{"$f":"AccVelDataLink!A1683","v":1680},{"$f":"A1682","v":1679},{"$f":"A1684","v":1681},{"$f":"AccVelDataLink!F1683","v":"RCS3CR-SA8C-150-30-垂直"},{"$f":"AccVelDataLink!G1683","v":1.5},"○","○"]
[1681,1,1750,{"$f":"AccVelDataLink!A1684","v":1681},{"$f":"A1683","v":1680},{"$f":"A1685","v":1682},null,{"$f":"AccVelDataLink!G1684","v":1.75},"○","○"]
[1682,1,2000,{"$f":"AccVelDataLink!A1685","v":1682},{"$f":"A1684","v":1681},{"$f":"A1686","v":1683},null,{"$f":"AccVelDataLink!G1685","v":2},"○","○"]
[1683,1,2500,{"$f":"AccVelDataLink!A1686","v":1683},{"$f":"A1685","v":1682},{"$f":"A1687","v":1684},null,{"$f":"AccVelDataLink!G1686","v":2.5},"○","○"]
[1684,1,3000,{"$f":"AccVelDataLink!A1687","v":1684},{"$f":"A1686","v":1683},-1,null,{"$f":"AccVelDataLink!G1687","v":3},"○","終端"]
[1685,0,65000,{"$f":"AccVelDataLink!A1688","v":1685},-1,{"$f":"A1689","v":1686},{"$f":"AccVelDataLink!F1688","v":"RCS3CR-SS8C-100-5-水平"},{"$f":"AccVelDataLink!G1688","v":65},"先頭","○"]
[1686,0,80000,{"$f":"AccVelDataLink!A1689","v":1686},{"$f":"A1688","v":1685},{"$f":"A1690","v":1687},null,{"$f":"AccVelDataLink!G1689","v":80},"○","○"]
[1687,0,104000,{"$f":"AccVelDataLink!A1690","v":1687},{"$f":"A1689","v":1686},{"$f":"A1691","v":1688},null,{"$f":"AccVelDataLink!G1690","v":104},"○","○"]
[1688,1,12000,{"$f":"AccVelDataLink!A1691","v":1688},{"$f":"A1690","v":1687},{"$f":"A1692","v":1689},{"$f":"AccVelDataLink!F1691","v":"RCS3CR-SS8C-100-5-垂直"},{"$f":"AccVelDataLink!G1691","v":12},"○","○"]
[1689,1,16000,{"$f":"AccVelDataLink!A1692","v":1689},{"$f":"A1691","v":1688},-1,null,{"$f":"AccVelDataLink!G1692","v":16},"○","終端"]
[1690,0,20000,{"$f":"AccVelDataLink!A1693","v":1690},-1,{"$f":"A1694","v":1691},{"$f":"AccVelDataLink!F1693","v":"RCS3CR-SS8C-100-10-水平"},{"$f":"AccVelDataLink!G1693","v":20},"先頭","○"]
[1691,0,28000,{"$f":"AccVelDataLink!A1694","v":1691},{"$f":"A1693","v":1690},1692,null,{"$f":"AccVelDataLink!G1694","v":28},"○","○"]
[1692,0,40000,{"$f":"AccVelDataLink!A1695","v":1692},1691,1693,null,{"$f":"AccVelDataLink!G1695","v":40},"○","○"]
[1693,0,46000,{"$f":"AccVelDataLink!A1696","v":1693},1692,1694,null,{"$f":"AccVelDataLink!G1696","v":46},"○","○"]
[1694,0,52000,{"$f":"AccVelDataLink!A1697","v":1694},1693,1695,null,{"$f":"AccVelDataLink!G1697","v":52},"○","○"]
[1695,1,4000,{"$f":"AccVelDataLink!A1698","v":1695},1694,1696,{"$f":"AccVelDataLink!F1698","v":"RCS3CR-SS8C-100-10-垂直"},{"$f":"AccVelDataLink!G1698","v":4},"○","○"]
[1696,1,5500,{"$f":"AccVelDataLink!A1699","v":1696},1695,1697,null,{"$f":"AccVelDataLink!G1699","v":5.5},"○","○"]
[1697,1,8000,{"$f":"AccVelDataLink!A1700","v":1697},1696,-1,null,{"$f":"AccVelDataLink!G1700","v":8},"○","終端"]
[1698,0,5000,{"$f":"AccVelDataLink!A1701","v":1698},-1,{"$f":"A1702","v":1699},{"$f":"AccVelDataLink!F1701","v":"RCS3CR-SS8C-100-20-水平"},{"$f":"AccVelDataLink!G1701","v":5},"先頭","○"]
[1699,0,7000,{"$f":"AccVelDataLink!A1702","v":1699},{"$f":"A1701","v":1698},1700,null,{"$f":"AccVelDataLink!G1702","v":7},"○","○"]
[1700,0,10000,{"$f":"AccVelDataLink!A1703","v":1700},1699,1701,null,{"$f":"AccVelDataLink!G1703","v":10},"○","○"]
[1701,0,14000,{"$f":"AccVelDataLink!A1704","v":1701},1700,1702,null,{"$f":"AccVelDataLink!G1704","v":14},"○","○"]
[1702,0,20000,{"$f":"AccVelDataLink!A1705","v":1702},1701,1703,null,{"$f":"AccVelDataLink!G1705","v":20},"○","○"]
[1703,0,23000,{"$f":"AccVelDataLink!A1706","v":1703},1702,1704,null,{"$f":"AccVelDataLink!G1706","v":23},"○","○"]
[1704,0,26000,{"$f":"AccVelDataLink!A1707","v":1704},1703,1705,null,{"$f":"AccVelDataLink!G1707","v":26},"○","○"]
[1705,1,1500,{"$f":"AccVelDataLink!A1708","v":1705},1704,1706,{"$f":"AccVelDataLink!F1708","v":"RCS3CR-SS8C-100-20-垂直"},{"$f":"AccVelDataLink!G1708","v":1.5},"○","○"]
[1706,1,1750,{"$f":"AccVelDataLink!A1709","v":1706},1705,1707,null,{"$f":"AccVelDataLink!G1709","v":1.75},"○","○"]
[1707,1,2000,{"$f":"AccVelDataLink!A1710","v":1707},1706,1708,null,{"$f":"AccVelDataLink!G1710","v":2},"○","○"]
[1708,1,3000,{"$f":"AccVelDataLink!A1711","v":1708},1707,1709,null,{"$f":"AccVelDataLink!G1711","v":3},"○","○"]
[1709,1,4000,{"$f":"AccVelDataLink!A1712","v":1709},1708,-1,null,{"$f":"AccVelDataLink!G1712","v":4},"○","終端"]
[1710,0,1000,{"$f":"AccVelDataLink!A1713","v":1710},-1,{"$f":"A1714","v":1711},{"$f":"AccVelDataLink!F1713","v":"RCS3CR-SS8C-100-30-水平"},{"$f":"AccVelDataLink!G1713","v":1},"先頭","○"]
[1711,0,2000,{"$f":"AccVelDataLink!A1714","v":1711},{"$f":"A1713","v":1710},1712,null,{"$f":"AccVelDataLink!G1714","v":2},"○","○"]
[1712,0,3000,{"$f":"AccVelDataLink!A1715","v":1712},1711,1713,null,{"$f":"AccVelDataLink!G1715","v":3},"○","○"]
[1713,0,4000,{"$f":"AccVelDataLink!A1716","v":1713},1712,1714,null,{"$f":"AccVelDataLink!G1716","v":4},"○","○"]
[1714,0,5000,{"$f":"AccVelDataLink!A1717","v":1714},1713,1715,null,{"$f":"AccVelDataLink!G1717","v":5},"○","○"]
[1715,0,6000,{"$f":"AccVelDataLink!A1718","v":1715},1714,1716,null,{"$f":"AccVelDataLink!G1718","v":6},"○","○"]
[1716,0,7000,{"$f":"AccVelDataLink!A1719","v":1716},1715,1717,null,{"$f":"AccVelDataLink!G1719","v":7},"○","○"]
[1717,0,8000,{"$f":"AccVelDataLink!A1720","v":1717},1716,1718,null,{"$f":"AccVelDataLink!G1720","v":8},"○","○"]
[1718,0,9500,{"$f":"AccVelDataLink!A1721","v":1718},1717,1719,null,{"$f":"AccVelDataLink!G1721","v":9.5},"○","○"]
[1719,0,10500,{"$f":"AccVelDataLink!A1722","v":1719},1718,1720,null,{"$f":"AccVelDataLink!G1722","v":10.5},"○","○"]
[1720,1,1000,{"$f":"AccVelDataLink!A1723","v":1720},1719,1721,{"$f":"AccVelDataLink!F1723","v":"RCS3CR-SS8C-100-30-垂直"},{"$f":"AccVelDataLink!G1723","v":1},"○","○"]
[1721,1,1200,{"$f":"AccVelDataLink!A1724","v":1721},1720,1722,null,{"$f":"AccVelDataLink!G1724","v":1.2},"○","○"]
[1722,1,1500,{"$f":"AccVelDataLink!A1725","v":1722},1721,1723,null,{"$f":"AccVelDataLink!G1725","v":1.5},"○","○"]
[1723,1,1750,{"$f":"AccVelDataLink!A1726","v":1723},1722,1724,null,{"$f":"AccVelDataLink!G1726","v":1.75},"○","○"]
[1724,1,2000,{"$f":"AccVelDataLink!A1727","v":1724},1723,-1,null,{"$f":"AccVelDataLink!G1727","v":2},"○","終端"]
[1725,0,30000,{"$f":"AccVelDataLink!A1728","v":1725},-1,{"$f":"A1729","v":1726},{"$f":"AccVelDataLink!F1728","v":"RCS3CR-SS8C-150-10-水平"},{"$f":"AccVelDataLink!G1728","v":30},"先頭","○"]
[1726,0,42000,{"$f":"AccVelDataLink!A1729","v":1726},{"$f":"A1728","v":1725},1727,null,{"$f":"AccVelDataLink!G1729","v":42},"○","○"]
[1727,0,60000,{"$f":"AccVelDataLink!A1730","v":1727},1726,1728,null,{"$f":"AccVelDataLink!G1730","v":60},"○","○"]
[1728,0,69000,{"$f":"AccVelDataLink!A1731","v":1728},1727,1729,null,{"$f":"AccVelDataLink!G1731","v":69},"○","○"]
[{"$f":"A1731+1","v":1729},0,{"$f":"H1732*$H$1","v":78000},{"$f":"AccVelDataLink!A1732","v":1729},1728,1730,null,{"$f":"AccVelDataLink!G1732","v":78},{"$f":"IF(E1732=A1731,\"○\",IF(G1732=0,\"つなぎまちがい\",\"先頭\"))","v":"○"},{"$f":"IF(F1732=A1733,\"○\",IF(F1732<>E1733,\"つなぎまちがい\",\"終端\"))","v":"○"}]
[1730,1,6000,{"$f":"AccVelDataLink!A1733","v":1730},1729,1731,{"$f":"AccVelDataLink!F1733","v":"RCS3CR-SS8C-150-10-垂直"},{"$f":"AccVelDataLink!G1733","v":6},"○","○"]
[1731,1,8500,{"$f":"AccVelDataLink!A1734","v":1731},1730,1732,null,{"$f":"AccVelDataLink!G1734","v":8.5},"○","○"]
[1732,1,12000,{"$f":"AccVelDataLink!A1735","v":1732},1731,-1,null,{"$f":"AccVelDataLink!G1735","v":12},"○","終端"]
[1733,0,7500,{"$f":"AccVelDataLink!A1736","v":1733},-1,{"$f":"A1737","v":1734},{"$f":"AccVelDataLink!F1736","v":"RCS3CR-SS8C-150-20-水平"},{"$f":"AccVelDataLink!G1736","v":7.5},"先頭","○"]
[1734,0,11000,{"$f":"AccVelDataLink!A1737","v":1734},{"$f":"A1736","v":1733},1735,null,{"$f":"AccVelDataLink!G1737","v":11},"○","○"]
[1735,0,15000,{"$f":"AccVelDataLink!A1738","v":1735},1734,1736,null,{"$f":"AccVelDataLink!G1738","v":15},"○","○"]
[1736,0,21000,{"$f":"AccVelDataLink!A1739","v":1736},1735,1737,null,{"$f":"AccVelDataLink!G1739","v":21},"○","○"]
[1737,0,30000,{"$f":"AccVelDataLink!A1740","v":1737},1736,1738,null,{"$f":"AccVelDataLink!G1740","v":30},"○","○"]
[1738,0,34500,{"$f":"AccVelDataLink!A1741","v":1738},1737,1739,null,{"$f":"AccVelDataLink!G1741","v":34.5},"○","○"]
[1739,0,39000,{"$f":"AccVelDataLink!A1742","v":1739},1738,1740,null,{"$f":"AccVelDataLink!G1742","v":39},"○","○"]
[1740,1,2000,{"$f":"AccVelDataLink!A1743","v":1740},1739,1741,{"$f":"AccVelDataLink!F1743","v":"RCS3CR-SS8C-150-20-垂直"},{"$f":"AccVelDataLink!G1743","v":2},"○","○"]
[1741,1,2400,{"$f":"AccVelDataLink!A1744","v":1741},1740,1742,null,{"$f":"AccVelDataLink!G1744","v":2.4},"○","○"]
[1742,1,3000,{"$f":"AccVelDataLink!A1745","v":1742},1741,1743,null,{"$f":"AccVelDataLink!G1745","v":3},"○","○"]
[1743,1,4000,{"$f":"AccVelDataLink!A1746","v":1743},1742,1744,null,{"$f":"AccVelDataLink!G1746","v":4},"○","○"]
[1744,1,6000,{"$f":"AccVelDataLink!A1747","v":1744},1743,-1,null,{"$f":"AccVelDataLink!G1747","v":6},"○","終端"]
[1745,0,2000,{"$f":"AccVelDataLink!A1748","v":1745},-1,{"$f":"A1749","v":1746},{"$f":"AccVelDataLink!F1748","v":"RCS3CR-SS8C-150-30-水平"},{"$f":"AccVelDataLink!G1748","v":2},"先頭","○"]
[1746,0,3000,{"$f":"AccVelDataLink!A1749","v":1746},{"$f":"A1748","v":1745},1747,null,{"$f":"AccVelDataLink!G1749","v":3},"○","○"]
[1747,0,4500,{"$f":"AccVelDataLink!A1750","v":1747},1746,1748,null,{"$f":"AccVelDataLink!G1750","v":4.5},"○","○"]
[1748,0,6000,{"$f":"AccVelDataLink!A1751","v":1748},1747,1749,null,{"$f":"AccVelDataLink!G1751","v":6},"○","○"]
[1749,0,8000,{"$f":"AccVelDataLink!A1752","v":1749},1748,1750,null,{"$f":"AccVelDataLink!G1752","v":8},"○","○"]
[1750,0,10000,{"$f":"AccVelDataLink!A1753","v":1750},1749,1751,null,{"$f":"AccVelDataLink!G1753","v":10},"○","○"]
[1751,0,11000,{"$f":"AccVelDataLink!A1754","v":1751},1750,1752,null,{"$f":"AccVelDataLink!G1754","v":11},"○","○"]
[1752,0,12000,{"$f":"AccVelDataLink!A1755","v":1752},1751,1753,null,{"$f":"AccVelDataLink!G1755","v":12},"○","○"]
[1753,0,14000,{"$f":"AccVelDataLink!A1756","v":1753},1752,1754,null,{"$f":"AccVelDataLink!G1756","v":14},"○","○"]
[1754,0,15500,{"$f":"AccVelDataLink!A1757","v":1754},1753,1755,null,{"$f":"AccVelDataLink!G1757","v":15.5},"○","○"]
[1755,1,1500,{"$f":"AccVelDataLink!A1758","v":1755},1754,1756,{"$f":"AccVelDataLink!F1758","v":"RCS3CR-SS8C-150-30-垂直"},{"$f":"AccVelDataLink!G1758","v":1.5},"○","○"]
[1756,1,1750,{"$f":"AccVelDataLink!A1759","v":1756},1755,1757,null,{"$f":"AccVelDataLink!G1759","v":1.75},"○","○"]
[1757,1,2000,{"$f":"AccVelDataLink!A1760","v":1757},1756,1758,null,{"$f":"AccVelDataLink!G1760","v":2},"○","○"]
[1758,1,2500,{"$f":"AccVelDataLink!A1761","v":1758},1757,1759,null,{"$f":"AccVelDataLink!G1761","v":2.5},"○","○"]
[1759,1,3000,{"$f":"AccVelDataLink!A1762","v":1759},1758,-1,null,{"$f":"AccVelDataLink!G1762","v":3},"○","終端"]
[1760,0,65000,{"$f":"AccVelDataLink!A1763","v":1760},-1,{"$f":"A1764","v":1761},{"$f":"AccVelDataLink!F1763","v":"RCS3-SA8R-100-5-水平"},{"$f":"AccVelDataLink!G1763","v":65},"先頭","○"]
[1761,0,80000,{"$f":"AccVelDataLink!A1764","v":1761},{"$f":"A1763","v":1760},{"$f":"A1765","v":1762},null,{"$f":"AccVelDataLink!G1764","v":80},"○","○"]
[1762,0,104000,{"$f":"AccVelDataLink!A1765","v":1762},{"$f":"A1764","v":1761},{"$f":"A1766","v":1763},null,{"$f":"AccVelDataLink!G1765","v":104},"○","○"]
[1763,1,12000,{"$f":"AccVelDataLink!A1766","v":1763},{"$f":"A1765","v":1762},{"$f":"A1767","v":1764},{"$f":"AccVelDataLink!F1766","v":"RCS3-SA8R-100-5-垂直"},{"$f":"AccVelDataLink!G1766","v":12},"○","○"]
[1764,1,16000,{"$f":"AccVelDataLink!A1767","v":1764},{"$f":"A1766","v":1763},-1,null,{"$f":"AccVelDataLink!G1767","v":16},"○","終端"]
[1765,0,5500,{"$f":"AccVelDataLink!A1768","v":1765},-1,{"$f":"A1769","v":1766},{"$f":"AccVelDataLink!F1768","v":"RCS3-SA8R-100-10-水平"},{"$f":"AccVelDataLink!G1768","v":5.5},"先頭","○"]
[1766,0,10000,{"$f":"AccVelDataLink!A1769","v":1766},{"$f":"A1768","v":1765},1767,null,{"$f":"AccVelDataLink!G1769","v":10},"○","○"]
[1767,0,20000,{"$f":"AccVelDataLink!A1770","v":1767},1766,1768,null,{"$f":"AccVelDataLink!G1770","v":20},"○","○"]
[1768,0,28000,{"$f":"AccVelDataLink!A1771","v":1768},1767,1769,null,{"$f":"AccVelDataLink!G1771","v":28},"○","○"]
[1769,0,40000,{"$f":"AccVelDataLink!A1772","v":1769},1768,1770,null,{"$f":"AccVelDataLink!G1772","v":40},"○","○"]
[1770,0,46000,{"$f":"AccVelDataLink!A1773","v":1770},1769,1771,null,{"$f":"AccVelDataLink!G1773","v":46},"○","○"]
[1771,0,52000,{"$f":"AccVelDataLink!A1774","v":1771},1770,1772,null,{"$f":"AccVelDataLink!G1774","v":52},"○","○"]
[1772,1,1500,{"$f":"AccVelDataLink!A1775","v":1772},{"$f":"A1774","v":1771},{"$f":"A1776","v":1773},{"$f":"AccVelDataLink!F1775","v":"RCS3-SA8R-100-10-垂直"},{"$f":"AccVelDataLink!G1775","v":1.5},"○","○"]
[1773,1,2000,{"$f":"AccVelDataLink!A1776","v":1773},{"$f":"A1775","v":1772},{"$f":"A1777","v":1774},null,{"$f":"AccVelDataLink!G1776","v":2},"○","○"]
[1774,1,4000,{"$f":"AccVelDataLink!A1777","v":1774},{"$f":"A1776","v":1773},{"$f":"A1778","v":1775},null,{"$f":"AccVelDataLink!G1777","v":4},"○","○"]
[1775,1,5500,{"$f":"AccVelDataLink!A1778","v":1775},{"$f":"A1777","v":1774},{"$f":"A1779","v":1776},null,{"$f":"AccVelDataLink!G1778","v":5.5},"○","○"]
[1776,1,8000,{"$f":"AccVelDataLink!A1779","v":1776},{"$f":"A1778","v":1775},-1,null,{"$f":"AccVelDataLink!G1779","v":8},"○","終端"]
[1777,0,2000,{"$f":"AccVelDataLink!A1780","v":1777},-1,{"$f":"A1781","v":1778},{"$f":"AccVelDataLink!F1780","v":"RCS3-SA8R-100-20-水平"},{"$f":"AccVelDataLink!G1780","v":2},"先頭","○"]
[1778,0,2500,{"$f":"AccVelDataLink!A1781","v":1778},{"$f":"A1780","v":1777},1779,null,{"$f":"AccVelDataLink!G1781","v":2.5},"○","○"]
[1779,0,3000,{"$f":"AccVelDataLink!A1782","v":1779},1778,1780,null,{"$f":"AccVelDataLink!G1782","v":3},"○","○"]
[1780,0,5000,{"$f":"AccVelDataLink!A1783","v":1780},1779,1781,null,{"$f":"AccVelDataLink!G1783","v":5},"○","○"]
[1781,0,7000,{"$f":"AccVelDataLink!A1784","v":1781},1780,1782,null,{"$f":"AccVelDataLink!G1784","v":7},"○","○"]
[1782,0,10000,{"$f":"AccVelDataLink!A1785","v":1782},1781,1783,null,{"$f":"AccVelDataLink!G1785","v":10},"○","○"]
[1783,0,14000,{"$f":"AccVelDataLink!A1786","v":1783},1782,1784,null,{"$f":"AccVelDataLink!G1786","v":14},"○","○"]
[1784,0,20000,{"$f":"AccVelDataLink!A1787","v":1784},1783,1785,null,{"$f":"AccVelDataLink!G1787","v":20},"○","○"]
[1785,0,23000,{"$f":"AccVelDataLink!A1788","v":1785},1784,1786,null,{"$f":"AccVelDataLink!G1788","v":23},"○","○"]
[1786,0,26000,{"$f":"AccVelDataLink!A1789","v":1786},1785,1787,null,{"$f":"AccVelDataLink!G1789","v":26},"○","○"]
[1787,1,500,{"$f":"AccVelDataLink!A1790","v":1787},{"$f":"A1789","v":1786},{"$f":"A1791","v":1788},{"$f":"AccVelDataLink!F1790","v":"RCS3-SA8R-100-20-垂直"},{"$f":"AccVelDataLink!G1790","v":0.5},"○","○"]
[1788,1,750,{"$f":"AccVelDataLink!A1791","v":1788},1787,1789,null,{"$f":"AccVelDataLink!G1791","v":0.75},"○","○"]
[1789,1,1000,{"$f":"AccVelDataLink!A1792","v":1789},1788,1790,null,{"$f":"AccVelDataLink!G1792","v":1},"○","○"]
[1790,1,1500,{"$f":"AccVelDataLink!A1793","v":1790},1789,1791,null,{"$f":"AccVelDataLink!G1793","v":1.5},"○","○"]
[1791,1,1750,{"$f":"AccVelDataLink!A1794","v":1791},1790,1792,null,{"$f":"AccVelDataLink!G1794","v":1.75},"○","○"]
[1792,1,2000,{"$f":"AccVelDataLink!A1795","v":1792},1791,1793,null,{"$f":"AccVelDataLink!G1795","v":2},"○","○"]
[{"$f":"A1795+1","v":1793},1,{"$f":"H1796*$H$1","v":3000},{"$f":"AccVelDataLink!A1796","v":1793},1792,1794,null,{"$f":"AccVelDataLink!G1796","v":3},{"$f":"IF(E1796=A1795,\"○\",IF(G1796=0,\"つなぎまちがい\",\"先頭\"))","v":"○"},{"$f":"IF(F1796=A1797,\"○\",IF(F1796<>E1797,\"つなぎまちがい\",\"終端\"))","v":"○"}]
[1794,1,4000,{"$f":"AccVelDataLink!A1797","v":1794},1793,-1,null,{"$f":"AccVelDataLink!G1797","v":4},"○","終端"]
[1795,0,250,{"$f":"AccVelDataLink!A1798","v":1795},-1,{"$f":"A1799","v":1796},{"$f":"AccVelDataLink!F1798","v":"RCS3-SA8R-100-30-水平"},{"$f":"AccVelDataLink!G1798","v":0.25},"先頭","○"]
[1796,0,500,{"$f":"AccVelDataLink!A1799","v":1796},{"$f":"A1798","v":1795},1797,null,{"$f":"AccVelDataLink!G1799","v":0.5},"○","○"]
[1797,0,1000,{"$f":"AccVelDataLink!A1800","v":1797},1796,1798,null,{"$f":"AccVelDataLink!G1800","v":1},"○","○"]
[1798,0,2000,{"$f":"AccVelDataLink!A1801","v":1798},1797,1799,null,{"$f":"AccVelDataLink!G1801","v":2},"○","○"]
[1799,0,3000,{"$f":"AccVelDataLink!A1802","v":1799},1798,1800,null,{"$f":"AccVelDataLink!G1802","v":3},"○","○"]
[1800,0,4000,{"$f":"AccVelDataLink!A1803","v":1800},1799,1801,null,{"$f":"AccVelDataLink!G1803","v":4},"○","○"]
[1801,0,5000,{"$f":"AccVelDataLink!A1804","v":1801},1800,1802,null,{"$f":"AccVelDataLink!G1804","v":5},"○","○"]
[1802,0,6000,{"$f":"AccVelDataLink!A1805","v":1802},1801,1803,null,{"$f":"AccVelDataLink!G1805","v":6},"○","○"]
[1803,0,7000,{"$f":"AccVelDataLink!A1806","v":1803},1802,1804,null,{"$f":"AccVelDataLink!G1806","v":7},"○","○"]
[1804,0,8000,{"$f":"AccVelDataLink!A1807","v":1804},1803,1805,null,{"$f":"AccVelDataLink!G1807","v":8},"○","○"]
[1805,0,9000,{"$f":"AccVelDataLink!A1808","v":1805},1804,1806,null,{"$f":"AccVelDataLink!G1808","v":9},"○","○"]
[1806,0,10500,{"$f":"AccVelDataLink!A1809","v":1806},1805,1807,null,{"$f":"AccVelDataLink!G1809","v":10.5},"○","○"]
[1807,1,200,{"$f":"AccVelDataLink!A1810","v":1807},{"$f":"A1809","v":1806},{"$f":"A1811","v":1808},{"$f":"AccVelDataLink!F1810","v":"RCS3-SA8R-100-30-垂直"},{"$f":"AccVelDataLink!G1810","v":0.2},"○","○"]
[1808,1,300,{"$f":"AccVelDataLink!A1811","v":1808},1807,1809,null,{"$f":"AccVelDataLink!G1811","v":0.3},"○","○"]
[1809,1,400,{"$f":"AccVelDataLink!A1812","v":1809},1808,1810,null,{"$f":"AccVelDataLink!G1812","v":0.4},"○","○"]
[1810,1,500,{"$f":"AccVelDataLink!A1813","v":1810},1809,1811,null,{"$f":"AccVelDataLink!G1813","v":0.5},"○","○"]
[1811,1,700,{"$f":"AccVelDataLink!A1814","v":1811},1810,1812,null,{"$f":"AccVelDataLink!G1814","v":0.7},"○","○"]
[1812,1,1000,{"$f":"AccVelDataLink!A1815","v":1812},1811,1813,null,{"$f":"AccVelDataLink!G1815","v":1},"○","○"]
[1813,1,1200,{"$f":"AccVelDataLink!A1816","v":1813},1812,1814,null,{"$f":"AccVelDataLink!G1816","v":1.2},"○","○"]
[1814,1,1500,{"$f":"AccVelDataLink!A1817","v":1814},1813,1815,null,{"$f":"AccVelDataLink!G1817","v":1.5},"○","○"]
[1815,1,1750,{"$f":"AccVelDataLink!A1818","v":1815},1814,1816,null,{"$f":"AccVelDataLink!G1818","v":1.75},"○","○"]
[1816,1,2000,{"$f":"AccVelDataLink!A1819","v":1816},1815,-1,null,{"$f":"AccVelDataLink!G1819","v":2},"○","終端"]
[1817,0,8000,{"$f":"AccVelDataLink!A1820","v":1817},-1,{"$f":"A1821","v":1818},{"$f":"AccVelDataLink!F1820","v":"RCS3-SA8R-150-10-水平"},{"$f":"AccVelDataLink!G1820","v":8},"先頭","○"]
[1818,0,15000,{"$f":"AccVelDataLink!A1821","v":1818},{"$f":"A1820","v":1817},1819,null,{"$f":"AccVelDataLink!G1821","v":15},"○","○"]
[1819,0,30000,{"$f":"AccVelDataLink!A1822","v":1819},1818,1820,null,{"$f":"AccVelDataLink!G1822","v":30},"○","○"]
[1820,0,42000,{"$f":"AccVelDataLink!A1823","v":1820},1819,1821,null,{"$f":"AccVelDataLink!G1823","v":42},"○","○"]
[1821,0,60000,{"$f":"AccVelDataLink!A1824","v":1821},1820,1822,null,{"$f":"AccVelDataLink!G1824","v":60},"○","○"]
[1822,0,69000,{"$f":"AccVelDataLink!A1825","v":1822},1821,1823,null,{"$f":"AccVelDataLink!G1825","v":69},"○","○"]
[1823,0,78000,{"$f":"AccVelDataLink!A1826","v":1823},1822,1824,null,{"$f":"AccVelDataLink!G1826","v":78},"○","○"]
[1824,1,2000,{"$f":"AccVelDataLink!A1827","v":1824},{"$f":"A1826","v":1823},{"$f":"A1828","v":1825},{"$f":"AccVelDataLink!F1827","v":"RCS3-SA8R-150-10-垂直"},{"$f":"AccVelDataLink!G1827","v":2},"○","○"]
[1825,1,3000,{"$f":"AccVelDataLink!A1828","v":1825},{"$f":"A1827","v":1824},{"$f":"A1829","v":1826},null,{"$f":"AccVelDataLink!G1828","v":3},"○","○"]
[1826,1,6000,{"$f":"AccVelDataLink!A1829","v":1826},{"$f":"A1828","v":1825},{"$f":"A1830","v":1827},null,{"$f":"AccVelDataLink!G1829","v":6},"○","○"]
[1827,1,8500,{"$f":"AccVelDataLink!A1830","v":1827},{"$f":"A1829","v":1826},{"$f":"A1831","v":1828},null,{"$f":"AccVelDataLink!G1830","v":8.5},"○","○"]
[1828,1,12000,{"$f":"AccVelDataLink!A1831","v":1828},{"$f":"A1830","v":1827},-1,null,{"$f":"AccVelDataLink!G1831","v":12},"○","終端"]
[1829,0,2500,{"$f":"AccVelDataLink!A1832","v":1829},-1,{"$f":"A1833","v":1830},{"$f":"AccVelDataLink!F1832","v":"RCS3-SA8R-150-20-水平"},{"$f":"AccVelDataLink!G1832","v":2.5},"先頭","○"]
[1830,0,3500,{"$f":"AccVelDataLink!A1833","v":1830},{"$f":"A1832","v":1829},1831,null,{"$f":"AccVelDataLink!G1833","v":3.5},"○","○"]
[1831,0,4500,{"$f":"AccVelDataLink!A1834","v":1831},1830,1832,null,{"$f":"AccVelDataLink!G1834","v":4.5},"○","○"]
[1832,0,7500,{"$f":"AccVelDataLink!A1835","v":1832},1831,1833,null,{"$f":"AccVelDataLink!G1835","v":7.5},"○","○"]
[1833,0,11000,{"$f":"AccVelDataLink!A1836","v":1833},1832,1834,null,{"$f":"AccVelDataLink!G1836","v":11},"○","○"]
[1834,0,15000,{"$f":"AccVelDataLink!A1837","v":1834},1833,1835,null,{"$f":"AccVelDataLink!G1837","v":15},"○","○"]
[1835,0,21000,{"$f":"AccVelDataLink!A1838","v":1835},1834,1836,null,{"$f":"AccVelDataLink!G1838","v":21},"○","○"]
[1836,0,30000,{"$f":"AccVelDataLink!A1839","v":1836},1835,1837,null,{"$f":"AccVelDataLink!G1839","v":30},"○","○"]
[1837,0,34500,{"$f":"AccVelDataLink!A1840","v":1837},1836,1838,null,{"$f":"AccVelDataLink!G1840","v":34.5},"○","○"]
[1838,0,39000,{"$f":"AccVelDataLink!A1841","v":1838},1837,1839,null,{"$f":"AccVelDataLink!G1841","v":39},"○","○"]
[1839,1,800,{"$f":"AccVelDataLink!A1842","v":1839},{"$f":"A1841","v":1838},{"$f":"A1843","v":1840},{"$f":"AccVelDataLink!F1842","v":"RCS3-SA8R-150-20-垂直"},{"$f":"AccVelDataLink!G1842","v":0.8},"○","○"]
[1840,1,1000,{"$f":"AccVelDataLink!A1843","v":1840},1839,1841,null,{"$f":"AccVelDataLink!G1843","v":1},"○","○"]
[1841,1,1500,{"$f":"AccVelDataLink!A1844","v":1841},1840,1842,null,{"$f":"AccVelDataLink!G1844","v":1.5},"○","○"]
[1842,1,2000,{"$f":"AccVelDataLink!A1845","v":1842},1841,1843,null,{"$f":"AccVelDataLink!G1845","v":2},"○","○"]
[1843,1,2400,{"$f":"AccVelDataLink!A1846","v":1843},1842,1844,null,{"$f":"AccVelDataLink!G1846","v":2.4},"○","○"]
[1844,1,3000,{"$f":"AccVelDataLink!A1847","v":1844},1843,1845,null,{"$f":"AccVelDataLink!G1847","v":3},"○","○"]
[1845,1,4000,{"$f":"AccVelDataLink!A1848","v":1845},1844,1846,null,{"$f":"AccVelDataLink!G1848","v":4},"○","○"]
[1846,1,6000,{"$f":"AccVelDataLink!A1849","v":1846},1845,-1,null,{"$f":"AccVelDataLink!G1849","v":6},"○","終端"]
[1847,0,1000,{"$f":"AccVelDataLink!A1850","v":1847},-1,{"$f":"A1851","v":1848},{"$f":"AccVelDataLink!F1850","v":"RCS3-SA8R-150-30-水平"},{"$f":"AccVelDataLink!G1850","v":1},"先頭","○"]
[1848,0,1500,{"$f":"AccVelDataLink!A1851","v":1848},{"$f":"A1850","v":1847},1849,null,{"$f":"AccVelDataLink!G1851","v":1.5},"○","○"]
[1849,0,2000,{"$f":"AccVelDataLink!A1852","v":1849},1848,1850,null,{"$f":"AccVelDataLink!G1852","v":2},"○","○"]
[1850,0,3000,{"$f":"AccVelDataLink!A1853","v":1850},1849,1851,null,{"$f":"AccVelDataLink!G1853","v":3},"○","○"]
[1851,0,4500,{"$f":"AccVelDataLink!A1854","v":1851},1850,1852,null,{"$f":"AccVelDataLink!G1854","v":4.5},"○","○"]
[1852,0,6000,{"$f":"AccVelDataLink!A1855","v":1852},1851,1853,null,{"$f":"AccVelDataLink!G1855","v":6},"○","○"]
[1853,0,8000,{"$f":"AccVelDataLink!A1856","v":1853},1852,1854,null,{"$f":"AccVelDataLink!G1856","v":8},"○","○"]
[1854,0,10000,{"$f":"AccVelDataLink!A1857","v":1854},1853,1855,null,{"$f":"AccVelDataLink!G1857","v":10},"○","○"]
[1855,0,11000,{"$f":"AccVelDataLink!A1858","v":1855},1854,1856,null,{"$f":"AccVelDataLink!G1858","v":11},"○","○"]
[1856,0,12000,{"$f":"AccVelDataLink!A1859","v":1856},1855,1857,null,{"$f":"AccVelDataLink!G1859","v":12},"○","○"]
[{"$f":"A1859+1","v":1857},0,{"$f":"H1860*$H$1","v":13800},{"$f":"AccVelDataLink!A1860","v":1857},1856,1858,null,{"$f":"AccVelDataLink!G1860","v":13.8},{"$f":"IF(E1860=A1859,\"○\",IF(G1860=0,\"つなぎまちがい\",\"先頭\"))","v":"○"},{"$f":"IF(F1860=A1861,\"○\",IF(F1860<>E1861,\"つなぎまちがい\",\"終端\"))","v":"○"}]
[1858,0,15500,{"$f":"AccVelDataLink!A1861","v":1858},1857,1859,null,{"$f":"AccVelDataLink!G1861","v":15.5},"○","○"]
[1859,1,400,{"$f":"AccVelDataLink!A1862","v":1859},{"$f":"A1861","v":1858},{"$f":"A1863","v":1860},{"$f":"AccVelDataLink!F1862","v":"RCS3-SA8R-150-30-垂直"},{"$f":"AccVelDataLink!G1862","v":0.4},"○","○"]
[1860,1,500,{"$f":"AccVelDataLink!A1863","v":1860},1859,1861,null,{"$f":"AccVelDataLink!G1863","v":0.5},"○","○"]
[1861,1,600,{"$f":"AccVelDataLink!A1864","v":1861},1860,1862,null,{"$f":"AccVelDataLink!G1864","v":0.6},"○","○"]
[1862,1,800,{"$f":"AccVelDataLink!A1865","v":1862},1861,1863,null,{"$f":"AccVelDataLink!G1865","v":0.8},"○","○"]
[1863,1,1100,{"$f":"AccVelDataLink!A1866","v":1863},1862,1864,null,{"$f":"AccVelDataLink!G1866","v":1.1000000000000001},"○","○"]
[1864,1,1500,{"$f":"AccVelDataLink!A1867","v":1864},1863,1865,null,{"$f":"AccVelDataLink!G1867","v":1.5},"○","○"]
[1865,1,1750,{"$f":"AccVelDataLink!A1868","v":1865},1864,1866,null,{"$f":"AccVelDataLink!G1868","v":1.75},"○","○"]
[1866,1,2000,{"$f":"AccVelDataLink!A1869","v":1866},1865,1867,null,{"$f":"AccVelDataLink!G1869","v":2},"○","○"]
[1867,1,2500,{"$f":"AccVelDataLink!A1870","v":1867},1866,1868,null,{"$f":"AccVelDataLink!G1870","v":2.5},"○","○"]
[1868,1,3000,{"$f":"AccVelDataLink!A1871","v":1868},1867,-1,null,{"$f":"AccVelDataLink!G1871","v":3},"○","終端"]
[1869,0,65000,{"$f":"AccVelDataLink!A1872","v":1869},-1,{"$f":"A1873","v":1870},{"$f":"AccVelDataLink!F1872","v":"RCS3-SS8R-100-5-水平"},{"$f":"AccVelDataLink!G1872","v":65},"先頭","○"]
[1870,0,80000,{"$f":"AccVelDataLink!A1873","v":1870},{"$f":"A1872","v":1869},{"$f":"A1874","v":1871},null,{"$f":"AccVelDataLink!G1873","v":80},"○","○"]
[1871,0,104000,{"$f":"AccVelDataLink!A1874","v":1871},{"$f":"A1873","v":1870},{"$f":"A1875","v":1872},null,{"$f":"AccVelDataLink!G1874","v":104},"○","○"]
[1872,1,12000,{"$f":"AccVelDataLink!A1875","v":1872},{"$f":"A1874","v":1871},{"$f":"A1876","v":1873},{"$f":"AccVelDataLink!F1875","v":"RCS3-SS8R-100-5-垂直"},{"$f":"AccVelDataLink!G1875","v":12},"○","○"]
[1873,1,16000,{"$f":"AccVelDataLink!A1876","v":1873},{"$f":"A1875","v":1872},-1,null,{"$f":"AccVelDataLink!G1876","v":16},"○","終端"]
[1874,0,5500,{"$f":"AccVelDataLink!A1877","v":1874},-1,{"$f":"A1878","v":1875},{"$f":"AccVelDataLink!F1877","v":"RCS3-SS8R-100-10-水平"},{"$f":"AccVelDataLink!G1877","v":5.5},"先頭","○"]
[1875,0,10000,{"$f":"AccVelDataLink!A1878","v":1875},{"$f":"A1877","v":1874},1876,null,{"$f":"AccVelDataLink!G1878","v":10},"○","○"]
[1876,0,20000,{"$f":"AccVelDataLink!A1879","v":1876},1875,1877,null,{"$f":"AccVelDataLink!G1879","v":20},"○","○"]
[1877,0,28000,{"$f":"AccVelDataLink!A1880","v":1877},1876,1878,null,{"$f":"AccVelDataLink!G1880","v":28},"○","○"]
[1878,0,40000,{"$f":"AccVelDataLink!A1881","v":1878},1877,1879,null,{"$f":"AccVelDataLink!G1881","v":40},"○","○"]
[1879,0,46000,{"$f":"AccVelDataLink!A1882","v":1879},1878,1880,null,{"$f":"AccVelDataLink!G1882","v":46},"○","○"]
[1880,0,52000,{"$f":"AccVelDataLink!A1883","v":1880},1879,1881,null,{"$f":"AccVelDataLink!G1883","v":52},"○","○"]
[1881,1,1500,{"$f":"AccVelDataLink!A1884","v":1881},{"$f":"A1883","v":1880},{"$f":"A1885","v":1882},{"$f":"AccVelDataLink!F1884","v":"RCS3-SS8R-100-10-垂直"},{"$f":"AccVelDataLink!G1884","v":1.5},"○","○"]
[1882,1,2000,{"$f":"AccVelDataLink!A1885","v":1882},{"$f":"A1884","v":1881},{"$f":"A1886","v":1883},null,{"$f":"AccVelDataLink!G1885","v":2},"○","○"]
[1883,1,4000,{"$f":"AccVelDataLink!A1886","v":1883},{"$f":"A1885","v":1882},{"$f":"A1887","v":1884},null,{"$f":"AccVelDataLink!G1886","v":4},"○","○"]
[1884,1,5500,{"$f":"AccVelDataLink!A1887","v":1884},{"$f":"A1886","v":1883},{"$f":"A1888","v":1885},null,{"$f":"AccVelDataLink!G1887","v":5.5},"○","○"]
[1885,1,8000,{"$f":"AccVelDataLink!A1888","v":1885},{"$f":"A1887","v":1884},-1,null,{"$f":"AccVelDataLink!G1888","v":8},"○","終端"]
[1886,0,2000,{"$f":"AccVelDataLink!A1889","v":1886},-1,{"$f":"A1890","v":1887},{"$f":"AccVelDataLink!F1889","v":"RCS3-SS8R-100-20-水平"},{"$f":"AccVelDataLink!G1889","v":2},"先頭","○"]
[1887,0,2500,{"$f":"AccVelDataLink!A1890","v":1887},{"$f":"A1889","v":1886},1888,null,{"$f":"AccVelDataLink!G1890","v":2.5},"○","○"]
[1888,0,3000,{"$f":"AccVelDataLink!A1891","v":1888},1887,1889,null,{"$f":"AccVelDataLink!G1891","v":3},"○","○"]
[1889,0,5000,{"$f":"AccVelDataLink!A1892","v":1889},1888,1890,null,{"$f":"AccVelDataLink!G1892","v":5},"○","○"]
[1890,0,7000,{"$f":"AccVelDataLink!A1893","v":1890},1889,1891,null,{"$f":"AccVelDataLink!G1893","v":7},"○","○"]
[1891,0,10000,{"$f":"AccVelDataLink!A1894","v":1891},1890,1892,null,{"$f":"AccVelDataLink!G1894","v":10},"○","○"]
[1892,0,14000,{"$f":"AccVelDataLink!A1895","v":1892},1891,1893,null,{"$f":"AccVelDataLink!G1895","v":14},"○","○"]
[1893,0,20000,{"$f":"AccVelDataLink!A1896","v":1893},1892,1894,null,{"$f":"AccVelDataLink!G1896","v":20},"○","○"]
[1894,0,23000,{"$f":"AccVelDataLink!A1897","v":1894},1893,1895,null,{"$f":"AccVelDataLink!G1897","v":23},"○","○"]
[1895,0,26000,{"$f":"AccVelDataLink!A1898","v":1895},1894,1896,null,{"$f":"AccVelDataLink!G1898","v":26},"○","○"]
[1896,1,500,{"$f":"AccVelDataLink!A1899","v":1896},{"$f":"A1898","v":1895},{"$f":"A1900","v":1897},{"$f":"AccVelDataLink!F1899","v":"RCS3-SS8R-100-20-垂直"},{"$f":"AccVelDataLink!G1899","v":0.5},"○","○"]
[1897,1,750,{"$f":"AccVelDataLink!A1900","v":1897},1896,1898,null,{"$f":"AccVelDataLink!G1900","v":0.75},"○","○"]
[1898,1,1000,{"$f":"AccVelDataLink!A1901","v":1898},1897,1899,null,{"$f":"AccVelDataLink!G1901","v":1},"○","○"]
[1899,1,1500,{"$f":"AccVelDataLink!A1902","v":1899},1898,1900,null,{"$f":"AccVelDataLink!G1902","v":1.5},"○","○"]
[1900,1,1750,{"$f":"AccVelDataLink!A1903","v":1900},1899,1901,null,{"$f":"AccVelDataLink!G1903","v":1.75},"○","○"]
[1901,1,2000,{"$f":"AccVelDataLink!A1904","v":1901},1900,1902,null,{"$f":"AccVelDataLink!G1904","v":2},"○","○"]
[1902,1,3000,{"$f":"AccVelDataLink!A1905","v":1902},1901,1903,null,{"$f":"AccVelDataLink!G1905","v":3},"○","○"]
[1903,1,4000,{"$f":"AccVelDataLink!A1906","v":1903},1902,-1,null,{"$f":"AccVelDataLink!G1906","v":4},"○","終端"]
[1904,0,250,{"$f":"AccVelDataLink!A1907","v":1904},-1,{"$f":"A1908","v":1905},{"$f":"AccVelDataLink!F1907","v":"RCS3-SS8R-100-30-水平"},{"$f":"AccVelDataLink!G1907","v":0.25},"先頭","○"]
[1905,0,500,{"$f":"AccVelDataLink!A1908","v":1905},{"$f":"A1907","v":1904},1906,null,{"$f":"AccVelDataLink!G1908","v":0.5},"○","○"]
[1906,0,1000,{"$f":"AccVelDataLink!A1909","v":1906},1905,1907,null,{"$f":"AccVelDataLink!G1909","v":1},"○","○"]
[1907,0,2000,{"$f":"AccVelDataLink!A1910","v":1907},1906,1908,null,{"$f":"AccVelDataLink!G1910","v":2},"○","○"]
[1908,0,3000,{"$f":"AccVelDataLink!A1911","v":1908},1907,1909,null,{"$f":"AccVelDataLink!G1911","v":3},"○","○"]
[1909,0,4000,{"$f":"AccVelDataLink!A1912","v":1909},1908,1910,null,{"$f":"AccVelDataLink!G1912","v":4},"○","○"]
[1910,0,5000,{"$f":"AccVelDataLink!A1913","v":1910},1909,1911,null,{"$f":"AccVelDataLink!G1913","v":5},"○","○"]
[1911,0,6000,{"$f":"AccVelDataLink!A1914","v":1911},1910,1912,null,{"$f":"AccVelDataLink!G1914","v":6},"○","○"]
[1912,0,7000,{"$f":"AccVelDataLink!A1915","v":1912},1911,1913,null,{"$f":"AccVelDataLink!G1915","v":7},"○","○"]
[1913,0,8000,{"$f":"AccVelDataLink!A1916","v":1913},1912,1914,null,{"$f":"AccVelDataLink!G1916","v":8},"○","○"]
[1914,0,9000,{"$f":"AccVelDataLink!A1917","v":1914},1913,1915,null,{"$f":"AccVelDataLink!G1917","v":9},"○","○"]
[1915,0,10500,{"$f":"AccVelDataLink!A1918","v":1915},1914,1916,null,{"$f":"AccVelDataLink!G1918","v":10.5},"○","○"]
[1916,1,200,{"$f":"AccVelDataLink!A1919","v":1916},{"$f":"A1918","v":1915},{"$f":"A1920","v":1917},{"$f":"AccVelDataLink!F1919","v":"RCS3-SS8R-100-30-垂直"},{"$f":"AccVelDataLink!G1919","v":0.2},"○","○"]
[1917,1,300,{"$f":"AccVelDataLink!A1920","v":1917},1916,1918,null,{"$f":"AccVelDataLink!G1920","v":0.3},"○","○"]
[1918,1,400,{"$f":"AccVelDataLink!A1921","v":1918},1917,1919,null,{"$f":"AccVelDataLink!G1921","v":0.4},"○","○"]
[1919,1,500,{"$f":"AccVelDataLink!A1922","v":1919},1918,1920,null,{"$f":"AccVelDataLink!G1922","v":0.5},"○","○"]
[1920,1,700,{"$f":"AccVelDataLink!A1923","v":1920},1919,1921,null,{"$f":"AccVelDataLink!G1923","v":0.7},"○","○"]
[{"$f":"A1923+1","v":1921},1,{"$f":"H1924*$H$1","v":1000},{"$f":"AccVelDataLink!A1924","v":1921},1920,1922,null,{"$f":"AccVelDataLink!G1924","v":1},{"$f":"IF(E1924=A1923,\"○\",IF(G1924=0,\"つなぎまちがい\",\"先頭\"))","v":"○"},{"$f":"IF(F1924=A1925,\"○\",IF(F1924<>E1925,\"つなぎまちがい\",\"終端\"))","v":"○"}]
[1922,1,1200,{"$f":"AccVelDataLink!A1925","v":1922},1921,1923,null,{"$f":"AccVelDataLink!G1925","v":1.2},"○","○"]
[1923,1,1500,{"$f":"AccVelDataLink!A1926","v":1923},1922,1924,null,{"$f":"AccVelDataLink!G1926","v":1.5},"○","○"]
[1924,1,1750,{"$f":"AccVelDataLink!A1927","v":1924},1923,1925,null,{"$f":"AccVelDataLink!G1927","v":1.75},"○","○"]
[1925,1,2000,{"$f":"AccVelDataLink!A1928","v":1925},1924,-1,null,{"$f":"AccVelDataLink!G1928","v":2},"○","終端"]
[1926,0,8000,{"$f":"AccVelDataLink!A1929","v":1926},-1,{"$f":"A1930","v":1927},{"$f":"AccVelDataLink!F1929","v":"RCS3-SS8R-150-10-水平"},{"$f":"AccVelDataLink!G1929","v":8},"先頭","○"]
[1927,0,15000,{"$f":"AccVelDataLink!A1930","v":1927},{"$f":"A1929","v":1926},1928,null,{"$f":"AccVelDataLink!G1930","v":15},"○","○"]
[1928,0,30000,{"$f":"AccVelDataLink!A1931","v":1928},1927,1929,null,{"$f":"AccVelDataLink!G1931","v":30},"○","○"]
[1929,0,42000,{"$f":"AccVelDataLink!A1932","v":1929},1928,1930,null,{"$f":"AccVelDataLink!G1932","v":42},"○","○"]
[1930,0,60000,{"$f":"AccVelDataLink!A1933","v":1930},1929,1931,null,{"$f":"AccVelDataLink!G1933","v":60},"○","○"]
[1931,0,69000,{"$f":"AccVelDataLink!A1934","v":1931},1930,1932,null,{"$f":"AccVelDataLink!G1934","v":69},"○","○"]
[1932,0,78000,{"$f":"AccVelDataLink!A1935","v":1932},1931,1933,null,{"$f":"AccVelDataLink!G1935","v":78},"○","○"]
[1933,1,2000,{"$f":"AccVelDataLink!A1936","v":1933},{"$f":"A1935","v":1932},{"$f":"A1937","v":1934},{"$f":"AccVelDataLink!F1937","v":"RCS3-SS8R-150-10-垂直"},{"$f":"AccVelDataLink!G1936","v":2},"○","○"]
[1934,1,3000,{"$f":"AccVelDataLink!A1937","v":1934},{"$f":"A1936","v":1933},{"$f":"A1938","v":1935},null,{"$f":"AccVelDataLink!G1937","v":3},"○","○"]
[1935,1,6000,{"$f":"AccVelDataLink!A1938","v":1935},{"$f":"A1937","v":1934},{"$f":"A1939","v":1936},null,{"$f":"AccVelDataLink!G1938","v":6},"○","○"]
[1936,1,8500,{"$f":"AccVelDataLink!A1939","v":1936},{"$f":"A1938","v":1935},{"$f":"A1940","v":1937},null,{"$f":"AccVelDataLink!G1939","v":8.5},"○","○"]
[1937,1,12000,{"$f":"AccVelDataLink!A1940","v":1937},{"$f":"A1939","v":1936},-1,null,{"$f":"AccVelDataLink!G1940","v":12},"○","終端"]
[1938,0,2500,{"$f":"AccVelDataLink!A1941","v":1938},-1,{"$f":"A1942","v":1939},{"$f":"AccVelDataLink!F1941","v":"RCS3-SS8R-150-20-水平"},{"$f":"AccVelDataLink!G1941","v":2.5},"先頭","○"]
[1939,0,3500,{"$f":"AccVelDataLink!A1942","v":1939},{"$f":"A1941","v":1938},1940,null,{"$f":"AccVelDataLink!G1942","v":3.5},"○","○"]
[1940,0,4500,{"$f":"AccVelDataLink!A1943","v":1940},1939,1941,null,{"$f":"AccVelDataLink!G1943","v":4.5},"○","○"]
[1941,0,7500,{"$f":"AccVelDataLink!A1944","v":1941},1940,1942,null,{"$f":"AccVelDataLink!G1944","v":7.5},"○","○"]
[1942,0,11000,{"$f":"AccVelDataLink!A1945","v":1942},1941,1943,null,{"$f":"AccVelDataLink!G1945","v":11},"○","○"]
[1943,0,15000,{"$f":"AccVelDataLink!A1946","v":1943},1942,1944,null,{"$f":"AccVelDataLink!G1946","v":15},"○","○"]
[1944,0,21000,{"$f":"AccVelDataLink!A1947","v":1944},1943,1945,null,{"$f":"AccVelDataLink!G1947","v":21},"○","○"]
[1945,0,30000,{"$f":"AccVelDataLink!A1948","v":1945},1944,1946,null,{"$f":"AccVelDataLink!G1948","v":30},"○","○"]
[1946,0,34500,{"$f":"AccVelDataLink!A1949","v":1946},1945,1947,null,{"$f":"AccVelDataLink!G1949","v":34.5},"○","○"]
[1947,0,39000,{"$f":"AccVelDataLink!A1950","v":1947},1946,1948,null,{"$f":"AccVelDataLink!G1950","v":39},"○","○"]
[1948,1,800,{"$f":"AccVelDataLink!A1951","v":1948},{"$f":"A1950","v":1947},{"$f":"A1952","v":1949},{"$f":"AccVelDataLink!F1951","v":"RCS3-SS8R-150-20-垂直"},{"$f":"AccVelDataLink!G1951","v":0.8},"○","○"]
[1949,1,1000,{"$f":"AccVelDataLink!A1952","v":1949},1948,1950,null,{"$f":"AccVelDataLink!G1952","v":1},"○","○"]
[1950,1,1500,{"$f":"AccVelDataLink!A1953","v":1950},1949,1951,null,{"$f":"AccVelDataLink!G1953","v":1.5},"○","○"]
[1951,1,2000,{"$f":"AccVelDataLink!A1954","v":1951},1950,1952,null,{"$f":"AccVelDataLink!G1954","v":2},"○","○"]
[1952,1,2400,{"$f":"AccVelDataLink!A1955","v":1952},1951,1953,null,{"$f":"AccVelDataLink!G1955","v":2.4},"○","○"]
[1953,1,3000,{"$f":"AccVelDataLink!A1956","v":1953},1952,1954,null,{"$f":"AccVelDataLink!G1956","v":3},"○","○"]
[1954,1,4000,{"$f":"AccVelDataLink!A1957","v":1954},1953,1955,null,{"$f":"AccVelDataLink!G1957","v":4},"○","○"]
[1955,1,6000,{"$f":"AccVelDataLink!A1958","v":1955},1954,-1,null,{"$f":"AccVelDataLink!G1958","v":6},"○","終端"]
[1956,0,1000,{"$f":"AccVelDataLink!A1959","v":1956},-1,{"$f":"A1960","v":1957},{"$f":"AccVelDataLink!F1959","v":"RCS3-SS8R-150-30-水平"},{"$f":"AccVelDataLink!G1959","v":1},"先頭","○"]
[1957,0,1500,{"$f":"AccVelDataLink!A1960","v":1957},{"$f":"A1959","v":1956},1958,null,{"$f":"AccVelDataLink!G1960","v":1.5},"○","○"]
[1958,0,2000,{"$f":"AccVelDataLink!A1961","v":1958},1957,1959,null,{"$f":"AccVelDataLink!G1961","v":2},"○","○"]
[1959,0,3000,{"$f":"AccVelDataLink!A1962","v":1959},1958,1960,null,{"$f":"AccVelDataLink!G1962","v":3},"○","○"]
[1960,0,4500,{"$f":"AccVelDataLink!A1963","v":1960},1959,1961,null,{"$f":"AccVelDataLink!G1963","v":4.5},"○","○"]
[1961,0,6000,{"$f":"AccVelDataLink!A1964","v":1961},1960,1962,null,{"$f":"AccVelDataLink!G1964","v":6},"○","○"]
[1962,0,8000,{"$f":"AccVelDataLink!A1965","v":1962},1961,1963,null,{"$f":"AccVelDataLink!G1965","v":8},"○","○"]
[1963,0,10000,{"$f":"AccVelDataLink!A1966","v":1963},1962,1964,null,{"$f":"AccVelDataLink!G1966","v":10},"○","○"]
[1964,0,11000,{"$f":"AccVelDataLink!A1967","v":1964},1963,1965,null,{"$f":"AccVelDataLink!G1967","v":11},"○","○"]
[1965,0,12000,{"$f":"AccVelDataLink!A1968","v":1965},1964,1966,null,{"$f":"AccVelDataLink!G1968","v":12},"○","○"]
[1966,0,13800,{"$f":"AccVelDataLink!A1969","v":1966},1965,1967,null,{"$f":"AccVelDataLink!G1969","v":13.8},"○","○"]
[1967,0,15500,{"$f":"AccVelDataLink!A1970","v":1967},1966,1968,null,{"$f":"AccVelDataLink!G1970","v":15.5},"○","○"]
[1968,1,400,{"$f":"AccVelDataLink!A1971","v":1968},{"$f":"A1970","v":1967},{"$f":"A1972","v":1969},{"$f":"AccVelDataLink!F1971","v":"RCS3-SS8R-150-30-垂直"},{"$f":"AccVelDataLink!G1971","v":0.4},"○","○"]
[1969,1,500,{"$f":"AccVelDataLink!A1972","v":1969},1968,1970,null,{"$f":"AccVelDataLink!G1972","v":0.5},"○","○"]
[1970,1,600,{"$f":"AccVelDataLink!A1973","v":1970},1969,1971,null,{"$f":"AccVelDataLink!G1973","v":0.6},"○","○"]
[1971,1,800,{"$f":"AccVelDataLink!A1974","v":1971},1970,1972,null,{"$f":"AccVelDataLink!G1974","v":0.8},"○","○"]
[1972,1,1100,{"$f":"AccVelDataLink!A1975","v":1972},1971,1973,null,{"$f":"AccVelDataLink!G1975","v":1.1000000000000001},"○","○"]
[1973,1,1500,{"$f":"AccVelDataLink!A1976","v":1973},1972,1974,null,{"$f":"AccVelDataLink!G1976","v":1.5},"○","○"]
[1974,1,1750,{"$f":"AccVelDataLink!A1977","v":1974},1973,1975,null,{"$f":"AccVelDataLink!G1977","v":1.75},"○","○"]
[1975,1,2000,{"$f":"AccVelDataLink!A1978","v":1975},1974,1976,null,{"$f":"AccVelDataLink!G1978","v":2},"○","○"]
[1976,1,2500,{"$f":"AccVelDataLink!A1979","v":1976},1975,1977,null,{"$f":"AccVelDataLink!G1979","v":2.5},"○","○"]
[1977,1,3000,{"$f":"AccVelDataLink!A1980","v":1977},1976,-1,null,{"$f":"AccVelDataLink!G1980","v":3},"○","終端"]
[1978,0,1000,{"$f":"AccVelDataLink!A1981","v":1978},-1,{"$f":"A1982","v":1979},{"$f":"AccVelDataLink!F1981","v":"RCS2-SA4C-20-2.5-水平"},{"$f":"AccVelDataLink!G1981","v":1},"先頭","○"]
[1979,0,2500,{"$f":"AccVelDataLink!A1982","v":1979},{"$f":"A1981","v":1978},1980,null,{"$f":"AccVelDataLink!G1982","v":2.5},"○","○"]
[1980,0,5000,{"$f":"AccVelDataLink!A1983","v":1980},1979,1981,null,{"$f":"AccVelDataLink!G1983","v":5},"○","○"]
[1981,0,8000,{"$f":"AccVelDataLink!A1984","v":1981},1980,1982,null,{"$f":"AccVelDataLink!G1984","v":8},"○","○"]
[1982,0,11000,{"$f":"AccVelDataLink!A1985","v":1982},1981,1983,null,{"$f":"AccVelDataLink!G1985","v":11},"○","○"]
[1983,1,2000,{"$f":"AccVelDataLink!A1986","v":1983},1982,1984,{"$f":"AccVelDataLink!F1986","v":"RCS2-SA4C-20-2.5-垂直"},{"$f":"AccVelDataLink!G1986","v":2},"○","○"]
[1984,1,4500,{"$f":"AccVelDataLink!A1987","v":1984},1983,-1,null,{"$f":"AccVelDataLink!G1987","v":4.5},"○","終端"]
[{"$f":"A1987+1","v":1985},0,{"$f":"H1988*$H$1","v":400},{"$f":"AccVelDataLink!A1988","v":1985},-1,{"$f":"A1989","v":1986},{"$f":"AccVelDataLink!F1988","v":"RCS2-SA4C-20-5-水平"},{"$f":"AccVelDataLink!G1988","v":0.4},{"$f":"IF(E1988=A1987,\"○\",IF(G1988=0,\"つなぎまちがい\",\"先頭\"))","v":"先頭"},{"$f":"IF(F1988=A1989,\"○\",IF(F1988<>E1989,\"つなぎまちがい\",\"終端\"))","v":"○"}]
[1986,0,700,{"$f":"AccVelDataLink!A1989","v":1986},{"$f":"A1988","v":1985},1987,null,{"$f":"AccVelDataLink!G1989","v":0.7},"○","○"]
[1987,0,1000,{"$f":"AccVelDataLink!A1990","v":1987},1986,1988,null,{"$f":"AccVelDataLink!G1990","v":1},"○","○"]
[1988,0,1500,{"$f":"AccVelDataLink!A1991","v":1988},1987,1989,null,{"$f":"AccVelDataLink!G1991","v":1.5},"○","○"]
[1989,0,2000,{"$f":"AccVelDataLink!A1992","v":1989},1988,1990,null,{"$f":"AccVelDataLink!G1992","v":2},"○","○"]
[1990,0,2500,{"$f":"AccVelDataLink!A1993","v":1990},1989,1991,null,{"$f":"AccVelDataLink!G1993","v":2.5},"○","○"]
[1991,0,3250,{"$f":"AccVelDataLink!A1994","v":1991},1990,1992,null,{"$f":"AccVelDataLink!G1994","v":3.25},"○","○"]
[1992,0,4000,{"$f":"AccVelDataLink!A1995","v":1992},1991,1993,null,{"$f":"AccVelDataLink!G1995","v":4},"○","○"]
[1993,0,5000,{"$f":"AccVelDataLink!A1996","v":1993},1992,1994,null,{"$f":"AccVelDataLink!G1996","v":5},"○","○"]
[1994,0,6000,{"$f":"AccVelDataLink!A1997","v":1994},1993,1995,null,{"$f":"AccVelDataLink!G1997","v":6},"○","○"]
[1995,0,7200,{"$f":"AccVelDataLink!A1998","v":1995},1994,1996,null,{"$f":"AccVelDataLink!G1998","v":7.2},"○","○"]
[1996,0,8500,{"$f":"AccVelDataLink!A1999","v":1996},1995,{"$f":"A2000","v":1997},null,{"$f":"AccVelDataLink!G1999","v":8.5},"○","○"]
[1997,1,500,{"$f":"AccVelDataLink!A2000","v":1997},{"$f":"A1999","v":1996},1998,{"$f":"AccVelDataLink!F2000","v":"RCS2-SA4C-20-5-垂直"},{"$f":"AccVelDataLink!G2000","v":0.5},"○","○"]
[1998,1,600,{"$f":"AccVelDataLink!A2001","v":1998},1997,1999,null,{"$f":"AccVelDataLink!G2001","v":0.6},"○","○"]
[1999,1,800,{"$f":"AccVelDataLink!A2002","v":1999},1998,2000,null,{"$f":"AccVelDataLink!G2002","v":0.8},"○","○"]
[2000,1,1000,{"$f":"AccVelDataLink!A2003","v":2000},1999,2001,null,{"$f":"AccVelDataLink!G2003","v":1},"○","○"]
[2001,1,1200,{"$f":"AccVelDataLink!A2004","v":2001},2000,2002,null,{"$f":"AccVelDataLink!G2004","v":1.2},"○","○"]
[2002,1,1500,{"$f":"AccVelDataLink!A2005","v":2002},2001,2003,null,{"$f":"AccVelDataLink!G2005","v":1.5},"○","○"]
[2003,1,1900,{"$f":"AccVelDataLink!A2006","v":2003},2002,2004,null,{"$f":"AccVelDataLink!G2006","v":1.9},"○","○"]
[2004,1,2500,{"$f":"AccVelDataLink!A2007","v":2004},2003,-1,null,{"$f":"AccVelDataLink!G2007","v":2.5},"○","終端"]
[2005,0,500,{"$f":"AccVelDataLink!A2008","v":2005},-1,{"$f":"A2009","v":2006},{"$f":"AccVelDataLink!F2008","v":"RCS2-SA4C-20-10-水平"},{"$f":"AccVelDataLink!G2008","v":0.5},"先頭","○"]
[2006,0,550,{"$f":"AccVelDataLink!A2009","v":2006},{"$f":"A2008","v":2005},2007,null,{"$f":"AccVelDataLink!G2009","v":0.55000000000000004},"○","○"]
[2007,0,600,{"$f":"AccVelDataLink!A2010","v":2007},2006,2008,null,{"$f":"AccVelDataLink!G2010","v":0.6},"○","○"]
[2008,0,650,{"$f":"AccVelDataLink!A2011","v":2008},2007,2009,null,{"$f":"AccVelDataLink!G2011","v":0.65},"○","○"]
[2009,0,700,{"$f":"AccVelDataLink!A2012","v":2009},2008,2010,null,{"$f":"AccVelDataLink!G2012","v":0.7},"○","○"]
[2010,0,800,{"$f":"AccVelDataLink!A2013","v":2010},2009,2011,null,{"$f":"AccVelDataLink!G2013","v":0.8},"○","○"]
[2011,0,900,{"$f":"AccVelDataLink!A2014","v":2011},2010,2012,null,{"$f":"AccVelDataLink!G2014","v":0.9},"○","○"]
[2012,0,1200,{"$f":"AccVelDataLink!A2015","v":2012},2011,2013,null,{"$f":"AccVelDataLink!G2015","v":1.2},"○","○"]
[2013,0,1500,{"$f":"AccVelDataLink!A2016","v":2013},2012,2014,null,{"$f":"AccVelDataLink!G2016","v":1.5},"○","○"]
[2014,0,2000,{"$f":"AccVelDataLink!A2017","v":2014},2013,2015,null,{"$f":"AccVelDataLink!G2017","v":2},"○","○"]
[2015,0,2500,{"$f":"AccVelDataLink!A2018","v":2015},2014,2016,null,{"$f":"AccVelDataLink!G2018","v":2.5},"○","○"]
[2016,0,3250,{"$f":"AccVelDataLink!A2019","v":2016},2015,2017,null,{"$f":"AccVelDataLink!G2019","v":3.25},"○","○"]
[2017,0,4000,{"$f":"AccVelDataLink!A2020","v":2017},2016,2018,null,{"$f":"AccVelDataLink!G2020","v":4},"○","○"]
[2018,0,4800,{"$f":"AccVelDataLink!A2021","v":2018},2017,2019,null,{"$f":"AccVelDataLink!G2021","v":4.8},"○","○"]
[2019,0,5500,{"$f":"AccVelDataLink!A2022","v":2019},2018,{"$f":"A2023","v":2020},null,{"$f":"AccVelDataLink!G2022","v":5.5},"○","○"]
[2020,1,100,{"$f":"AccVelDataLink!A2023","v":2020},{"$f":"A2022","v":2019},2021,{"$f":"AccVelDataLink!F2023","v":"RCS2-SA4C-20-10-垂直"},{"$f":"AccVelDataLink!G2023","v":0.1},"○","○"]
[2021,1,120,{"$f":"AccVelDataLink!A2024","v":2021},2020,2022,null,{"$f":"AccVelDataLink!G2024","v":0.12},"○","○"]
[2022,1,140,{"$f":"AccVelDataLink!A2025","v":2022},2021,2023,null,{"$f":"AccVelDataLink!G2025","v":0.14000000000000001},"○","○"]
[2023,1,170,{"$f":"AccVelDataLink!A2026","v":2023},2022,2024,null,{"$f":"AccVelDataLink!G2026","v":0.17},"○","○"]
[2024,1,210,{"$f":"AccVelDataLink!A2027","v":2024},2023,2025,null,{"$f":"AccVelDataLink!G2027","v":0.21},"○","○"]
[2025,1,250,{"$f":"AccVelDataLink!A2028","v":2025},2024,2026,null,{"$f":"AccVelDataLink!G2028","v":0.25},"○","○"]
[2026,1,320,{"$f":"AccVelDataLink!A2029","v":2026},2025,2027,null,{"$f":"AccVelDataLink!G2029","v":0.32},"○","○"]
[2027,1,400,{"$f":"AccVelDataLink!A2030","v":2027},2026,2028,null,{"$f":"AccVelDataLink!G2030","v":0.4},"○","○"]
[2028,1,500,{"$f":"AccVelDataLink!A2031","v":2028},2027,2029,null,{"$f":"AccVelDataLink!G2031","v":0.5},"○","○"]
[2029,1,600,{"$f":"AccVelDataLink!A2032","v":2029},2028,2030,null,{"$f":"AccVelDataLink!G2032","v":0.6},"○","○"]
[2030,1,700,{"$f":"AccVelDataLink!A2033","v":2030},2029,2031,null,{"$f":"AccVelDataLink!G2033","v":0.7},"○","○"]
[2031,1,850,{"$f":"AccVelDataLink!A2034","v":2031},2030,2032,null,{"$f":"AccVelDataLink!G2034","v":0.85},"○","○"]
[2032,1,1000,{"$f":"AccVelDataLink!A2035","v":2032},2031,-1,null,{"$f":"AccVelDataLink!G2035","v":1},"○","終端"]
[2033,0,200,{"$f":"AccVelDataLink!A2036","v":2033},-1,{"$f":"A2037","v":2034},{"$f":"AccVelDataLink!F2036","v":"RCS2-SA4C-20-16-水平"},{"$f":"AccVelDataLink!G2036","v":0.2},"先頭","○"]
[2034,0,215,{"$f":"AccVelDataLink!A2037","v":2034},{"$f":"A2036","v":2033},2035,null,{"$f":"AccVelDataLink!G2037","v":0.215},"○","○"]
[2035,0,230,{"$f":"AccVelDataLink!A2038","v":2035},2034,2036,null,{"$f":"AccVelDataLink!G2038","v":0.23},"○","○"]
[2036,0,250,{"$f":"AccVelDataLink!A2039","v":2036},2035,2037,null,{"$f":"AccVelDataLink!G2039","v":0.25},"○","○"]
[2037,0,270,{"$f":"AccVelDataLink!A2040","v":2037},2036,2038,null,{"$f":"AccVelDataLink!G2040","v":0.27},"○","○"]
[2038,0,300,{"$f":"AccVelDataLink!A2041","v":2038},2037,2039,null,{"$f":"AccVelDataLink!G2041","v":0.3},"○","○"]
[2039,0,320,{"$f":"AccVelDataLink!A2042","v":2039},2038,2040,null,{"$f":"AccVelDataLink!G2042","v":0.32},"○","○"]
[2040,0,360,{"$f":"AccVelDataLink!A2043","v":2040},2039,2041,null,{"$f":"AccVelDataLink!G2043","v":0.36},"○","○"]
[2041,0,400,{"$f":"AccVelDataLink!A2044","v":2041},2040,2042,null,{"$f":"AccVelDataLink!G2044","v":0.4},"○","○"]
[2042,0,440,{"$f":"AccVelDataLink!A2045","v":2042},2041,2043,null,{"$f":"AccVelDataLink!G2045","v":0.44},"○","○"]
[2043,0,500,{"$f":"AccVelDataLink!A2046","v":2043},2042,2044,null,{"$f":"AccVelDataLink!G2046","v":0.5},"○","○"]
[2044,0,650,{"$f":"AccVelDataLink!A2047","v":2044},2043,2045,null,{"$f":"AccVelDataLink!G2047","v":0.65},"○","○"]
[2045,0,800,{"$f":"AccVelDataLink!A2048","v":2045},2044,2046,null,{"$f":"AccVelDataLink!G2048","v":0.8},"○","○"]
[2046,0,1000,{"$f":"AccVelDataLink!A2049","v":2046},2045,2047,null,{"$f":"AccVelDataLink!G2049","v":1},"○","○"]
[2047,0,1200,{"$f":"AccVelDataLink!A2050","v":2047},2046,2048,null,{"$f":"AccVelDataLink!G2050","v":1.2},"○","○"]
[2048,0,1500,{"$f":"AccVelDataLink!A2051","v":2048},2047,2049,null,{"$f":"AccVelDataLink!G2051","v":1.5},"○","○"]
[{"$f":"A2051+1","v":2049},0,{"$f":"H2052*$H$1","v":2000},{"$f":"AccVelDataLink!A2052","v":2049},2048,2050,null,{"$f":"AccVelDataLink!G2052","v":2},{"$f":"IF(E2052=A2051,\"○\",IF(G2052=0,\"つなぎまちがい\",\"先頭\"))","v":"○"},{"$f":"IF(F2052=A2053,\"○\",IF(F2052<>E2053,\"つなぎまちがい\",\"終端\"))","v":"○"}]
[2050,0,2500,{"$f":"AccVelDataLink!A2053","v":2050},2049,2051,null,{"$f":"AccVelDataLink!G2053","v":2.5},"○","○"]
[2051,0,3000,{"$f":"AccVelDataLink!A2054","v":2051},2050,2052,null,{"$f":"AccVelDataLink!G2054","v":3},"○","○"]
[2052,0,3500,{"$f":"AccVelDataLink!A2055","v":2052},2051,2053,null,{"$f":"AccVelDataLink!G2055","v":3.5},"○","○"]
[2053,1,100,{"$f":"AccVelDataLink!A2056","v":2053},2052,2054,{"$f":"AccVelDataLink!F2056","v":"RCS2-SA4C-20-16-垂直"},{"$f":"AccVelDataLink!G2056","v":0.1},"○","○"]
[2054,1,120,{"$f":"AccVelDataLink!A2057","v":2054},2053,2055,null,{"$f":"AccVelDataLink!G2057","v":0.12},"○","○"]
[2055,1,150,{"$f":"AccVelDataLink!A2058","v":2055},2054,2056,null,{"$f":"AccVelDataLink!G2058","v":0.15},"○","○"]
[2056,1,200,{"$f":"AccVelDataLink!A2059","v":2056},2055,2057,null,{"$f":"AccVelDataLink!G2059","v":0.2},"○","○"]
[2057,1,250,{"$f":"AccVelDataLink!A2060","v":2057},2056,2058,null,{"$f":"AccVelDataLink!G2060","v":0.25},"○","○"]
[2058,1,300,{"$f":"AccVelDataLink!A2061","v":2058},2057,2059,null,{"$f":"AccVelDataLink!G2061","v":0.3},"○","○"]
[2059,1,400,{"$f":"AccVelDataLink!A2062","v":2059},2058,2060,null,{"$f":"AccVelDataLink!G2062","v":0.4},"○","○"]
[2060,1,600,{"$f":"AccVelDataLink!A2063","v":2060},2059,-1,null,{"$f":"AccVelDataLink!G2063","v":0.6},"○","終端"]
[2061,0,3000,{"$f":"AccVelDataLink!A2064","v":2061},-1,{"$f":"A2065","v":2062},{"$f":"AccVelDataLink!F2064","v":"RCS2-SA5C-20-3-水平"},{"$f":"AccVelDataLink!G2064","v":3},"先頭","○"]
[2062,0,12000,{"$f":"AccVelDataLink!A2065","v":2062},{"$f":"A2064","v":2061},{"$f":"A2066","v":2063},null,{"$f":"AccVelDataLink!G2065","v":12},"○","○"]
[2063,0,17000,{"$f":"AccVelDataLink!A2066","v":2063},{"$f":"A2065","v":2062},{"$f":"A2067","v":2064},null,{"$f":"AccVelDataLink!G2066","v":17},"○","○"]
[2064,1,2000,{"$f":"AccVelDataLink!A2067","v":2064},{"$f":"A2066","v":2063},{"$f":"A2068","v":2065},{"$f":"AccVelDataLink!F2067","v":"RCS2-SA5C-20-3-垂直"},{"$f":"AccVelDataLink!G2067","v":2},"○","○"]
[2065,1,4000,{"$f":"AccVelDataLink!A2068","v":2065},{"$f":"A2067","v":2064},-1,null,{"$f":"AccVelDataLink!G2068","v":4},"○","終端"]
[2066,0,1000,{"$f":"AccVelDataLink!A2069","v":2066},-1,{"$f":"A2070","v":2067},{"$f":"AccVelDataLink!F2069","v":"RCS2-SA5C-20-6-水平"},{"$f":"AccVelDataLink!G2069","v":1},"先頭","○"]
[2067,0,1400,{"$f":"AccVelDataLink!A2070","v":2067},{"$f":"A2069","v":2066},2068,null,{"$f":"AccVelDataLink!G2070","v":1.4},"○","○"]
[2068,0,1900,{"$f":"AccVelDataLink!A2071","v":2068},2067,2069,null,{"$f":"AccVelDataLink!G2071","v":1.9},"○","○"]
[2069,0,2500,{"$f":"AccVelDataLink!A2072","v":2069},2068,2070,null,{"$f":"AccVelDataLink!G2072","v":2.5},"○","○"]
[2070,0,3300,{"$f":"AccVelDataLink!A2073","v":2070},2069,2071,null,{"$f":"AccVelDataLink!G2073","v":3.3},"○","○"]
[2071,0,4500,{"$f":"AccVelDataLink!A2074","v":2071},2070,2072,null,{"$f":"AccVelDataLink!G2074","v":4.5},"○","○"]
[2072,0,6000,{"$f":"AccVelDataLink!A2075","v":2072},2071,2073,null,{"$f":"AccVelDataLink!G2075","v":6},"○","○"]
[2073,0,8000,{"$f":"AccVelDataLink!A2076","v":2073},2072,2074,null,{"$f":"AccVelDataLink!G2076","v":8},"○","○"]
[2074,0,9600,{"$f":"AccVelDataLink!A2077","v":2074},2073,2075,null,{"$f":"AccVelDataLink!G2077","v":9.6},"○","○"]
[2075,0,11000,{"$f":"AccVelDataLink!A2078","v":2075},2074,{"$f":"A2079","v":2076},null,{"$f":"AccVelDataLink!G2078","v":11},"○","○"]
[2076,1,500,{"$f":"AccVelDataLink!A2079","v":2076},{"$f":"A2078","v":2075},2077,{"$f":"AccVelDataLink!F2079","v":"RCS2-SA5C-20-6-垂直"},{"$f":"AccVelDataLink!G2079","v":0.5},"○","○"]
[2077,1,550,{"$f":"AccVelDataLink!A2080","v":2077},2076,2078,null,{"$f":"AccVelDataLink!G2080","v":0.55000000000000004},"○","○"]
[2078,1,650,{"$f":"AccVelDataLink!A2081","v":2078},2077,2079,null,{"$f":"AccVelDataLink!G2081","v":0.65},"○","○"]
[2079,1,800,{"$f":"AccVelDataLink!A2082","v":2079},2078,2080,null,{"$f":"AccVelDataLink!G2082","v":0.8},"○","○"]
[2080,1,1000,{"$f":"AccVelDataLink!A2083","v":2080},2079,2081,null,{"$f":"AccVelDataLink!G2083","v":1},"○","○"]
[2081,1,1250,{"$f":"AccVelDataLink!A2084","v":2081},2080,2082,null,{"$f":"AccVelDataLink!G2084","v":1.25},"○","○"]
[2082,1,1600,{"$f":"AccVelDataLink!A2085","v":2082},2081,2083,null,{"$f":"AccVelDataLink!G2085","v":1.6},"○","○"]
[2083,1,2000,{"$f":"AccVelDataLink!A2086","v":2083},2082,-1,null,{"$f":"AccVelDataLink!G2086","v":2},"○","終端"]
[2084,0,500,{"$f":"AccVelDataLink!A2087","v":2084},-1,{"$f":"A2088","v":2085},{"$f":"AccVelDataLink!F2087","v":"RCS2-SA5C-20-12-水平"},{"$f":"AccVelDataLink!G2087","v":0.5},"先頭","○"]
[2085,0,550,{"$f":"AccVelDataLink!A2088","v":2085},{"$f":"A2087","v":2084},2086,null,{"$f":"AccVelDataLink!G2088","v":0.55000000000000004},"○","○"]
[2086,0,650,{"$f":"AccVelDataLink!A2089","v":2086},2085,2087,null,{"$f":"AccVelDataLink!G2089","v":0.65},"○","○"]
[2087,0,750,{"$f":"AccVelDataLink!A2090","v":2087},2086,2088,null,{"$f":"AccVelDataLink!G2090","v":0.75},"○","○"]
[2088,0,850,{"$f":"AccVelDataLink!A2091","v":2088},2087,2089,null,{"$f":"AccVelDataLink!G2091","v":0.85},"○","○"]
[2089,0,1000,{"$f":"AccVelDataLink!A2092","v":2089},2088,2090,null,{"$f":"AccVelDataLink!G2092","v":1},"○","○"]
[2090,0,1250,{"$f":"AccVelDataLink!A2093","v":2090},2089,2091,null,{"$f":"AccVelDataLink!G2093","v":1.25},"○","○"]
[2091,0,1500,{"$f":"AccVelDataLink!A2094","v":2091},2090,2092,null,{"$f":"AccVelDataLink!G2094","v":1.5},"○","○"]
[2092,0,1750,{"$f":"AccVelDataLink!A2095","v":2092},2091,2093,null,{"$f":"AccVelDataLink!G2095","v":1.75},"○","○"]
[2093,0,2000,{"$f":"AccVelDataLink!A2096","v":2093},2092,2094,null,{"$f":"AccVelDataLink!G2096","v":2},"○","○"]
[2094,0,2500,{"$f":"AccVelDataLink!A2097","v":2094},2093,2095,null,{"$f":"AccVelDataLink!G2097","v":2.5},"○","○"]
[2095,0,3000,{"$f":"AccVelDataLink!A2098","v":2095},2094,2096,null,{"$f":"AccVelDataLink!G2098","v":3},"○","○"]
[2096,0,4000,{"$f":"AccVelDataLink!A2099","v":2096},2095,2097,null,{"$f":"AccVelDataLink!G2099","v":4},"○","○"]
[2097,0,4800,{"$f":"AccVelDataLink!A2100","v":2097},2096,2098,null,{"$f":"AccVelDataLink!G2100","v":4.8},"○","○"]
[2098,0,5500,{"$f":"AccVelDataLink!A2101","v":2098},2097,{"$f":"A2102","v":2099},null,{"$f":"AccVelDataLink!G2101","v":5.5},"○","○"]
[2099,1,100,{"$f":"AccVelDataLink!A2102","v":2099},{"$f":"A2101","v":2098},2100,{"$f":"AccVelDataLink!F2102","v":"RCS2-SA5C-20-12-垂直"},{"$f":"AccVelDataLink!G2102","v":0.1},"○","○"]
[2100,1,150,{"$f":"AccVelDataLink!A2103","v":2100},2099,2101,null,{"$f":"AccVelDataLink!G2103","v":0.15},"○","○"]
[2101,1,200,{"$f":"AccVelDataLink!A2104","v":2101},2100,2102,null,{"$f":"AccVelDataLink!G2104","v":0.2},"○","○"]
[2102,1,250,{"$f":"AccVelDataLink!A2105","v":2102},2101,2103,null,{"$f":"AccVelDataLink!G2105","v":0.25},"○","○"]
[2103,1,300,{"$f":"AccVelDataLink!A2106","v":2103},2102,2104,null,{"$f":"AccVelDataLink!G2106","v":0.3},"○","○"]
[2104,1,350,{"$f":"AccVelDataLink!A2107","v":2104},2103,2105,null,{"$f":"AccVelDataLink!G2107","v":0.35},"○","○"]
[2105,1,450,{"$f":"AccVelDataLink!A2108","v":2105},2104,2106,null,{"$f":"AccVelDataLink!G2108","v":0.45},"○","○"]
[2106,1,600,{"$f":"AccVelDataLink!A2109","v":2106},2105,2107,null,{"$f":"AccVelDataLink!G2109","v":0.6},"○","○"]
[2107,1,800,{"$f":"AccVelDataLink!A2110","v":2107},2106,2108,null,{"$f":"AccVelDataLink!G2110","v":0.8},"○","○"]
[2108,1,1000,{"$f":"AccVelDataLink!A2111","v":2108},2107,-1,null,{"$f":"AccVelDataLink!G2111","v":1},"○","終端"]
[2109,0,200,{"$f":"AccVelDataLink!A2112","v":2109},-1,{"$f":"A2113","v":2110},{"$f":"AccVelDataLink!F2112","v":"RCS2-SA5C-20-20-水平"},{"$f":"AccVelDataLink!G2112","v":0.2},"先頭","○"]
[2110,0,250,{"$f":"AccVelDataLink!A2113","v":2110},{"$f":"A2112","v":2109},2111,null,{"$f":"AccVelDataLink!G2113","v":0.25},"○","○"]
[2111,0,300,{"$f":"AccVelDataLink!A2114","v":2111},2110,2112,null,{"$f":"AccVelDataLink!G2114","v":0.3},"○","○"]
[2112,0,350,{"$f":"AccVelDataLink!A2115","v":2112},2111,2113,null,{"$f":"AccVelDataLink!G2115","v":0.35},"○","○"]
[{"$f":"A2115+1","v":2113},0,{"$f":"H2116*$H$1","v":400},{"$f":"AccVelDataLink!A2116","v":2113},2112,2114,null,{"$f":"AccVelDataLink!G2116","v":0.4},{"$f":"IF(E2116=A2115,\"○\",IF(G2116=0,\"つなぎまちがい\",\"先頭\"))","v":"○"},{"$f":"IF(F2116=A2117,\"○\",IF(F2116<>E2117,\"つなぎまちがい\",\"終端\"))","v":"○"}]
[2114,0,500,{"$f":"AccVelDataLink!A2117","v":2114},2113,2115,null,{"$f":"AccVelDataLink!G2117","v":0.5},"○","○"]
[2115,0,600,{"$f":"AccVelDataLink!A2118","v":2115},2114,2116,null,{"$f":"AccVelDataLink!G2118","v":0.6},"○","○"]
[2116,0,800,{"$f":"AccVelDataLink!A2119","v":2116},2115,2117,null,{"$f":"AccVelDataLink!G2119","v":0.8},"○","○"]
[2117,0,1000,{"$f":"AccVelDataLink!A2120","v":2117},2116,2118,null,{"$f":"AccVelDataLink!G2120","v":1},"○","○"]
[2118,0,1150,{"$f":"AccVelDataLink!A2121","v":2118},2117,2119,null,{"$f":"AccVelDataLink!G2121","v":1.1499999999999999},"○","○"]
[2119,0,1400,{"$f":"AccVelDataLink!A2122","v":2119},2118,2120,null,{"$f":"AccVelDataLink!G2122","v":1.4},"○","○"]
[2120,0,1750,{"$f":"AccVelDataLink!A2123","v":2120},2119,2121,null,{"$f":"AccVelDataLink!G2123","v":1.75},"○","○"]
[2121,0,2000,{"$f":"AccVelDataLink!A2124","v":2121},2120,2122,null,{"$f":"AccVelDataLink!G2124","v":2},"○","○"]
[2122,0,2400,{"$f":"AccVelDataLink!A2125","v":2122},2121,2123,null,{"$f":"AccVelDataLink!G2125","v":2.4},"○","○"]
[2123,0,3000,{"$f":"AccVelDataLink!A2126","v":2123},2122,{"$f":"A2127","v":2124},null,{"$f":"AccVelDataLink!G2126","v":3},"○","○"]
[2124,1,100,{"$f":"AccVelDataLink!A2127","v":2124},{"$f":"A2126","v":2123},{"$f":"A2128","v":2125},{"$f":"AccVelDataLink!F2127","v":"RCS2-SA5C-20-20-垂直"},{"$f":"AccVelDataLink!G2127","v":0.1},"○","○"]
[2125,1,160,{"$f":"AccVelDataLink!A2128","v":2125},{"$f":"A2127","v":2124},{"$f":"A2129","v":2126},null,{"$f":"AccVelDataLink!G2128","v":0.16},"○","○"]
[2126,1,250,{"$f":"AccVelDataLink!A2129","v":2126},{"$f":"A2128","v":2125},{"$f":"A2130","v":2127},null,{"$f":"AccVelDataLink!G2129","v":0.25},"○","○"]
[2127,1,350,{"$f":"AccVelDataLink!A2130","v":2127},{"$f":"A2129","v":2126},{"$f":"A2131","v":2128},null,{"$f":"AccVelDataLink!G2130","v":0.35},"○","○"]
[2128,1,500,{"$f":"AccVelDataLink!A2131","v":2128},{"$f":"A2130","v":2127},-1,null,{"$f":"AccVelDataLink!G2131","v":0.5},"○","終端"]
[2129,0,1000,{"$f":"AccVelDataLink!A2132","v":2129},-1,{"$f":"A2133","v":2130},{"$f":"AccVelDataLink!F2132","v":"RCS2-SA6C-30-3-水平"},{"$f":"AccVelDataLink!G2132","v":1},"先頭","○"]
[2130,0,7000,{"$f":"AccVelDataLink!A2133","v":2130},{"$f":"A2132","v":2129},{"$f":"A2134","v":2131},null,{"$f":"AccVelDataLink!G2133","v":7},"○","○"]
[2131,0,18000,{"$f":"AccVelDataLink!A2134","v":2131},{"$f":"A2133","v":2130},{"$f":"A2135","v":2132},null,{"$f":"AccVelDataLink!G2134","v":18},"○","○"]
[2132,0,25000,{"$f":"AccVelDataLink!A2135","v":2132},{"$f":"A2134","v":2131},{"$f":"A2136","v":2133},null,{"$f":"AccVelDataLink!G2135","v":25},"○","○"]
[2133,1,2000,{"$f":"AccVelDataLink!A2136","v":2133},{"$f":"A2135","v":2132},{"$f":"A2137","v":2134},{"$f":"AccVelDataLink!F2136","v":"RCS2-SA6C-30-3-垂直"},{"$f":"AccVelDataLink!G2136","v":2},"○","○"]
[2134,1,6000,{"$f":"AccVelDataLink!A2137","v":2134},{"$f":"A2136","v":2133},-1,null,{"$f":"AccVelDataLink!G2137","v":6},"○","終端"]
[2135,0,1500,{"$f":"AccVelDataLink!A2138","v":2135},-1,{"$f":"A2139","v":2136},{"$f":"AccVelDataLink!F2138","v":"RCS2-SA6C-30-6-水平"},{"$f":"AccVelDataLink!G2138","v":1.5},"先頭","○"]
[2136,0,2500,{"$f":"AccVelDataLink!A2139","v":2136},{"$f":"A2138","v":2135},2137,null,{"$f":"AccVelDataLink!G2139","v":2.5},"○","○"]
[2137,0,3500,{"$f":"AccVelDataLink!A2140","v":2137},2136,2138,null,{"$f":"AccVelDataLink!G2140","v":3.5},"○","○"]
[2138,0,5000,{"$f":"AccVelDataLink!A2141","v":2138},2137,2139,null,{"$f":"AccVelDataLink!G2141","v":5},"○","○"]
[2139,0,6200,{"$f":"AccVelDataLink!A2142","v":2139},2138,2140,null,{"$f":"AccVelDataLink!G2142","v":6.2},"○","○"]
[2140,0,8000,{"$f":"AccVelDataLink!A2143","v":2140},2139,2141,null,{"$f":"AccVelDataLink!G2143","v":8},"○","○"]
[2141,0,10000,{"$f":"AccVelDataLink!A2144","v":2141},2140,2142,null,{"$f":"AccVelDataLink!G2144","v":10},"○","○"]
[2142,0,12000,{"$f":"AccVelDataLink!A2145","v":2142},2141,2143,null,{"$f":"AccVelDataLink!G2145","v":12},"○","○"]
[2143,0,14500,{"$f":"AccVelDataLink!A2146","v":2143},2142,2144,null,{"$f":"AccVelDataLink!G2146","v":14.5},"○","○"]
[2144,0,16500,{"$f":"AccVelDataLink!A2147","v":2144},2143,{"$f":"A2148","v":2145},null,{"$f":"AccVelDataLink!G2147","v":16.5},"○","○"]
[2145,1,500,{"$f":"AccVelDataLink!A2148","v":2145},{"$f":"A2147","v":2144},2146,{"$f":"AccVelDataLink!F2148","v":"RCS2-SA6C-30-6-垂直"},{"$f":"AccVelDataLink!G2148","v":0.5},"○","○"]
[2146,1,650,{"$f":"AccVelDataLink!A2149","v":2146},2145,2147,null,{"$f":"AccVelDataLink!G2149","v":0.65},"○","○"]
[2147,1,800,{"$f":"AccVelDataLink!A2150","v":2147},2146,2148,null,{"$f":"AccVelDataLink!G2150","v":0.8},"○","○"]
[2148,1,1000,{"$f":"AccVelDataLink!A2151","v":2148},2147,2149,null,{"$f":"AccVelDataLink!G2151","v":1},"○","○"]
[2149,1,1250,{"$f":"AccVelDataLink!A2152","v":2149},2148,2150,null,{"$f":"AccVelDataLink!G2152","v":1.25},"○","○"]
[2150,1,1500,{"$f":"AccVelDataLink!A2153","v":2150},2149,2151,null,{"$f":"AccVelDataLink!G2153","v":1.5},"○","○"]
[2151,1,2100,{"$f":"AccVelDataLink!A2154","v":2151},2150,2152,null,{"$f":"AccVelDataLink!G2154","v":2.1},"○","○"]
[2152,1,3000,{"$f":"AccVelDataLink!A2155","v":2152},2151,-1,null,{"$f":"AccVelDataLink!G2155","v":3},"○","終端"]
[2153,0,250,{"$f":"AccVelDataLink!A2156","v":2153},-1,{"$f":"A2157","v":2154},{"$f":"AccVelDataLink!F2156","v":"RCS2-SA6C-30-12-水平"},{"$f":"AccVelDataLink!G2156","v":0.25},"先頭","○"]
[2154,0,300,{"$f":"AccVelDataLink!A2157","v":2154},{"$f":"A2156","v":2153},2155,null,{"$f":"AccVelDataLink!G2157","v":0.3},"○","○"]
[2155,0,350,{"$f":"AccVelDataLink!A2158","v":2155},2154,2156,null,{"$f":"AccVelDataLink!G2158","v":0.35},"○","○"]
[2156,0,400,{"$f":"AccVelDataLink!A2159","v":2156},2155,2157,null,{"$f":"AccVelDataLink!G2159","v":0.4},"○","○"]
[2157,0,450,{"$f":"AccVelDataLink!A2160","v":2157},2156,2158,null,{"$f":"AccVelDataLink!G2160","v":0.45},"○","○"]
[2158,0,500,{"$f":"AccVelDataLink!A2161","v":2158},2157,2159,null,{"$f":"AccVelDataLink!G2161","v":0.5},"○","○"]
[2159,0,550,{"$f":"AccVelDataLink!A2162","v":2159},2158,2160,null,{"$f":"AccVelDataLink!G2162","v":0.55000000000000004},"○","○"]
[2160,0,650,{"$f":"AccVelDataLink!A2163","v":2160},2159,2161,null,{"$f":"AccVelDataLink!G2163","v":0.65},"○","○"]
[2161,0,750,{"$f":"AccVelDataLink!A2164","v":2161},2160,2162,null,{"$f":"AccVelDataLink!G2164","v":0.75},"○","○"]
[2162,0,850,{"$f":"AccVelDataLink!A2165","v":2162},2161,2163,null,{"$f":"AccVelDataLink!G2165","v":0.85},"○","○"]
[2163,0,1000,{"$f":"AccVelDataLink!A2166","v":2163},2162,2164,null,{"$f":"AccVelDataLink!G2166","v":1},"○","○"]
[2164,0,1250,{"$f":"AccVelDataLink!A2167","v":2164},2163,2165,null,{"$f":"AccVelDataLink!G2167","v":1.25},"○","○"]
[2165,0,1600,{"$f":"AccVelDataLink!A2168","v":2165},2164,2166,null,{"$f":"AccVelDataLink!G2168","v":1.6},"○","○"]
[2166,0,2000,{"$f":"AccVelDataLink!A2169","v":2166},2165,2167,null,{"$f":"AccVelDataLink!G2169","v":2},"○","○"]
[2167,0,2750,{"$f":"AccVelDataLink!A2170","v":2167},2166,2168,null,{"$f":"AccVelDataLink!G2170","v":2.75},"○","○"]
[2168,0,3500,{"$f":"AccVelDataLink!A2171","v":2168},2167,2169,null,{"$f":"AccVelDataLink!G2171","v":3.5},"○","○"]
[2169,0,4500,{"$f":"AccVelDataLink!A2172","v":2169},2168,2170,null,{"$f":"AccVelDataLink!G2172","v":4.5},"○","○"]
[2170,0,6000,{"$f":"AccVelDataLink!A2173","v":2170},2169,2171,null,{"$f":"AccVelDataLink!G2173","v":6},"○","○"]
[2171,0,7200,{"$f":"AccVelDataLink!A2174","v":2171},2170,2172,null,{"$f":"AccVelDataLink!G2174","v":7.2},"○","○"]
[2172,0,8500,{"$f":"AccVelDataLink!A2175","v":2172},2171,{"$f":"A2176","v":2173},null,{"$f":"AccVelDataLink!G2175","v":8.5},"○","○"]
[2173,1,100,{"$f":"AccVelDataLink!A2176","v":2173},{"$f":"A2175","v":2172},2174,{"$f":"AccVelDataLink!F2176","v":"RCS2-SA6C-30-12-垂直"},{"$f":"AccVelDataLink!G2176","v":0.1},"○","○"]
[2174,1,150,{"$f":"AccVelDataLink!A2177","v":2174},2173,2175,null,{"$f":"AccVelDataLink!G2177","v":0.15},"○","○"]
[2175,1,220,{"$f":"AccVelDataLink!A2178","v":2175},2174,2176,null,{"$f":"AccVelDataLink!G2178","v":0.22},"○","○"]
[2176,1,300,{"$f":"AccVelDataLink!A2179","v":2176},2175,2177,null,{"$f":"AccVelDataLink!G2179","v":0.3},"○","○"]
[{"$f":"A2179+1","v":2177},1,{"$f":"H2180*$H$1","v":400},{"$f":"AccVelDataLink!A2180","v":2177},2176,2178,null,{"$f":"AccVelDataLink!G2180","v":0.4},{"$f":"IF(E2180=A2179,\"○\",IF(G2180=0,\"つなぎまちがい\",\"先頭\"))","v":"○"},{"$f":"IF(F2180=A2181,\"○\",IF(F2180<>E2181,\"つなぎまちがい\",\"終端\"))","v":"○"}]
[2178,1,500,{"$f":"AccVelDataLink!A2181","v":2178},2177,2179,null,{"$f":"AccVelDataLink!G2181","v":0.5},"○","○"]
[2179,1,650,{"$f":"AccVelDataLink!A2182","v":2179},2178,2180,null,{"$f":"AccVelDataLink!G2182","v":0.65},"○","○"]
[2180,1,850,{"$f":"AccVelDataLink!A2183","v":2180},2179,2181,null,{"$f":"AccVelDataLink!G2183","v":0.85},"○","○"]
[2181,1,1200,{"$f":"AccVelDataLink!A2184","v":2181},2180,2182,null,{"$f":"AccVelDataLink!G2184","v":1.2},"○","○"]
[2182,1,1500,{"$f":"AccVelDataLink!A2185","v":2182},2181,-1,null,{"$f":"AccVelDataLink!G2185","v":1.5},"○","終端"]
[2183,0,250,{"$f":"AccVelDataLink!A2186","v":2183},-1,{"$f":"A2187","v":2184},{"$f":"AccVelDataLink!F2186","v":"RCS2-SA6C-30-20-水平"},{"$f":"AccVelDataLink!G2186","v":0.25},"先頭","○"]
[2184,0,300,{"$f":"AccVelDataLink!A2187","v":2184},{"$f":"A2186","v":2183},2185,null,{"$f":"AccVelDataLink!G2187","v":0.3},"○","○"]
[2185,0,400,{"$f":"AccVelDataLink!A2188","v":2185},2184,2186,null,{"$f":"AccVelDataLink!G2188","v":0.4},"○","○"]
[2186,0,500,{"$f":"AccVelDataLink!A2189","v":2186},2185,2187,null,{"$f":"AccVelDataLink!G2189","v":0.5},"○","○"]
[2187,0,650,{"$f":"AccVelDataLink!A2190","v":2187},2186,2188,null,{"$f":"AccVelDataLink!G2190","v":0.65},"○","○"]
[2188,0,750,{"$f":"AccVelDataLink!A2191","v":2188},2187,2189,null,{"$f":"AccVelDataLink!G2191","v":0.75},"○","○"]
[2189,0,850,{"$f":"AccVelDataLink!A2192","v":2189},2188,2190,null,{"$f":"AccVelDataLink!G2192","v":0.85},"○","○"]
[2190,0,1000,{"$f":"AccVelDataLink!A2193","v":2190},2189,2191,null,{"$f":"AccVelDataLink!G2193","v":1},"○","○"]
[2191,0,1250,{"$f":"AccVelDataLink!A2194","v":2191},2190,2192,null,{"$f":"AccVelDataLink!G2194","v":1.25},"○","○"]
[2192,0,1500,{"$f":"AccVelDataLink!A2195","v":2192},2191,2193,null,{"$f":"AccVelDataLink!G2195","v":1.5},"○","○"]
[2193,0,2000,{"$f":"AccVelDataLink!A2196","v":2193},2192,2194,null,{"$f":"AccVelDataLink!G2196","v":2},"○","○"]
[2194,0,2500,{"$f":"AccVelDataLink!A2197","v":2194},2193,2195,null,{"$f":"AccVelDataLink!G2197","v":2.5},"○","○"]
[2195,0,3000,{"$f":"AccVelDataLink!A2198","v":2195},2194,2196,null,{"$f":"AccVelDataLink!G2198","v":3},"○","○"]
[2196,0,3600,{"$f":"AccVelDataLink!A2199","v":2196},2195,2197,null,{"$f":"AccVelDataLink!G2199","v":3.6},"○","○"]
[2197,0,4200,{"$f":"AccVelDataLink!A2200","v":2197},2196,{"$f":"A2201","v":2198},null,{"$f":"AccVelDataLink!G2200","v":4.2},"○","○"]
[2198,1,100,{"$f":"AccVelDataLink!A2201","v":2198},{"$f":"A2200","v":2197},{"$f":"A2202","v":2199},{"$f":"AccVelDataLink!F2201","v":"RCS2-SA6C-30-20-垂直"},{"$f":"AccVelDataLink!G2201","v":0.1},"○","○"]
[2199,1,200,{"$f":"AccVelDataLink!A2202","v":2199},{"$f":"A2201","v":2198},{"$f":"A2203","v":2200},null,{"$f":"AccVelDataLink!G2202","v":0.2},"○","○"]
[2200,1,350,{"$f":"AccVelDataLink!A2203","v":2200},{"$f":"A2202","v":2199},{"$f":"A2204","v":2201},null,{"$f":"AccVelDataLink!G2203","v":0.35},"○","○"]
[2201,1,500,{"$f":"AccVelDataLink!A2204","v":2201},{"$f":"A2203","v":2200},-1,null,{"$f":"AccVelDataLink!G2204","v":0.5},"○","終端"]
[2202,0,3000,{"$f":"AccVelDataLink!A2205","v":2202},-1,{"$f":"A2206","v":2203},{"$f":"AccVelDataLink!F2205","v":"RCS2-SA7C-60-4-水平"},{"$f":"AccVelDataLink!G2205","v":3},"先頭","○"]
[2203,0,10000,{"$f":"AccVelDataLink!A2206","v":2203},{"$f":"A2205","v":2202},2204,null,{"$f":"AccVelDataLink!G2206","v":10},"○","○"]
[2204,0,20000,{"$f":"AccVelDataLink!A2207","v":2204},2203,2205,null,{"$f":"AccVelDataLink!G2207","v":20},"○","○"]
[2205,0,40000,{"$f":"AccVelDataLink!A2208","v":2205},2204,2206,null,{"$f":"AccVelDataLink!G2208","v":40},"○","○"]
[2206,0,60000,{"$f":"AccVelDataLink!A2209","v":2206},2205,2207,null,{"$f":"AccVelDataLink!G2209","v":60},"○","○"]
[2207,1,6000,{"$f":"AccVelDataLink!A2210","v":2207},2206,2208,{"$f":"AccVelDataLink!F2210","v":"RCS2-SA7C-60-4-垂直"},{"$f":"AccVelDataLink!G2210","v":6},"○","○"]
[2208,1,12000,{"$f":"AccVelDataLink!A2211","v":2208},2207,-1,null,{"$f":"AccVelDataLink!G2211","v":12},"○","終端"]
[2209,0,1000,{"$f":"AccVelDataLink!A2212","v":2209},-1,{"$f":"A2213","v":2210},{"$f":"AccVelDataLink!F2212","v":"RCS2-SA7C-60-8-水平"},{"$f":"AccVelDataLink!G2212","v":1},"先頭","○"]
[2210,0,1500,{"$f":"AccVelDataLink!A2213","v":2210},{"$f":"A2212","v":2209},2211,null,{"$f":"AccVelDataLink!G2213","v":1.5},"○","○"]
[2211,0,2000,{"$f":"AccVelDataLink!A2214","v":2211},2210,2212,null,{"$f":"AccVelDataLink!G2214","v":2},"○","○"]
[2212,0,2500,{"$f":"AccVelDataLink!A2215","v":2212},2211,2213,null,{"$f":"AccVelDataLink!G2215","v":2.5},"○","○"]
[2213,0,3200,{"$f":"AccVelDataLink!A2216","v":2213},2212,2214,null,{"$f":"AccVelDataLink!G2216","v":3.2},"○","○"]
[2214,0,4000,{"$f":"AccVelDataLink!A2217","v":2214},2213,2215,null,{"$f":"AccVelDataLink!G2217","v":4},"○","○"]
[2215,0,5500,{"$f":"AccVelDataLink!A2218","v":2215},2214,2216,null,{"$f":"AccVelDataLink!G2218","v":5.5},"○","○"]
[2216,0,7500,{"$f":"AccVelDataLink!A2219","v":2216},2215,2217,null,{"$f":"AccVelDataLink!G2219","v":7.5},"○","○"]
[2217,0,10000,{"$f":"AccVelDataLink!A2220","v":2217},2216,2218,null,{"$f":"AccVelDataLink!G2220","v":10},"○","○"]
[2218,0,12200,{"$f":"AccVelDataLink!A2221","v":2218},2217,2219,null,{"$f":"AccVelDataLink!G2221","v":12.2},"○","○"]
[2219,0,15000,{"$f":"AccVelDataLink!A2222","v":2219},2218,2220,null,{"$f":"AccVelDataLink!G2222","v":15},"○","○"]
[2220,0,20000,{"$f":"AccVelDataLink!A2223","v":2220},2219,2221,null,{"$f":"AccVelDataLink!G2223","v":20},"○","○"]
[2221,0,25000,{"$f":"AccVelDataLink!A2224","v":2221},2220,2222,null,{"$f":"AccVelDataLink!G2224","v":25},"○","○"]
[2222,0,30000,{"$f":"AccVelDataLink!A2225","v":2222},2221,2223,null,{"$f":"AccVelDataLink!G2225","v":30},"○","○"]
[2223,0,37500,{"$f":"AccVelDataLink!A2226","v":2223},2222,{"$f":"A2227","v":2224},null,{"$f":"AccVelDataLink!G2226","v":37.5},"○","○"]
[2224,1,500,{"$f":"AccVelDataLink!A2227","v":2224},{"$f":"A2226","v":2223},2225,{"$f":"AccVelDataLink!F2227","v":"RCS2-SA7C-60-8-垂直"},{"$f":"AccVelDataLink!G2227","v":0.5},"○","○"]
[2225,1,550,{"$f":"AccVelDataLink!A2228","v":2225},2224,2226,null,{"$f":"AccVelDataLink!G2228","v":0.55000000000000004},"○","○"]
[2226,1,600,{"$f":"AccVelDataLink!A2229","v":2226},2225,2227,null,{"$f":"AccVelDataLink!G2229","v":0.6},"○","○"]
[2227,1,700,{"$f":"AccVelDataLink!A2230","v":2227},2226,2228,null,{"$f":"AccVelDataLink!G2230","v":0.7},"○","○"]
[2228,1,800,{"$f":"AccVelDataLink!A2231","v":2228},2227,2229,null,{"$f":"AccVelDataLink!G2231","v":0.8},"○","○"]
[2229,1,1000,{"$f":"AccVelDataLink!A2232","v":2229},2228,2230,null,{"$f":"AccVelDataLink!G2232","v":1},"○","○"]
[2230,1,1300,{"$f":"AccVelDataLink!A2233","v":2230},2229,2231,null,{"$f":"AccVelDataLink!G2233","v":1.3},"○","○"]
[2231,1,1600,{"$f":"AccVelDataLink!A2234","v":2231},2230,2232,null,{"$f":"AccVelDataLink!G2234","v":1.6},"○","○"]
[2232,1,2000,{"$f":"AccVelDataLink!A2235","v":2232},2231,2233,null,{"$f":"AccVelDataLink!G2235","v":2},"○","○"]
[2233,1,2400,{"$f":"AccVelDataLink!A2236","v":2233},2232,2234,null,{"$f":"AccVelDataLink!G2236","v":2.4},"○","○"]
[2234,1,3000,{"$f":"AccVelDataLink!A2237","v":2234},2233,2235,null,{"$f":"AccVelDataLink!G2237","v":3},"○","○"]
[2235,1,4200,{"$f":"AccVelDataLink!A2238","v":2235},2234,2236,null,{"$f":"AccVelDataLink!G2238","v":4.2},"○","○"]
[2236,1,6000,{"$f":"AccVelDataLink!A2239","v":2236},2235,-1,null,{"$f":"AccVelDataLink!G2239","v":6},"○","終端"]
[2237,0,1000,{"$f":"AccVelDataLink!A2240","v":2237},-1,{"$f":"A2241","v":2238},{"$f":"AccVelDataLink!F2240","v":"RCS2-SA7C-60-16-水平"},{"$f":"AccVelDataLink!G2240","v":1},"先頭","○"]
[2238,0,1150,{"$f":"AccVelDataLink!A2241","v":2238},{"$f":"A2240","v":2237},2239,null,{"$f":"AccVelDataLink!G2241","v":1.1499999999999999},"○","○"]
[2239,0,1350,{"$f":"AccVelDataLink!A2242","v":2239},2238,2240,null,{"$f":"AccVelDataLink!G2242","v":1.35},"○","○"]
[2240,0,1550,{"$f":"AccVelDataLink!A2243","v":2240},2239,2241,null,{"$f":"AccVelDataLink!G2243","v":1.55},"○","○"]
[{"$f":"A2243+1","v":2241},0,{"$f":"H2244*$H$1","v":1750},{"$f":"AccVelDataLink!A2244","v":2241},2240,2242,null,{"$f":"AccVelDataLink!G2244","v":1.75},{"$f":"IF(E2244=A2243,\"○\",IF(G2244=0,\"つなぎまちがい\",\"先頭\"))","v":"○"},{"$f":"IF(F2244=A2245,\"○\",IF(F2244<>E2245,\"つなぎまちがい\",\"終端\"))","v":"○"}]
[2242,0,2000,{"$f":"AccVelDataLink!A2245","v":2242},2241,2243,null,{"$f":"AccVelDataLink!G2245","v":2},"○","○"]
[2243,0,2200,{"$f":"AccVelDataLink!A2246","v":2243},2242,2244,null,{"$f":"AccVelDataLink!G2246","v":2.2000000000000002},"○","○"]
[2244,0,2450,{"$f":"AccVelDataLink!A2247","v":2244},2243,2245,null,{"$f":"AccVelDataLink!G2247","v":2.4500000000000002},"○","○"]
[2245,0,2750,{"$f":"AccVelDataLink!A2248","v":2245},2244,2246,null,{"$f":"AccVelDataLink!G2248","v":2.75},"○","○"]
[2246,0,3100,{"$f":"AccVelDataLink!A2249","v":2246},2245,2247,null,{"$f":"AccVelDataLink!G2249","v":3.1},"○","○"]
[2247,0,3500,{"$f":"AccVelDataLink!A2250","v":2247},2246,2248,null,{"$f":"AccVelDataLink!G2250","v":3.5},"○","○"]
[2248,0,3900,{"$f":"AccVelDataLink!A2251","v":2248},2247,2249,null,{"$f":"AccVelDataLink!G2251","v":3.9},"○","○"]
[2249,0,4400,{"$f":"AccVelDataLink!A2252","v":2249},2248,2250,null,{"$f":"AccVelDataLink!G2252","v":4.4000000000000004},"○","○"]
[2250,0,5000,{"$f":"AccVelDataLink!A2253","v":2250},2249,2251,null,{"$f":"AccVelDataLink!G2253","v":5},"○","○"]
[2251,0,5900,{"$f":"AccVelDataLink!A2254","v":2251},2250,2252,null,{"$f":"AccVelDataLink!G2254","v":5.9},"○","○"]
[2252,0,7000,{"$f":"AccVelDataLink!A2255","v":2252},2251,2253,null,{"$f":"AccVelDataLink!G2255","v":7},"○","○"]
[2253,0,9000,{"$f":"AccVelDataLink!A2256","v":2253},2252,2254,null,{"$f":"AccVelDataLink!G2256","v":9},"○","○"]
[2254,0,12000,{"$f":"AccVelDataLink!A2257","v":2254},2253,2255,null,{"$f":"AccVelDataLink!G2257","v":12},"○","○"]
[2255,0,14500,{"$f":"AccVelDataLink!A2258","v":2255},2254,2256,null,{"$f":"AccVelDataLink!G2258","v":14.5},"○","○"]
[2256,0,18000,{"$f":"AccVelDataLink!A2259","v":2256},2255,{"$f":"A2260","v":2257},null,{"$f":"AccVelDataLink!G2259","v":18},"○","○"]
[2257,1,250,{"$f":"AccVelDataLink!A2260","v":2257},{"$f":"A2259","v":2256},2258,{"$f":"AccVelDataLink!F2260","v":"RCS2-SA7C-60-16-垂直"},{"$f":"AccVelDataLink!G2260","v":0.25},"○","○"]
[2258,1,270,{"$f":"AccVelDataLink!A2261","v":2258},2257,2259,null,{"$f":"AccVelDataLink!G2261","v":0.27},"○","○"]
[2259,1,300,{"$f":"AccVelDataLink!A2262","v":2259},2258,2260,null,{"$f":"AccVelDataLink!G2262","v":0.3},"○","○"]
[2260,1,400,{"$f":"AccVelDataLink!A2263","v":2260},2259,2261,null,{"$f":"AccVelDataLink!G2263","v":0.4},"○","○"]
[2261,1,450,{"$f":"AccVelDataLink!A2264","v":2261},2260,2262,null,{"$f":"AccVelDataLink!G2264","v":0.45},"○","○"]
[2262,1,550,{"$f":"AccVelDataLink!A2265","v":2262},2261,2263,null,{"$f":"AccVelDataLink!G2265","v":0.55000000000000004},"○","○"]
[2263,1,650,{"$f":"AccVelDataLink!A2266","v":2263},2262,2264,null,{"$f":"AccVelDataLink!G2266","v":0.65},"○","○"]
[2264,1,800,{"$f":"AccVelDataLink!A2267","v":2264},2263,2265,null,{"$f":"AccVelDataLink!G2267","v":0.8},"○","○"]
[2265,1,1000,{"$f":"AccVelDataLink!A2268","v":2265},2264,2266,null,{"$f":"AccVelDataLink!G2268","v":1},"○","○"]
[2266,1,1200,{"$f":"AccVelDataLink!A2269","v":2266},2265,2267,null,{"$f":"AccVelDataLink!G2269","v":1.2},"○","○"]
[2267,1,1500,{"$f":"AccVelDataLink!A2270","v":2267},2266,2268,null,{"$f":"AccVelDataLink!G2270","v":1.5},"○","○"]
[2268,1,2000,{"$f":"AccVelDataLink!A2271","v":2268},2267,2269,null,{"$f":"AccVelDataLink!G2271","v":2},"○","○"]
[2269,1,3000,{"$f":"AccVelDataLink!A2272","v":2269},2268,-1,null,{"$f":"AccVelDataLink!G2272","v":3},"○","終端"]
[2270,0,500,{"$f":"AccVelDataLink!A2273","v":2270},-1,{"$f":"A2274","v":2271},{"$f":"AccVelDataLink!F2273","v":"RCS2-SA7C-60-24-水平"},{"$f":"AccVelDataLink!G2273","v":0.5},"先頭","○"]
[2271,0,550,{"$f":"AccVelDataLink!A2274","v":2271},{"$f":"A2273","v":2270},2272,null,{"$f":"AccVelDataLink!G2274","v":0.55000000000000004},"○","○"]
[2272,0,650,{"$f":"AccVelDataLink!A2275","v":2272},2271,2273,null,{"$f":"AccVelDataLink!G2275","v":0.65},"○","○"]
[2273,0,750,{"$f":"AccVelDataLink!A2276","v":2273},2272,2274,null,{"$f":"AccVelDataLink!G2276","v":0.75},"○","○"]
[2274,0,850,{"$f":"AccVelDataLink!A2277","v":2274},2273,2275,null,{"$f":"AccVelDataLink!G2277","v":0.85},"○","○"]
[2275,0,1000,{"$f":"AccVelDataLink!A2278","v":2275},2274,2276,null,{"$f":"AccVelDataLink!G2278","v":1},"○","○"]
[2276,0,1150,{"$f":"AccVelDataLink!A2279","v":2276},2275,2277,null,{"$f":"AccVelDataLink!G2279","v":1.1499999999999999},"○","○"]
[2277,0,1300,{"$f":"AccVelDataLink!A2280","v":2277},2276,2278,null,{"$f":"AccVelDataLink!G2280","v":1.3},"○","○"]
[2278,0,1500,{"$f":"AccVelDataLink!A2281","v":2278},2277,2279,null,{"$f":"AccVelDataLink!G2281","v":1.5},"○","○"]
[2279,0,1750,{"$f":"AccVelDataLink!A2282","v":2279},2278,2280,null,{"$f":"AccVelDataLink!G2282","v":1.75},"○","○"]
[2280,0,2000,{"$f":"AccVelDataLink!A2283","v":2280},2279,2281,null,{"$f":"AccVelDataLink!G2283","v":2},"○","○"]
[2281,0,2250,{"$f":"AccVelDataLink!A2284","v":2281},2280,2282,null,{"$f":"AccVelDataLink!G2284","v":2.25},"○","○"]
[2282,0,2600,{"$f":"AccVelDataLink!A2285","v":2282},2281,2283,null,{"$f":"AccVelDataLink!G2285","v":2.6},"○","○"]
[2283,0,3000,{"$f":"AccVelDataLink!A2286","v":2283},2282,2284,null,{"$f":"AccVelDataLink!G2286","v":3},"○","○"]
[2284,0,3600,{"$f":"AccVelDataLink!A2287","v":2284},2283,2285,null,{"$f":"AccVelDataLink!G2287","v":3.6},"○","○"]
[2285,0,4500,{"$f":"AccVelDataLink!A2288","v":2285},2284,2286,null,{"$f":"AccVelDataLink!G2288","v":4.5},"○","○"]
[2286,0,6000,{"$f":"AccVelDataLink!A2289","v":2286},2285,2287,null,{"$f":"AccVelDataLink!G2289","v":6},"○","○"]
[2287,0,8000,{"$f":"AccVelDataLink!A2290","v":2287},2286,2288,null,{"$f":"AccVelDataLink!G2290","v":8},"○","○"]
[2288,0,9500,{"$f":"AccVelDataLink!A2291","v":2288},2287,2289,null,{"$f":"AccVelDataLink!G2291","v":9.5},"○","○"]
[2289,0,12000,{"$f":"AccVelDataLink!A2292","v":2289},2288,2290,null,{"$f":"AccVelDataLink!G2292","v":12},"○","○"]
[2290,1,100,{"$f":"AccVelDataLink!A2293","v":2290},2289,2291,{"$f":"AccVelDataLink!F2293","v":"RCS2-SA7C-60-24-垂直"},{"$f":"AccVelDataLink!G2293","v":0.1},"○","○"]
[2291,1,130,{"$f":"AccVelDataLink!A2294","v":2291},2290,2292,null,{"$f":"AccVelDataLink!G2294","v":0.13},"○","○"]
[2292,1,160,{"$f":"AccVelDataLink!A2295","v":2292},2291,2293,null,{"$f":"AccVelDataLink!G2295","v":0.16},"○","○"]
[2293,1,200,{"$f":"AccVelDataLink!A2296","v":2293},2292,2294,null,{"$f":"AccVelDataLink!G2296","v":0.2},"○","○"]
[2294,1,250,{"$f":"AccVelDataLink!A2297","v":2294},2293,2295,null,{"$f":"AccVelDataLink!G2297","v":0.25},"○","○"]
[2295,1,300,{"$f":"AccVelDataLink!A2298","v":2295},2294,2296,null,{"$f":"AccVelDataLink!G2298","v":0.3},"○","○"]
[2296,1,400,{"$f":"AccVelDataLink!A2299","v":2296},2295,2297,null,{"$f":"AccVelDataLink!G2299","v":0.4},"○","○"]
[2297,1,500,{"$f":"AccVelDataLink!A2300","v":2297},2296,2298,null,{"$f":"AccVelDataLink!G2300","v":0.5},"○","○"]
[2298,1,600,{"$f":"AccVelDataLink!A2301","v":2298},2297,2299,null,{"$f":"AccVelDataLink!G2301","v":0.6},"○","○"]
[2299,1,750,{"$f":"AccVelDataLink!A2302","v":2299},2298,2300,null,{"$f":"AccVelDataLink!G2302","v":0.75},"○","○"]
[2300,1,900,{"$f":"AccVelDataLink!A2303","v":2300},2299,2301,null,{"$f":"AccVelDataLink!G2303","v":0.9},"○","○"]
[2301,1,1100,{"$f":"AccVelDataLink!A2304","v":2301},2300,2302,null,{"$f":"AccVelDataLink!G2304","v":1.1000000000000001},"○","○"]
[2302,1,1400,{"$f":"AccVelDataLink!A2305","v":2302},2301,-1,null,{"$f":"AccVelDataLink!G2305","v":1.4},"○","終端"]
[2303,0,5000,{"$f":"AccVelDataLink!A2306","v":2303},-1,{"$f":"A2307","v":2304},{"$f":"AccVelDataLink!F2306","v":"RCS2-SS7C-60-6-水平"},{"$f":"AccVelDataLink!G2306","v":5},"先頭","○"]
[2304,0,9000,{"$f":"AccVelDataLink!A2307","v":2304},{"$f":"A2306","v":2303},2305,null,{"$f":"AccVelDataLink!G2307","v":9},"○","○"]
[{"$f":"A2307+1","v":2305},0,{"$f":"H2308*$H$1","v":15000},{"$f":"AccVelDataLink!A2308","v":2305},2304,2306,null,{"$f":"AccVelDataLink!G2308","v":15},{"$f":"IF(E2308=A2307,\"○\",IF(G2308=0,\"つなぎまちがい\",\"先頭\"))","v":"○"},{"$f":"IF(F2308=A2309,\"○\",IF(F2308<>E2309,\"つなぎまちがい\",\"終端\"))","v":"○"}]
[2306,0,22000,{"$f":"AccVelDataLink!A2309","v":2306},2305,2307,null,{"$f":"AccVelDataLink!G2309","v":22},"○","○"]
[2307,0,30000,{"$f":"AccVelDataLink!A2310","v":2307},2306,2308,null,{"$f":"AccVelDataLink!G2310","v":30},"○","○"]
[2308,0,36000,{"$f":"AccVelDataLink!A2311","v":2308},2307,2309,null,{"$f":"AccVelDataLink!G2311","v":36},"○","○"]
[2309,0,45000,{"$f":"AccVelDataLink!A2312","v":2309},2308,{"$f":"A2313","v":2310},null,{"$f":"AccVelDataLink!G2312","v":45},"○","○"]
[2310,1,4000,{"$f":"AccVelDataLink!A2313","v":2310},{"$f":"A2312","v":2309},{"$f":"A2314","v":2311},{"$f":"AccVelDataLink!F2313","v":"RCS2-SS7C-60-6-垂直"},{"$f":"AccVelDataLink!G2313","v":4},"○","○"]
[2311,1,5500,{"$f":"AccVelDataLink!A2314","v":2311},{"$f":"A2313","v":2310},{"$f":"A2315","v":2312},null,{"$f":"AccVelDataLink!G2314","v":5.5},"○","○"]
[2312,1,8000,{"$f":"AccVelDataLink!A2315","v":2312},{"$f":"A2314","v":2311},-1,null,{"$f":"AccVelDataLink!G2315","v":8},"○","終端"]
[2313,0,2000,{"$f":"AccVelDataLink!A2316","v":2313},-1,{"$f":"A2317","v":2314},{"$f":"AccVelDataLink!F2316","v":"RCS2-SS7C-60-12-水平"},{"$f":"AccVelDataLink!G2316","v":2},"先頭","○"]
[2314,0,2100,{"$f":"AccVelDataLink!A2317","v":2314},{"$f":"A2316","v":2313},2315,null,{"$f":"AccVelDataLink!G2317","v":2.1},"○","○"]
[2315,0,2200,{"$f":"AccVelDataLink!A2318","v":2315},2314,2316,null,{"$f":"AccVelDataLink!G2318","v":2.2000000000000002},"○","○"]
[2316,0,2300,{"$f":"AccVelDataLink!A2319","v":2316},2315,2317,null,{"$f":"AccVelDataLink!G2319","v":2.2999999999999998},"○","○"]
[2317,0,2400,{"$f":"AccVelDataLink!A2320","v":2317},2316,2318,null,{"$f":"AccVelDataLink!G2320","v":2.4},"○","○"]
[2318,0,2500,{"$f":"AccVelDataLink!A2321","v":2318},2317,2319,null,{"$f":"AccVelDataLink!G2321","v":2.5},"○","○"]
[2319,0,2600,{"$f":"AccVelDataLink!A2322","v":2319},2318,2320,null,{"$f":"AccVelDataLink!G2322","v":2.6},"○","○"]
[2320,0,2800,{"$f":"AccVelDataLink!A2323","v":2320},2319,2321,null,{"$f":"AccVelDataLink!G2323","v":2.8},"○","○"]
[2321,0,3000,{"$f":"AccVelDataLink!A2324","v":2321},2320,2322,null,{"$f":"AccVelDataLink!G2324","v":3},"○","○"]
[2322,0,3500,{"$f":"AccVelDataLink!A2325","v":2322},2321,2323,null,{"$f":"AccVelDataLink!G2325","v":3.5},"○","○"]
[2323,0,4000,{"$f":"AccVelDataLink!A2326","v":2323},2322,2324,null,{"$f":"AccVelDataLink!G2326","v":4},"○","○"]
[2324,0,4500,{"$f":"AccVelDataLink!A2327","v":2324},2323,2325,null,{"$f":"AccVelDataLink!G2327","v":4.5},"○","○"]
[2325,0,5200,{"$f":"AccVelDataLink!A2328","v":2325},2324,2326,null,{"$f":"AccVelDataLink!G2328","v":5.2},"○","○"]
[2326,0,6000,{"$f":"AccVelDataLink!A2329","v":2326},2325,2327,null,{"$f":"AccVelDataLink!G2329","v":6},"○","○"]
[2327,0,7300,{"$f":"AccVelDataLink!A2330","v":2327},2326,2328,null,{"$f":"AccVelDataLink!G2330","v":7.3},"○","○"]
[2328,0,9000,{"$f":"AccVelDataLink!A2331","v":2328},2327,2329,null,{"$f":"AccVelDataLink!G2331","v":9},"○","○"]
[2329,0,12000,{"$f":"AccVelDataLink!A2332","v":2329},2328,2330,null,{"$f":"AccVelDataLink!G2332","v":12},"○","○"]
[2330,0,15000,{"$f":"AccVelDataLink!A2333","v":2330},2329,2331,null,{"$f":"AccVelDataLink!G2333","v":15},"○","○"]
[2331,0,18000,{"$f":"AccVelDataLink!A2334","v":2331},2330,2332,null,{"$f":"AccVelDataLink!G2334","v":18},"○","○"]
[2332,0,22500,{"$f":"AccVelDataLink!A2335","v":2332},2331,{"$f":"A2336","v":2333},null,{"$f":"AccVelDataLink!G2335","v":22.5},"○","○"]
[2333,1,250,{"$f":"AccVelDataLink!A2336","v":2333},{"$f":"A2335","v":2332},2334,{"$f":"AccVelDataLink!F2336","v":"RCS2-SS7C-60-12-垂直"},{"$f":"AccVelDataLink!G2336","v":0.25},"○","○"]
[2334,1,300,{"$f":"AccVelDataLink!A2337","v":2334},2333,2335,null,{"$f":"AccVelDataLink!G2337","v":0.3},"○","○"]
[2335,1,400,{"$f":"AccVelDataLink!A2338","v":2335},2334,2336,null,{"$f":"AccVelDataLink!G2338","v":0.4},"○","○"]
[2336,1,500,{"$f":"AccVelDataLink!A2339","v":2336},2335,2337,null,{"$f":"AccVelDataLink!G2339","v":0.5},"○","○"]
[2337,1,600,{"$f":"AccVelDataLink!A2340","v":2337},2336,2338,null,{"$f":"AccVelDataLink!G2340","v":0.6},"○","○"]
[2338,1,750,{"$f":"AccVelDataLink!A2341","v":2338},2337,2339,null,{"$f":"AccVelDataLink!G2341","v":0.75},"○","○"]
[2339,1,850,{"$f":"AccVelDataLink!A2342","v":2339},2338,2340,null,{"$f":"AccVelDataLink!G2342","v":0.85},"○","○"]
[2340,1,1000,{"$f":"AccVelDataLink!A2343","v":2340},2339,2341,null,{"$f":"AccVelDataLink!G2343","v":1},"○","○"]
[2341,1,1250,{"$f":"AccVelDataLink!A2344","v":2341},2340,2342,null,{"$f":"AccVelDataLink!G2344","v":1.25},"○","○"]
[2342,1,1500,{"$f":"AccVelDataLink!A2345","v":2342},2341,2343,null,{"$f":"AccVelDataLink!G2345","v":1.5},"○","○"]
[2343,1,2000,{"$f":"AccVelDataLink!A2346","v":2343},2342,2344,null,{"$f":"AccVelDataLink!G2346","v":2},"○","○"]
[2344,1,2800,{"$f":"AccVelDataLink!A2347","v":2344},2343,2345,null,{"$f":"AccVelDataLink!G2347","v":2.8},"○","○"]
[2345,1,4000,{"$f":"AccVelDataLink!A2348","v":2345},2344,-1,null,{"$f":"AccVelDataLink!G2348","v":4},"○","終端"]
[2346,0,1000,{"$f":"AccVelDataLink!A2349","v":2346},-1,{"$f":"A2350","v":2347},{"$f":"AccVelDataLink!F2349","v":"RCS2-SS7C-60-20-水平"},{"$f":"AccVelDataLink!G2349","v":1},"先頭","○"]
[2347,0,1100,{"$f":"AccVelDataLink!A2350","v":2347},{"$f":"A2349","v":2346},2348,null,{"$f":"AccVelDataLink!G2350","v":1.1000000000000001},"○","○"]
[2348,0,1200,{"$f":"AccVelDataLink!A2351","v":2348},2347,2349,null,{"$f":"AccVelDataLink!G2351","v":1.2},"○","○"]
[2349,0,1300,{"$f":"AccVelDataLink!A2352","v":2349},2348,2350,null,{"$f":"AccVelDataLink!G2352","v":1.3},"○","○"]
[2350,0,1400,{"$f":"AccVelDataLink!A2353","v":2350},2349,2351,null,{"$f":"AccVelDataLink!G2353","v":1.4},"○","○"]
[2351,0,1500,{"$f":"AccVelDataLink!A2354","v":2351},2350,2352,null,{"$f":"AccVelDataLink!G2354","v":1.5},"○","○"]
[2352,0,1650,{"$f":"AccVelDataLink!A2355","v":2352},2351,2353,null,{"$f":"AccVelDataLink!G2355","v":1.65},"○","○"]
[2353,0,1800,{"$f":"AccVelDataLink!A2356","v":2353},2352,2354,null,{"$f":"AccVelDataLink!G2356","v":1.8},"○","○"]
[2354,0,2000,{"$f":"AccVelDataLink!A2357","v":2354},2353,2355,null,{"$f":"AccVelDataLink!G2357","v":2},"○","○"]
[2355,0,2200,{"$f":"AccVelDataLink!A2358","v":2355},2354,2356,null,{"$f":"AccVelDataLink!G2358","v":2.2000000000000002},"○","○"]
[2356,0,2500,{"$f":"AccVelDataLink!A2359","v":2356},2355,2357,null,{"$f":"AccVelDataLink!G2359","v":2.5},"○","○"]
[2357,0,2800,{"$f":"AccVelDataLink!A2360","v":2357},2356,2358,null,{"$f":"AccVelDataLink!G2360","v":2.8},"○","○"]
[2358,0,3200,{"$f":"AccVelDataLink!A2361","v":2358},2357,2359,null,{"$f":"AccVelDataLink!G2361","v":3.2},"○","○"]
[2359,0,3700,{"$f":"AccVelDataLink!A2362","v":2359},2358,2360,null,{"$f":"AccVelDataLink!G2362","v":3.7},"○","○"]
[2360,0,4400,{"$f":"AccVelDataLink!A2363","v":2360},2359,2361,null,{"$f":"AccVelDataLink!G2363","v":4.4000000000000004},"○","○"]
[2361,0,5400,{"$f":"AccVelDataLink!A2364","v":2361},2360,2362,null,{"$f":"AccVelDataLink!G2364","v":5.4},"○","○"]
[2362,0,7000,{"$f":"AccVelDataLink!A2365","v":2362},2361,2363,null,{"$f":"AccVelDataLink!G2365","v":7},"○","○"]
[2363,0,9000,{"$f":"AccVelDataLink!A2366","v":2363},2362,2364,null,{"$f":"AccVelDataLink!G2366","v":9},"○","○"]
[2364,0,11000,{"$f":"AccVelDataLink!A2367","v":2364},2363,2365,null,{"$f":"AccVelDataLink!G2367","v":11},"○","○"]
[2365,0,13500,{"$f":"AccVelDataLink!A2368","v":2365},2364,2366,null,{"$f":"AccVelDataLink!G2368","v":13.5},"○","○"]
[2366,1,100,{"$f":"AccVelDataLink!A2369","v":2366},2365,2367,{"$f":"AccVelDataLink!F2369","v":"RCS2-SS7C-60-20-垂直"},{"$f":"AccVelDataLink!G2369","v":0.1},"○","○"]
[2367,1,150,{"$f":"AccVelDataLink!A2370","v":2367},2366,2368,null,{"$f":"AccVelDataLink!G2370","v":0.15},"○","○"]
[2368,1,200,{"$f":"AccVelDataLink!A2371","v":2368},2367,2369,null,{"$f":"AccVelDataLink!G2371","v":0.2},"○","○"]
[{"$f":"A2371+1","v":2369},1,{"$f":"H2372*$H$1","v":250},{"$f":"AccVelDataLink!A2372","v":2369},2368,2370,null,{"$f":"AccVelDataLink!G2372","v":0.25},{"$f":"IF(E2372=A2371,\"○\",IF(G2372=0,\"つなぎまちがい\",\"先頭\"))","v":"○"},{"$f":"IF(F2372=A2373,\"○\",IF(F2372<>E2373,\"つなぎまちがい\",\"終端\"))","v":"○"}]
[2370,1,300,{"$f":"AccVelDataLink!A2373","v":2370},2369,2371,null,{"$f":"AccVelDataLink!G2373","v":0.3},"○","○"]
[2371,1,400,{"$f":"AccVelDataLink!A2374","v":2371},2370,2372,null,{"$f":"AccVelDataLink!G2374","v":0.4},"○","○"]
[2372,1,500,{"$f":"AccVelDataLink!A2375","v":2372},2371,2373,null,{"$f":"AccVelDataLink!G2375","v":0.5},"○","○"]
[2373,1,600,{"$f":"AccVelDataLink!A2376","v":2373},2372,2374,null,{"$f":"AccVelDataLink!G2376","v":0.6},"○","○"]
[2374,1,750,{"$f":"AccVelDataLink!A2377","v":2374},2373,2375,null,{"$f":"AccVelDataLink!G2377","v":0.75},"○","○"]
[2375,1,950,{"$f":"AccVelDataLink!A2378","v":2375},2374,2376,null,{"$f":"AccVelDataLink!G2378","v":0.95},"○","○"]
[2376,1,1200,{"$f":"AccVelDataLink!A2379","v":2376},2375,2377,null,{"$f":"AccVelDataLink!G2379","v":1.2},"○","○"]
[2377,1,1700,{"$f":"AccVelDataLink!A2380","v":2377},2376,2378,null,{"$f":"AccVelDataLink!G2380","v":1.7},"○","○"]
[2378,1,2400,{"$f":"AccVelDataLink!A2381","v":2378},2377,-1,null,{"$f":"AccVelDataLink!G2381","v":2.4},"○","終端"]
[2379,0,8000,{"$f":"AccVelDataLink!A2382","v":2379},-1,{"$f":"A2383","v":2380},{"$f":"AccVelDataLink!F2382","v":"RCS2CR-SA4C-20-2.5-水平"},{"$f":"AccVelDataLink!G2382","v":8},"先頭","○"]
[2380,0,10500,{"$f":"AccVelDataLink!A2383","v":2380},{"$f":"A2382","v":2379},{"$f":"A2384","v":2381},null,{"$f":"AccVelDataLink!G2383","v":10.5},"○","○"]
[2381,1,4500,{"$f":"AccVelDataLink!A2384","v":2381},{"$f":"A2383","v":2380},-1,{"$f":"AccVelDataLink!F2384","v":"RCS2CR-SA4C-20-2.5-垂直"},{"$f":"AccVelDataLink!G2384","v":4.5},"○","終端"]
[2382,0,6000,{"$f":"AccVelDataLink!A2385","v":2382},-1,{"$f":"A2386","v":2383},{"$f":"AccVelDataLink!F2385","v":"RCS2CR-SA4C-20-5-水平"},{"$f":"AccVelDataLink!G2385","v":6},"先頭","○"]
[2383,0,7000,{"$f":"AccVelDataLink!A2386","v":2383},{"$f":"A2385","v":2382},{"$f":"A2387","v":2384},null,{"$f":"AccVelDataLink!G2386","v":7},"○","○"]
[2384,0,8000,{"$f":"AccVelDataLink!A2387","v":2384},{"$f":"A2386","v":2383},{"$f":"A2388","v":2385},null,{"$f":"AccVelDataLink!G2387","v":8},"○","○"]
[2385,1,2500,{"$f":"AccVelDataLink!A2388","v":2385},{"$f":"A2387","v":2384},-1,{"$f":"AccVelDataLink!F2388","v":"RCS2CR-SA4C-20-5-垂直"},{"$f":"AccVelDataLink!G2388","v":2.5},"○","終端"]
[2386,0,4000,{"$f":"AccVelDataLink!A2389","v":2386},-1,{"$f":"A2390","v":2387},{"$f":"AccVelDataLink!F2389","v":"RCS2CR-SA4C-20-10-水平"},{"$f":"AccVelDataLink!G2389","v":4},"先頭","○"]
[2387,0,4500,{"$f":"AccVelDataLink!A2390","v":2387},{"$f":"A2389","v":2386},{"$f":"A2391","v":2388},null,{"$f":"AccVelDataLink!G2390","v":4.5},"○","○"]
[2388,0,5000,{"$f":"AccVelDataLink!A2391","v":2388},{"$f":"A2390","v":2387},{"$f":"A2392","v":2389},null,{"$f":"AccVelDataLink!G2391","v":5},"○","○"]
[2389,1,1000,{"$f":"AccVelDataLink!A2392","v":2389},{"$f":"A2391","v":2388},-1,{"$f":"AccVelDataLink!F2392","v":"RCS2CR-SA4C-20-10-垂直"},{"$f":"AccVelDataLink!G2392","v":1},"○","終端"]
[2390,0,2500,{"$f":"AccVelDataLink!A2393","v":2390},-1,{"$f":"A2394","v":2391},{"$f":"AccVelDataLink!F2393","v":"RCS2CR-SA4C-20-16-水平"},{"$f":"AccVelDataLink!G2393","v":2.5},"先頭","○"]
[2391,0,2800,{"$f":"AccVelDataLink!A2394","v":2391},{"$f":"A2393","v":2390},{"$f":"A2395","v":2392},null,{"$f":"AccVelDataLink!G2394","v":2.8},"○","○"]
[2392,0,3200,{"$f":"AccVelDataLink!A2395","v":2392},{"$f":"A2394","v":2391},{"$f":"A2396","v":2393},null,{"$f":"AccVelDataLink!G2395","v":3.2},"○","○"]
[2393,1,600,{"$f":"AccVelDataLink!A2396","v":2393},{"$f":"A2395","v":2392},-1,{"$f":"AccVelDataLink!F2396","v":"RCS2CR-SA4C-20-16-垂直"},{"$f":"AccVelDataLink!G2396","v":0.6},"○","終端"]
[2394,0,12000,{"$f":"AccVelDataLink!A2397","v":2394},-1,{"$f":"A2398","v":2395},{"$f":"AccVelDataLink!F2397","v":"RCS2CR-SA5C-20-3-水平"},{"$f":"AccVelDataLink!G2397","v":12},"先頭","○"]
[2395,0,15500,{"$f":"AccVelDataLink!A2398","v":2395},{"$f":"A2397","v":2394},{"$f":"A2399","v":2396},null,{"$f":"AccVelDataLink!G2398","v":15.5},"○","○"]
[2396,1,4000,{"$f":"AccVelDataLink!A2399","v":2396},{"$f":"A2398","v":2395},-1,{"$f":"AccVelDataLink!F2399","v":"RCS2CR-SA5C-20-3-垂直"},{"$f":"AccVelDataLink!G2399","v":4},"○","終端"]
[2397,0,8000,{"$f":"AccVelDataLink!A2400","v":2397},-1,{"$f":"A2401","v":2398},{"$f":"AccVelDataLink!F2400","v":"RCS2CR-SA5C-20-6-水平"},{"$f":"AccVelDataLink!G2400","v":8},"先頭","○"]
[2398,0,9000,{"$f":"AccVelDataLink!A2401","v":2398},{"$f":"A2400","v":2397},{"$f":"A2402","v":2399},null,{"$f":"AccVelDataLink!G2401","v":9},"○","○"]
[2399,0,10500,{"$f":"AccVelDataLink!A2402","v":2399},{"$f":"A2401","v":2398},{"$f":"A2403","v":2400},null,{"$f":"AccVelDataLink!G2402","v":10.5},"○","○"]
[2400,1,2000,{"$f":"AccVelDataLink!A2403","v":2400},{"$f":"A2402","v":2399},-1,{"$f":"AccVelDataLink!F2403","v":"RCS2CR-SA5C-20-6-垂直"},{"$f":"AccVelDataLink!G2403","v":2},"○","終端"]
[2401,0,4000,{"$f":"AccVelDataLink!A2404","v":2401},-1,{"$f":"A2405","v":2402},{"$f":"AccVelDataLink!F2404","v":"RCS2CR-SA5C-20-12-水平"},{"$f":"AccVelDataLink!G2404","v":4},"先頭","○"]
[2402,0,4500,{"$f":"AccVelDataLink!A2405","v":2402},{"$f":"A2404","v":2401},{"$f":"A2406","v":2403},null,{"$f":"AccVelDataLink!G2405","v":4.5},"○","○"]
[2403,0,5000,{"$f":"AccVelDataLink!A2406","v":2403},{"$f":"A2405","v":2402},{"$f":"A2407","v":2404},null,{"$f":"AccVelDataLink!G2406","v":5},"○","○"]
[2404,1,1000,{"$f":"AccVelDataLink!A2407","v":2404},{"$f":"A2406","v":2403},-1,{"$f":"AccVelDataLink!F2407","v":"RCS2CR-SA5C-20-12-垂直"},{"$f":"AccVelDataLink!G2407","v":1},"○","終端"]
[2405,0,2000,{"$f":"AccVelDataLink!A2408","v":2405},-1,{"$f":"A2409","v":2406},{"$f":"AccVelDataLink!F2408","v":"RCS2CR-SA5C-20-20-水平"},{"$f":"AccVelDataLink!G2408","v":2},"先頭","○"]
[2406,0,2300,{"$f":"AccVelDataLink!A2409","v":2406},{"$f":"A2408","v":2405},{"$f":"A2410","v":2407},null,{"$f":"AccVelDataLink!G2409","v":2.2999999999999998},"○","○"]
[2407,0,2600,{"$f":"AccVelDataLink!A2410","v":2407},{"$f":"A2409","v":2406},{"$f":"A2411","v":2408},null,{"$f":"AccVelDataLink!G2410","v":2.6},"○","○"]
[2408,1,500,{"$f":"AccVelDataLink!A2411","v":2408},{"$f":"A2410","v":2407},-1,{"$f":"AccVelDataLink!F2411","v":"RCS2CR-SA5C-20-20-垂直"},{"$f":"AccVelDataLink!G2411","v":0.5},"○","終端"]
[2409,0,18000,{"$f":"AccVelDataLink!A2412","v":2409},-1,{"$f":"A2413","v":2410},{"$f":"AccVelDataLink!F2412","v":"RCS2CR-SA6C-30-3-水平"},{"$f":"AccVelDataLink!G2412","v":18},"先頭","○"]
[2410,0,23500,{"$f":"AccVelDataLink!A2413","v":2410},{"$f":"A2412","v":2409},{"$f":"A2414","v":2411},null,{"$f":"AccVelDataLink!G2413","v":23.5},"○","○"]
[2411,1,6000,{"$f":"AccVelDataLink!A2414","v":2411},{"$f":"A2413","v":2410},-1,{"$f":"AccVelDataLink!F2414","v":"RCS2CR-SA6C-30-3-垂直"},{"$f":"AccVelDataLink!G2414","v":6},"○","終端"]
[2412,0,12000,{"$f":"AccVelDataLink!A2415","v":2412},-1,{"$f":"A2416","v":2413},{"$f":"AccVelDataLink!F2415","v":"RCS2CR-SA6C-30-6-水平"},{"$f":"AccVelDataLink!G2415","v":12},"先頭","○"]
[2413,0,14000,{"$f":"AccVelDataLink!A2416","v":2413},{"$f":"A2415","v":2412},{"$f":"A2417","v":2414},null,{"$f":"AccVelDataLink!G2416","v":14},"○","○"]
[2414,0,15500,{"$f":"AccVelDataLink!A2417","v":2414},{"$f":"A2416","v":2413},{"$f":"A2418","v":2415},null,{"$f":"AccVelDataLink!G2417","v":15.5},"○","○"]
[2415,1,3000,{"$f":"AccVelDataLink!A2418","v":2415},{"$f":"A2417","v":2414},-1,{"$f":"AccVelDataLink!F2418","v":"RCS2CR-SA6C-30-6-垂直"},{"$f":"AccVelDataLink!G2418","v":3},"○","終端"]
[2416,0,6000,{"$f":"AccVelDataLink!A2419","v":2416},-1,{"$f":"A2420","v":2417},{"$f":"AccVelDataLink!F2419","v":"RCS2CR-SA6C-30-12-水平"},{"$f":"AccVelDataLink!G2419","v":6},"先頭","○"]
[2417,0,7000,{"$f":"AccVelDataLink!A2420","v":2417},{"$f":"A2419","v":2416},{"$f":"A2421","v":2418},null,{"$f":"AccVelDataLink!G2420","v":7},"○","○"]
[2418,0,8000,{"$f":"AccVelDataLink!A2421","v":2418},{"$f":"A2420","v":2417},{"$f":"A2422","v":2419},null,{"$f":"AccVelDataLink!G2421","v":8},"○","○"]
[2419,1,1500,{"$f":"AccVelDataLink!A2422","v":2419},{"$f":"A2421","v":2418},-1,{"$f":"AccVelDataLink!F2422","v":"RCS2CR-SA6C-30-12-垂直"},{"$f":"AccVelDataLink!G2422","v":1.5},"○","終端"]
[2420,0,3000,{"$f":"AccVelDataLink!A2423","v":2420},-1,{"$f":"A2424","v":2421},{"$f":"AccVelDataLink!F2423","v":"RCS2CR-SA6C-30-20-水平"},{"$f":"AccVelDataLink!G2423","v":3},"先頭","○"]
[2421,0,3500,{"$f":"AccVelDataLink!A2424","v":2421},{"$f":"A2423","v":2420},{"$f":"A2425","v":2422},null,{"$f":"AccVelDataLink!G2424","v":3.5},"○","○"]
[2422,0,4000,{"$f":"AccVelDataLink!A2425","v":2422},{"$f":"A2424","v":2421},{"$f":"A2426","v":2423},null,{"$f":"AccVelDataLink!G2425","v":4},"○","○"]
[2423,1,500,{"$f":"AccVelDataLink!A2426","v":2423},{"$f":"A2425","v":2422},-1,{"$f":"AccVelDataLink!F2426","v":"RCS2CR-SA6C-30-20-垂直"},{"$f":"AccVelDataLink!G2426","v":0.5},"○","終端"]
[2424,0,40000,{"$f":"AccVelDataLink!A2427","v":2424},-1,{"$f":"A2428","v":2425},{"$f":"AccVelDataLink!F2427","v":"RCS2CR-SA7C-60-4-水平"},{"$f":"AccVelDataLink!G2427","v":40},"先頭","○"]
[2425,0,52000,{"$f":"AccVelDataLink!A2428","v":2425},{"$f":"A2427","v":2424},{"$f":"A2429","v":2426},null,{"$f":"AccVelDataLink!G2428","v":52},"○","○"]
[2426,1,12000,{"$f":"AccVelDataLink!A2429","v":2426},{"$f":"A2428","v":2425},-1,{"$f":"AccVelDataLink!F2429","v":"RCS2CR-SA7C-60-4-垂直"},{"$f":"AccVelDataLink!G2429","v":12},"○","終端"]
[2427,0,25000,{"$f":"AccVelDataLink!A2430","v":2427},-1,{"$f":"A2431","v":2428},{"$f":"AccVelDataLink!F2430","v":"RCS2CR-SA7C-60-8-水平"},{"$f":"AccVelDataLink!G2430","v":25},"先頭","○"]
[2428,0,29000,{"$f":"AccVelDataLink!A2431","v":2428},{"$f":"A2430","v":2427},{"$f":"A2432","v":2429},null,{"$f":"AccVelDataLink!G2431","v":29},"○","○"]
[2429,0,32500,{"$f":"AccVelDataLink!A2432","v":2429},{"$f":"A2431","v":2428},{"$f":"A2433","v":2430},null,{"$f":"AccVelDataLink!G2432","v":32.5},"○","○"]
[2430,1,6000,{"$f":"AccVelDataLink!A2433","v":2430},{"$f":"A2432","v":2429},-1,{"$f":"AccVelDataLink!F2433","v":"RCS2CR-SA7C-60-8-垂直"},{"$f":"AccVelDataLink!G2433","v":6},"○","終端"]
[2431,0,12000,{"$f":"AccVelDataLink!A2434","v":2431},-1,{"$f":"A2435","v":2432},{"$f":"AccVelDataLink!F2434","v":"RCS2CR-SA7C-60-16-水平"},{"$f":"AccVelDataLink!G2434","v":12},"先頭","○"]
[2432,0,14000,{"$f":"AccVelDataLink!A2435","v":2432},{"$f":"A2434","v":2431},{"$f":"A2436","v":2433},null,{"$f":"AccVelDataLink!G2435","v":14},"○","○"]
[{"$f":"A2435+1","v":2433},0,{"$f":"H2436*$H$1","v":15500},{"$f":"AccVelDataLink!A2436","v":2433},{"$f":"A2435","v":2432},{"$f":"A2437","v":2434},null,{"$f":"AccVelDataLink!G2436","v":15.5},{"$f":"IF(E2436=A2435,\"○\",IF(G2436=0,\"つなぎまちがい\",\"先頭\"))","v":"○"},{"$f":"IF(F2436=A2437,\"○\",IF(F2436<>E2437,\"つなぎまちがい\",\"終端\"))","v":"○"}]
[2434,1,3000,{"$f":"AccVelDataLink!A2437","v":2434},{"$f":"A2436","v":2433},-1,{"$f":"AccVelDataLink!F2437","v":"RCS2CR-SA7C-60-16-垂直"},{"$f":"AccVelDataLink!G2437","v":3},"○","終端"]
[2435,0,8000,{"$f":"AccVelDataLink!A2438","v":2435},-1,{"$f":"A2439","v":2436},{"$f":"AccVelDataLink!F2438","v":"RCS2CR-SA7C-60-24-水平"},{"$f":"AccVelDataLink!G2438","v":8},"先頭","○"]
[2436,0,9500,{"$f":"AccVelDataLink!A2439","v":2436},{"$f":"A2438","v":2435},{"$f":"A2440","v":2437},null,{"$f":"AccVelDataLink!G2439","v":9.5},"○","○"]
[2437,0,10500,{"$f":"AccVelDataLink!A2440","v":2437},{"$f":"A2439","v":2436},{"$f":"A2441","v":2438},null,{"$f":"AccVelDataLink!G2440","v":10.5},"○","○"]
[2438,1,1400,{"$f":"AccVelDataLink!A2441","v":2438},{"$f":"A2440","v":2437},-1,{"$f":"AccVelDataLink!F2441","v":"RCS2CR-SA7C-60-24-垂直"},{"$f":"AccVelDataLink!G2441","v":1.4},"○","終端"]
[2439,0,30000,{"$f":"AccVelDataLink!A2442","v":2439},-1,{"$f":"A2443","v":2440},{"$f":"AccVelDataLink!F2442","v":"RCS2CR-SS7C-60-6-水平"},{"$f":"AccVelDataLink!G2442","v":30},"先頭","○"]
[2440,0,34500,{"$f":"AccVelDataLink!A2443","v":2440},{"$f":"A2442","v":2439},{"$f":"A2444","v":2441},null,{"$f":"AccVelDataLink!G2443","v":34.5},"○","○"]
[2441,0,39000,{"$f":"AccVelDataLink!A2444","v":2441},{"$f":"A2443","v":2440},{"$f":"A2445","v":2442},null,{"$f":"AccVelDataLink!G2444","v":39},"○","○"]
[2442,1,8000,{"$f":"AccVelDataLink!A2445","v":2442},{"$f":"A2444","v":2441},-1,{"$f":"AccVelDataLink!F2445","v":"RCS2CR-SS7C-60-6-垂直"},{"$f":"AccVelDataLink!G2445","v":8},"○","終端"]
[2443,0,15000,{"$f":"AccVelDataLink!A2446","v":2443},-1,{"$f":"A2447","v":2444},{"$f":"AccVelDataLink!F2446","v":"RCS2CR-SS7C-60-12-水平"},{"$f":"AccVelDataLink!G2446","v":15},"先頭","○"]
[2444,0,17500,{"$f":"AccVelDataLink!A2447","v":2444},{"$f":"A2446","v":2443},{"$f":"A2448","v":2445},null,{"$f":"AccVelDataLink!G2447","v":17.5},"○","○"]
[2445,0,19500,{"$f":"AccVelDataLink!A2448","v":2445},{"$f":"A2447","v":2444},{"$f":"A2449","v":2446},null,{"$f":"AccVelDataLink!G2448","v":19.5},"○","○"]
[2446,1,4000,{"$f":"AccVelDataLink!A2449","v":2446},{"$f":"A2448","v":2445},-1,{"$f":"AccVelDataLink!F2449","v":"RCS2CR-SS7C-60-12-垂直"},{"$f":"AccVelDataLink!G2449","v":4},"○","終端"]
[2447,0,9000,{"$f":"AccVelDataLink!A2450","v":2447},-1,{"$f":"A2451","v":2448},{"$f":"AccVelDataLink!F2450","v":"RCS2CR-SS7C-60-20-水平"},{"$f":"AccVelDataLink!G2450","v":9},"先頭","○"]
[2448,0,10500,{"$f":"AccVelDataLink!A2451","v":2448},{"$f":"A2450","v":2447},{"$f":"A2452","v":2449},null,{"$f":"AccVelDataLink!G2451","v":10.5},"○","○"]
[2449,0,11500,{"$f":"AccVelDataLink!A2452","v":2449},{"$f":"A2451","v":2448},{"$f":"A2453","v":2450},null,{"$f":"AccVelDataLink!G2452","v":11.5},"○","○"]
[2450,1,2400,{"$f":"AccVelDataLink!A2453","v":2450},{"$f":"A2452","v":2449},-1,{"$f":"AccVelDataLink!F2453","v":"RCS2CR-SS7C-60-20-垂直"},{"$f":"AccVelDataLink!G2453","v":2.4},"○","終端"]
[2451,0,8000,{"$f":"AccVelDataLink!A2454","v":2451},-1,{"$f":"A2455","v":2452},{"$f":"AccVelDataLink!F2454","v":"RCS2-SA4D-20-2.5-水平"},{"$f":"AccVelDataLink!G2454","v":8},"先頭","○"]
[2452,1,4500,{"$f":"AccVelDataLink!A2455","v":2452},{"$f":"A2454","v":2451},-1,{"$f":"AccVelDataLink!F2455","v":"RCS2-SA4D-20-2.5-垂直"},{"$f":"AccVelDataLink!G2455","v":4.5},"○","終端"]
[2453,0,6000,{"$f":"AccVelDataLink!A2456","v":2453},-1,{"$f":"A2457","v":2454},{"$f":"AccVelDataLink!F2456","v":"RCS2-SA4D-20-5-水平"},{"$f":"AccVelDataLink!G2456","v":6},"先頭","○"]
[2454,1,2500,{"$f":"AccVelDataLink!A2457","v":2454},{"$f":"A2456","v":2453},-1,{"$f":"AccVelDataLink!F2457","v":"RCS2-SA4D-20-5-垂直"},{"$f":"AccVelDataLink!G2457","v":2.5},"○","終端"]
[2455,0,4000,{"$f":"AccVelDataLink!A2458","v":2455},-1,{"$f":"A2459","v":2456},{"$f":"AccVelDataLink!F2458","v":"RCS2-SA4D-20-10-水平"},{"$f":"AccVelDataLink!G2458","v":4},"先頭","○"]
[2456,1,1000,{"$f":"AccVelDataLink!A2459","v":2456},{"$f":"A2458","v":2455},-1,{"$f":"AccVelDataLink!F2459","v":"RCS2-SA4D-20-10-垂直"},{"$f":"AccVelDataLink!G2459","v":1},"○","終端"]
[2457,0,12000,{"$f":"AccVelDataLink!A2460","v":2457},-1,{"$f":"A2461","v":2458},{"$f":"AccVelDataLink!F2460","v":"RCS2-SA5D-20-3-水平"},{"$f":"AccVelDataLink!G2460","v":12},"先頭","○"]
[2458,1,4000,{"$f":"AccVelDataLink!A2461","v":2458},{"$f":"A2460","v":2457},-1,{"$f":"AccVelDataLink!F2461","v":"RCS2-SA5D-20-3-垂直"},{"$f":"AccVelDataLink!G2461","v":4},"○","終端"]
[2459,0,8000,{"$f":"AccVelDataLink!A2462","v":2459},-1,{"$f":"A2463","v":2460},{"$f":"AccVelDataLink!F2462","v":"RCS2-SA5D-20-6-水平"},{"$f":"AccVelDataLink!G2462","v":8},"先頭","○"]
[2460,1,2000,{"$f":"AccVelDataLink!A2463","v":2460},{"$f":"A2462","v":2459},-1,{"$f":"AccVelDataLink!F2463","v":"RCS2-SA5D-20-6-垂直"},{"$f":"AccVelDataLink!G2463","v":2},"○","終端"]
[2461,0,4000,{"$f":"AccVelDataLink!A2464","v":2461},-1,{"$f":"A2465","v":2462},{"$f":"AccVelDataLink!F2464","v":"RCS2-SA5D-20-12-水平"},{"$f":"AccVelDataLink!G2464","v":4},"先頭","○"]
[2462,1,1000,{"$f":"AccVelDataLink!A2465","v":2462},{"$f":"A2464","v":2461},-1,{"$f":"AccVelDataLink!F2465","v":"RCS2-SA5D-20-12-垂直"},{"$f":"AccVelDataLink!G2465","v":1},"○","終端"]
[2463,0,18000,{"$f":"AccVelDataLink!A2466","v":2463},-1,{"$f":"A2467","v":2464},{"$f":"AccVelDataLink!F2466","v":"RCS2-SA6D-30-3-水平"},{"$f":"AccVelDataLink!G2466","v":18},"先頭","○"]
[2464,1,6000,{"$f":"AccVelDataLink!A2467","v":2464},{"$f":"A2466","v":2463},-1,{"$f":"AccVelDataLink!F2467","v":"RCS2-SA6D-30-3-垂直"},{"$f":"AccVelDataLink!G2467","v":6},"○","終端"]
[2465,0,12000,{"$f":"AccVelDataLink!A2468","v":2465},-1,{"$f":"A2469","v":2466},{"$f":"AccVelDataLink!F2468","v":"RCS2-SA6D-30-6-水平"},{"$f":"AccVelDataLink!G2468","v":12},"先頭","○"]
[2466,1,3000,{"$f":"AccVelDataLink!A2469","v":2466},{"$f":"A2468","v":2465},-1,{"$f":"AccVelDataLink!F2469","v":"RCS2-SA6D-30-6-垂直"},{"$f":"AccVelDataLink!G2469","v":3},"○","終端"]
[2467,0,6000,{"$f":"AccVelDataLink!A2470","v":2467},-1,{"$f":"A2471","v":2468},{"$f":"AccVelDataLink!F2470","v":"RCS2-SA6D-30-12-水平"},{"$f":"AccVelDataLink!G2470","v":6},"先頭","○"]
[2468,1,1500,{"$f":"AccVelDataLink!A2471","v":2468},{"$f":"A2470","v":2467},-1,{"$f":"AccVelDataLink!F2471","v":"RCS2-SA6D-30-12-垂直"},{"$f":"AccVelDataLink!G2471","v":1.5},"○","終端"]
[2469,0,12000,{"$f":"AccVelDataLink!A2472","v":2469},-1,{"$f":"A2473","v":2470},{"$f":"AccVelDataLink!F2472","v":"RCS2CR-SA5D-20-3-水平"},{"$f":"AccVelDataLink!G2472","v":12},"先頭","○"]
[2470,1,4000,{"$f":"AccVelDataLink!A2473","v":2470},{"$f":"A2472","v":2469},-1,{"$f":"AccVelDataLink!F2473","v":"RCS2CR-SA5D-20-3-垂直"},{"$f":"AccVelDataLink!G2473","v":4},"○","終端"]
[2471,0,8000,{"$f":"AccVelDataLink!A2474","v":2471},-1,{"$f":"A2475","v":2472},{"$f":"AccVelDataLink!F2474","v":"RCS2CR-SA5D-20-6-水平"},{"$f":"AccVelDataLink!G2474","v":8},"先頭","○"]
[2472,1,2000,{"$f":"AccVelDataLink!A2475","v":2472},{"$f":"A2474","v":2471},-1,{"$f":"AccVelDataLink!F2475","v":"RCS2CR-SA5D-20-6-垂直"},{"$f":"AccVelDataLink!G2475","v":2},"○","終端"]
[2473,0,4000,{"$f":"AccVelDataLink!A2476","v":2473},-1,{"$f":"A2477","v":2474},{"$f":"AccVelDataLink!F2476","v":"RCS2CR-SA5D-20-12-水平"},{"$f":"AccVelDataLink!G2476","v":4},"先頭","○"]
[2474,1,1000,{"$f":"AccVelDataLink!A2477","v":2474},{"$f":"A2476","v":2473},-1,{"$f":"AccVelDataLink!F2477","v":"RCS2CR-SA5D-20-12-垂直"},{"$f":"AccVelDataLink!G2477","v":1},"○","終端"]
[2475,0,18000,{"$f":"AccVelDataLink!A2478","v":2475},-1,{"$f":"A2479","v":2476},{"$f":"AccVelDataLink!F2478","v":"RCS2CR-SA6D-30-3-水平"},{"$f":"AccVelDataLink!G2478","v":18},"先頭","○"]
[2476,1,6000,{"$f":"AccVelDataLink!A2479","v":2476},{"$f":"A2478","v":2475},-1,{"$f":"AccVelDataLink!F2479","v":"RCS2CR-SA6D-30-3-垂直"},{"$f":"AccVelDataLink!G2479","v":6},"○","終端"]
[2477,0,12000,{"$f":"AccVelDataLink!A2480","v":2477},-1,{"$f":"A2481","v":2478},{"$f":"AccVelDataLink!F2480","v":"RCS2CR-SA6D-30-6-水平"},{"$f":"AccVelDataLink!G2480","v":12},"先頭","○"]
[2478,1,3000,{"$f":"AccVelDataLink!A2481","v":2478},{"$f":"A2480","v":2477},-1,{"$f":"AccVelDataLink!F2481","v":"RCS2CR-SA6D-30-6-垂直"},{"$f":"AccVelDataLink!G2481","v":3},"○","終端"]
[2479,0,6000,{"$f":"AccVelDataLink!A2482","v":2479},-1,{"$f":"A2483","v":2480},{"$f":"AccVelDataLink!F2482","v":"RCS2CR-SA6D-30-12-水平"},{"$f":"AccVelDataLink!G2482","v":6},"先頭","○"]
[2480,1,1500,{"$f":"AccVelDataLink!A2483","v":2480},{"$f":"A2482","v":2479},-1,{"$f":"AccVelDataLink!F2483","v":"RCS2CR-SA6D-30-12-垂直"},{"$f":"AccVelDataLink!G2483","v":1.5},"○","終端"]
[2481,0,1750,{"$f":"AccVelDataLink!A2484","v":2481},-1,{"$f":"A2485","v":2482},{"$f":"AccVelDataLink!F2484","v":"RCS2-SA4R-20-2.5-水平"},{"$f":"AccVelDataLink!G2484","v":1.75},"先頭","○"]
[2482,0,3500,{"$f":"AccVelDataLink!A2485","v":2482},{"$f":"A2484","v":2481},{"$f":"A2486","v":2483},null,{"$f":"AccVelDataLink!G2485","v":3.5},"○","○"]
[2483,0,8000,{"$f":"AccVelDataLink!A2486","v":2483},{"$f":"A2485","v":2482},{"$f":"A2487","v":2484},null,{"$f":"AccVelDataLink!G2486","v":8},"○","○"]
[2484,0,10500,{"$f":"AccVelDataLink!A2487","v":2484},{"$f":"A2486","v":2483},{"$f":"A2488","v":2485},null,{"$f":"AccVelDataLink!G2487","v":10.5},"○","○"]
[2485,1,1500,{"$f":"AccVelDataLink!A2488","v":2485},{"$f":"A2487","v":2484},{"$f":"A2489","v":2486},{"$f":"AccVelDataLink!F2488","v":"RCS2-SA4R-20-2.5-垂直"},{"$f":"AccVelDataLink!G2488","v":1.5},"○","○"]
[2486,1,4500,{"$f":"AccVelDataLink!A2489","v":2486},{"$f":"A2488","v":2485},-1,null,{"$f":"AccVelDataLink!G2489","v":4.5},"○","終端"]
[2487,0,2500,{"$f":"AccVelDataLink!A2490","v":2487},-1,{"$f":"A2491","v":2488},{"$f":"AccVelDataLink!F2490","v":"RCS2-SA4R-20-5-水平"},{"$f":"AccVelDataLink!G2490","v":2.5},"先頭","○"]
[2488,0,3500,{"$f":"AccVelDataLink!A2491","v":2488},{"$f":"A2490","v":2487},2489,null,{"$f":"AccVelDataLink!G2491","v":3.5},"○","○"]
[2489,0,4500,{"$f":"AccVelDataLink!A2492","v":2489},2488,2490,null,{"$f":"AccVelDataLink!G2492","v":4.5},"○","○"]
[2490,0,6000,{"$f":"AccVelDataLink!A2493","v":2490},2489,2491,null,{"$f":"AccVelDataLink!G2493","v":6},"○","○"]
[2491,0,7000,{"$f":"AccVelDataLink!A2494","v":2491},2490,2492,null,{"$f":"AccVelDataLink!G2494","v":7},"○","○"]
[2492,0,8000,{"$f":"AccVelDataLink!A2495","v":2492},2491,2493,null,{"$f":"AccVelDataLink!G2495","v":8},"○","○"]
[2493,1,1000,{"$f":"AccVelDataLink!A2496","v":2493},2492,2494,{"$f":"AccVelDataLink!F2496","v":"RCS2-SA4R-20-5-垂直"},{"$f":"AccVelDataLink!G2496","v":1},"○","○"]
[2494,1,1250,{"$f":"AccVelDataLink!A2497","v":2494},2493,2495,null,{"$f":"AccVelDataLink!G2497","v":1.25},"○","○"]
[2495,1,1700,{"$f":"AccVelDataLink!A2498","v":2495},2494,2496,null,{"$f":"AccVelDataLink!G2498","v":1.7},"○","○"]
[2496,1,2500,{"$f":"AccVelDataLink!A2499","v":2496},2495,-1,null,{"$f":"AccVelDataLink!G2499","v":2.5},"○","終端"]
[{"$f":"A2499+1","v":2497},0,{"$f":"H2500*$H$1","v":1000},{"$f":"AccVelDataLink!A2500","v":2497},-1,{"$f":"A2501","v":2498},{"$f":"AccVelDataLink!F2500","v":"RCS2-SA4R-20-10-水平"},{"$f":"AccVelDataLink!G2500","v":1},{"$f":"IF(E2500=A2499,\"○\",IF(G2500=0,\"つなぎまちがい\",\"先頭\"))","v":"先頭"},{"$f":"IF(F2500=A2501,\"○\",IF(F2500<>E2501,\"つなぎまちがい\",\"終端\"))","v":"○"}]
[2498,0,1500,{"$f":"AccVelDataLink!A2501","v":2498},{"$f":"A2500","v":2497},2499,null,{"$f":"AccVelDataLink!G2501","v":1.5},"○","○"]
[2499,0,2000,{"$f":"AccVelDataLink!A2502","v":2499},2498,2500,null,{"$f":"AccVelDataLink!G2502","v":2},"○","○"]
[2500,0,2500,{"$f":"AccVelDataLink!A2503","v":2500},2499,2501,null,{"$f":"AccVelDataLink!G2503","v":2.5},"○","○"]
[2501,0,3000,{"$f":"AccVelDataLink!A2504","v":2501},2500,2502,null,{"$f":"AccVelDataLink!G2504","v":3},"○","○"]
[2502,0,4000,{"$f":"AccVelDataLink!A2505","v":2502},2501,2503,null,{"$f":"AccVelDataLink!G2505","v":4},"○","○"]
[2503,0,4600,{"$f":"AccVelDataLink!A2506","v":2503},2502,2504,null,{"$f":"AccVelDataLink!G2506","v":4.5999999999999996},"○","○"]
[2504,0,5200,{"$f":"AccVelDataLink!A2507","v":2504},2503,{"$f":"A2508","v":2505},null,{"$f":"AccVelDataLink!G2507","v":5.2},"○","○"]
[2505,1,300,{"$f":"AccVelDataLink!A2508","v":2505},{"$f":"A2507","v":2504},2506,{"$f":"AccVelDataLink!F2508","v":"RCS2-SA4R-20-10-垂直"},{"$f":"AccVelDataLink!G2508","v":0.3},"○","○"]
[2506,1,350,{"$f":"AccVelDataLink!A2509","v":2506},2505,2507,null,{"$f":"AccVelDataLink!G2509","v":0.35},"○","○"]
[2507,1,400,{"$f":"AccVelDataLink!A2510","v":2507},2506,2508,null,{"$f":"AccVelDataLink!G2510","v":0.4},"○","○"]
[2508,1,500,{"$f":"AccVelDataLink!A2511","v":2508},2507,2509,null,{"$f":"AccVelDataLink!G2511","v":0.5},"○","○"]
[2509,1,700,{"$f":"AccVelDataLink!A2512","v":2509},2508,2510,null,{"$f":"AccVelDataLink!G2512","v":0.7},"○","○"]
[2510,1,1000,{"$f":"AccVelDataLink!A2513","v":2510},2509,-1,null,{"$f":"AccVelDataLink!G2513","v":1},"○","終端"]
[2511,0,2500,{"$f":"AccVelDataLink!A2514","v":2511},-1,{"$f":"A2515","v":2512},{"$f":"AccVelDataLink!F2514","v":"RCS2-SA5R-20-3-水平"},{"$f":"AccVelDataLink!G2514","v":2.5},"先頭","○"]
[2512,0,12000,{"$f":"AccVelDataLink!A2515","v":2512},{"$f":"A2514","v":2511},{"$f":"A2516","v":2513},null,{"$f":"AccVelDataLink!G2515","v":12},"○","○"]
[2513,0,15500,{"$f":"AccVelDataLink!A2516","v":2513},{"$f":"A2515","v":2512},{"$f":"A2517","v":2514},null,{"$f":"AccVelDataLink!G2516","v":15.5},"○","○"]
[2514,1,2000,{"$f":"AccVelDataLink!A2517","v":2514},{"$f":"A2516","v":2513},{"$f":"A2518","v":2515},{"$f":"AccVelDataLink!F2517","v":"RCS2-SA5R-20-3-垂直"},{"$f":"AccVelDataLink!G2517","v":2},"○","○"]
[2515,1,4000,{"$f":"AccVelDataLink!A2518","v":2515},{"$f":"A2517","v":2514},-1,null,{"$f":"AccVelDataLink!G2518","v":4},"○","終端"]
[2516,0,2500,{"$f":"AccVelDataLink!A2519","v":2516},-1,{"$f":"A2520","v":2517},{"$f":"AccVelDataLink!F2519","v":"RCS2-SA5R-20-6-水平"},{"$f":"AccVelDataLink!G2519","v":2.5},"先頭","○"]
[2517,0,4000,{"$f":"AccVelDataLink!A2520","v":2517},{"$f":"A2519","v":2516},2518,null,{"$f":"AccVelDataLink!G2520","v":4},"○","○"]
[2518,0,6000,{"$f":"AccVelDataLink!A2521","v":2518},2517,2519,null,{"$f":"AccVelDataLink!G2521","v":6},"○","○"]
[2519,0,8000,{"$f":"AccVelDataLink!A2522","v":2519},2518,2520,null,{"$f":"AccVelDataLink!G2522","v":8},"○","○"]
[2520,0,9200,{"$f":"AccVelDataLink!A2523","v":2520},2519,2521,null,{"$f":"AccVelDataLink!G2523","v":9.1999999999999993},"○","○"]
[2521,0,10500,{"$f":"AccVelDataLink!A2524","v":2521},2520,2522,null,{"$f":"AccVelDataLink!G2524","v":10.5},"○","○"]
[2522,1,800,{"$f":"AccVelDataLink!A2525","v":2522},2521,2523,{"$f":"AccVelDataLink!F2525","v":"RCS2-SA5R-20-6-垂直"},{"$f":"AccVelDataLink!G2525","v":0.8},"○","○"]
[2523,1,1100,{"$f":"AccVelDataLink!A2526","v":2523},2522,2524,null,{"$f":"AccVelDataLink!G2526","v":1.1000000000000001},"○","○"]
[2524,1,1500,{"$f":"AccVelDataLink!A2527","v":2524},2523,2525,null,{"$f":"AccVelDataLink!G2527","v":1.5},"○","○"]
[2525,1,2000,{"$f":"AccVelDataLink!A2528","v":2525},2524,-1,null,{"$f":"AccVelDataLink!G2528","v":2},"○","終端"]
[2526,0,1000,{"$f":"AccVelDataLink!A2529","v":2526},-1,{"$f":"A2530","v":2527},{"$f":"AccVelDataLink!F2529","v":"RCS2-SA5R-20-12-水平"},{"$f":"AccVelDataLink!G2529","v":1},"先頭","○"]
[2527,0,1500,{"$f":"AccVelDataLink!A2530","v":2527},{"$f":"A2529","v":2526},2528,null,{"$f":"AccVelDataLink!G2530","v":1.5},"○","○"]
[2528,0,2000,{"$f":"AccVelDataLink!A2531","v":2528},2527,2529,null,{"$f":"AccVelDataLink!G2531","v":2},"○","○"]
[2529,0,2500,{"$f":"AccVelDataLink!A2532","v":2529},2528,2530,null,{"$f":"AccVelDataLink!G2532","v":2.5},"○","○"]
[2530,0,3000,{"$f":"AccVelDataLink!A2533","v":2530},2529,2531,null,{"$f":"AccVelDataLink!G2533","v":3},"○","○"]
[2531,0,4000,{"$f":"AccVelDataLink!A2534","v":2531},2530,2532,null,{"$f":"AccVelDataLink!G2534","v":4},"○","○"]
[2532,0,4600,{"$f":"AccVelDataLink!A2535","v":2532},2531,2533,null,{"$f":"AccVelDataLink!G2535","v":4.5999999999999996},"○","○"]
[2533,0,5200,{"$f":"AccVelDataLink!A2536","v":2533},2532,{"$f":"A2537","v":2534},null,{"$f":"AccVelDataLink!G2536","v":5.2},"○","○"]
[2534,1,250,{"$f":"AccVelDataLink!A2537","v":2534},{"$f":"A2536","v":2533},2535,{"$f":"AccVelDataLink!F2537","v":"RCS2-SA5R-20-12-垂直"},{"$f":"AccVelDataLink!G2537","v":0.25},"○","○"]
[2535,1,300,{"$f":"AccVelDataLink!A2538","v":2535},2534,2536,null,{"$f":"AccVelDataLink!G2538","v":0.3},"○","○"]
[2536,1,400,{"$f":"AccVelDataLink!A2539","v":2536},2535,2537,null,{"$f":"AccVelDataLink!G2539","v":0.4},"○","○"]
[2537,1,550,{"$f":"AccVelDataLink!A2540","v":2537},2536,2538,null,{"$f":"AccVelDataLink!G2540","v":0.55000000000000004},"○","○"]
[2538,1,700,{"$f":"AccVelDataLink!A2541","v":2538},2537,2539,null,{"$f":"AccVelDataLink!G2541","v":0.7},"○","○"]
[2539,1,1000,{"$f":"AccVelDataLink!A2542","v":2539},2538,-1,null,{"$f":"AccVelDataLink!G2542","v":1},"○","終端"]
[2540,0,5500,{"$f":"AccVelDataLink!A2543","v":2540},-1,{"$f":"A2544","v":2541},{"$f":"AccVelDataLink!F2543","v":"RCS2-SA6R-30-3-水平"},{"$f":"AccVelDataLink!G2543","v":5.5},"先頭","○"]
[2541,0,18000,{"$f":"AccVelDataLink!A2544","v":2541},{"$f":"A2543","v":2540},{"$f":"A2545","v":2542},null,{"$f":"AccVelDataLink!G2544","v":18},"○","○"]
[2542,0,23500,{"$f":"AccVelDataLink!A2545","v":2542},{"$f":"A2544","v":2541},{"$f":"A2546","v":2543},null,{"$f":"AccVelDataLink!G2545","v":23.5},"○","○"]
[2543,1,1600,{"$f":"AccVelDataLink!A2546","v":2543},{"$f":"A2545","v":2542},{"$f":"A2547","v":2544},{"$f":"AccVelDataLink!F2546","v":"RCS2-SA6R-30-3-垂直"},{"$f":"AccVelDataLink!G2546","v":1.6},"○","○"]
[2544,1,6000,{"$f":"AccVelDataLink!A2547","v":2544},{"$f":"A2546","v":2543},-1,null,{"$f":"AccVelDataLink!G2547","v":6},"○","終端"]
[2545,0,5500,{"$f":"AccVelDataLink!A2548","v":2545},-1,{"$f":"A2549","v":2546},{"$f":"AccVelDataLink!F2548","v":"RCS2-SA6R-30-6-水平"},{"$f":"AccVelDataLink!G2548","v":5.5},"先頭","○"]
[2546,0,7000,{"$f":"AccVelDataLink!A2549","v":2546},{"$f":"A2548","v":2545},2547,null,{"$f":"AccVelDataLink!G2549","v":7},"○","○"]
[2547,0,9000,{"$f":"AccVelDataLink!A2550","v":2547},2546,2548,null,{"$f":"AccVelDataLink!G2550","v":9},"○","○"]
[2548,0,12000,{"$f":"AccVelDataLink!A2551","v":2548},2547,2549,null,{"$f":"AccVelDataLink!G2551","v":12},"○","○"]
[2549,0,13800,{"$f":"AccVelDataLink!A2552","v":2549},2548,2550,null,{"$f":"AccVelDataLink!G2552","v":13.8},"○","○"]
[2550,0,15500,{"$f":"AccVelDataLink!A2553","v":2550},2549,2551,null,{"$f":"AccVelDataLink!G2553","v":15.5},"○","○"]
[2551,1,1000,{"$f":"AccVelDataLink!A2554","v":2551},2550,2552,{"$f":"AccVelDataLink!F2554","v":"RCS2-SA6R-30-6-垂直"},{"$f":"AccVelDataLink!G2554","v":1},"○","○"]
[2552,1,1500,{"$f":"AccVelDataLink!A2555","v":2552},2551,2553,null,{"$f":"AccVelDataLink!G2555","v":1.5},"○","○"]
[2553,1,2000,{"$f":"AccVelDataLink!A2556","v":2553},2552,2554,null,{"$f":"AccVelDataLink!G2556","v":2},"○","○"]
[2554,1,3000,{"$f":"AccVelDataLink!A2557","v":2554},2553,-1,null,{"$f":"AccVelDataLink!G2557","v":3},"○","終端"]
[2555,0,1000,{"$f":"AccVelDataLink!A2558","v":2555},-1,{"$f":"A2559","v":2556},{"$f":"AccVelDataLink!F2558","v":"RCS2-SA6R-30-12-水平"},{"$f":"AccVelDataLink!G2558","v":1},"先頭","○"]
[2556,0,1500,{"$f":"AccVelDataLink!A2559","v":2556},{"$f":"A2558","v":2555},2557,null,{"$f":"AccVelDataLink!G2559","v":1.5},"○","○"]
[2557,0,2000,{"$f":"AccVelDataLink!A2560","v":2557},2556,2558,null,{"$f":"AccVelDataLink!G2560","v":2},"○","○"]
[2558,0,3000,{"$f":"AccVelDataLink!A2561","v":2558},2557,2559,null,{"$f":"AccVelDataLink!G2561","v":3},"○","○"]
[2559,0,4000,{"$f":"AccVelDataLink!A2562","v":2559},2558,2560,null,{"$f":"AccVelDataLink!G2562","v":4},"○","○"]
[2560,0,6000,{"$f":"AccVelDataLink!A2563","v":2560},2559,2561,null,{"$f":"AccVelDataLink!G2563","v":6},"○","○"]
[{"$f":"A2563+1","v":2561},0,{"$f":"H2564*$H$1","v":6900},{"$f":"AccVelDataLink!A2564","v":2561},2560,2562,null,{"$f":"AccVelDataLink!G2564","v":6.9},{"$f":"IF(E2564=A2563,\"○\",IF(G2564=0,\"つなぎまちがい\",\"先頭\"))","v":"○"},{"$f":"IF(F2564=A2565,\"○\",IF(F2564<>E2565,\"つなぎまちがい\",\"終端\"))","v":"○"}]
[2562,0,7800,{"$f":"AccVelDataLink!A2565","v":2562},2561,{"$f":"A2566","v":2563},null,{"$f":"AccVelDataLink!G2565","v":7.8},"○","○"]
[2563,1,350,{"$f":"AccVelDataLink!A2566","v":2563},{"$f":"A2565","v":2562},2564,{"$f":"AccVelDataLink!F2566","v":"RCS2-SA6R-30-12-垂直"},{"$f":"AccVelDataLink!G2566","v":0.35},"○","○"]
[2564,1,450,{"$f":"AccVelDataLink!A2567","v":2564},2563,2565,null,{"$f":"AccVelDataLink!G2567","v":0.45},"○","○"]
[2565,1,550,{"$f":"AccVelDataLink!A2568","v":2565},2564,2566,null,{"$f":"AccVelDataLink!G2568","v":0.55000000000000004},"○","○"]
[2566,1,700,{"$f":"AccVelDataLink!A2569","v":2566},2565,2567,null,{"$f":"AccVelDataLink!G2569","v":0.7},"○","○"]
[2567,1,1000,{"$f":"AccVelDataLink!A2570","v":2567},2566,2568,null,{"$f":"AccVelDataLink!G2570","v":1},"○","○"]
[2568,1,1500,{"$f":"AccVelDataLink!A2571","v":2568},2567,-1,null,{"$f":"AccVelDataLink!G2571","v":1.5},"○","終端"]
[2569,0,8000,{"$f":"AccVelDataLink!A2572","v":2569},-1,{"$f":"A2573","v":2570},{"$f":"AccVelDataLink!F2572","v":"RCS2-SA7R-60-4-水平"},{"$f":"AccVelDataLink!G2572","v":8},"先頭","○"]
[2570,0,16000,{"$f":"AccVelDataLink!A2573","v":2570},{"$f":"A2572","v":2569},{"$f":"A2574","v":2571},null,{"$f":"AccVelDataLink!G2573","v":16},"○","○"]
[2571,0,40000,{"$f":"AccVelDataLink!A2574","v":2571},{"$f":"A2573","v":2570},{"$f":"A2575","v":2572},null,{"$f":"AccVelDataLink!G2574","v":40},"○","○"]
[2572,0,52000,{"$f":"AccVelDataLink!A2575","v":2572},{"$f":"A2574","v":2571},{"$f":"A2576","v":2573},null,{"$f":"AccVelDataLink!G2575","v":52},"○","○"]
[2573,1,5000,{"$f":"AccVelDataLink!A2576","v":2573},{"$f":"A2575","v":2572},{"$f":"A2577","v":2574},{"$f":"AccVelDataLink!F2576","v":"RCS2-SA7R-60-4-垂直"},{"$f":"AccVelDataLink!G2576","v":5},"○","○"]
[2574,1,12000,{"$f":"AccVelDataLink!A2577","v":2574},{"$f":"A2576","v":2573},-1,null,{"$f":"AccVelDataLink!G2577","v":12},"○","終端"]
[2575,0,10000,{"$f":"AccVelDataLink!A2578","v":2575},-1,{"$f":"A2579","v":2576},{"$f":"AccVelDataLink!F2578","v":"RCS2-SA7R-60-8-水平"},{"$f":"AccVelDataLink!G2578","v":10},"先頭","○"]
[2576,0,13000,{"$f":"AccVelDataLink!A2579","v":2576},{"$f":"A2578","v":2575},2577,null,{"$f":"AccVelDataLink!G2579","v":13},"○","○"]
[2577,0,18000,{"$f":"AccVelDataLink!A2580","v":2577},2576,2578,null,{"$f":"AccVelDataLink!G2580","v":18},"○","○"]
[2578,0,25000,{"$f":"AccVelDataLink!A2581","v":2578},2577,2579,null,{"$f":"AccVelDataLink!G2581","v":25},"○","○"]
[2579,0,28800,{"$f":"AccVelDataLink!A2582","v":2579},2578,2580,null,{"$f":"AccVelDataLink!G2582","v":28.8},"○","○"]
[2580,0,32500,{"$f":"AccVelDataLink!A2583","v":2580},2579,2581,null,{"$f":"AccVelDataLink!G2583","v":32.5},"○","○"]
[2581,1,2000,{"$f":"AccVelDataLink!A2584","v":2581},2580,2582,{"$f":"AccVelDataLink!F2584","v":"RCS2-SA7R-60-8-垂直"},{"$f":"AccVelDataLink!G2584","v":2},"○","○"]
[2582,1,2500,{"$f":"AccVelDataLink!A2585","v":2582},2581,2583,null,{"$f":"AccVelDataLink!G2585","v":2.5},"○","○"]
[2583,1,3500,{"$f":"AccVelDataLink!A2586","v":2583},2582,2584,null,{"$f":"AccVelDataLink!G2586","v":3.5},"○","○"]
[2584,1,6000,{"$f":"AccVelDataLink!A2587","v":2584},2583,-1,null,{"$f":"AccVelDataLink!G2587","v":6},"○","終端"]
[2585,0,3500,{"$f":"AccVelDataLink!A2588","v":2585},-1,{"$f":"A2589","v":2586},{"$f":"AccVelDataLink!F2588","v":"RCS2-SA7R-60-16-水平"},{"$f":"AccVelDataLink!G2588","v":3.5},"先頭","○"]
[2586,0,4000,{"$f":"AccVelDataLink!A2589","v":2586},{"$f":"A2588","v":2585},2587,null,{"$f":"AccVelDataLink!G2589","v":4},"○","○"]
[2587,0,5000,{"$f":"AccVelDataLink!A2590","v":2587},2586,2588,null,{"$f":"AccVelDataLink!G2590","v":5},"○","○"]
[2588,0,6000,{"$f":"AccVelDataLink!A2591","v":2588},2587,2589,null,{"$f":"AccVelDataLink!G2591","v":6},"○","○"]
[2589,0,8000,{"$f":"AccVelDataLink!A2592","v":2589},2588,2590,null,{"$f":"AccVelDataLink!G2592","v":8},"○","○"]
[2590,0,12000,{"$f":"AccVelDataLink!A2593","v":2590},2589,2591,null,{"$f":"AccVelDataLink!G2593","v":12},"○","○"]
[2591,0,13800,{"$f":"AccVelDataLink!A2594","v":2591},2590,2592,null,{"$f":"AccVelDataLink!G2594","v":13.8},"○","○"]
[2592,0,15600,{"$f":"AccVelDataLink!A2595","v":2592},2591,{"$f":"A2596","v":2593},null,{"$f":"AccVelDataLink!G2595","v":15.6},"○","○"]
[2593,1,650,{"$f":"AccVelDataLink!A2596","v":2593},{"$f":"A2595","v":2592},2594,{"$f":"AccVelDataLink!F2596","v":"RCS2-SA7R-60-16-垂直"},{"$f":"AccVelDataLink!G2596","v":0.65},"○","○"]
[2594,1,800,{"$f":"AccVelDataLink!A2597","v":2594},2593,2595,null,{"$f":"AccVelDataLink!G2597","v":0.8},"○","○"]
[2595,1,1000,{"$f":"AccVelDataLink!A2598","v":2595},2594,2596,null,{"$f":"AccVelDataLink!G2598","v":1},"○","○"]
[2596,1,1200,{"$f":"AccVelDataLink!A2599","v":2596},2595,2597,null,{"$f":"AccVelDataLink!G2599","v":1.2},"○","○"]
[2597,1,1600,{"$f":"AccVelDataLink!A2600","v":2597},2596,2598,null,{"$f":"AccVelDataLink!G2600","v":1.6},"○","○"]
[2598,1,3000,{"$f":"AccVelDataLink!A2601","v":2598},2597,-1,null,{"$f":"AccVelDataLink!G2601","v":3},"○","終端"]
[2599,0,11000,{"$f":"AccVelDataLink!A2602","v":2599},-1,{"$f":"A2603","v":2600},{"$f":"AccVelDataLink!F2602","v":"RCS2-SS7R-60-6-水平"},{"$f":"AccVelDataLink!G2602","v":11},"先頭","○"]
[2600,0,18000,{"$f":"AccVelDataLink!A2603","v":2600},{"$f":"A2602","v":2599},2601,null,{"$f":"AccVelDataLink!G2603","v":18},"○","○"]
[2601,0,30000,{"$f":"AccVelDataLink!A2604","v":2601},2600,2602,null,{"$f":"AccVelDataLink!G2604","v":30},"○","○"]
[2602,0,34500,{"$f":"AccVelDataLink!A2605","v":2602},2601,2603,null,{"$f":"AccVelDataLink!G2605","v":34.5},"○","○"]
[2603,0,39000,{"$f":"AccVelDataLink!A2606","v":2603},2602,2604,null,{"$f":"AccVelDataLink!G2606","v":39},"○","○"]
[2604,1,3000,{"$f":"AccVelDataLink!A2607","v":2604},2603,2605,{"$f":"AccVelDataLink!F2607","v":"RCS2-SS7R-60-6-垂直"},{"$f":"AccVelDataLink!G2607","v":3},"○","○"]
[2605,1,4500,{"$f":"AccVelDataLink!A2608","v":2605},2604,2606,null,{"$f":"AccVelDataLink!G2608","v":4.5},"○","○"]
[2606,1,8000,{"$f":"AccVelDataLink!A2609","v":2606},2605,-1,null,{"$f":"AccVelDataLink!G2609","v":8},"○","終端"]
[2607,0,4000,{"$f":"AccVelDataLink!A2610","v":2607},-1,{"$f":"A2611","v":2608},{"$f":"AccVelDataLink!F2610","v":"RCS2-SS7R-60-12-水平"},{"$f":"AccVelDataLink!G2610","v":4},"先頭","○"]
[2608,0,5000,{"$f":"AccVelDataLink!A2611","v":2608},{"$f":"A2610","v":2607},2609,null,{"$f":"AccVelDataLink!G2611","v":5},"○","○"]
[2609,0,6000,{"$f":"AccVelDataLink!A2612","v":2609},2608,2610,null,{"$f":"AccVelDataLink!G2612","v":6},"○","○"]
[2610,0,8000,{"$f":"AccVelDataLink!A2613","v":2610},2609,2611,null,{"$f":"AccVelDataLink!G2613","v":8},"○","○"]
[2611,0,11000,{"$f":"AccVelDataLink!A2614","v":2611},2610,2612,null,{"$f":"AccVelDataLink!G2614","v":11},"○","○"]
[2612,0,15000,{"$f":"AccVelDataLink!A2615","v":2612},2611,2613,null,{"$f":"AccVelDataLink!G2615","v":15},"○","○"]
[2613,0,17300,{"$f":"AccVelDataLink!A2616","v":2613},2612,2614,null,{"$f":"AccVelDataLink!G2616","v":17.3},"○","○"]
[2614,0,19500,{"$f":"AccVelDataLink!A2617","v":2614},2613,{"$f":"A2618","v":2615},null,{"$f":"AccVelDataLink!G2617","v":19.5},"○","○"]
[2615,1,800,{"$f":"AccVelDataLink!A2618","v":2615},{"$f":"A2617","v":2614},2616,{"$f":"AccVelDataLink!F2618","v":"RCS2-SS7R-60-12-垂直"},{"$f":"AccVelDataLink!G2618","v":0.8},"○","○"]
[2616,1,1000,{"$f":"AccVelDataLink!A2619","v":2616},2615,2617,null,{"$f":"AccVelDataLink!G2619","v":1},"○","○"]
[2617,1,1300,{"$f":"AccVelDataLink!A2620","v":2617},2616,2618,null,{"$f":"AccVelDataLink!G2620","v":1.3},"○","○"]
[2618,1,1800,{"$f":"AccVelDataLink!A2621","v":2618},2617,2619,null,{"$f":"AccVelDataLink!G2621","v":1.8},"○","○"]
[2619,1,2500,{"$f":"AccVelDataLink!A2622","v":2619},2618,2620,null,{"$f":"AccVelDataLink!G2622","v":2.5},"○","○"]
[2620,1,4000,{"$f":"AccVelDataLink!A2623","v":2620},2619,-1,null,{"$f":"AccVelDataLink!G2623","v":4},"○","終端"]
[2621,0,3000,{"$f":"AccVelDataLink!A2624","v":2621},-1,{"$f":"A2625","v":2622},{"$f":"AccVelDataLink!F2624","v":"RCS2-RA4C-20-3-水平"},{"$f":"AccVelDataLink!G2624","v":3},"先頭","○"]
[2622,0,12000,{"$f":"AccVelDataLink!A2625","v":2622},{"$f":"A2624","v":2621},{"$f":"A2626","v":2623},null,{"$f":"AccVelDataLink!G2625","v":12},"○","○"]
[2623,0,15500,{"$f":"AccVelDataLink!A2626","v":2623},{"$f":"A2625","v":2622},{"$f":"A2627","v":2624},null,{"$f":"AccVelDataLink!G2626","v":15.5},"○","○"]
[2624,1,2000,{"$f":"AccVelDataLink!A2627","v":2624},{"$f":"A2626","v":2623},{"$f":"A2628","v":2625},{"$f":"AccVelDataLink!F2627","v":"RCS2-RA4C-20-3-垂直"},{"$f":"AccVelDataLink!G2627","v":2},"○","○"]
[{"$f":"A2627+1","v":2625},1,{"$f":"H2628*$H$1","v":4000},{"$f":"AccVelDataLink!A2628","v":2625},{"$f":"A2627","v":2624},-1,null,{"$f":"AccVelDataLink!G2628","v":4},{"$f":"IF(E2628=A2627,\"○\",IF(G2628=0,\"つなぎまちがい\",\"先頭\"))","v":"○"},{"$f":"IF(F2628=A2629,\"○\",IF(F2628<>E2629,\"つなぎまちがい\",\"終端\"))","v":"終端"}]
[2626,0,500,{"$f":"AccVelDataLink!A2629","v":2626},-1,{"$f":"A2630","v":2627},{"$f":"AccVelDataLink!F2629","v":"RCS2-RA4C-20-6-水平"},{"$f":"AccVelDataLink!G2629","v":0.5},"先頭","○"]
[2627,0,750,{"$f":"AccVelDataLink!A2630","v":2627},{"$f":"A2629","v":2626},2628,null,{"$f":"AccVelDataLink!G2630","v":0.75},"○","○"]
[2628,0,1000,{"$f":"AccVelDataLink!A2631","v":2628},2627,2629,null,{"$f":"AccVelDataLink!G2631","v":1},"○","○"]
[2629,0,1500,{"$f":"AccVelDataLink!A2632","v":2629},2628,2630,null,{"$f":"AccVelDataLink!G2632","v":1.5},"○","○"]
[2630,0,2200,{"$f":"AccVelDataLink!A2633","v":2630},2629,2631,null,{"$f":"AccVelDataLink!G2633","v":2.2000000000000002},"○","○"]
[2631,0,3000,{"$f":"AccVelDataLink!A2634","v":2631},2630,2632,null,{"$f":"AccVelDataLink!G2634","v":3},"○","○"]
[2632,0,4200,{"$f":"AccVelDataLink!A2635","v":2632},2631,2633,null,{"$f":"AccVelDataLink!G2635","v":4.2},"○","○"]
[2633,0,6000,{"$f":"AccVelDataLink!A2636","v":2633},2632,2634,null,{"$f":"AccVelDataLink!G2636","v":6},"○","○"]
[2634,0,7200,{"$f":"AccVelDataLink!A2637","v":2634},2633,2635,null,{"$f":"AccVelDataLink!G2637","v":7.2},"○","○"]
[2635,0,8000,{"$f":"AccVelDataLink!A2638","v":2635},2634,{"$f":"A2639","v":2636},null,{"$f":"AccVelDataLink!G2638","v":8},"○","○"]
[2636,1,500,{"$f":"AccVelDataLink!A2639","v":2636},{"$f":"A2638","v":2635},{"$f":"A2640","v":2637},{"$f":"AccVelDataLink!F2639","v":"RCS2-RA4C-20-6-垂直"},{"$f":"AccVelDataLink!G2639","v":0.5},"○","○"]
[2637,1,700,{"$f":"AccVelDataLink!A2640","v":2637},{"$f":"A2639","v":2636},{"$f":"A2641","v":2638},null,{"$f":"AccVelDataLink!G2640","v":0.7},"○","○"]
[2638,1,1000,{"$f":"AccVelDataLink!A2641","v":2638},{"$f":"A2640","v":2637},{"$f":"A2642","v":2639},null,{"$f":"AccVelDataLink!G2641","v":1},"○","○"]
[2639,1,1400,{"$f":"AccVelDataLink!A2642","v":2639},{"$f":"A2641","v":2638},{"$f":"A2643","v":2640},null,{"$f":"AccVelDataLink!G2642","v":1.4},"○","○"]
[2640,1,2000,{"$f":"AccVelDataLink!A2643","v":2640},{"$f":"A2642","v":2639},-1,null,{"$f":"AccVelDataLink!G2643","v":2},"○","終端"]
[2641,0,250,{"$f":"AccVelDataLink!A2644","v":2641},-1,{"$f":"A2645","v":2642},{"$f":"AccVelDataLink!F2644","v":"RCS2-RA4C-20-12-水平"},{"$f":"AccVelDataLink!G2644","v":0.25},"先頭","○"]
[2642,0,350,{"$f":"AccVelDataLink!A2645","v":2642},{"$f":"A2644","v":2641},2643,null,{"$f":"AccVelDataLink!G2645","v":0.35},"○","○"]
[2643,0,500,{"$f":"AccVelDataLink!A2646","v":2643},2642,2644,null,{"$f":"AccVelDataLink!G2646","v":0.5},"○","○"]
[2644,0,750,{"$f":"AccVelDataLink!A2647","v":2644},2643,2645,null,{"$f":"AccVelDataLink!G2647","v":0.75},"○","○"]
[2645,0,1000,{"$f":"AccVelDataLink!A2648","v":2645},2644,2646,null,{"$f":"AccVelDataLink!G2648","v":1},"○","○"]
[2646,0,1500,{"$f":"AccVelDataLink!A2649","v":2646},2645,2647,null,{"$f":"AccVelDataLink!G2649","v":1.5},"○","○"]
[2647,0,2100,{"$f":"AccVelDataLink!A2650","v":2647},2646,2648,null,{"$f":"AccVelDataLink!G2650","v":2.1},"○","○"]
[2648,0,3000,{"$f":"AccVelDataLink!A2651","v":2648},2647,2649,null,{"$f":"AccVelDataLink!G2651","v":3},"○","○"]
[2649,0,3600,{"$f":"AccVelDataLink!A2652","v":2649},2648,2650,null,{"$f":"AccVelDataLink!G2652","v":3.6},"○","○"]
[2650,0,4000,{"$f":"AccVelDataLink!A2653","v":2650},2649,{"$f":"A2654","v":2651},null,{"$f":"AccVelDataLink!G2653","v":4},"○","○"]
[2651,1,100,{"$f":"AccVelDataLink!A2654","v":2651},{"$f":"A2653","v":2650},2652,{"$f":"AccVelDataLink!F2654","v":"RCS2-RA4C-20-12-垂直"},{"$f":"AccVelDataLink!G2654","v":0.1},"○","○"]
[2652,1,200,{"$f":"AccVelDataLink!A2655","v":2652},2651,2653,null,{"$f":"AccVelDataLink!G2655","v":0.2},"○","○"]
[2653,1,350,{"$f":"AccVelDataLink!A2656","v":2653},2652,2654,null,{"$f":"AccVelDataLink!G2656","v":0.35},"○","○"]
[2654,1,500,{"$f":"AccVelDataLink!A2657","v":2654},2653,2655,null,{"$f":"AccVelDataLink!G2657","v":0.5},"○","○"]
[2655,1,700,{"$f":"AccVelDataLink!A2658","v":2655},2654,2656,null,{"$f":"AccVelDataLink!G2658","v":0.7},"○","○"]
[2656,1,1000,{"$f":"AccVelDataLink!A2659","v":2656},2655,-1,null,{"$f":"AccVelDataLink!G2659","v":1},"○","終端"]
[2657,0,5000,{"$f":"AccVelDataLink!A2660","v":2657},-1,{"$f":"A2661","v":2658},{"$f":"AccVelDataLink!F2660","v":"RCS2-RA4C-30-3-水平"},{"$f":"AccVelDataLink!G2660","v":5},"先頭","○"]
[2658,0,18000,{"$f":"AccVelDataLink!A2661","v":2658},{"$f":"A2660","v":2657},{"$f":"A2662","v":2659},null,{"$f":"AccVelDataLink!G2661","v":18},"○","○"]
[2659,0,23500,{"$f":"AccVelDataLink!A2662","v":2659},{"$f":"A2661","v":2658},{"$f":"A2663","v":2660},null,{"$f":"AccVelDataLink!G2662","v":23.5},"○","○"]
[2660,1,3500,{"$f":"AccVelDataLink!A2663","v":2660},{"$f":"A2662","v":2659},{"$f":"A2664","v":2661},{"$f":"AccVelDataLink!F2663","v":"RCS2-RA4C-30-3-垂直"},{"$f":"AccVelDataLink!G2663","v":3.5},"○","○"]
[2661,1,6500,{"$f":"AccVelDataLink!A2664","v":2661},{"$f":"A2663","v":2660},-1,null,{"$f":"AccVelDataLink!G2664","v":6.5},"○","終端"]
[2662,0,1000,{"$f":"AccVelDataLink!A2665","v":2662},-1,{"$f":"A2666","v":2663},{"$f":"AccVelDataLink!F2665","v":"RCS2-RA4C-30-6-水平"},{"$f":"AccVelDataLink!G2665","v":1},"先頭","○"]
[2663,0,1400,{"$f":"AccVelDataLink!A2666","v":2663},{"$f":"A2665","v":2662},2664,null,{"$f":"AccVelDataLink!G2666","v":1.4},"○","○"]
[2664,0,1800,{"$f":"AccVelDataLink!A2667","v":2664},2663,2665,null,{"$f":"AccVelDataLink!G2667","v":1.8},"○","○"]
[2665,0,2500,{"$f":"AccVelDataLink!A2668","v":2665},2664,2666,null,{"$f":"AccVelDataLink!G2668","v":2.5},"○","○"]
[2666,0,3200,{"$f":"AccVelDataLink!A2669","v":2666},2665,2667,null,{"$f":"AccVelDataLink!G2669","v":3.2},"○","○"]
[2667,0,4500,{"$f":"AccVelDataLink!A2670","v":2667},2666,2668,null,{"$f":"AccVelDataLink!G2670","v":4.5},"○","○"]
[2668,0,6500,{"$f":"AccVelDataLink!A2671","v":2668},2667,2669,null,{"$f":"AccVelDataLink!G2671","v":6.5},"○","○"]
[2669,0,9000,{"$f":"AccVelDataLink!A2672","v":2669},2668,2670,null,{"$f":"AccVelDataLink!G2672","v":9},"○","○"]
[2670,0,10800,{"$f":"AccVelDataLink!A2673","v":2670},2669,2671,null,{"$f":"AccVelDataLink!G2673","v":10.8},"○","○"]
[2671,0,12000,{"$f":"AccVelDataLink!A2674","v":2671},2670,{"$f":"A2675","v":2672},null,{"$f":"AccVelDataLink!G2674","v":12},"○","○"]
[2672,1,250,{"$f":"AccVelDataLink!A2675","v":2672},{"$f":"A2674","v":2671},2673,{"$f":"AccVelDataLink!F2675","v":"RCS2-RA4C-30-6-垂直"},{"$f":"AccVelDataLink!G2675","v":0.25},"○","○"]
[2673,1,400,{"$f":"AccVelDataLink!A2676","v":2673},2672,2674,null,{"$f":"AccVelDataLink!G2676","v":0.4},"○","○"]
[2674,1,550,{"$f":"AccVelDataLink!A2677","v":2674},2673,2675,null,{"$f":"AccVelDataLink!G2677","v":0.55000000000000004},"○","○"]
[2675,1,750,{"$f":"AccVelDataLink!A2678","v":2675},2674,2676,null,{"$f":"AccVelDataLink!G2678","v":0.75},"○","○"]
[2676,1,1100,{"$f":"AccVelDataLink!A2679","v":2676},2675,2677,null,{"$f":"AccVelDataLink!G2679","v":1.1000000000000001},"○","○"]
[2677,1,1500,{"$f":"AccVelDataLink!A2680","v":2677},2676,2678,null,{"$f":"AccVelDataLink!G2680","v":1.5},"○","○"]
[2678,1,2100,{"$f":"AccVelDataLink!A2681","v":2678},2677,2679,null,{"$f":"AccVelDataLink!G2681","v":2.1},"○","○"]
[2679,1,3000,{"$f":"AccVelDataLink!A2682","v":2679},2678,-1,null,{"$f":"AccVelDataLink!G2682","v":3},"○","終端"]
[2680,0,250,{"$f":"AccVelDataLink!A2683","v":2680},-1,{"$f":"A2684","v":2681},{"$f":"AccVelDataLink!F2683","v":"RCS2-RA4C-30-12-水平"},{"$f":"AccVelDataLink!G2683","v":0.25},"先頭","○"]
[2681,0,300,{"$f":"AccVelDataLink!A2684","v":2681},{"$f":"A2683","v":2680},2682,null,{"$f":"AccVelDataLink!G2684","v":0.3},"○","○"]
[2682,0,400,{"$f":"AccVelDataLink!A2685","v":2682},2681,2683,null,{"$f":"AccVelDataLink!G2685","v":0.4},"○","○"]
[2683,0,500,{"$f":"AccVelDataLink!A2686","v":2683},2682,2684,null,{"$f":"AccVelDataLink!G2686","v":0.5},"○","○"]
[2684,0,600,{"$f":"AccVelDataLink!A2687","v":2684},2683,2685,null,{"$f":"AccVelDataLink!G2687","v":0.6},"○","○"]
[2685,0,700,{"$f":"AccVelDataLink!A2688","v":2685},2684,2686,null,{"$f":"AccVelDataLink!G2688","v":0.7},"○","○"]
[2686,0,850,{"$f":"AccVelDataLink!A2689","v":2686},2685,2687,null,{"$f":"AccVelDataLink!G2689","v":0.85},"○","○"]
[2687,0,1000,{"$f":"AccVelDataLink!A2690","v":2687},2686,2688,null,{"$f":"AccVelDataLink!G2690","v":1},"○","○"]
[2688,0,1250,{"$f":"AccVelDataLink!A2691","v":2688},2687,2689,null,{"$f":"AccVelDataLink!G2691","v":1.25},"○","○"]
[{"$f":"A2691+1","v":2689},0,{"$f":"H2692*$H$1","v":1550},{"$f":"AccVelDataLink!A2692","v":2689},2688,2690,null,{"$f":"AccVelDataLink!G2692","v":1.55},{"$f":"IF(E2692=A2691,\"○\",IF(G2692=0,\"つなぎまちがい\",\"先頭\"))","v":"○"},{"$f":"IF(F2692=A2693,\"○\",IF(F2692<>E2693,\"つなぎまちがい\",\"終端\"))","v":"○"}]
[2690,0,2000,{"$f":"AccVelDataLink!A2693","v":2690},2689,2691,null,{"$f":"AccVelDataLink!G2693","v":2},"○","○"]
[2691,0,2800,{"$f":"AccVelDataLink!A2694","v":2691},2690,2692,null,{"$f":"AccVelDataLink!G2694","v":2.8},"○","○"]
[2692,0,4000,{"$f":"AccVelDataLink!A2695","v":2692},2691,2693,null,{"$f":"AccVelDataLink!G2695","v":4},"○","○"]
[2693,0,4800,{"$f":"AccVelDataLink!A2696","v":2693},2692,2694,null,{"$f":"AccVelDataLink!G2696","v":4.8},"○","○"]
[2694,0,5200,{"$f":"AccVelDataLink!A2697","v":2694},2693,{"$f":"A2698","v":2695},null,{"$f":"AccVelDataLink!G2697","v":5.2},"○","○"]
[2695,1,100,{"$f":"AccVelDataLink!A2698","v":2695},{"$f":"A2697","v":2694},2696,{"$f":"AccVelDataLink!F2698","v":"RCS2-RA4C-30-12-垂直"},{"$f":"AccVelDataLink!G2698","v":0.1},"○","○"]
[2696,1,150,{"$f":"AccVelDataLink!A2699","v":2696},2695,2697,null,{"$f":"AccVelDataLink!G2699","v":0.15},"○","○"]
[2697,1,250,{"$f":"AccVelDataLink!A2700","v":2697},2696,2698,null,{"$f":"AccVelDataLink!G2700","v":0.25},"○","○"]
[2698,1,350,{"$f":"AccVelDataLink!A2701","v":2698},2697,2699,null,{"$f":"AccVelDataLink!G2701","v":0.35},"○","○"]
[2699,1,500,{"$f":"AccVelDataLink!A2702","v":2699},2698,2700,null,{"$f":"AccVelDataLink!G2702","v":0.5},"○","○"]
[2700,1,700,{"$f":"AccVelDataLink!A2703","v":2700},2699,2701,null,{"$f":"AccVelDataLink!G2703","v":0.7},"○","○"]
[2701,1,1000,{"$f":"AccVelDataLink!A2704","v":2701},2700,2702,null,{"$f":"AccVelDataLink!G2704","v":1},"○","○"]
[2702,1,1500,{"$f":"AccVelDataLink!A2705","v":2702},2701,-1,null,{"$f":"AccVelDataLink!G2705","v":1.5},"○","終端"]
[2703,0,3000,{"$f":"AccVelDataLink!A2706","v":2703},-1,{"$f":"A2707","v":2704},{"$f":"AccVelDataLink!F2706","v":"RCS2-RA5C-60-4-水平"},{"$f":"AccVelDataLink!G2706","v":3},"先頭","○"]
[2704,0,10000,{"$f":"AccVelDataLink!A2707","v":2704},{"$f":"A2706","v":2703},2705,null,{"$f":"AccVelDataLink!G2707","v":10},"○","○"]
[2705,0,25000,{"$f":"AccVelDataLink!A2708","v":2705},2704,2706,null,{"$f":"AccVelDataLink!G2708","v":25},"○","○"]
[2706,0,50000,{"$f":"AccVelDataLink!A2709","v":2706},2705,2707,null,{"$f":"AccVelDataLink!G2709","v":50},"○","○"]
[2707,0,65000,{"$f":"AccVelDataLink!A2710","v":2707},2706,2708,null,{"$f":"AccVelDataLink!G2710","v":65},"○","○"]
[2708,1,3000,{"$f":"AccVelDataLink!A2711","v":2708},2707,2709,{"$f":"AccVelDataLink!F2711","v":"RCS2-RA5C-60-4-垂直"},{"$f":"AccVelDataLink!G2711","v":3},"○","○"]
[2709,1,4000,{"$f":"AccVelDataLink!A2712","v":2709},2708,2710,null,{"$f":"AccVelDataLink!G2712","v":4},"○","○"]
[2710,1,6000,{"$f":"AccVelDataLink!A2713","v":2710},2709,2711,null,{"$f":"AccVelDataLink!G2713","v":6},"○","○"]
[2711,1,11500,{"$f":"AccVelDataLink!A2714","v":2711},2710,-1,null,{"$f":"AccVelDataLink!G2714","v":11.5},"○","終端"]
[2712,0,2500,{"$f":"AccVelDataLink!A2715","v":2712},-1,{"$f":"A2716","v":2713},{"$f":"AccVelDataLink!F2715","v":"RCS2-RA5C-60-8-水平"},{"$f":"AccVelDataLink!G2715","v":2.5},"先頭","○"]
[2713,0,3200,{"$f":"AccVelDataLink!A2716","v":2713},{"$f":"A2715","v":2712},2714,null,{"$f":"AccVelDataLink!G2716","v":3.2},"○","○"]
[2714,0,4000,{"$f":"AccVelDataLink!A2717","v":2714},2713,2715,null,{"$f":"AccVelDataLink!G2717","v":4},"○","○"]
[2715,0,5500,{"$f":"AccVelDataLink!A2718","v":2715},2714,2716,null,{"$f":"AccVelDataLink!G2718","v":5.5},"○","○"]
[2716,0,7500,{"$f":"AccVelDataLink!A2719","v":2716},2715,2717,null,{"$f":"AccVelDataLink!G2719","v":7.5},"○","○"]
[2717,0,10000,{"$f":"AccVelDataLink!A2720","v":2717},2716,2718,null,{"$f":"AccVelDataLink!G2720","v":10},"○","○"]
[2718,0,12200,{"$f":"AccVelDataLink!A2721","v":2718},2717,2719,null,{"$f":"AccVelDataLink!G2721","v":12.2},"○","○"]
[2719,0,15000,{"$f":"AccVelDataLink!A2722","v":2719},2718,2720,null,{"$f":"AccVelDataLink!G2722","v":15},"○","○"]
[2720,0,20000,{"$f":"AccVelDataLink!A2723","v":2720},2719,2721,null,{"$f":"AccVelDataLink!G2723","v":20},"○","○"]
[2721,0,25000,{"$f":"AccVelDataLink!A2724","v":2721},2720,2722,null,{"$f":"AccVelDataLink!G2724","v":25},"○","○"]
[2722,0,30000,{"$f":"AccVelDataLink!A2725","v":2722},2721,2723,null,{"$f":"AccVelDataLink!G2725","v":30},"○","○"]
[2723,0,32500,{"$f":"AccVelDataLink!A2726","v":2723},2722,{"$f":"A2727","v":2724},null,{"$f":"AccVelDataLink!G2726","v":32.5},"○","○"]
[2724,1,500,{"$f":"AccVelDataLink!A2727","v":2724},{"$f":"A2726","v":2723},2725,{"$f":"AccVelDataLink!F2727","v":"RCS2-RA5C-60-8-垂直"},{"$f":"AccVelDataLink!G2727","v":0.5},"○","○"]
[2725,1,800,{"$f":"AccVelDataLink!A2728","v":2725},2724,2726,null,{"$f":"AccVelDataLink!G2728","v":0.8},"○","○"]
[2726,1,1100,{"$f":"AccVelDataLink!A2729","v":2726},2725,2727,null,{"$f":"AccVelDataLink!G2729","v":1.1000000000000001},"○","○"]
[2727,1,1500,{"$f":"AccVelDataLink!A2730","v":2727},2726,2728,null,{"$f":"AccVelDataLink!G2730","v":1.5},"○","○"]
[2728,1,1900,{"$f":"AccVelDataLink!A2731","v":2728},2727,2729,null,{"$f":"AccVelDataLink!G2731","v":1.9},"○","○"]
[2729,1,2500,{"$f":"AccVelDataLink!A2732","v":2729},2728,2730,null,{"$f":"AccVelDataLink!G2732","v":2.5},"○","○"]
[2730,1,3500,{"$f":"AccVelDataLink!A2733","v":2730},2729,2731,null,{"$f":"AccVelDataLink!G2733","v":3.5},"○","○"]
[2731,1,5000,{"$f":"AccVelDataLink!A2734","v":2731},2730,-1,null,{"$f":"AccVelDataLink!G2734","v":5},"○","終端"]
[2732,0,2000,{"$f":"AccVelDataLink!A2735","v":2732},-1,{"$f":"A2736","v":2733},{"$f":"AccVelDataLink!F2735","v":"RCS2-RA5C-60-16-水平"},{"$f":"AccVelDataLink!G2735","v":2},"先頭","○"]
[2733,0,2200,{"$f":"AccVelDataLink!A2736","v":2733},{"$f":"A2735","v":2732},2734,null,{"$f":"AccVelDataLink!G2736","v":2.2000000000000002},"○","○"]
[2734,0,2450,{"$f":"AccVelDataLink!A2737","v":2734},2733,2735,null,{"$f":"AccVelDataLink!G2737","v":2.4500000000000002},"○","○"]
[2735,0,2750,{"$f":"AccVelDataLink!A2738","v":2735},2734,2736,null,{"$f":"AccVelDataLink!G2738","v":2.75},"○","○"]
[2736,0,3100,{"$f":"AccVelDataLink!A2739","v":2736},2735,2737,null,{"$f":"AccVelDataLink!G2739","v":3.1},"○","○"]
[2737,0,3500,{"$f":"AccVelDataLink!A2740","v":2737},2736,2738,null,{"$f":"AccVelDataLink!G2740","v":3.5},"○","○"]
[2738,0,3900,{"$f":"AccVelDataLink!A2741","v":2738},2737,2739,null,{"$f":"AccVelDataLink!G2741","v":3.9},"○","○"]
[2739,0,4400,{"$f":"AccVelDataLink!A2742","v":2739},2738,2740,null,{"$f":"AccVelDataLink!G2742","v":4.4000000000000004},"○","○"]
[2740,0,5000,{"$f":"AccVelDataLink!A2743","v":2740},2739,2741,null,{"$f":"AccVelDataLink!G2743","v":5},"○","○"]
[2741,0,5900,{"$f":"AccVelDataLink!A2744","v":2741},2740,2742,null,{"$f":"AccVelDataLink!G2744","v":5.9},"○","○"]
[2742,0,7000,{"$f":"AccVelDataLink!A2745","v":2742},2741,2743,null,{"$f":"AccVelDataLink!G2745","v":7},"○","○"]
[2743,0,9000,{"$f":"AccVelDataLink!A2746","v":2743},2742,2744,null,{"$f":"AccVelDataLink!G2746","v":9},"○","○"]
[2744,0,12000,{"$f":"AccVelDataLink!A2747","v":2744},2743,2745,null,{"$f":"AccVelDataLink!G2747","v":12},"○","○"]
[2745,0,14400,{"$f":"AccVelDataLink!A2748","v":2745},2744,2746,null,{"$f":"AccVelDataLink!G2748","v":14.4},"○","○"]
[2746,0,15500,{"$f":"AccVelDataLink!A2749","v":2746},2745,{"$f":"A2750","v":2747},null,{"$f":"AccVelDataLink!G2749","v":15.5},"○","○"]
[2747,1,100,{"$f":"AccVelDataLink!A2750","v":2747},{"$f":"A2749","v":2746},2748,{"$f":"AccVelDataLink!F2750","v":"RCS2-RA5C-60-16-垂直"},{"$f":"AccVelDataLink!G2750","v":0.1},"○","○"]
[2748,1,150,{"$f":"AccVelDataLink!A2751","v":2748},2747,2749,null,{"$f":"AccVelDataLink!G2751","v":0.15},"○","○"]
[2749,1,300,{"$f":"AccVelDataLink!A2752","v":2749},2748,2750,null,{"$f":"AccVelDataLink!G2752","v":0.3},"○","○"]
[2750,1,500,{"$f":"AccVelDataLink!A2753","v":2750},2749,2751,null,{"$f":"AccVelDataLink!G2753","v":0.5},"○","○"]
[2751,1,700,{"$f":"AccVelDataLink!A2754","v":2751},2750,2752,null,{"$f":"AccVelDataLink!G2754","v":0.7},"○","○"]
[2752,1,1000,{"$f":"AccVelDataLink!A2755","v":2752},2751,2753,null,{"$f":"AccVelDataLink!G2755","v":1},"○","○"]
[{"$f":"A2755+1","v":2753},1,{"$f":"H2756*$H$1","v":1500},{"$f":"AccVelDataLink!A2756","v":2753},2752,2754,null,{"$f":"AccVelDataLink!G2756","v":1.5},{"$f":"IF(E2756=A2755,\"○\",IF(G2756=0,\"つなぎまちがい\",\"先頭\"))","v":"○"},{"$f":"IF(F2756=A2757,\"○\",IF(F2756<>E2757,\"つなぎまちがい\",\"終端\"))","v":"○"}]
[2754,1,2000,{"$f":"AccVelDataLink!A2757","v":2754},2753,-1,null,{"$f":"AccVelDataLink!G2757","v":2},"○","終端"]
[2755,0,5000,{"$f":"AccVelDataLink!A2758","v":2755},-1,{"$f":"A2759","v":2756},{"$f":"AccVelDataLink!F2758","v":"RCS2-RA5C-100-4-水平"},{"$f":"AccVelDataLink!G2758","v":5},"先頭","○"]
[2756,0,15000,{"$f":"AccVelDataLink!A2759","v":2756},{"$f":"A2758","v":2755},2757,null,{"$f":"AccVelDataLink!G2759","v":15},"○","○"]
[2757,0,30000,{"$f":"AccVelDataLink!A2760","v":2757},2756,2758,null,{"$f":"AccVelDataLink!G2760","v":30},"○","○"]
[2758,0,60000,{"$f":"AccVelDataLink!A2761","v":2758},2757,2759,null,{"$f":"AccVelDataLink!G2761","v":60},"○","○"]
[2759,0,78000,{"$f":"AccVelDataLink!A2762","v":2759},2758,2760,null,{"$f":"AccVelDataLink!G2762","v":78},"○","○"]
[2760,1,5000,{"$f":"AccVelDataLink!A2763","v":2760},2759,2761,{"$f":"AccVelDataLink!F2763","v":"RCS2-RA5C-100-4-垂直"},{"$f":"AccVelDataLink!G2763","v":5},"○","○"]
[2761,1,7000,{"$f":"AccVelDataLink!A2764","v":2761},2760,2762,null,{"$f":"AccVelDataLink!G2764","v":7},"○","○"]
[2762,1,10000,{"$f":"AccVelDataLink!A2765","v":2762},2761,2763,null,{"$f":"AccVelDataLink!G2765","v":10},"○","○"]
[2763,1,18000,{"$f":"AccVelDataLink!A2766","v":2763},2762,-1,null,{"$f":"AccVelDataLink!G2766","v":18},"○","終端"]
[2764,0,3000,{"$f":"AccVelDataLink!A2767","v":2764},-1,{"$f":"A2768","v":2765},{"$f":"AccVelDataLink!F2767","v":"RCS2-RA5C-100-8-水平"},{"$f":"AccVelDataLink!G2767","v":3},"先頭","○"]
[2765,0,4000,{"$f":"AccVelDataLink!A2768","v":2765},{"$f":"A2767","v":2764},2766,null,{"$f":"AccVelDataLink!G2768","v":4},"○","○"]
[2766,0,5000,{"$f":"AccVelDataLink!A2769","v":2766},2765,2767,null,{"$f":"AccVelDataLink!G2769","v":5},"○","○"]
[2767,0,6500,{"$f":"AccVelDataLink!A2770","v":2767},2766,2768,null,{"$f":"AccVelDataLink!G2770","v":6.5},"○","○"]
[2768,0,8500,{"$f":"AccVelDataLink!A2771","v":2768},2767,2769,null,{"$f":"AccVelDataLink!G2771","v":8.5},"○","○"]
[2769,0,11000,{"$f":"AccVelDataLink!A2772","v":2769},2768,2770,null,{"$f":"AccVelDataLink!G2772","v":11},"○","○"]
[2770,0,13500,{"$f":"AccVelDataLink!A2773","v":2770},2769,2771,null,{"$f":"AccVelDataLink!G2773","v":13.5},"○","○"]
[2771,0,17000,{"$f":"AccVelDataLink!A2774","v":2771},2770,2772,null,{"$f":"AccVelDataLink!G2774","v":17},"○","○"]
[2772,0,22000,{"$f":"AccVelDataLink!A2775","v":2772},2771,2773,null,{"$f":"AccVelDataLink!G2775","v":22},"○","○"]
[2773,0,30000,{"$f":"AccVelDataLink!A2776","v":2773},2772,2774,null,{"$f":"AccVelDataLink!G2776","v":30},"○","○"]
[2774,0,36000,{"$f":"AccVelDataLink!A2777","v":2774},2773,2775,null,{"$f":"AccVelDataLink!G2777","v":36},"○","○"]
[2775,0,39000,{"$f":"AccVelDataLink!A2778","v":2775},2774,{"$f":"A2779","v":2776},null,{"$f":"AccVelDataLink!G2778","v":39},"○","○"]
[2776,1,1000,{"$f":"AccVelDataLink!A2779","v":2776},{"$f":"A2778","v":2775},2777,{"$f":"AccVelDataLink!F2779","v":"RCS2-RA5C-100-8-垂直"},{"$f":"AccVelDataLink!G2779","v":1},"○","○"]
[2777,1,1500,{"$f":"AccVelDataLink!A2780","v":2777},2776,2778,null,{"$f":"AccVelDataLink!G2780","v":1.5},"○","○"]
[2778,1,2000,{"$f":"AccVelDataLink!A2781","v":2778},2777,2779,null,{"$f":"AccVelDataLink!G2781","v":2},"○","○"]
[2779,1,2500,{"$f":"AccVelDataLink!A2782","v":2779},2778,2780,null,{"$f":"AccVelDataLink!G2782","v":2.5},"○","○"]
[2780,1,3500,{"$f":"AccVelDataLink!A2783","v":2780},2779,2781,null,{"$f":"AccVelDataLink!G2783","v":3.5},"○","○"]
[2781,1,4500,{"$f":"AccVelDataLink!A2784","v":2781},2780,2782,null,{"$f":"AccVelDataLink!G2784","v":4.5},"○","○"]
[2782,1,6000,{"$f":"AccVelDataLink!A2785","v":2782},2781,2783,null,{"$f":"AccVelDataLink!G2785","v":6},"○","○"]
[2783,1,9000,{"$f":"AccVelDataLink!A2786","v":2783},2782,-1,null,{"$f":"AccVelDataLink!G2786","v":9},"○","終端"]
[2784,0,2500,{"$f":"AccVelDataLink!A2787","v":2784},-1,{"$f":"A2788","v":2785},{"$f":"AccVelDataLink!F2787","v":"RCS2-RA5C-100-16-水平"},{"$f":"AccVelDataLink!G2787","v":2.5},"先頭","○"]
[2785,0,2700,{"$f":"AccVelDataLink!A2788","v":2785},{"$f":"A2787","v":2784},2786,null,{"$f":"AccVelDataLink!G2788","v":2.7},"○","○"]
[2786,0,2900,{"$f":"AccVelDataLink!A2789","v":2786},2785,2787,null,{"$f":"AccVelDataLink!G2789","v":2.9},"○","○"]
[2787,0,3200,{"$f":"AccVelDataLink!A2790","v":2787},2786,2788,null,{"$f":"AccVelDataLink!G2790","v":3.2},"○","○"]
[2788,0,3600,{"$f":"AccVelDataLink!A2791","v":2788},2787,2789,null,{"$f":"AccVelDataLink!G2791","v":3.6},"○","○"]
[2789,0,4000,{"$f":"AccVelDataLink!A2792","v":2789},2788,2790,null,{"$f":"AccVelDataLink!G2792","v":4},"○","○"]
[2790,0,4400,{"$f":"AccVelDataLink!A2793","v":2790},2789,2791,null,{"$f":"AccVelDataLink!G2793","v":4.4000000000000004},"○","○"]
[2791,0,5000,{"$f":"AccVelDataLink!A2794","v":2791},2790,2792,null,{"$f":"AccVelDataLink!G2794","v":5},"○","○"]
[2792,0,6000,{"$f":"AccVelDataLink!A2795","v":2792},2791,2793,null,{"$f":"AccVelDataLink!G2795","v":6},"○","○"]
[2793,0,7100,{"$f":"AccVelDataLink!A2796","v":2793},2792,2794,null,{"$f":"AccVelDataLink!G2796","v":7.1},"○","○"]
[2794,0,8600,{"$f":"AccVelDataLink!A2797","v":2794},2793,2795,null,{"$f":"AccVelDataLink!G2797","v":8.6},"○","○"]
[2795,0,11000,{"$f":"AccVelDataLink!A2798","v":2795},2794,2796,null,{"$f":"AccVelDataLink!G2798","v":11},"○","○"]
[2796,0,15000,{"$f":"AccVelDataLink!A2799","v":2796},2795,2797,null,{"$f":"AccVelDataLink!G2799","v":15},"○","○"]
[2797,0,18000,{"$f":"AccVelDataLink!A2800","v":2797},2796,2798,null,{"$f":"AccVelDataLink!G2800","v":18},"○","○"]
[2798,0,19500,{"$f":"AccVelDataLink!A2801","v":2798},{"$f":"A2800","v":2797},2799,null,{"$f":"AccVelDataLink!G2801","v":19.5},"○","○"]
[2799,1,250,{"$f":"AccVelDataLink!A2802","v":2799},2798,2800,{"$f":"AccVelDataLink!F2802","v":"RCS2-RA5C-100-16-垂直"},{"$f":"AccVelDataLink!G2802","v":0.25},"○","○"]
[2800,1,350,{"$f":"AccVelDataLink!A2803","v":2800},2799,2801,null,{"$f":"AccVelDataLink!G2803","v":0.35},"○","○"]
[2801,1,500,{"$f":"AccVelDataLink!A2804","v":2801},2800,2802,null,{"$f":"AccVelDataLink!G2804","v":0.5},"○","○"]
[2802,1,650,{"$f":"AccVelDataLink!A2805","v":2802},2801,2803,null,{"$f":"AccVelDataLink!G2805","v":0.65},"○","○"]
[2803,1,800,{"$f":"AccVelDataLink!A2806","v":2803},2802,2804,null,{"$f":"AccVelDataLink!G2806","v":0.8},"○","○"]
[2804,1,1000,{"$f":"AccVelDataLink!A2807","v":2804},2803,2805,null,{"$f":"AccVelDataLink!G2807","v":1},"○","○"]
[2805,1,1300,{"$f":"AccVelDataLink!A2808","v":2805},2804,2806,null,{"$f":"AccVelDataLink!G2808","v":1.3},"○","○"]
[2806,1,1750,{"$f":"AccVelDataLink!A2809","v":2806},2805,2807,null,{"$f":"AccVelDataLink!G2809","v":1.75},"○","○"]
[2807,1,2400,{"$f":"AccVelDataLink!A2810","v":2807},2806,2808,null,{"$f":"AccVelDataLink!G2810","v":2.4},{"$f":"IF(E2810=A2809,\"○\",IF(G2810=0,\"つなぎまちがい\",\"先頭\"))","v":"○"},{"$f":"IF(F2810=A2811,\"○\",IF(F2810<>E2811,\"つなぎまちがい\",\"終端\"))","v":"○"}]
[2808,1,3500,{"$f":"AccVelDataLink!A2811","v":2808},2807,-1,null,{"$f":"AccVelDataLink!G2811","v":3.5},"○","終端"]
[{"$f":"A2811+1","v":2809},0,1500,{"$f":"AccVelDataLink!A2812","v":2809},-1,{"$f":"A2813","v":2810},{"$f":"AccVelDataLink!F2812","v":"ISB-SXM-100-36-水平"},{"$f":"AccVelDataLink!G2812","v":1.5},"先頭","○"]
[2810,0,1600,{"$f":"AccVelDataLink!A2813","v":2810},{"$f":"A2812","v":2809},2811,null,{"$f":"AccVelDataLink!G2813","v":1.6},"○","○"]
[2811,0,1700,{"$f":"AccVelDataLink!A2814","v":2811},2810,2812,null,{"$f":"AccVelDataLink!G2814","v":1.7},"○","○"]
[2812,0,1800,{"$f":"AccVelDataLink!A2815","v":2812},2811,2813,null,{"$f":"AccVelDataLink!G2815","v":1.8},"○","○"]
[2813,0,1900,{"$f":"AccVelDataLink!A2816","v":2813},2812,2814,null,{"$f":"AccVelDataLink!G2816","v":1.9},"○","○"]
[2814,0,2000,{"$f":"AccVelDataLink!A2817","v":2814},2813,2815,null,{"$f":"AccVelDataLink!G2817","v":2},"○","○"]
[2815,0,2300,{"$f":"AccVelDataLink!A2818","v":2815},2814,2816,null,{"$f":"AccVelDataLink!G2818","v":2.2999999999999998},"○","○"]
[2816,0,2600,{"$f":"AccVelDataLink!A2819","v":2816},2815,2817,null,{"$f":"AccVelDataLink!G2819","v":2.6},"○","○"]
[2817,0,{"$f":"H2820*$H$1","v":2900},{"$f":"AccVelDataLink!A2820","v":2817},2816,2818,null,{"$f":"AccVelDataLink!G2820","v":2.9},"○","○"]
[2818,0,3200,{"$f":"AccVelDataLink!A2821","v":2818},2817,2819,null,{"$f":"AccVelDataLink!G2821","v":3.2},"○","○"]
[2819,0,3500,{"$f":"AccVelDataLink!A2822","v":2819},2818,2820,null,{"$f":"AccVelDataLink!G2822","v":3.5},"○","○"]
[2820,0,3600,{"$f":"AccVelDataLink!A2823","v":2820},2819,2821,null,{"$f":"AccVelDataLink!G2823","v":3.6},"○","○"]
[2821,0,3700,{"$f":"AccVelDataLink!A2824","v":2821},2820,2822,null,{"$f":"AccVelDataLink!G2824","v":3.7},"○","○"]
[2822,0,3800,{"$f":"AccVelDataLink!A2825","v":2822},2821,2823,null,{"$f":"AccVelDataLink!G2825","v":3.8},"○","○"]
[2823,0,3900,{"$f":"AccVelDataLink!A2826","v":2823},2822,2824,null,{"$f":"AccVelDataLink!G2826","v":3.9},"○","○"]
[2824,0,4000,{"$f":"AccVelDataLink!A2827","v":2824},2823,2825,null,{"$f":"AccVelDataLink!G2827","v":4},"○","○"]
[2825,0,4100,{"$f":"AccVelDataLink!A2828","v":2825},2824,2826,null,{"$f":"AccVelDataLink!G2828","v":4.0999999999999996},"○","○"]
[2826,0,4300,{"$f":"AccVelDataLink!A2829","v":2826},2825,2827,null,{"$f":"AccVelDataLink!G2829","v":4.3},"○","○"]
[2827,0,4500,{"$f":"AccVelDataLink!A2830","v":2827},2826,2828,null,{"$f":"AccVelDataLink!G2830","v":4.5},"○","○"]
[2828,0,5000,{"$f":"AccVelDataLink!A2831","v":2828},2827,2829,null,{"$f":"AccVelDataLink!G2831","v":5},"○","○"]
[2829,0,5500,{"$f":"AccVelDataLink!A2832","v":2829},2828,2830,null,{"$f":"AccVelDataLink!G2832","v":5.5},"○","○"]
[2830,0,6000,{"$f":"AccVelDataLink!A2833","v":2830},2829,2831,null,{"$f":"AccVelDataLink!G2833","v":6},"○","○"]
[2831,0,6700,{"$f":"AccVelDataLink!A2834","v":2831},2830,2832,null,{"$f":"AccVelDataLink!G2834","v":6.7},"○","○"]
[2832,0,7500,{"$f":"AccVelDataLink!A2835","v":2832},2831,2833,null,{"$f":"AccVelDataLink!G2835","v":7.5},"○","○"]
[2833,0,8200,{"$f":"AccVelDataLink!A2836","v":2833},2832,2834,null,{"$f":"AccVelDataLink!G2836","v":8.1999999999999993},"○","○"]
[2834,0,9000,{"$f":"AccVelDataLink!A2837","v":2834},2833,2835,null,{"$f":"AccVelDataLink!G2837","v":9},"○","○"]
[2835,0,10000,{"$f":"AccVelDataLink!A2838","v":2835},2834,2836,null,{"$f":"AccVelDataLink!G2838","v":10},"○","○"]
[2836,1,2000,{"$f":"AccVelDataLink!A2839","v":2836},2835,-1,{"$f":"AccVelDataLink!F2839","v":"ISB-SXM-100-36-垂直"},{"$f":"AccVelDataLink!G2839","v":2},"○","終端"]
[2837,0,5000,{"$f":"AccVelDataLink!A2840","v":2837},-1,2838,{"$f":"AccVelDataLink!F2840","v":"ISB-MXM-400-48-水平"},{"$f":"AccVelDataLink!G2840","v":5},"先頭","○"]
[2838,0,5400,{"$f":"AccVelDataLink!A2841","v":2838},2837,2839,null,{"$f":"AccVelDataLink!G2841","v":5.4},"○","○"]
[2839,0,5800,{"$f":"AccVelDataLink!A2842","v":2839},2838,2840,null,{"$f":"AccVelDataLink!G2842","v":5.8},{"$f":"IF(E2842=A2841,\"○\",IF(G2842=0,\"つなぎまちがい\",\"先頭\"))","v":"○"},{"$f":"IF(F2842=A2843,\"○\",IF(F2842<>E2843,\"つなぎまちがい\",\"終端\"))","v":"○"}]
[2840,0,6200,{"$f":"AccVelDataLink!A2843","v":2840},2839,2841,null,{"$f":"AccVelDataLink!G2843","v":6.2},"○","○"]
[{"$f":"A2843+1","v":2841},0,6600,{"$f":"AccVelDataLink!A2844","v":2841},2840,2842,null,{"$f":"AccVelDataLink!G2844","v":6.6},"○","○"]
[2842,0,7000,{"$f":"AccVelDataLink!A2845","v":2842},2841,2843,null,{"$f":"AccVelDataLink!G2845","v":7},"○","○"]
[2843,0,7600,{"$f":"AccVelDataLink!A2846","v":2843},2842,2844,null,{"$f":"AccVelDataLink!G2846","v":7.6},"○","○"]
[2844,0,8200,{"$f":"AccVelDataLink!A2847","v":2844},2843,2845,null,{"$f":"AccVelDataLink!G2847","v":8.1999999999999993},"○","○"]
[2845,0,8800,{"$f":"AccVelDataLink!A2848","v":2845},2844,2846,null,{"$f":"AccVelDataLink!G2848","v":8.8000000000000007},"○","○"]
[2846,0,9400,{"$f":"AccVelDataLink!A2849","v":2846},2845,2847,null,{"$f":"AccVelDataLink!G2849","v":9.4},"○","○"]
[2847,0,10000,{"$f":"AccVelDataLink!A2850","v":2847},2846,2848,null,{"$f":"AccVelDataLink!G2850","v":10},"○","○"]
[2848,0,10400,{"$f":"AccVelDataLink!A2851","v":2848},2847,2849,null,{"$f":"AccVelDataLink!G2851","v":10.4},"○","○"]
[2849,0,10800,{"$f":"AccVelDataLink!A2852","v":2849},2848,2850,null,{"$f":"AccVelDataLink!G2852","v":10.8},"○","○"]
[2850,0,11000,{"$f":"AccVelDataLink!A2853","v":2850},2849,2851,null,{"$f":"AccVelDataLink!G2853","v":11},"○","○"]
[2851,0,11400,{"$f":"AccVelDataLink!A2854","v":2851},2850,2852,null,{"$f":"AccVelDataLink!G2854","v":11.4},"○","○"]
[2852,0,11800,{"$f":"AccVelDataLink!A2855","v":2852},2851,2853,null,{"$f":"AccVelDataLink!G2855","v":11.8},"○","○"]
[2853,0,12200,{"$f":"AccVelDataLink!A2856","v":2853},2852,2854,null,{"$f":"AccVelDataLink!G2856","v":12.2},"○","○"]
[2854,0,12600,{"$f":"AccVelDataLink!A2857","v":2854},2853,2855,null,{"$f":"AccVelDataLink!G2857","v":12.6},"○","○"]
[2855,0,13000,{"$f":"AccVelDataLink!A2858","v":2855},2854,2856,null,{"$f":"AccVelDataLink!G2858","v":13},"○","○"]
[2856,0,13800,{"$f":"AccVelDataLink!A2859","v":2856},2855,2857,null,{"$f":"AccVelDataLink!G2859","v":13.8},"○","○"]
[2857,0,14600,{"$f":"AccVelDataLink!A2860","v":2857},2856,2858,null,{"$f":"AccVelDataLink!G2860","v":14.6},"○","○"]
[2858,0,15500,{"$f":"AccVelDataLink!A2861","v":2858},2857,2859,null,{"$f":"AccVelDataLink!G2861","v":15.5},"○","○"]
[2859,0,16400,{"$f":"AccVelDataLink!A2862","v":2859},2858,2860,null,{"$f":"AccVelDataLink!G2862","v":16.399999999999999},"○","○"]
[2860,0,17300,{"$f":"AccVelDataLink!A2863","v":2860},2859,2861,null,{"$f":"AccVelDataLink!G2863","v":17.3},"○","○"]
[2861,0,18200,{"$f":"AccVelDataLink!A2864","v":2861},2860,2862,null,{"$f":"AccVelDataLink!G2864","v":18.2},"○","○"]
[2862,0,19100,{"$f":"AccVelDataLink!A2865","v":2862},2861,2863,null,{"$f":"AccVelDataLink!G2865","v":19.100000000000001},"○","○"]
[2863,0,20000,{"$f":"AccVelDataLink!A2866","v":2863},2862,2864,null,{"$f":"AccVelDataLink!G2866","v":20},"○","○"]
[2864,1,6000,{"$f":"AccVelDataLink!A2867","v":2864},2863,-1,{"$f":"AccVelDataLink!F2867","v":"ISB-MXM-400-48-垂直"},{"$f":"AccVelDataLink!G2867","v":6},"○","終端"]
[2865,0,1500,{"$f":"AccVelDataLink!A2868","v":2865},-1,2866,{"$f":"AccVelDataLink!F2868","v":"ISB-SXL-100-36-水平"},{"$f":"AccVelDataLink!G2868","v":1.5},"先頭","○"]
[2866,0,1600,{"$f":"AccVelDataLink!A2869","v":2866},2865,2867,null,{"$f":"AccVelDataLink!G2869","v":1.6},"○","○"]
[2867,0,1700,{"$f":"AccVelDataLink!A2870","v":2867},2866,2868,null,{"$f":"AccVelDataLink!G2870","v":1.7},"○","○"]
[2868,0,1800,{"$f":"AccVelDataLink!A2871","v":2868},2867,2869,null,{"$f":"AccVelDataLink!G2871","v":1.8},"○","○"]
[2869,0,1900,{"$f":"AccVelDataLink!A2872","v":2869},2868,2870,null,{"$f":"AccVelDataLink!G2872","v":1.9},"○","○"]
[2870,0,2000,{"$f":"AccVelDataLink!A2873","v":2870},2869,2871,null,{"$f":"AccVelDataLink!G2873","v":2},"○","○"]
[2871,0,2300,{"$f":"AccVelDataLink!A2874","v":2871},2870,2872,null,{"$f":"AccVelDataLink!G2874","v":2.2999999999999998},{"$f":"IF(E2874=A2873,\"○\",IF(G2874=0,\"つなぎまちがい\",\"先頭\"))","v":"○"},{"$f":"IF(F2874=A2875,\"○\",IF(F2874<>E2875,\"つなぎまちがい\",\"終端\"))","v":"○"}]
[2872,0,2600,{"$f":"AccVelDataLink!A2875","v":2872},2871,2873,null,{"$f":"AccVelDataLink!G2875","v":2.6},"○","○"]
[{"$f":"A2875+1","v":2873},0,2900,{"$f":"AccVelDataLink!A2876","v":2873},2872,{"$f":"A2877","v":2874},null,{"$f":"AccVelDataLink!G2876","v":2.9},"○","○"]
[2874,0,3200,{"$f":"AccVelDataLink!A2877","v":2874},{"$f":"A2876","v":2873},2875,null,{"$f":"AccVelDataLink!G2877","v":3.2},"○","○"]
[2875,0,3500,{"$f":"AccVelDataLink!A2878","v":2875},2874,2876,null,{"$f":"AccVelDataLink!G2878","v":3.5},"○","○"]
[2876,0,3600,{"$f":"AccVelDataLink!A2879","v":2876},2875,2877,null,{"$f":"AccVelDataLink!G2879","v":3.6},"○","○"]
[2877,0,3700,{"$f":"AccVelDataLink!A2880","v":2877},2876,2878,null,{"$f":"AccVelDataLink!G2880","v":3.7},"○","○"]
[2878,0,3800,{"$f":"AccVelDataLink!A2881","v":2878},2877,2879,null,{"$f":"AccVelDataLink!G2881","v":3.8},"○","○"]
[2879,0,3900,{"$f":"AccVelDataLink!A2882","v":2879},2878,2880,null,{"$f":"AccVelDataLink!G2882","v":3.9},"○","○"]
[2880,0,4000,{"$f":"AccVelDataLink!A2883","v":2880},2879,2881,null,{"$f":"AccVelDataLink!G2883","v":4},"○","○"]
[2881,0,{"$f":"H2884*$H$1","v":4100},{"$f":"AccVelDataLink!A2884","v":2881},2880,2882,null,{"$f":"AccVelDataLink!G2884","v":4.0999999999999996},"○","○"]
[2882,0,4300,{"$f":"AccVelDataLink!A2885","v":2882},2881,2883,null,{"$f":"AccVelDataLink!G2885","v":4.3},"○","○"]
[2883,0,4500,{"$f":"AccVelDataLink!A2886","v":2883},2882,2884,null,{"$f":"AccVelDataLink!G2886","v":4.5},"○","○"]
[2884,0,5000,{"$f":"AccVelDataLink!A2887","v":2884},2883,2885,null,{"$f":"AccVelDataLink!G2887","v":5},"○","○"]
[2885,0,5500,{"$f":"AccVelDataLink!A2888","v":2885},2884,2886,null,{"$f":"AccVelDataLink!G2888","v":5.5},"○","○"]
[2886,0,6000,{"$f":"AccVelDataLink!A2889","v":2886},2885,2887,null,{"$f":"AccVelDataLink!G2889","v":6},"○","○"]
[2887,0,6700,{"$f":"AccVelDataLink!A2890","v":2887},2886,2888,null,{"$f":"AccVelDataLink!G2890","v":6.7},"○","○"]
[2888,0,7500,{"$f":"AccVelDataLink!A2891","v":2888},2887,2889,null,{"$f":"AccVelDataLink!G2891","v":7.5},"○","○"]
[2889,0,8200,{"$f":"AccVelDataLink!A2892","v":2889},2888,2890,null,{"$f":"AccVelDataLink!G2892","v":8.1999999999999993},"○","○"]
[2890,0,9000,{"$f":"AccVelDataLink!A2893","v":2890},2889,2891,null,{"$f":"AccVelDataLink!G2893","v":9},"○","○"]
[2891,0,10000,{"$f":"AccVelDataLink!A2894","v":2891},2890,2892,null,{"$f":"AccVelDataLink!G2894","v":10},"○","○"]
[2892,1,2000,{"$f":"AccVelDataLink!A2895","v":2892},2891,-1,{"$f":"AccVelDataLink!F2895","v":"ISB-SXL-100-36-垂直"},{"$f":"AccVelDataLink!G2895","v":2},"○","終端"]
[2893,0,5000,{"$f":"AccVelDataLink!A2896","v":2893},-1,2894,{"$f":"AccVelDataLink!F2896","v":"ISB-MXL-400-48-水平"},{"$f":"AccVelDataLink!G2896","v":5},"先頭","○"]
[2894,0,5400,{"$f":"AccVelDataLink!A2897","v":2894},2893,2895,null,{"$f":"AccVelDataLink!G2897","v":5.4},"○","○"]
[2895,0,5800,{"$f":"AccVelDataLink!A2898","v":2895},2894,2896,null,{"$f":"AccVelDataLink!G2898","v":5.8},"○","○"]
[2896,0,6200,{"$f":"AccVelDataLink!A2899","v":2896},2895,2897,null,{"$f":"AccVelDataLink!G2899","v":6.2},"○","○"]
[2897,0,6600,{"$f":"AccVelDataLink!A2900","v":2897},2896,2898,null,{"$f":"AccVelDataLink!G2900","v":6.6},"○","○"]
[2898,0,7000,{"$f":"AccVelDataLink!A2901","v":2898},2897,2899,null,{"$f":"AccVelDataLink!G2901","v":7},"○","○"]
[2899,0,7600,{"$f":"AccVelDataLink!A2902","v":2899},2898,2900,null,{"$f":"AccVelDataLink!G2902","v":7.6},"○","○"]
[2900,0,8200,{"$f":"AccVelDataLink!A2903","v":2900},2899,2901,null,{"$f":"AccVelDataLink!G2903","v":8.1999999999999993},"○","○"]
[2901,0,8800,{"$f":"AccVelDataLink!A2904","v":2901},2900,2902,null,{"$f":"AccVelDataLink!G2904","v":8.8000000000000007},"○","○"]
[2902,0,9400,{"$f":"AccVelDataLink!A2905","v":2902},2901,2903,null,{"$f":"AccVelDataLink!G2905","v":9.4},"○","○"]
[2903,0,10000,{"$f":"AccVelDataLink!A2906","v":2903},2902,2904,null,{"$f":"AccVelDataLink!G2906","v":10},{"$f":"IF(E2906=A2905,\"○\",IF(G2906=0,\"つなぎまちがい\",\"先頭\"))","v":"○"},{"$f":"IF(F2906=A2907,\"○\",IF(F2906<>E2907,\"つなぎまちがい\",\"終端\"))","v":"○"}]
[2904,0,10400,{"$f":"AccVelDataLink!A2907","v":2904},2903,2905,null,{"$f":"AccVelDataLink!G2907","v":10.4},"○","○"]
[{"$f":"A2907+1","v":2905},0,10800,{"$f":"AccVelDataLink!A2908","v":2905},2904,2906,null,{"$f":"AccVelDataLink!G2908","v":10.8},"○","○"]
[2906,0,11000,{"$f":"AccVelDataLink!A2909","v":2906},2905,2907,null,{"$f":"AccVelDataLink!G2909","v":11},"○","○"]
[2907,0,11400,{"$f":"AccVelDataLink!A2910","v":2907},2906,2908,null,{"$f":"AccVelDataLink!G2910","v":11.4},"○","○"]
[2908,0,11800,{"$f":"AccVelDataLink!A2911","v":2908},2907,2909,null,{"$f":"AccVelDataLink!G2911","v":11.8},"○","○"]
[2909,0,12200,{"$f":"AccVelDataLink!A2912","v":2909},2908,2910,null,{"$f":"AccVelDataLink!G2912","v":12.2},"○","○"]
[2910,0,12600,{"$f":"AccVelDataLink!A2913","v":2910},2909,2911,null,{"$f":"AccVelDataLink!G2913","v":12.6},"○","○"]
[2911,0,13000,{"$f":"AccVelDataLink!A2914","v":2911},2910,2912,null,{"$f":"AccVelDataLink!G2914","v":13},"○","○"]
[2912,0,13800,{"$f":"AccVelDataLink!A2915","v":2912},2911,2913,null,{"$f":"AccVelDataLink!G2915","v":13.8},"○","○"]
[2913,0,14600,{"$f":"AccVelDataLink!A2916","v":2913},2912,2914,null,{"$f":"AccVelDataLink!G2916","v":14.6},"○","○"]
[2914,0,15500,{"$f":"AccVelDataLink!A2917","v":2914},2913,2915,null,{"$f":"AccVelDataLink!G2917","v":15.5},"○","○"]
[2915,0,16400,{"$f":"AccVelDataLink!A2918","v":2915},2914,2916,null,{"$f":"AccVelDataLink!G2918","v":16.399999999999999},"○","○"]
[2916,0,17300,{"$f":"AccVelDataLink!A2919","v":2916},2915,2917,null,{"$f":"AccVelDataLink!G2919","v":17.3},"○","○"]
[2917,0,18200,{"$f":"AccVelDataLink!A2920","v":2917},2916,2918,null,{"$f":"AccVelDataLink!G2920","v":18.2},"○","○"]
[2918,0,19100,{"$f":"AccVelDataLink!A2921","v":2918},2917,2919,null,{"$f":"AccVelDataLink!G2921","v":19.100000000000001},"○","○"]
[2919,0,20000,{"$f":"AccVelDataLink!A2922","v":2919},2918,2920,null,{"$f":"AccVelDataLink!G2922","v":20},"○","○"]
[2920,1,6000,{"$f":"AccVelDataLink!A2923","v":2920},2919,-1,{"$f":"AccVelDataLink!F2923","v":"ISB-MXL-400-48-垂直"},{"$f":"AccVelDataLink!G2923","v":6},"○","終端"]
[2921,0,1400,{"$f":"AccVelDataLink!A2924","v":2921},-1,2922,{"$f":"AccVelDataLink!F2924","v":"ISDB-S-100-36-水平"},{"$f":"AccVelDataLink!G2924","v":1.4},"先頭","○"]
[2922,0,1500,{"$f":"AccVelDataLink!A2925","v":2922},2921,2923,null,{"$f":"AccVelDataLink!G2925","v":1.5},"○","○"]
[2923,0,1600,{"$f":"AccVelDataLink!A2926","v":2923},2922,2924,null,{"$f":"AccVelDataLink!G2926","v":1.6},"○","○"]
[2924,0,1700,{"$f":"AccVelDataLink!A2927","v":2924},2923,2925,null,{"$f":"AccVelDataLink!G2927","v":1.7},"○","○"]
[2925,0,1800,{"$f":"AccVelDataLink!A2928","v":2925},2924,2926,null,{"$f":"AccVelDataLink!G2928","v":1.8},"○","○"]
[2926,0,1900,{"$f":"AccVelDataLink!A2929","v":2926},2925,2927,null,{"$f":"AccVelDataLink!G2929","v":1.9},"○","○"]
[2927,0,2000,{"$f":"AccVelDataLink!A2930","v":2927},2926,2928,null,{"$f":"AccVelDataLink!G2930","v":2},"○","○"]
[2928,0,2200,{"$f":"AccVelDataLink!A2931","v":2928},2927,2929,null,{"$f":"AccVelDataLink!G2931","v":2.2000000000000002},"○","○"]
[2929,0,2400,{"$f":"AccVelDataLink!A2932","v":2929},2928,2930,null,{"$f":"AccVelDataLink!G2932","v":2.4},"○","○"]
[2930,0,2600,{"$f":"AccVelDataLink!A2933","v":2930},2929,2931,null,{"$f":"AccVelDataLink!G2933","v":2.6},"○","○"]
[2931,0,2900,{"$f":"AccVelDataLink!A2934","v":2931},2930,2932,null,{"$f":"AccVelDataLink!G2934","v":2.9},"○","○"]
[2932,0,3200,{"$f":"AccVelDataLink!A2935","v":2932},2931,2933,null,{"$f":"AccVelDataLink!G2935","v":3.2},"○","○"]
[2933,0,3500,{"$f":"AccVelDataLink!A2936","v":2933},2932,2934,null,{"$f":"AccVelDataLink!G2936","v":3.5},"○","○"]
[2934,0,3600,{"$f":"AccVelDataLink!A2937","v":2934},2933,2935,null,{"$f":"AccVelDataLink!G2937","v":3.6},"○","○"]
[2935,0,3700,{"$f":"AccVelDataLink!A2938","v":2935},2934,2936,null,{"$f":"AccVelDataLink!G2938","v":3.7},{"$f":"IF(E2938=A2937,\"○\",IF(G2938=0,\"つなぎまちがい\",\"先頭\"))","v":"○"},{"$f":"IF(F2938=A2939,\"○\",IF(F2938<>E2939,\"つなぎまちがい\",\"終端\"))","v":"○"}]
[2936,0,3800,{"$f":"AccVelDataLink!A2939","v":2936},2935,2937,null,{"$f":"AccVelDataLink!G2939","v":3.8},"○","○"]
[{"$f":"A2939+1","v":2937},0,3900,{"$f":"AccVelDataLink!A2940","v":2937},2936,{"$f":"A2941","v":2938},null,{"$f":"AccVelDataLink!G2940","v":3.9},"○","○"]
[2938,0,4000,{"$f":"AccVelDataLink!A2941","v":2938},{"$f":"A2940","v":2937},2939,null,{"$f":"AccVelDataLink!G2941","v":4},"○","○"]
[2939,0,4100,{"$f":"AccVelDataLink!A2942","v":2939},2938,2940,null,{"$f":"AccVelDataLink!G2942","v":4.0999999999999996},"○","○"]
[2940,0,4300,{"$f":"AccVelDataLink!A2943","v":2940},2939,2941,null,{"$f":"AccVelDataLink!G2943","v":4.3},"○","○"]
[2941,0,4500,{"$f":"AccVelDataLink!A2944","v":2941},2940,2942,null,{"$f":"AccVelDataLink!G2944","v":4.5},"○","○"]
[2942,0,5400,{"$f":"AccVelDataLink!A2945","v":2942},2941,2943,null,{"$f":"AccVelDataLink!G2945","v":5.4},"○","○"]
[2943,0,6300,{"$f":"AccVelDataLink!A2946","v":2943},2942,2944,null,{"$f":"AccVelDataLink!G2946","v":6.3},"○","○"]
[2944,0,7200,{"$f":"AccVelDataLink!A2947","v":2944},2943,2945,null,{"$f":"AccVelDataLink!G2947","v":7.2},"○","○"]
[2945,0,{"$f":"H2948*$H$1","v":8100},{"$f":"AccVelDataLink!A2948","v":2945},2944,2946,null,{"$f":"AccVelDataLink!G2948","v":8.1},"○","○"]
[2946,0,9000,{"$f":"AccVelDataLink!A2949","v":2946},2945,2947,null,{"$f":"AccVelDataLink!G2949","v":9},"○","○"]
[2947,0,10000,{"$f":"AccVelDataLink!A2950","v":2947},2946,2948,null,{"$f":"AccVelDataLink!G2950","v":10},"○","○"]
[2948,1,2000,{"$f":"AccVelDataLink!A2951","v":2948},2947,-1,{"$f":"AccVelDataLink!F2951","v":"ISDB-S-100-36-垂直"},{"$f":"AccVelDataLink!G2951","v":2},"○","終端"]
[2949,0,5000,{"$f":"AccVelDataLink!A2952","v":2949},-1,2950,{"$f":"AccVelDataLink!F2952","v":"ISDB-M-400-48-水平"},{"$f":"AccVelDataLink!G2952","v":5},"先頭","○"]
[2950,0,5300,{"$f":"AccVelDataLink!A2953","v":2950},2949,2951,null,{"$f":"AccVelDataLink!G2953","v":5.3},"○","○"]
[2951,0,5600,{"$f":"AccVelDataLink!A2954","v":2951},2950,2952,null,{"$f":"AccVelDataLink!G2954","v":5.6},"○","○"]
[2952,0,5900,{"$f":"AccVelDataLink!A2955","v":2952},2951,2953,null,{"$f":"AccVelDataLink!G2955","v":5.9},"○","○"]
[2953,0,6200,{"$f":"AccVelDataLink!A2956","v":2953},2952,2954,null,{"$f":"AccVelDataLink!G2956","v":6.2},"○","○"]
[2954,0,6600,{"$f":"AccVelDataLink!A2957","v":2954},2953,2955,null,{"$f":"AccVelDataLink!G2957","v":6.6},"○","○"]
[2955,0,7000,{"$f":"AccVelDataLink!A2958","v":2955},2954,2956,null,{"$f":"AccVelDataLink!G2958","v":7},"○","○"]
[2956,0,7500,{"$f":"AccVelDataLink!A2959","v":2956},2955,2957,null,{"$f":"AccVelDataLink!G2959","v":7.5},"○","○"]
[2957,0,8000,{"$f":"AccVelDataLink!A2960","v":2957},2956,2958,null,{"$f":"AccVelDataLink!G2960","v":8},"○","○"]
[2958,0,8500,{"$f":"AccVelDataLink!A2961","v":2958},2957,2959,null,{"$f":"AccVelDataLink!G2961","v":8.5},"○","○"]
[2959,0,9000,{"$f":"AccVelDataLink!A2962","v":2959},2958,2960,null,{"$f":"AccVelDataLink!G2962","v":9},"○","○"]
[2960,0,9500,{"$f":"AccVelDataLink!A2963","v":2960},2959,2961,null,{"$f":"AccVelDataLink!G2963","v":9.5},"○","○"]
[2961,0,10000,{"$f":"AccVelDataLink!A2964","v":2961},2960,2962,null,{"$f":"AccVelDataLink!G2964","v":10},"○","○"]
[2962,0,10300,{"$f":"AccVelDataLink!A2965","v":2962},2961,2963,null,{"$f":"AccVelDataLink!G2965","v":10.3},"○","○"]
[2963,0,10600,{"$f":"AccVelDataLink!A2966","v":2963},2962,2964,null,{"$f":"AccVelDataLink!G2966","v":10.6},"○","○"]
[2964,0,11000,{"$f":"AccVelDataLink!A2967","v":2964},2963,2965,null,{"$f":"AccVelDataLink!G2967","v":11},"○","○"]
[2965,0,11400,{"$f":"AccVelDataLink!A2968","v":2965},2964,2966,null,{"$f":"AccVelDataLink!G2968","v":11.4},"○","○"]
[2966,0,11800,{"$f":"AccVelDataLink!A2969","v":2966},2965,2967,null,{"$f":"AccVelDataLink!G2969","v":11.8},"○","○"]
[2967,0,12200,{"$f":"AccVelDataLink!A2970","v":2967},2966,2968,null,{"$f":"AccVelDataLink!G2970","v":12.2},{"$f":"IF(E2970=A2969,\"○\",IF(G2970=0,\"つなぎまちがい\",\"先頭\"))","v":"○"},{"$f":"IF(F2970=A2971,\"○\",IF(F2970<>E2971,\"つなぎまちがい\",\"終端\"))","v":"○"}]
[2968,0,12600,{"$f":"AccVelDataLink!A2971","v":2968},2967,2969,null,{"$f":"AccVelDataLink!G2971","v":12.6},"○","○"]
[{"$f":"A2971+1","v":2969},0,13000,{"$f":"AccVelDataLink!A2972","v":2969},2968,2970,null,{"$f":"AccVelDataLink!G2972","v":13},"○","○"]
[2970,0,14000,{"$f":"AccVelDataLink!A2973","v":2970},2969,2971,null,{"$f":"AccVelDataLink!G2973","v":14},"○","○"]
[2971,0,15200,{"$f":"AccVelDataLink!A2974","v":2971},2970,2972,null,{"$f":"AccVelDataLink!G2974","v":15.2},"○","○"]
[2972,0,16400,{"$f":"AccVelDataLink!A2975","v":2972},2971,2973,null,{"$f":"AccVelDataLink!G2975","v":16.399999999999999},"○","○"]
[2973,0,17600,{"$f":"AccVelDataLink!A2976","v":2973},2972,2974,null,{"$f":"AccVelDataLink!G2976","v":17.600000000000001},"○","○"]
[2974,0,18800,{"$f":"AccVelDataLink!A2977","v":2974},2973,2975,null,{"$f":"AccVelDataLink!G2977","v":18.8},"○","○"]
[2975,0,20000,{"$f":"AccVelDataLink!A2978","v":2975},2974,2976,null,{"$f":"AccVelDataLink!G2978","v":20},"○","○"]
[2976,1,6000,{"$f":"AccVelDataLink!A2979","v":2976},2975,-1,{"$f":"AccVelDataLink!F2979","v":"ISDB-M-400-48-垂直"},{"$f":"AccVelDataLink!G2979","v":6},"○","終端"]
[2977,0,11000,2977,-1,2978,"RCS4-SA4C-60-2.5-水平",null,"↓ Ver.3.5 追加"]
[2978,0,17000,2978,2977,2979,"RCS4-SA4C-60-2.5-水平"]
[2979,0,20000,2979,2978,2980,"RCS4-SA4C-60-2.5-水平"]
[2980,1,6000,2983,2979,2981,"RCS4-SA4C-60-2.5-垂直"]
[2981,1,7000,2984,2980,2982,"RCS4-SA4C-60-2.5-垂直"]
[2982,1,8000,2985,2981,2983,"RCS4-SA4C-60-2.5-垂直"]
[2983,1,10000,2986,2982,2984,"RCS4-SA4C-60-2.5-垂直"]
[2984,1,12000,2987,2983,-1,"RCS4-SA4C-60-2.5-垂直"]
[2985,0,4000,2989,-1,2986,"RCS4-SA4C-60-5-水平"]
[2986,0,4500,2990,2985,2987,"RCS4-SA4C-60-5-水平"]
[2987,0,5000,2991,2986,2988,"RCS4-SA4C-60-5-水平"]
[2988,0,5500,2992,2987,2989,"RCS4-SA4C-60-5-水平"]
[2989,0,6000,2993,2988,2990,"RCS4-SA4C-60-5-水平"]
[2990,0,6500,2994,2989,2991,"RCS4-SA4C-60-5-水平"]
[2991,0,7000,2995,2990,2992,"RCS4-SA4C-60-5-水平"]
[2992,0,8000,2996,2991,2993,"RCS4-SA4C-60-5-水平"]
[2993,0,9000,2997,2992,2994,"RCS4-SA4C-60-5-水平"]
[2994,0,10000,2998,2993,2995,"RCS4-SA4C-60-5-水平"]
[2995,0,11000,2999,2994,2996,"RCS4-SA4C-60-5-水平"]
[2996,0,14000,3000,2995,2997,"RCS4-SA4C-60-5-水平"]
[2997,0,14500,3001,2996,2998,"RCS4-SA4C-60-5-水平"]
[2998,0,15000,3002,2997,2999,"RCS4-SA4C-60-5-水平"]
[2999,0,17000,3004,2998,3000,"RCS4-SA4C-60-5-水平"]
[3000,1,4250,3006,2999,3001,"RCS4-SA4C-60-5-垂直"]
[3001,1,4500,3007,3000,3002,"RCS4-SA4C-60-5-垂直"]
[3002,1,4750,3008,3001,3003,"RCS4-SA4C-60-5-垂直"]
[3003,1,5000,3009,3002,3004,"RCS4-SA4C-60-5-垂直"]
[3004,1,5250,3010,3003,3005,"RCS4-SA4C-60-5-垂直"]
[3005,1,5500,3011,3004,3006,"RCS4-SA4C-60-5-垂直"]
[3006,1,5750,3012,3005,3007,"RCS4-SA4C-60-5-垂直"]
[3007,1,6000,3013,3006,3008,"RCS4-SA4C-60-5-垂直"]
[3008,1,8000,3015,3007,-1,"RCS4-SA4C-60-5-垂直"]
[3009,0,1000,3017,-1,3010,"RCS4-SA4C-60-10-水平"]
[3010,0,1250,3018,3009,3011,"RCS4-SA4C-60-10-水平"]
[3011,0,1500,3019,3010,3012,"RCS4-SA4C-60-10-水平"]
[3012,0,1750,3020,3011,3013,"RCS4-SA4C-60-10-水平"]
[3013,0,2000,3021,3012,3014,"RCS4-SA4C-60-10-水平"]
[3014,0,2250,3022,3013,3015,"RCS4-SA4C-60-10-水平"]
[3015,0,2500,3023,3014,3016,"RCS4-SA4C-60-10-水平"]
[3016,0,3000,3024,3015,3017,"RCS4-SA4C-60-10-水平"]
[3017,0,3500,3025,3016,3018,"RCS4-SA4C-60-10-水平"]
[3018,0,4000,3026,3017,3019,"RCS4-SA4C-60-10-水平"]
[3019,0,4500,3027,3018,3020,"RCS4-SA4C-60-10-水平"]
[3020,0,5000,3028,3019,3021,"RCS4-SA4C-60-10-水平"]
[3021,0,6000,3029,3020,3022,"RCS4-SA4C-60-10-水平"]
[3022,0,10000,3030,3021,3023,"RCS4-SA4C-60-10-水平"]
[3023,0,12000,3031,3022,3024,"RCS4-SA4C-60-10-水平"]
[3024,0,14000,3032,3023,3025,"RCS4-SA4C-60-10-水平"]
[3025,1,1000,3034,3024,3026,"RCS4-SA4C-60-10-垂直"]
[3026,1,1500,3036,3025,3027,"RCS4-SA4C-60-10-垂直"]
[3027,1,2000,3038,3026,3028,"RCS4-SA4C-60-10-垂直"]
[3028,1,3000,3041,3027,3029,"RCS4-SA4C-60-10-垂直"]
[3029,1,5000,3043,3028,-1,"RCS4-SA4C-60-10-垂直"]
[3030,0,1000,3045,-1,3031,"RCS4-SA4C-60-16-水平"]
[3031,0,1250,3047,3030,3032,"RCS4-SA4C-60-16-水平"]
[3032,0,1500,3048,3031,3033,"RCS4-SA4C-60-16-水平"]
[3033,0,1750,3049,3032,3034,"RCS4-SA4C-60-16-水平"]
[3034,0,2000,3050,3033,3035,"RCS4-SA4C-60-16-水平"]
[3035,0,2250,3052,3034,3036,"RCS4-SA4C-60-16-水平"]
[3036,0,2500,3053,3035,3037,"RCS4-SA4C-60-16-水平"]
[3037,0,2750,3054,3036,3038,"RCS4-SA4C-60-16-水平"]
[3038,0,3000,3055,3037,3039,"RCS4-SA4C-60-16-水平"]
[3039,0,3500,3056,3038,3040,"RCS4-SA4C-60-16-水平"]
[3040,0,4000,3057,3039,3041,"RCS4-SA4C-60-16-水平"]
[3041,0,6000,3058,3040,3042,"RCS4-SA4C-60-16-水平"]
[3042,0,8000,3060,3041,3043,"RCS4-SA4C-60-16-水平"]
[3043,0,10000,3061,3042,3044,"RCS4-SA4C-60-16-水平"]
[3044,1,750,3062,3043,3045,"RCS4-SA4C-60-16-垂直"]
[3045,1,1000,3064,3044,3046,"RCS4-SA4C-60-16-垂直"]
[3046,1,1500,3069,3045,3047,"RCS4-SA4C-60-16-垂直"]
[3047,1,3000,3071,3046,-1,"RCS4-SA4C-60-16-垂直"]
[3048,0,11000,3073,-1,3049,"RCS4-SA4R-60-2.5-水平"]
[3049,0,17000,3074,3048,3050,"RCS4-SA4R-60-2.5-水平"]
[3050,0,20000,3075,3049,3051,"RCS4-SA4R-60-2.5-水平"]
[3051,1,6000,3079,3050,3052,"RCS4-SA4R-60-2.5-垂直"]
[3052,1,7000,3080,3051,3053,"RCS4-SA4R-60-2.5-垂直"]
[3053,1,8000,3081,3052,3054,"RCS4-SA4R-60-2.5-垂直"]
[3054,1,10000,3082,3053,3055,"RCS4-SA4R-60-2.5-垂直"]
[3055,1,12000,3083,3054,-1,"RCS4-SA4R-60-2.5-垂直"]
[3056,0,4000,3085,-1,3057,"RCS4-SA4R-60-5-水平"]
[3057,0,4500,3086,3056,3058,"RCS4-SA4R-60-5-水平"]
[3058,0,5000,3087,3057,3059,"RCS4-SA4R-60-5-水平"]
[3059,0,5500,3088,3058,3060,"RCS4-SA4R-60-5-水平"]
[3060,0,6000,3089,3059,3061,"RCS4-SA4R-60-5-水平"]
[3061,0,6500,3090,3060,3062,"RCS4-SA4R-60-5-水平"]
[3062,0,7000,3091,3061,3063,"RCS4-SA4R-60-5-水平"]
[3063,0,8000,3092,3062,3064,"RCS4-SA4R-60-5-水平"]
[3064,0,9000,3093,3063,3065,"RCS4-SA4R-60-5-水平"]
[3065,0,10000,3094,3064,3066,"RCS4-SA4R-60-5-水平"]
[3066,0,11000,3095,3065,3067,"RCS4-SA4R-60-5-水平"]
[3067,0,12000,3096,3066,3068,"RCS4-SA4R-60-5-水平"]
[3068,0,12500,3097,3067,3069,"RCS4-SA4R-60-5-水平"]
[3069,0,13000,3098,3068,3070,"RCS4-SA4R-60-5-水平"]
[3070,0,15000,3099,3069,3071,"RCS4-SA4R-60-5-水平"]
[3071,0,17000,3100,3070,3072,"RCS4-SA4R-60-5-水平"]
[3072,1,4250,3102,3071,3073,"RCS4-SA4R-60-5-垂直"]
[3073,1,4500,3103,3072,3074,"RCS4-SA4R-60-5-垂直"]
[3074,1,4750,3104,3073,3075,"RCS4-SA4R-60-5-垂直"]
[3075,1,5000,3105,3074,3076,"RCS4-SA4R-60-5-垂直"]
[3076,1,5250,3106,3075,3077,"RCS4-SA4R-60-5-垂直"]
[3077,1,5500,3107,3076,3078,"RCS4-SA4R-60-5-垂直"]
[3078,1,5750,3108,3077,3079,"RCS4-SA4R-60-5-垂直"]
[3079,1,6000,3109,3078,3080,"RCS4-SA4R-60-5-垂直"]
[3080,1,8000,3111,3079,-1,"RCS4-SA4R-60-5-垂直"]
[3081,0,1000,3113,-1,3082,"RCS4-SA4R-60-10-水平"]
[3082,0,1250,3114,3081,3083,"RCS4-SA4R-60-10-水平"]
[3083,0,1500,3115,3082,3084,"RCS4-SA4R-60-10-水平"]
[3084,0,1750,3116,3083,3085,"RCS4-SA4R-60-10-水平"]
[3085,0,2000,3117,3084,3086,"RCS4-SA4R-60-10-水平"]
[3086,0,2250,3118,3085,3087,"RCS4-SA4R-60-10-水平"]
[3087,0,2500,3119,3086,3088,"RCS4-SA4R-60-10-水平"]
[3088,0,3000,3120,3087,3089,"RCS4-SA4R-60-10-水平"]
[3089,0,3500,3121,3088,3090,"RCS4-SA4R-60-10-水平"]
[3090,0,4000,3122,3089,3091,"RCS4-SA4R-60-10-水平"]
[3091,0,4500,3123,3090,3092,"RCS4-SA4R-60-10-水平"]
[3092,0,5000,3124,3091,3093,"RCS4-SA4R-60-10-水平"]
[3093,0,6000,3125,3092,3094,"RCS4-SA4R-60-10-水平"]
[3094,0,10000,3126,3093,3095,"RCS4-SA4R-60-10-水平"]
[3095,0,12000,3127,3094,3096,"RCS4-SA4R-60-10-水平"]
[3096,0,14000,3128,3095,3097,"RCS4-SA4R-60-10-水平"]
[3097,1,1000,3130,3096,3098,"RCS4-SA4R-60-10-垂直"]
[3098,1,1500,3132,3097,3099,"RCS4-SA4R-60-10-垂直"]
[3099,1,2000,3134,3098,3100,"RCS4-SA4R-60-10-垂直"]
[3100,1,3000,3137,3099,3101,"RCS4-SA4R-60-10-垂直"]
[3101,1,4500,3139,3100,-1,"RCS4-SA4R-60-10-垂直"]
[3102,0,1000,3141,-1,3103,"RCS4-SA4R-60-16-水平"]
[3103,0,1250,3143,3102,3104,"RCS4-SA4R-60-16-水平"]
[3104,0,1500,3144,3103,3105,"RCS4-SA4R-60-16-水平"]
[3105,0,1750,3145,3104,3106,"RCS4-SA4R-60-16-水平"]
[3106,0,2000,3146,3105,3107,"RCS4-SA4R-60-16-水平"]
[3107,0,2250,3148,3106,3108,"RCS4-SA4R-60-16-水平"]
[3108,0,2500,3149,3107,3109,"RCS4-SA4R-60-16-水平"]
[3109,0,2750,3150,3108,3110,"RCS4-SA4R-60-16-水平"]
[3110,0,3000,3151,3109,3111,"RCS4-SA4R-60-16-水平"]
[3111,0,3500,3152,3110,3112,"RCS4-SA4R-60-16-水平"]
[3112,0,4000,3153,3111,3113,"RCS4-SA4R-60-16-水平"]
[3113,0,6000,3154,3112,3114,"RCS4-SA4R-60-16-水平"]
[3114,0,8000,3156,3113,3115,"RCS4-SA4R-60-16-水平"]
[3115,0,10000,3157,3114,3116,"RCS4-SA4R-60-16-水平"]
[3116,1,750,3158,3115,3117,"RCS4-SA4R-60-16-垂直"]
[3117,1,1000,3160,3116,3118,"RCS4-SA4R-60-16-垂直"]
[3118,1,1500,3165,3117,3119,"RCS4-SA4R-60-16-垂直"]
[3119,1,2500,3167,3118,-1,"RCS4-SA4R-60-16-垂直"]
[3120,0,2500,3169,-1,3121,"RCS4-SA6C-100-3-水平"]
[3121,0,7500,3170,3120,3122,"RCS4-SA6C-100-3-水平"]
[3122,0,12000,3171,3121,3123,"RCS4-SA6C-100-3-水平"]
[3123,0,20000,3172,3122,3124,"RCS4-SA6C-100-3-水平"]
[3124,0,30000,3173,3123,3125,"RCS4-SA6C-100-3-水平"]
[3125,0,45000,3174,3124,3126,"RCS4-SA6C-100-3-水平"]
[3126,1,1000,3175,3125,3127,"RCS4-SA6C-100-3-垂直"]
[3127,1,4000,3176,3126,3128,"RCS4-SA6C-100-3-垂直"]
[3128,1,6000,3177,3127,3129,"RCS4-SA6C-100-3-垂直"]
[3129,1,10000,3178,3128,3130,"RCS4-SA6C-100-3-垂直"]
[3130,1,14000,3179,3129,3131,"RCS4-SA6C-100-3-垂直"]
[3131,1,15000,3180,3130,-1,"RCS4-SA6C-100-3-垂直"]
[3132,0,2000,3181,-1,3133,"RCS4-SA6C-100-6-水平"]
[3133,0,2500,3182,3132,3134,"RCS4-SA6C-100-6-水平"]
[3134,0,3000,3183,3133,3135,"RCS4-SA6C-100-6-水平"]
[3135,0,3500,3184,3134,3136,"RCS4-SA6C-100-6-水平"]
[3136,0,4000,3185,3135,3137,"RCS4-SA6C-100-6-水平"]
[3137,0,5000,3186,3136,3138,"RCS4-SA6C-100-6-水平"]
[3138,0,5750,3187,3137,3139,"RCS4-SA6C-100-6-水平"]
[3139,0,7000,3188,3138,3140,"RCS4-SA6C-100-6-水平"]
[3140,0,7500,3189,3139,3141,"RCS4-SA6C-100-6-水平"]
[3141,0,9000,3190,3140,3142,"RCS4-SA6C-100-6-水平"]
[3142,0,11000,3191,3141,3143,"RCS4-SA6C-100-6-水平"]
[3143,0,16000,3192,3142,3144,"RCS4-SA6C-100-6-水平"]
[3144,0,18000,3193,3143,3145,"RCS4-SA6C-100-6-水平"]
[3145,0,20000,3194,3144,3146,"RCS4-SA6C-100-6-水平"]
[3146,0,30000,3196,3145,3147,"RCS4-SA6C-100-6-水平"]
[3147,0,45000,3197,3146,3148,"RCS4-SA6C-100-6-水平"]
[3148,1,4000,3198,3147,3149,"RCS4-SA6C-100-6-垂直"]
[3149,1,5000,3200,3148,3150,"RCS4-SA6C-100-6-垂直"]
[3150,1,6000,3201,3149,3151,"RCS4-SA6C-100-6-垂直"]
[3151,1,6500,3202,3150,3152,"RCS4-SA6C-100-6-垂直"]
[3152,1,9000,3203,3151,3153,"RCS4-SA6C-100-6-垂直"]
[3153,1,11000,3204,3152,3154,"RCS4-SA6C-100-6-垂直"]
[3154,1,15000,3205,3153,-1,"RCS4-SA6C-100-6-垂直"]
[3155,0,2000,3209,-1,3156,"RCS4-SA6C-100-12-水平"]
[3156,0,2500,3210,3155,3157,"RCS4-SA6C-100-12-水平"]
[3157,0,3000,3212,3156,3158,"RCS4-SA6C-100-12-水平"]
[3158,0,3500,3214,3157,3159,"RCS4-SA6C-100-12-水平"]
[3159,0,4000,3216,3158,3160,"RCS4-SA6C-100-12-水平"]
[3160,0,5000,3217,3159,3161,"RCS4-SA6C-100-12-水平"]
[3161,0,5500,3218,3160,3162,"RCS4-SA6C-100-12-水平"]
[3162,0,6000,3219,3161,3163,"RCS4-SA6C-100-12-水平"]
[3163,0,9000,3220,3162,3164,"RCS4-SA6C-100-12-水平"]
[3164,0,15000,3221,3163,3165,"RCS4-SA6C-100-12-水平"]
[3165,0,20000,3223,3164,3166,"RCS4-SA6C-100-12-水平"]
[3166,0,24000,3224,3165,3167,"RCS4-SA6C-100-12-水平"]
[3167,0,30000,3225,3166,3168,"RCS4-SA6C-100-12-水平"]
[3168,1,3000,3226,3167,3169,"RCS4-SA6C-100-12-垂直"]
[3169,1,3500,3227,3168,3170,"RCS4-SA6C-100-12-垂直"]
[3170,1,4000,3228,3169,3171,"RCS4-SA6C-100-12-垂直"]
[3171,1,5000,3229,3170,3172,"RCS4-SA6C-100-12-垂直"]
[3172,1,6000,3230,3171,3173,"RCS4-SA6C-100-12-垂直"]
[3173,1,7000,3231,3172,3174,"RCS4-SA6C-100-12-垂直"]
[3174,1,8000,3232,3173,3175,"RCS4-SA6C-100-12-垂直"]
[3175,1,10000,3234,3174,3176,"RCS4-SA6C-100-12-垂直"]
[3176,1,11000,3236,3175,-1,"RCS4-SA6C-100-12-垂直"]
[3177,0,1750,3237,-1,3178,"RCS4-SA6C-100-20-水平"]
[3178,0,2000,3238,3177,3179,"RCS4-SA6C-100-20-水平"]
[3179,0,2500,3244,3178,3180,"RCS4-SA6C-100-20-水平"]
[3180,0,3500,3245,3179,3181,"RCS4-SA6C-100-20-水平"]
[3181,0,4000,3246,3180,3182,"RCS4-SA6C-100-20-水平"]
[3182,0,4500,3247,3181,3183,"RCS4-SA6C-100-20-水平"]
[3183,0,5000,3248,3182,3184,"RCS4-SA6C-100-20-水平"]
[3184,0,6000,3249,3183,3185,"RCS4-SA6C-100-20-水平"]
[3185,0,8000,3250,3184,3186,"RCS4-SA6C-100-20-水平"]
[3186,0,10000,3251,3185,3187,"RCS4-SA6C-100-20-水平"]
[3187,0,15000,3252,3186,3188,"RCS4-SA6C-100-20-水平"]
[3188,0,18000,3253,3187,3189,"RCS4-SA6C-100-20-水平"]
[3189,1,2000,3254,3188,3190,"RCS4-SA6C-100-20-垂直"]
[3190,1,4000,3261,3189,3191,"RCS4-SA6C-100-20-垂直"]
[3191,1,5000,3263,3190,3192,"RCS4-SA6C-100-20-垂直"]
[3192,1,6000,3264,3191,-1,"RCS4-SA6C-100-20-垂直"]
[3193,0,1000,3265,-1,3194,"RCS4-SA6C-100-30-水平"]
[3194,0,1250,3268,3193,3195,"RCS4-SA6C-100-30-水平"]
[3195,0,1500,3270,3194,3196,"RCS4-SA6C-100-30-水平"]
[3196,0,2000,3275,3195,3197,"RCS4-SA6C-100-30-水平"]
[3197,0,2500,3276,3196,3198,"RCS4-SA6C-100-30-水平"]
[3198,0,3000,3277,3197,3199,"RCS4-SA6C-100-30-水平"]
[3199,0,4000,3278,3198,3200,"RCS4-SA6C-100-30-水平"]
[3200,0,6000,3279,3199,3201,"RCS4-SA6C-100-30-水平"]
[3201,0,11000,3281,3200,3202,"RCS4-SA6C-100-30-水平"]
[3202,1,1000,3282,3201,3203,"RCS4-SA6C-100-30-垂直"]
[3203,1,1500,3285,3202,3204,"RCS4-SA6C-100-30-垂直"]
[3204,1,2000,3290,3203,3205,"RCS4-SA6C-100-30-垂直"]
[3205,1,3500,3292,3204,-1,"RCS4-SA6C-100-30-垂直"]
[3206,0,2500,3293,-1,3207,"RCS4-SA6R-100-3-水平"]
[3207,0,7500,3294,3206,3208,"RCS4-SA6R-100-3-水平"]
[3208,0,12000,3295,3207,3209,"RCS4-SA6R-100-3-水平"]
[3209,0,20000,3296,3208,3210,"RCS4-SA6R-100-3-水平"]
[3210,0,30000,3297,3209,3211,"RCS4-SA6R-100-3-水平"]
[3211,0,45000,3298,3210,3212,"RCS4-SA6R-100-3-水平"]
[3212,1,1000,3299,3211,3213,"RCS4-SA6R-100-3-垂直"]
[3213,1,4000,3300,3212,3214,"RCS4-SA6R-100-3-垂直"]
[3214,1,6000,3301,3213,3215,"RCS4-SA6R-100-3-垂直"]
[3215,1,10000,3302,3214,3216,"RCS4-SA6R-100-3-垂直"]
[3216,1,14000,3303,3215,3217,"RCS4-SA6R-100-3-垂直"]
[3217,1,15000,3304,3216,-1,"RCS4-SA6R-100-3-垂直"]
[3218,0,2000,3305,-1,3219,"RCS4-SA6R-100-6-水平"]
[3219,0,2500,3306,3218,3220,"RCS4-SA6R-100-6-水平"]
[3220,0,3000,3307,3219,3221,"RCS4-SA6R-100-6-水平"]
[3221,0,3500,3308,3220,3222,"RCS4-SA6R-100-6-水平"]
[3222,0,4000,3309,3221,3223,"RCS4-SA6R-100-6-水平"]
[3223,0,5000,3310,3222,3224,"RCS4-SA6R-100-6-水平"]
[3224,0,5750,3311,3223,3225,"RCS4-SA6R-100-6-水平"]
[3225,0,7000,3312,3224,3226,"RCS4-SA6R-100-6-水平"]
[3226,0,7500,3313,3225,3227,"RCS4-SA6R-100-6-水平"]
[3227,0,9000,3314,3226,3228,"RCS4-SA6R-100-6-水平"]
[3228,0,11000,3315,3227,3229,"RCS4-SA6R-100-6-水平"]
[3229,0,16000,3316,3228,3230,"RCS4-SA6R-100-6-水平"]
[3230,0,18000,3317,3229,3231,"RCS4-SA6R-100-6-水平"]
[3231,0,20000,3318,3230,3232,"RCS4-SA6R-100-6-水平"]
[3232,0,30000,3320,3231,3233,"RCS4-SA6R-100-6-水平"]
[3233,0,45000,3321,3232,3234,"RCS4-SA6R-100-6-水平"]
[3234,1,4000,3322,3233,3235,"RCS4-SA6R-100-6-垂直"]
[3235,1,5000,3324,3234,3236,"RCS4-SA6R-100-6-垂直"]
[3236,1,6000,3325,3235,3237,"RCS4-SA6R-100-6-垂直"]
[3237,1,6500,3326,3236,3238,"RCS4-SA6R-100-6-垂直"]
[3238,1,9000,3327,3237,3239,"RCS4-SA6R-100-6-垂直"]
[3239,1,11000,3328,3238,3240,"RCS4-SA6R-100-6-垂直"]
[3240,1,15000,3329,3239,-1,"RCS4-SA6R-100-6-垂直"]
[3241,0,2000,3333,-1,3242,"RCS4-SA6R-100-12-水平"]
[3242,0,2500,3334,3241,3243,"RCS4-SA6R-100-12-水平"]
[3243,0,3000,3336,3242,3244,"RCS4-SA6R-100-12-水平"]
[3244,0,3500,3338,3243,3245,"RCS4-SA6R-100-12-水平"]
[3245,0,4000,3340,3244,3246,"RCS4-SA6R-100-12-水平"]
[3246,0,5000,3341,3245,3247,"RCS4-SA6R-100-12-水平"]
[3247,0,5500,3342,3246,3248,"RCS4-SA6R-100-12-水平"]
[3248,0,6000,3343,3247,3249,"RCS4-SA6R-100-12-水平"]
[3249,0,9000,3344,3248,3250,"RCS4-SA6R-100-12-水平"]
[3250,0,15000,3345,3249,3251,"RCS4-SA6R-100-12-水平"]
[3251,0,20000,3347,3250,3252,"RCS4-SA6R-100-12-水平"]
[3252,0,24000,3348,3251,3253,"RCS4-SA6R-100-12-水平"]
[3253,0,30000,3349,3252,3254,"RCS4-SA6R-100-12-水平"]
[3254,1,3000,3350,3253,3255,"RCS4-SA6R-100-12-垂直"]
[3255,1,3500,3351,3254,3256,"RCS4-SA6R-100-12-垂直"]
[3256,1,4000,3352,3255,3257,"RCS4-SA6R-100-12-垂直"]
[3257,1,5000,3353,3256,3258,"RCS4-SA6R-100-12-垂直"]
[3258,1,6000,3354,3257,3259,"RCS4-SA6R-100-12-垂直"]
[3259,1,7000,3355,3258,3260,"RCS4-SA6R-100-12-垂直"]
[3260,1,8000,3356,3259,3261,"RCS4-SA6R-100-12-垂直"]
[3261,1,9000,3358,3260,-1,"RCS4-SA6R-100-12-垂直"]
[3262,0,1750,3361,-1,3263,"RCS4-SA6R-100-20-水平"]
[3263,0,2000,3364,3262,3264,"RCS4-SA6R-100-20-水平"]
[3264,0,2500,3368,3263,3265,"RCS4-SA6R-100-20-水平"]
[3265,0,3500,3369,3264,3266,"RCS4-SA6R-100-20-水平"]
[3266,0,4000,3370,3265,3267,"RCS4-SA6R-100-20-水平"]
[3267,0,4500,3371,3266,3268,"RCS4-SA6R-100-20-水平"]
[3268,0,5000,3372,3267,3269,"RCS4-SA6R-100-20-水平"]
[3269,0,6000,3373,3268,3270,"RCS4-SA6R-100-20-水平"]
[3270,0,8000,3374,3269,3271,"RCS4-SA6R-100-20-水平"]
[3271,0,10000,3375,3270,3272,"RCS4-SA6R-100-20-水平"]
[3272,0,15000,3376,3271,3273,"RCS4-SA6R-100-20-水平"]
[3273,0,18000,3377,3272,3274,"RCS4-SA6R-100-20-水平"]
[3274,1,2000,3378,3273,3275,"RCS4-SA6R-100-20-垂直"]
[3275,1,3000,3384,3274,3276,"RCS4-SA6R-100-20-垂直"]
[3276,1,4000,3385,3275,3277,"RCS4-SA6R-100-20-垂直"]
[3277,1,5000,3387,3276,-1,"RCS4-SA6R-100-20-垂直"]
[3278,0,1000,3389,-1,3279,"RCS4-SA6R-100-30-水平"]
[3279,0,1250,3392,3278,3280,"RCS4-SA6R-100-30-水平"]
[3280,0,1500,3396,3279,3281,"RCS4-SA6R-100-30-水平"]
[3281,0,2000,3399,3280,3282,"RCS4-SA6R-100-30-水平"]
[3282,0,2500,3400,3281,3283,"RCS4-SA6R-100-30-水平"]
[3283,0,3000,3401,3282,3284,"RCS4-SA6R-100-30-水平"]
[3284,0,4000,3402,3283,3285,"RCS4-SA6R-100-30-水平"]
[3285,0,6000,3403,3284,3286,"RCS4-SA6R-100-30-水平"]
[3286,0,11000,3405,3285,3287,"RCS4-SA6R-100-30-水平"]
[3287,1,1000,3406,3286,3288,"RCS4-SA6R-100-30-垂直"]
[3288,1,1500,3409,3287,3289,"RCS4-SA6R-100-30-垂直"]
[3289,1,2000,3414,3288,3290,"RCS4-SA6R-100-30-垂直"]
[3290,1,3000,3416,3289,-1,"RCS4-SA6R-100-30-垂直"]
[3291,0,5000,3417,-1,3292,"RCS4-SA7C-200-4-水平"]
[3292,0,15000,3418,3291,3293,"RCS4-SA7C-200-4-水平"]
[3293,0,25000,3419,3292,3294,"RCS4-SA7C-200-4-水平"]
[3294,0,40000,3420,3293,3295,"RCS4-SA7C-200-4-水平"]
[3295,0,50000,3421,3294,3296,"RCS4-SA7C-200-4-水平"]
[3296,1,3000,3423,3295,3297,"RCS4-SA7C-200-4-垂直"]
[3297,1,8000,3424,3296,3298,"RCS4-SA7C-200-4-垂直"]
[3298,1,12000,3425,3297,3299,"RCS4-SA7C-200-4-垂直"]
[3299,1,20000,3426,3298,3300,"RCS4-SA7C-200-4-垂直"]
[3300,1,25000,3427,3299,-1,"RCS4-SA7C-200-4-垂直"]
[3301,0,4000,3429,-1,3302,"RCS4-SA7C-200-8-水平"]
[3302,0,5000,3430,3301,3303,"RCS4-SA7C-200-8-水平"]
[3303,0,6000,3431,3302,3304,"RCS4-SA7C-200-8-水平"]
[3304,0,7000,3432,3303,3305,"RCS4-SA7C-200-8-水平"]
[3305,0,8000,3433,3304,3306,"RCS4-SA7C-200-8-水平"]
[3306,0,9000,3434,3305,3307,"RCS4-SA7C-200-8-水平"]
[3307,0,10000,3437,3306,3308,"RCS4-SA7C-200-8-水平"]
[3308,0,15000,3438,3307,3309,"RCS4-SA7C-200-8-水平"]
[3309,0,18000,3439,3308,3310,"RCS4-SA7C-200-8-水平"]
[3310,0,25000,3440,3309,3311,"RCS4-SA7C-200-8-水平"]
[3311,0,30000,3441,3310,3312,"RCS4-SA7C-200-8-水平"]
[3312,0,35000,3442,3311,3313,"RCS4-SA7C-200-8-水平"]
[3313,0,40000,3443,3312,3314,"RCS4-SA7C-200-8-水平"]
[3314,0,45000,3445,3313,3315,"RCS4-SA7C-200-8-水平"]
[3315,1,7000,3446,3314,3316,"RCS4-SA7C-200-8-垂直"]
[3316,1,8000,3448,3315,3317,"RCS4-SA7C-200-8-垂直"]
[3317,1,10000,3449,3316,3318,"RCS4-SA7C-200-8-垂直"]
[3318,1,12000,3451,3317,3319,"RCS4-SA7C-200-8-垂直"]
[3319,1,15000,3452,3318,3320,"RCS4-SA7C-200-8-垂直"]
[3320,1,18000,3453,3319,3321,"RCS4-SA7C-200-8-垂直"]
[3321,1,20000,3454,3320,-1,"RCS4-SA7C-200-8-垂直"]
[3322,0,3500,3457,-1,3323,"RCS4-SA7C-200-16-水平"]
[3323,0,4000,3458,3322,3324,"RCS4-SA7C-200-16-水平"]
[3324,0,5000,3459,3323,3325,"RCS4-SA7C-200-16-水平"]
[3325,0,5500,3460,3324,3326,"RCS4-SA7C-200-16-水平"]
[3326,0,6000,3461,3325,3327,"RCS4-SA7C-200-16-水平"]
[3327,0,7000,3463,3326,3328,"RCS4-SA7C-200-16-水平"]
[3328,0,8000,3464,3327,3329,"RCS4-SA7C-200-16-水平"]
[3329,0,9000,3465,3328,3330,"RCS4-SA7C-200-16-水平"]
[3330,0,10000,3466,3329,3331,"RCS4-SA7C-200-16-水平"]
[3331,0,12000,3468,3330,3332,"RCS4-SA7C-200-16-水平"]
[3332,0,15000,3470,3331,3333,"RCS4-SA7C-200-16-水平"]
[3333,0,30000,3472,3332,3334,"RCS4-SA7C-200-16-水平"]
[3334,0,40000,3473,3333,3335,"RCS4-SA7C-200-16-水平"]
[3335,1,5000,3474,3334,3336,"RCS4-SA7C-200-16-垂直"]
[3336,1,8000,3479,3335,3337,"RCS4-SA7C-200-16-垂直"]
[3337,1,10000,3482,3336,3338,"RCS4-SA7C-200-16-垂直"]
[3338,1,12000,3483,3337,-1,"RCS4-SA7C-200-16-垂直"]
[3339,0,3000,3485,-1,3340,"RCS4-SA7C-200-24-水平"]
[3340,0,4000,3492,3339,3341,"RCS4-SA7C-200-24-水平"]
[3341,0,5000,3494,3340,3342,"RCS4-SA7C-200-24-水平"]
[3342,0,6000,3498,3341,3343,"RCS4-SA7C-200-24-水平"]
[3343,0,10000,3499,3342,3344,"RCS4-SA7C-200-24-水平"]
[3344,0,12000,3500,3343,3345,"RCS4-SA7C-200-24-水平"]
[3345,0,30000,3501,3344,3346,"RCS4-SA7C-200-24-水平"]
[3346,1,3000,3502,3345,3347,"RCS4-SA7C-200-24-垂直"]
[3347,1,3500,3504,3346,3348,"RCS4-SA7C-200-24-垂直"]
[3348,1,4000,3506,3347,3349,"RCS4-SA7C-200-24-垂直"]
[3349,1,5000,3509,3348,3350,"RCS4-SA7C-200-24-垂直"]
[3350,1,6000,3510,3349,3351,"RCS4-SA7C-200-24-垂直"]
[3351,1,7000,3511,3350,-1,"RCS4-SA7C-200-24-垂直"]
[3352,0,1000,3513,-1,3353,"RCS4-SA7C-200-36-水平"]
[3353,0,1500,3514,3352,3354,"RCS4-SA7C-200-36-水平"]
[3354,0,2000,3520,3353,3355,"RCS4-SA7C-200-36-水平"]
[3355,0,2500,3522,3354,3356,"RCS4-SA7C-200-36-水平"]
[3356,0,3000,3524,3355,3357,"RCS4-SA7C-200-36-水平"]
[3357,0,4000,3526,3356,3358,"RCS4-SA7C-200-36-水平"]
[3358,0,6000,3527,3357,3359,"RCS4-SA7C-200-36-水平"]
[3359,0,7000,3528,3358,3360,"RCS4-SA7C-200-36-水平"]
[3360,1,1500,3530,3359,3361,"RCS4-SA7C-200-36-垂直"]
[3361,1,2000,3533,3360,3362,"RCS4-SA7C-200-36-垂直"]
[3362,1,3000,3538,3361,3363,"RCS4-SA7C-200-36-垂直"]
[3363,1,4000,3539,3362,-1,"RCS4-SA7C-200-36-垂直"]
[3364,0,5000,3541,-1,3365,"RCS4-SA7R-200-4-水平"]
[3365,0,15000,3542,3364,3366,"RCS4-SA7R-200-4-水平"]
[3366,0,25000,3543,3365,3367,"RCS4-SA7R-200-4-水平"]
[3367,0,40000,3544,3366,3368,"RCS4-SA7R-200-4-水平"]
[3368,0,50000,3545,3367,3369,"RCS4-SA7R-200-4-水平"]
[3369,1,3000,3547,3368,3370,"RCS4-SA7R-200-4-垂直"]
[3370,1,8000,3548,3369,3371,"RCS4-SA7R-200-4-垂直"]
[3371,1,12000,3549,3370,3372,"RCS4-SA7R-200-4-垂直"]
[3372,1,20000,3550,3371,3373,"RCS4-SA7R-200-4-垂直"]
[3373,1,25000,3551,3372,-1,"RCS4-SA7R-200-4-垂直"]
[3374,0,4000,3553,-1,3375,"RCS4-SA7R-200-8-水平"]
[3375,0,5000,3554,3374,3376,"RCS4-SA7R-200-8-水平"]
[3376,0,6000,3555,3375,3377,"RCS4-SA7R-200-8-水平"]
[3377,0,7000,3556,3376,3378,"RCS4-SA7R-200-8-水平"]
[3378,0,8000,3557,3377,3379,"RCS4-SA7R-200-8-水平"]
[3379,0,9000,3558,3378,3380,"RCS4-SA7R-200-8-水平"]
[3380,0,10000,3561,3379,3381,"RCS4-SA7R-200-8-水平"]
[3381,0,15000,3562,3380,3382,"RCS4-SA7R-200-8-水平"]
[3382,0,18000,3563,3381,3383,"RCS4-SA7R-200-8-水平"]
[3383,0,25000,3564,3382,3384,"RCS4-SA7R-200-8-水平"]
[3384,0,30000,3565,3383,3385,"RCS4-SA7R-200-8-水平"]
[3385,0,35000,3566,3384,3386,"RCS4-SA7R-200-8-水平"]
[3386,0,40000,3567,3385,3387,"RCS4-SA7R-200-8-水平"]
[3387,0,45000,3569,3386,3388,"RCS4-SA7R-200-8-水平"]
[3388,1,7000,3570,3387,3389,"RCS4-SA7R-200-8-垂直"]
[3389,1,8000,3572,3388,3390,"RCS4-SA7R-200-8-垂直"]
[3390,1,10000,3573,3389,3391,"RCS4-SA7R-200-8-垂直"]
[3391,1,12000,3575,3390,3392,"RCS4-SA7R-200-8-垂直"]
[3392,1,15000,3576,3391,3393,"RCS4-SA7R-200-8-垂直"]
[3393,1,16000,3577,3392,3394,"RCS4-SA7R-200-8-垂直"]
[3394,1,18000,3578,3393,-1,"RCS4-SA7R-200-8-垂直"]
[3395,0,3500,3581,-1,3396,"RCS4-SA7R-200-16-水平"]
[3396,0,4000,3582,3395,3397,"RCS4-SA7R-200-16-水平"]
[3397,0,5000,3583,3396,3398,"RCS4-SA7R-200-16-水平"]
[3398,0,5500,3584,3397,3399,"RCS4-SA7R-200-16-水平"]
[3399,0,6000,3585,3398,3400,"RCS4-SA7R-200-16-水平"]
[3400,0,7000,3587,3399,3401,"RCS4-SA7R-200-16-水平"]
[3401,0,8000,3588,3400,3402,"RCS4-SA7R-200-16-水平"]
[3402,0,9000,3589,3401,3403,"RCS4-SA7R-200-16-水平"]
[3403,0,10000,3590,3402,3404,"RCS4-SA7R-200-16-水平"]
[3404,0,12000,3592,3403,3405,"RCS4-SA7R-200-16-水平"]
[3405,0,15000,3594,3404,3406,"RCS4-SA7R-200-16-水平"]
[3406,0,30000,3596,3405,3407,"RCS4-SA7R-200-16-水平"]
[3407,0,38000,3597,3406,3408,"RCS4-SA7R-200-16-水平"]
[3408,1,5000,3598,3407,3409,"RCS4-SA7R-200-16-垂直"]
[3409,1,8000,3603,3408,3410,"RCS4-SA7R-200-16-垂直"]
[3410,1,10000,3606,3409,3411,"RCS4-SA7R-200-16-垂直"]
[3411,1,12000,3607,3410,-1,"RCS4-SA7R-200-16-垂直"]
[3412,0,3000,3609,-1,3413,"RCS4-SA7R-200-24-水平"]
[3413,0,4000,3616,3412,3414,"RCS4-SA7R-200-24-水平"]
[3414,0,5000,3618,3413,3415,"RCS4-SA7R-200-24-水平"]
[3415,0,6000,3622,3414,3416,"RCS4-SA7R-200-24-水平"]
[3416,0,10000,3623,3415,3417,"RCS4-SA7R-200-24-水平"]
[3417,0,12000,3624,3416,3418,"RCS4-SA7R-200-24-水平"]
[3418,0,30000,3625,3417,3419,"RCS4-SA7R-200-24-水平"]
[3419,1,3000,3626,3418,3420,"RCS4-SA7R-200-24-垂直"]
[3420,1,3500,3628,3419,3421,"RCS4-SA7R-200-24-垂直"]
[3421,1,4000,3630,3420,3422,"RCS4-SA7R-200-24-垂直"]
[3422,1,5000,3633,3421,3423,"RCS4-SA7R-200-24-垂直"]
[3423,1,6000,3635,3422,-1,"RCS4-SA7R-200-24-垂直"]
[3424,0,1000,3637,-1,3425,"RCS4-SA7R-200-36-水平"]
[3425,0,1500,3638,3424,3426,"RCS4-SA7R-200-36-水平"]
[3426,0,2000,3644,3425,3427,"RCS4-SA7R-200-36-水平"]
[3427,0,2500,3646,3426,3428,"RCS4-SA7R-200-36-水平"]
[3428,0,3000,3648,3427,3429,"RCS4-SA7R-200-36-水平"]
[3429,0,4000,3650,3428,3430,"RCS4-SA7R-200-36-水平"]
[3430,0,6000,3651,3429,3431,"RCS4-SA7R-200-36-水平"]
[3431,0,7000,3652,3430,3432,"RCS4-SA7R-200-36-水平"]
[3432,1,1500,3654,3431,3433,"RCS4-SA7R-200-36-垂直"]
[3433,1,2000,3657,3432,3434,"RCS4-SA7R-200-36-垂直"]
[3434,1,3000,3662,3433,3435,"RCS4-SA7R-200-36-垂直"]
[3435,1,4000,3663,3434,-1,"RCS4-SA7R-200-36-垂直"]
[3436,0,25000,3665,-1,3437,"RCS4-SA8C-400-5-水平"]
[3437,0,40000,3666,3436,3438,"RCS4-SA8C-400-5-水平"]
[3438,0,50000,3667,3437,3439,"RCS4-SA8C-400-5-水平"]
[3439,0,70000,3668,3438,3440,"RCS4-SA8C-400-5-水平"]
[3440,0,90000,3669,3439,3441,"RCS4-SA8C-400-5-水平"]
[3441,1,15000,3671,3440,3442,"RCS4-SA8C-400-5-垂直"]
[3442,1,22000,3672,3441,3443,"RCS4-SA8C-400-5-垂直"]
[3443,1,30000,3673,3442,3444,"RCS4-SA8C-400-5-垂直"]
[3444,1,35000,3674,3443,3445,"RCS4-SA8C-400-5-垂直"]
[3445,1,45000,3675,3444,-1,"RCS4-SA8C-400-5-垂直"]
[3446,0,8000,3677,-1,3447,"RCS4-SA8C-400-10-水平"]
[3447,0,10000,3678,3446,3448,"RCS4-SA8C-400-10-水平"]
[3448,0,12000,3679,3447,3449,"RCS4-SA8C-400-10-水平"]
[3449,0,13000,3680,3448,3450,"RCS4-SA8C-400-10-水平"]
[3450,0,15000,3681,3449,3451,"RCS4-SA8C-400-10-水平"]
[3451,0,18000,3682,3450,3452,"RCS4-SA8C-400-10-水平"]
[3452,0,20000,3683,3451,3453,"RCS4-SA8C-400-10-水平"]
[3453,0,25000,3684,3452,3454,"RCS4-SA8C-400-10-水平"]
[3454,0,30000,3685,3453,3455,"RCS4-SA8C-400-10-水平"]
[3455,0,35000,3686,3454,3456,"RCS4-SA8C-400-10-水平"]
[3456,0,43000,3687,3455,3457,"RCS4-SA8C-400-10-水平"]
[3457,0,55000,3688,3456,3458,"RCS4-SA8C-400-10-水平"]
[3458,0,58000,3689,3457,3459,"RCS4-SA8C-400-10-水平"]
[3459,0,60000,3690,3458,3460,"RCS4-SA8C-400-10-水平"]
[3460,0,70000,3691,3459,3461,"RCS4-SA8C-400-10-水平"]
[3461,0,80000,3692,3460,3462,"RCS4-SA8C-400-10-水平"]
[3462,1,14000,3694,3461,3463,"RCS4-SA8C-400-10-垂直"]
[3463,1,16000,3695,3462,3464,"RCS4-SA8C-400-10-垂直"]
[3464,1,18000,3696,3463,3465,"RCS4-SA8C-400-10-垂直"]
[3465,1,20000,3697,3464,3466,"RCS4-SA8C-400-10-垂直"]
[3466,1,23000,3698,3465,3467,"RCS4-SA8C-400-10-垂直"]
[3467,1,25000,3699,3466,3468,"RCS4-SA8C-400-10-垂直"]
[3468,1,28000,3700,3467,3469,"RCS4-SA8C-400-10-垂直"]
[3469,1,30000,3701,3468,3470,"RCS4-SA8C-400-10-垂直"]
[3470,1,35000,3702,3469,-1,"RCS4-SA8C-400-10-垂直"]
[3471,0,3000,3705,-1,3472,"RCS4-SA8C-400-20-水平"]
[3472,0,4000,3707,3471,3473,"RCS4-SA8C-400-20-水平"]
[3473,0,5000,3709,3472,3474,"RCS4-SA8C-400-20-水平"]
[3474,0,6000,3711,3473,3475,"RCS4-SA8C-400-20-水平"]
[3475,0,7000,3712,3474,3476,"RCS4-SA8C-400-20-水平"]
[3476,0,8000,3713,3475,3477,"RCS4-SA8C-400-20-水平"]
[3477,0,9000,3714,3476,3478,"RCS4-SA8C-400-20-水平"]
[3478,0,10000,3715,3477,3479,"RCS4-SA8C-400-20-水平"]
[3479,0,13000,3716,3478,3480,"RCS4-SA8C-400-20-水平"]
[3480,0,15000,3717,3479,3481,"RCS4-SA8C-400-20-水平"]
[3481,0,20000,3718,3480,3482,"RCS4-SA8C-400-20-水平"]
[3482,0,30000,3719,3481,3483,"RCS4-SA8C-400-20-水平"]
[3483,0,40000,3720,3482,3484,"RCS4-SA8C-400-20-水平"]
[3484,0,60000,3721,3483,3485,"RCS4-SA8C-400-20-水平"]
[3485,1,4000,3722,3484,3486,"RCS4-SA8C-400-20-垂直"]
[3486,1,5000,3723,3485,3487,"RCS4-SA8C-400-20-垂直"]
[3487,1,6000,3724,3486,3488,"RCS4-SA8C-400-20-垂直"]
[3488,1,7000,3725,3487,3489,"RCS4-SA8C-400-20-垂直"]
[3489,1,8000,3726,3488,3490,"RCS4-SA8C-400-20-垂直"]
[3490,1,10000,3727,3489,3491,"RCS4-SA8C-400-20-垂直"]
[3491,1,12000,3728,3490,3492,"RCS4-SA8C-400-20-垂直"]
[3492,1,15000,3729,3491,3493,"RCS4-SA8C-400-20-垂直"]
[3493,1,18000,3730,3492,3494,"RCS4-SA8C-400-20-垂直"]
[3494,1,20000,3731,3493,-1,"RCS4-SA8C-400-20-垂直"]
[3495,0,3000,3733,-1,3496,"RCS4-SA8C-400-30-水平"]
[3496,0,3750,3735,3495,3497,"RCS4-SA8C-400-30-水平"]
[3497,0,4000,3737,3496,3498,"RCS4-SA8C-400-30-水平"]
[3498,0,5000,3740,3497,3499,"RCS4-SA8C-400-30-水平"]
[3499,0,6000,3741,3498,3500,"RCS4-SA8C-400-30-水平"]
[3500,0,7000,3742,3499,3501,"RCS4-SA8C-400-30-水平"]
[3501,0,8000,3743,3500,3502,"RCS4-SA8C-400-30-水平"]
[3502,0,9000,3744,3501,3503,"RCS4-SA8C-400-30-水平"]
[3503,0,10000,3745,3502,3504,"RCS4-SA8C-400-30-水平"]
[3504,0,15000,3746,3503,3505,"RCS4-SA8C-400-30-水平"]
[3505,0,20000,3747,3504,3506,"RCS4-SA8C-400-30-水平"]
[3506,0,25000,3748,3505,3507,"RCS4-SA8C-400-30-水平"]
[3507,0,30000,3749,3506,3508,"RCS4-SA8C-400-30-水平"]
[3508,1,3000,3750,3507,3509,"RCS4-SA8C-400-30-垂直"]
[3509,1,3500,3751,3508,3510,"RCS4-SA8C-400-30-垂直"]
[3510,1,4500,3753,3509,3511,"RCS4-SA8C-400-30-垂直"]
[3511,1,5000,3754,3510,3512,"RCS4-SA8C-400-30-垂直"]
[3512,1,5500,3755,3511,3513,"RCS4-SA8C-400-30-垂直"]
[3513,1,6000,3756,3512,3514,"RCS4-SA8C-400-30-垂直"]
[3514,1,8000,3757,3513,3515,"RCS4-SA8C-400-30-垂直"]
[3515,1,10000,3758,3514,3516,"RCS4-SA8C-400-30-垂直"]
[3516,1,12000,3759,3515,-1,"RCS4-SA8C-400-30-垂直"]
[3517,0,500,3761,-1,3518,"RCS4-SA8C-400-48-水平"]
[3518,0,1000,3765,3517,3519,"RCS4-SA8C-400-48-水平"]
[3519,0,1500,3768,3518,3520,"RCS4-SA8C-400-48-水平"]
[3520,0,2000,3769,3519,3521,"RCS4-SA8C-400-48-水平"]
[3521,0,2500,3770,3520,3522,"RCS4-SA8C-400-48-水平"]
[3522,0,3000,3771,3521,3523,"RCS4-SA8C-400-48-水平"]
[3523,0,3500,3772,3522,3524,"RCS4-SA8C-400-48-水平"]
[3524,0,4000,3773,3523,3525,"RCS4-SA8C-400-48-水平"]
[3525,0,5000,3774,3524,3526,"RCS4-SA8C-400-48-水平"]
[3526,0,6000,3775,3525,3527,"RCS4-SA8C-400-48-水平"]
[3527,0,8000,3776,3526,-1,"RCS4-SA8C-400-48-水平"]
[3528,0,25000,3778,-1,3529,"RCS4-SA8R-400-5-水平"]
[3529,0,40000,3779,3528,3530,"RCS4-SA8R-400-5-水平"]
[3530,0,50000,3780,3529,3531,"RCS4-SA8R-400-5-水平"]
[3531,0,70000,3781,3530,3532,"RCS4-SA8R-400-5-水平"]
[3532,0,90000,3782,3531,3533,"RCS4-SA8R-400-5-水平"]
[3533,1,15000,3784,3532,3534,"RCS4-SA8R-400-5-垂直"]
[3534,1,22000,3785,3533,3535,"RCS4-SA8R-400-5-垂直"]
[3535,1,30000,3786,3534,3536,"RCS4-SA8R-400-5-垂直"]
[3536,1,35000,3787,3535,3537,"RCS4-SA8R-400-5-垂直"]
[3537,1,45000,3788,3536,-1,"RCS4-SA8R-400-5-垂直"]
[3538,0,8000,3790,-1,3539,"RCS4-SA8R-400-10-水平"]
[3539,0,10000,3791,3538,3540,"RCS4-SA8R-400-10-水平"]
[3540,0,12000,3792,3539,3541,"RCS4-SA8R-400-10-水平"]
[3541,0,13000,3793,3540,3542,"RCS4-SA8R-400-10-水平"]
[3542,0,15000,3794,3541,3543,"RCS4-SA8R-400-10-水平"]
[3543,0,18000,3795,3542,3544,"RCS4-SA8R-400-10-水平"]
[3544,0,20000,3796,3543,3545,"RCS4-SA8R-400-10-水平"]
[3545,0,25000,3797,3544,3546,"RCS4-SA8R-400-10-水平"]
[3546,0,30000,3798,3545,3547,"RCS4-SA8R-400-10-水平"]
[3547,0,35000,3799,3546,3548,"RCS4-SA8R-400-10-水平"]
[3548,0,43000,3800,3547,3549,"RCS4-SA8R-400-10-水平"]
[3549,0,55000,3801,3548,3550,"RCS4-SA8R-400-10-水平"]
[3550,0,58000,3802,3549,3551,"RCS4-SA8R-400-10-水平"]
[3551,0,60000,3803,3550,3552,"RCS4-SA8R-400-10-水平"]
[3552,0,70000,3804,3551,3553,"RCS4-SA8R-400-10-水平"]
[3553,0,80000,3805,3552,3554,"RCS4-SA8R-400-10-水平"]
[3554,1,14000,3807,3553,3555,"RCS4-SA8R-400-10-垂直"]
[3555,1,16000,3808,3554,3556,"RCS4-SA8R-400-10-垂直"]
[3556,1,18000,3809,3555,3557,"RCS4-SA8R-400-10-垂直"]
[3557,1,20000,3810,3556,3558,"RCS4-SA8R-400-10-垂直"]
[3558,1,23000,3811,3557,3559,"RCS4-SA8R-400-10-垂直"]
[3559,1,25000,3812,3558,3560,"RCS4-SA8R-400-10-垂直"]
[3560,1,28000,3813,3559,3561,"RCS4-SA8R-400-10-垂直"]
[3561,1,30000,3814,3560,3562,"RCS4-SA8R-400-10-垂直"]
[3562,1,35000,3815,3561,-1,"RCS4-SA8R-400-10-垂直"]
[3563,0,5000,3818,-1,3564,"RCS4-SA8R-400-20-水平"]
[3564,0,6000,3820,3563,3565,"RCS4-SA8R-400-20-水平"]
[3565,0,7000,3825,3564,3566,"RCS4-SA8R-400-20-水平"]
[3566,0,8000,3826,3565,3567,"RCS4-SA8R-400-20-水平"]
[3567,0,9000,3827,3566,3568,"RCS4-SA8R-400-20-水平"]
[3568,0,10000,3828,3567,3569,"RCS4-SA8R-400-20-水平"]
[3569,0,13000,3829,3568,3570,"RCS4-SA8R-400-20-水平"]
[3570,0,15000,3830,3569,3571,"RCS4-SA8R-400-20-水平"]
[3571,0,20000,3831,3570,3572,"RCS4-SA8R-400-20-水平"]
[3572,0,30000,3832,3571,3573,"RCS4-SA8R-400-20-水平"]
[3573,0,40000,3833,3572,3574,"RCS4-SA8R-400-20-水平"]
[3574,0,60000,3834,3573,3575,"RCS4-SA8R-400-20-水平"]
[3575,1,4000,3835,3574,3576,"RCS4-SA8R-400-20-垂直"]
[3576,1,5000,3836,3575,3577,"RCS4-SA8R-400-20-垂直"]
[3577,1,6000,3837,3576,3578,"RCS4-SA8R-400-20-垂直"]
[3578,1,7000,3838,3577,3579,"RCS4-SA8R-400-20-垂直"]
[3579,1,8000,3839,3578,3580,"RCS4-SA8R-400-20-垂直"]
[3580,1,10000,3840,3579,3581,"RCS4-SA8R-400-20-垂直"]
[3581,1,12000,3841,3580,3582,"RCS4-SA8R-400-20-垂直"]
[3582,1,15000,3842,3581,3583,"RCS4-SA8R-400-20-垂直"]
[3583,1,18000,3843,3582,3584,"RCS4-SA8R-400-20-垂直"]
[3584,1,20000,3844,3583,-1,"RCS4-SA8R-400-20-垂直"]
[3585,0,3500,3846,-1,3586,"RCS4-SA8R-400-30-水平"]
[3586,0,3750,3848,3585,3587,"RCS4-SA8R-400-30-水平"]
[3587,0,4000,3850,3586,3588,"RCS4-SA8R-400-30-水平"]
[3588,0,5000,3853,3587,3589,"RCS4-SA8R-400-30-水平"]
[3589,0,6000,3854,3588,3590,"RCS4-SA8R-400-30-水平"]
[3590,0,7000,3855,3589,3591,"RCS4-SA8R-400-30-水平"]
[3591,0,8000,3856,3590,3592,"RCS4-SA8R-400-30-水平"]
[3592,0,9000,3857,3591,3593,"RCS4-SA8R-400-30-水平"]
[3593,0,10000,3858,3592,3594,"RCS4-SA8R-400-30-水平"]
[3594,0,15000,3859,3593,3595,"RCS4-SA8R-400-30-水平"]
[3595,0,20000,3860,3594,3596,"RCS4-SA8R-400-30-水平"]
[3596,0,25000,3861,3595,3597,"RCS4-SA8R-400-30-水平"]
[3597,0,30000,3862,3596,3598,"RCS4-SA8R-400-30-水平"]
[3598,1,3000,3863,3597,3599,"RCS4-SA8R-400-30-垂直"]
[3599,1,3500,3864,3598,3600,"RCS4-SA8R-400-30-垂直"]
[3600,1,4000,3865,3599,3601,"RCS4-SA8R-400-30-垂直"]
[3601,1,4500,3866,3600,3602,"RCS4-SA8R-400-30-垂直"]
[3602,1,5000,3867,3601,3603,"RCS4-SA8R-400-30-垂直"]
[3603,1,5500,3868,3602,3604,"RCS4-SA8R-400-30-垂直"]
[3604,1,6000,3869,3603,3605,"RCS4-SA8R-400-30-垂直"]
[3605,1,8000,3870,3604,3606,"RCS4-SA8R-400-30-垂直"]
[3606,1,10000,3871,3605,3607,"RCS4-SA8R-400-30-垂直"]
[3607,1,12000,3872,3606,-1,"RCS4-SA8R-400-30-垂直"]
[3608,0,500,3874,-1,3609,"RCS4-SA8R-400-48-水平"]
[3609,0,1000,3878,3608,3610,"RCS4-SA8R-400-48-水平"]
[3610,0,1500,3881,3609,3611,"RCS4-SA8R-400-48-水平"]
[3611,0,2000,3882,3610,3612,"RCS4-SA8R-400-48-水平"]
[3612,0,2500,3883,3611,3613,"RCS4-SA8R-400-48-水平"]
[3613,0,3000,3884,3612,3614,"RCS4-SA8R-400-48-水平"]
[3614,0,3500,3885,3613,3615,"RCS4-SA8R-400-48-水平"]
[3615,0,4000,3886,3614,3616,"RCS4-SA8R-400-48-水平"]
[3616,0,5000,3887,3615,3617,"RCS4-SA8R-400-48-水平"]
[3617,0,6000,3888,3616,3618,"RCS4-SA8R-400-48-水平"]
[3618,0,8000,3889,3617,-1,"RCS4-SA8R-400-48-水平"]
[3619,0,2000,3891,-1,3620,"RCS4-WSA10C-60-2.5-水平"]
[3620,0,6500,3892,3619,3621,"RCS4-WSA10C-60-2.5-水平"]
[3621,0,11000,3893,3620,3622,"RCS4-WSA10C-60-2.5-水平"]
[3622,0,18000,3894,3621,3623,"RCS4-WSA10C-60-2.5-水平"]
[3623,0,30000,3895,3622,3624,"RCS4-WSA10C-60-2.5-水平"]
[3624,0,40000,3896,3623,3625,"RCS4-WSA10C-60-2.5-水平"]
[3625,1,1000,3897,3624,3626,"RCS4-WSA10C-60-2.5-垂直"]
[3626,1,3250,3898,3625,3627,"RCS4-WSA10C-60-2.5-垂直"]
[3627,1,5000,3899,3626,3628,"RCS4-WSA10C-60-2.5-垂直"]
[3628,1,6000,3900,3627,3629,"RCS4-WSA10C-60-2.5-垂直"]
[3629,1,10000,3901,3628,-1,"RCS4-WSA10C-60-2.5-垂直"]
[3630,0,1500,3903,-1,3631,"RCS4-WSA10C-60-5-水平"]
[3631,0,2250,3904,3630,3632,"RCS4-WSA10C-60-5-水平"]
[3632,0,3250,3905,3631,3633,"RCS4-WSA10C-60-5-水平"]
[3633,0,4500,3906,3632,3634,"RCS4-WSA10C-60-5-水平"]
[3634,0,6500,3907,3633,3635,"RCS4-WSA10C-60-5-水平"]
[3635,0,9000,3908,3634,3636,"RCS4-WSA10C-60-5-水平"]
[3636,0,13500,3909,3635,3637,"RCS4-WSA10C-60-5-水平"]
[3637,0,14000,3910,3636,3638,"RCS4-WSA10C-60-5-水平"]
[3638,0,18000,3911,3637,3639,"RCS4-WSA10C-60-5-水平"]
[3639,0,20000,3912,3638,3640,"RCS4-WSA10C-60-5-水平"]
[3640,0,27000,3913,3639,3641,"RCS4-WSA10C-60-5-水平"]
[3641,1,3000,3915,3640,3642,"RCS4-WSA10C-60-5-垂直"]
[3642,1,4500,3916,3641,3643,"RCS4-WSA10C-60-5-垂直"]
[3643,1,5000,3917,3642,-1,"RCS4-WSA10C-60-5-垂直"]
[3644,0,1000,3924,-1,3645,"RCS4-WSA10C-60-10-水平"]
[3645,0,1500,3926,3644,3646,"RCS4-WSA10C-60-10-水平"]
[3646,0,2000,3927,3645,3647,"RCS4-WSA10C-60-10-水平"]
[3647,0,3000,3928,3646,3648,"RCS4-WSA10C-60-10-水平"]
[3648,0,4000,3929,3647,3649,"RCS4-WSA10C-60-10-水平"]
[3649,0,4500,3930,3648,3650,"RCS4-WSA10C-60-10-水平"]
[3650,0,6000,3931,3649,3651,"RCS4-WSA10C-60-10-水平"]
[3651,0,12000,3932,3650,3652,"RCS4-WSA10C-60-10-水平"]
[3652,0,16000,3934,3651,3653,"RCS4-WSA10C-60-10-水平"]
[3653,1,1000,3936,3652,3654,"RCS4-WSA10C-60-10-垂直"]
[3654,1,1500,3938,3653,3655,"RCS4-WSA10C-60-10-垂直"]
[3655,1,2000,3940,3654,3656,"RCS4-WSA10C-60-10-垂直"]
[3656,1,3000,3941,3655,-1,"RCS4-WSA10C-60-10-垂直"]
[3657,0,1000,3945,-1,3658,"RCS4-WSA10C-60-16-水平"]
[3658,0,1250,3947,3657,3659,"RCS4-WSA10C-60-16-水平"]
[3659,0,1500,3948,3658,3660,"RCS4-WSA10C-60-16-水平"]
[3660,0,2000,3949,3659,3661,"RCS4-WSA10C-60-16-水平"]
[3661,0,2500,3950,3660,3662,"RCS4-WSA10C-60-16-水平"]
[3662,0,3000,3951,3661,3663,"RCS4-WSA10C-60-16-水平"]
[3663,0,4000,3953,3662,3664,"RCS4-WSA10C-60-16-水平"]
[3664,0,5000,3954,3663,3665,"RCS4-WSA10C-60-16-水平"]
[3665,0,7000,3955,3664,-1,"RCS4-WSA10C-60-16-水平"]
[3666,0,2000,3957,-1,3667,"RCS4-WSA10R-60-2.5-水平"]
[3667,0,6500,3958,3666,3668,"RCS4-WSA10R-60-2.5-水平"]
[3668,0,11000,3959,3667,3669,"RCS4-WSA10R-60-2.5-水平"]
[3669,0,18000,3960,3668,3670,"RCS4-WSA10R-60-2.5-水平"]
[3670,0,30000,3961,3669,3671,"RCS4-WSA10R-60-2.5-水平"]
[3671,0,40000,3962,3670,3672,"RCS4-WSA10R-60-2.5-水平"]
[3672,1,1000,3963,3671,3673,"RCS4-WSA10R-60-2.5-垂直"]
[3673,1,3250,3964,3672,3674,"RCS4-WSA10R-60-2.5-垂直"]
[3674,1,5000,3965,3673,3675,"RCS4-WSA10R-60-2.5-垂直"]
[3675,1,6000,3966,3674,3676,"RCS4-WSA10R-60-2.5-垂直"]
[3676,1,10000,3967,3675,-1,"RCS4-WSA10R-60-2.5-垂直"]
[3677,0,1500,3969,-1,3678,"RCS4-WSA10R-60-5-水平"]
[3678,0,2250,3970,3677,3679,"RCS4-WSA10R-60-5-水平"]
[3679,0,3250,3971,3678,3680,"RCS4-WSA10R-60-5-水平"]
[3680,0,4500,3972,3679,3681,"RCS4-WSA10R-60-5-水平"]
[3681,0,6500,3973,3680,3682,"RCS4-WSA10R-60-5-水平"]
[3682,0,9000,3974,3681,3683,"RCS4-WSA10R-60-5-水平"]
[3683,0,11500,3975,3682,3684,"RCS4-WSA10R-60-5-水平"]
[3684,0,12000,3976,3683,3685,"RCS4-WSA10R-60-5-水平"]
[3685,0,18000,3977,3684,3686,"RCS4-WSA10R-60-5-水平"]
[3686,0,20000,3978,3685,3687,"RCS4-WSA10R-60-5-水平"]
[3687,0,27000,3979,3686,3688,"RCS4-WSA10R-60-5-水平"]
[3688,1,3000,3981,3687,3689,"RCS4-WSA10R-60-5-垂直"]
[3689,1,4500,3982,3688,3690,"RCS4-WSA10R-60-5-垂直"]
[3690,1,5000,3983,3689,-1,"RCS4-WSA10R-60-5-垂直"]
[3691,0,1000,3990,-1,3692,"RCS4-WSA10R-60-10-水平"]
[3692,0,1500,3992,3691,3693,"RCS4-WSA10R-60-10-水平"]
[3693,0,2000,3993,3692,3694,"RCS4-WSA10R-60-10-水平"]
[3694,0,3000,3994,3693,3695,"RCS4-WSA10R-60-10-水平"]
[3695,0,4000,3995,3694,3696,"RCS4-WSA10R-60-10-水平"]
[3696,0,4500,3996,3695,3697,"RCS4-WSA10R-60-10-水平"]
[3697,0,5500,3997,3696,3698,"RCS4-WSA10R-60-10-水平"]
[3698,0,12000,3998,3697,3699,"RCS4-WSA10R-60-10-水平"]
[3699,0,16000,4000,3698,3700,"RCS4-WSA10R-60-10-水平"]
[3700,1,1000,4002,3699,3701,"RCS4-WSA10R-60-10-垂直"]
[3701,1,1500,4004,3700,3702,"RCS4-WSA10R-60-10-垂直"]
[3702,1,3000,4007,3701,-1,"RCS4-WSA10R-60-10-垂直"]
[3703,0,1000,4011,-1,3704,"RCS4-WSA10R-60-16-水平"]
[3704,0,1250,4013,3703,3705,"RCS4-WSA10R-60-16-水平"]
[3705,0,1500,4014,3704,3706,"RCS4-WSA10R-60-16-水平"]
[3706,0,2000,4015,3705,3707,"RCS4-WSA10R-60-16-水平"]
[3707,0,2500,4016,3706,3708,"RCS4-WSA10R-60-16-水平"]
[3708,0,3000,4017,3707,3709,"RCS4-WSA10R-60-16-水平"]
[3709,0,4000,4019,3708,3710,"RCS4-WSA10R-60-16-水平"]
[3710,0,5000,4020,3709,3711,"RCS4-WSA10R-60-16-水平"]
[3711,0,7000,4021,3710,-1,"RCS4-WSA10R-60-16-水平"]
[3712,0,2000,4023,-1,3713,"RCS4-WSA12C-100-3-水平"]
[3713,0,15000,4024,3712,3714,"RCS4-WSA12C-100-3-水平"]
[3714,0,30000,4025,3713,3715,"RCS4-WSA12C-100-3-水平"]
[3715,0,55000,4026,3714,3716,"RCS4-WSA12C-100-3-水平"]
[3716,1,750,4027,3715,3717,"RCS4-WSA12C-100-3-垂直"]
[3717,1,6000,4028,3716,3718,"RCS4-WSA12C-100-3-垂直"]
[3718,1,10000,4029,3717,3719,"RCS4-WSA12C-100-3-垂直"]
[3719,1,15000,4030,3718,-1,"RCS4-WSA12C-100-3-垂直"]
[3720,0,1000,4031,-1,3721,"RCS4-WSA12C-100-6-水平"]
[3721,0,2500,4032,3720,3722,"RCS4-WSA12C-100-6-水平"]
[3722,0,4500,4033,3721,3723,"RCS4-WSA12C-100-6-水平"]
[3723,0,7500,4034,3722,3724,"RCS4-WSA12C-100-6-水平"]
[3724,0,12000,4035,3723,3725,"RCS4-WSA12C-100-6-水平"]
[3725,0,17000,4036,3724,3726,"RCS4-WSA12C-100-6-水平"]
[3726,0,20000,4037,3725,3727,"RCS4-WSA12C-100-6-水平"]
[3727,0,30000,4038,3726,3728,"RCS4-WSA12C-100-6-水平"]
[3728,0,40000,4039,3727,3729,"RCS4-WSA12C-100-6-水平"]
[3729,0,45000,4040,3728,3730,"RCS4-WSA12C-100-6-水平"]
[3730,1,1750,4041,3729,3731,"RCS4-WSA12C-100-6-垂直"]
[3731,1,3000,4042,3730,3732,"RCS4-WSA12C-100-6-垂直"]
[3732,1,4750,4043,3731,3733,"RCS4-WSA12C-100-6-垂直"]
[3733,1,7000,4044,3732,3734,"RCS4-WSA12C-100-6-垂直"]
[3734,1,7500,4045,3733,3735,"RCS4-WSA12C-100-6-垂直"]
[3735,1,10000,4046,3734,3736,"RCS4-WSA12C-100-6-垂直"]
[3736,1,12000,4047,3735,3737,"RCS4-WSA12C-100-6-垂直"]
[3737,1,15000,4048,3736,-1,"RCS4-WSA12C-100-6-垂直"]
[3738,0,1000,4050,-1,3739,"RCS4-WSA12C-100-12-水平"]
[3739,0,2500,4053,3738,3740,"RCS4-WSA12C-100-12-水平"]
[3740,0,4500,4054,3739,3741,"RCS4-WSA12C-100-12-水平"]
[3741,0,5500,4055,3740,3742,"RCS4-WSA12C-100-12-水平"]
[3742,0,8500,4056,3741,3743,"RCS4-WSA12C-100-12-水平"]
[3743,0,15000,4057,3742,3744,"RCS4-WSA12C-100-12-水平"]
[3744,0,20000,4059,3743,3745,"RCS4-WSA12C-100-12-水平"]
[3745,0,25000,4060,3744,3746,"RCS4-WSA12C-100-12-水平"]
[3746,1,1750,4062,3745,3747,"RCS4-WSA12C-100-12-垂直"]
[3747,1,3000,4063,3746,3748,"RCS4-WSA12C-100-12-垂直"]
[3748,1,4750,4064,3747,3749,"RCS4-WSA12C-100-12-垂直"]
[3749,1,5000,4065,3748,3750,"RCS4-WSA12C-100-12-垂直"]
[3750,1,6000,4066,3749,3751,"RCS4-WSA12C-100-12-垂直"]
[3751,1,8000,4068,3750,-1,"RCS4-WSA12C-100-12-垂直"]
[3752,0,1000,4071,-1,3753,"RCS4-WSA12C-100-20-水平"]
[3753,0,1500,4074,3752,3754,"RCS4-WSA12C-100-20-水平"]
[3754,0,3000,4075,3753,3755,"RCS4-WSA12C-100-20-水平"]
[3755,0,4000,4076,3754,3756,"RCS4-WSA12C-100-20-水平"]
[3756,0,6000,4079,3755,3757,"RCS4-WSA12C-100-20-水平"]
[3757,0,8000,4080,3756,3758,"RCS4-WSA12C-100-20-水平"]
[3758,0,10000,4081,3757,3759,"RCS4-WSA12C-100-20-水平"]
[3759,0,15000,4082,3758,3760,"RCS4-WSA12C-100-20-水平"]
[3760,1,1500,4083,3759,3761,"RCS4-WSA12C-100-20-垂直"]
[3761,1,2000,4087,3760,3762,"RCS4-WSA12C-100-20-垂直"]
[3762,1,3000,4090,3761,-1,"RCS4-WSA12C-100-20-垂直"]
[3763,0,1000,4092,-1,3764,"RCS4-WSA12C-100-30-水平"]
[3764,0,1500,4097,3763,3765,"RCS4-WSA12C-100-30-水平"]
[3765,0,2000,4098,3764,3766,"RCS4-WSA12C-100-30-水平"]
[3766,0,3000,4099,3765,3767,"RCS4-WSA12C-100-30-水平"]
[3767,0,4000,4100,3766,3768,"RCS4-WSA12C-100-30-水平"]
[3768,0,5000,4101,3767,-1,"RCS4-WSA12C-100-30-水平"]
[3769,0,2000,4104,-1,3770,"RCS4-WSA12R-100-3-水平"]
[3770,0,15000,4105,3769,3771,"RCS4-WSA12R-100-3-水平"]
[3771,0,30000,4106,3770,3772,"RCS4-WSA12R-100-3-水平"]
[3772,0,55000,4107,3771,3773,"RCS4-WSA12R-100-3-水平"]
[3773,1,750,4108,3772,3774,"RCS4-WSA12R-100-3-垂直"]
[3774,1,6000,4109,3773,3775,"RCS4-WSA12R-100-3-垂直"]
[3775,1,10000,4110,3774,3776,"RCS4-WSA12R-100-3-垂直"]
[3776,1,15000,4111,3775,-1,"RCS4-WSA12R-100-3-垂直"]
[3777,0,1000,4112,-1,3778,"RCS4-WSA12R-100-6-水平"]
[3778,0,2500,4113,3777,3779,"RCS4-WSA12R-100-6-水平"]
[3779,0,4500,4114,3778,3780,"RCS4-WSA12R-100-6-水平"]
[3780,0,7500,4115,3779,3781,"RCS4-WSA12R-100-6-水平"]
[3781,0,12000,4116,3780,3782,"RCS4-WSA12R-100-6-水平"]
[3782,0,17000,4117,3781,3783,"RCS4-WSA12R-100-6-水平"]
[3783,0,20000,4118,3782,3784,"RCS4-WSA12R-100-6-水平"]
[3784,0,30000,4119,3783,3785,"RCS4-WSA12R-100-6-水平"]
[3785,0,40000,4120,3784,3786,"RCS4-WSA12R-100-6-水平"]
[3786,0,43000,4121,3785,3787,"RCS4-WSA12R-100-6-水平"]
[3787,1,1750,4122,3786,3788,"RCS4-WSA12R-100-6-垂直"]
[3788,1,3000,4123,3787,3789,"RCS4-WSA12R-100-6-垂直"]
[3789,1,4750,4124,3788,3790,"RCS4-WSA12R-100-6-垂直"]
[3790,1,7000,4125,3789,3791,"RCS4-WSA12R-100-6-垂直"]
[3791,1,7500,4126,3790,3792,"RCS4-WSA12R-100-6-垂直"]
[3792,1,10000,4127,3791,3793,"RCS4-WSA12R-100-6-垂直"]
[3793,1,12000,4128,3792,3794,"RCS4-WSA12R-100-6-垂直"]
[3794,1,15000,4129,3793,-1,"RCS4-WSA12R-100-6-垂直"]
[3795,0,1000,4131,-1,3796,"RCS4-WSA12R-100-12-水平"]
[3796,0,2500,4134,3795,3797,"RCS4-WSA12R-100-12-水平"]
[3797,0,4500,4135,3796,3798,"RCS4-WSA12R-100-12-水平"]
[3798,0,5500,4136,3797,3799,"RCS4-WSA12R-100-12-水平"]
[3799,0,8500,4137,3798,3800,"RCS4-WSA12R-100-12-水平"]
[3800,0,14500,4138,3799,3801,"RCS4-WSA12R-100-12-水平"]
[3801,0,15000,4139,3800,3802,"RCS4-WSA12R-100-12-水平"]
[3802,0,16000,4140,3801,3803,"RCS4-WSA12R-100-12-水平"]
[3803,0,23000,4141,3802,3804,"RCS4-WSA12R-100-12-水平"]
[3804,1,1750,4143,3803,3805,"RCS4-WSA12R-100-12-垂直"]
[3805,1,3000,4144,3804,3806,"RCS4-WSA12R-100-12-垂直"]
[3806,1,4750,4145,3805,3807,"RCS4-WSA12R-100-12-垂直"]
[3807,1,6000,4146,3806,3808,"RCS4-WSA12R-100-12-垂直"]
[3808,1,8000,4149,3807,-1,"RCS4-WSA12R-100-12-垂直"]
[3809,0,1000,4152,-1,3810,"RCS4-WSA12R-100-20-水平"]
[3810,0,1500,4155,3809,3811,"RCS4-WSA12R-100-20-水平"]
[3811,0,3000,4156,3810,3812,"RCS4-WSA12R-100-20-水平"]
[3812,0,4000,4157,3811,3813,"RCS4-WSA12R-100-20-水平"]
[3813,0,6000,4160,3812,3814,"RCS4-WSA12R-100-20-水平"]
[3814,0,8000,4161,3813,3815,"RCS4-WSA12R-100-20-水平"]
[3815,0,10000,4162,3814,3816,"RCS4-WSA12R-100-20-水平"]
[3816,0,13000,4163,3815,3817,"RCS4-WSA12R-100-20-水平"]
[3817,1,1500,4164,3816,3818,"RCS4-WSA12R-100-20-垂直"]
[3818,1,2000,4168,3817,3819,"RCS4-WSA12R-100-20-垂直"]
[3819,1,3000,4171,3818,-1,"RCS4-WSA12R-100-20-垂直"]
[3820,0,1000,4173,-1,3821,"RCS4-WSA12R-100-30-水平"]
[3821,0,1500,4178,3820,3822,"RCS4-WSA12R-100-30-水平"]
[3822,0,2000,4179,3821,3823,"RCS4-WSA12R-100-30-水平"]
[3823,0,2500,4180,3822,3824,"RCS4-WSA12R-100-30-水平"]
[3824,0,4000,4181,3823,3825,"RCS4-WSA12R-100-30-水平"]
[3825,0,5000,4182,3824,-1,"RCS4-WSA12R-100-30-水平"]
[3826,0,10000,4185,-1,3827,"RCS4-WSA14C-200-4-水平"]
[3827,0,30000,4186,3826,3828,"RCS4-WSA14C-200-4-水平"]
[3828,0,60000,4187,3827,3829,"RCS4-WSA14C-200-4-水平"]
[3829,0,80000,4188,3828,3830,"RCS4-WSA14C-200-4-水平"]
[3830,1,4500,4189,3829,3831,"RCS4-WSA14C-200-4-垂直"]
[3831,1,12000,4190,3830,3832,"RCS4-WSA14C-200-4-垂直"]
[3832,1,20000,4191,3831,3833,"RCS4-WSA14C-200-4-垂直"]
[3833,1,25000,4192,3832,-1,"RCS4-WSA14C-200-4-垂直"]
[3834,0,1750,4193,-1,3835,"RCS4-WSA14C-200-8-水平"]
[3835,0,3500,4194,3834,3836,"RCS4-WSA14C-200-8-水平"]
[3836,0,6500,4195,3835,3837,"RCS4-WSA14C-200-8-水平"]
[3837,0,9500,4196,3836,3838,"RCS4-WSA14C-200-8-水平"]
[3838,0,17000,4197,3837,3839,"RCS4-WSA14C-200-8-水平"]
[3839,0,24500,4198,3838,3840,"RCS4-WSA14C-200-8-水平"]
[3840,0,29500,4199,3839,3841,"RCS4-WSA14C-200-8-水平"]
[3841,0,40000,4200,3840,3842,"RCS4-WSA14C-200-8-水平"]
[3842,0,50000,4202,3841,3843,"RCS4-WSA14C-200-8-水平"]
[3843,0,65000,4203,3842,3844,"RCS4-WSA14C-200-8-水平"]
[3844,1,4500,4204,3843,3845,"RCS4-WSA14C-200-8-垂直"]
[3845,1,7500,4205,3844,3846,"RCS4-WSA14C-200-8-垂直"]
[3846,1,9000,4206,3845,3847,"RCS4-WSA14C-200-8-垂直"]
[3847,1,10000,4209,3846,-1,"RCS4-WSA14C-200-8-垂直"]
[3848,0,1750,4213,-1,3849,"RCS4-WSA14C-200-16-水平"]
[3849,0,3500,4215,3848,3850,"RCS4-WSA14C-200-16-水平"]
[3850,0,6500,4216,3849,3851,"RCS4-WSA14C-200-16-水平"]
[3851,0,8500,4217,3850,3852,"RCS4-WSA14C-200-16-水平"]
[3852,0,9500,4218,3851,3853,"RCS4-WSA14C-200-16-水平"]
[3853,0,11500,4219,3852,3854,"RCS4-WSA14C-200-16-水平"]
[3854,0,18000,4220,3853,3855,"RCS4-WSA14C-200-16-水平"]
[3855,0,20000,4221,3854,3856,"RCS4-WSA14C-200-16-水平"]
[3856,0,30000,4223,3855,3857,"RCS4-WSA14C-200-16-水平"]
[3857,0,45000,4224,3856,3858,"RCS4-WSA14C-200-16-水平"]
[3858,1,4500,4225,3857,3859,"RCS4-WSA14C-200-16-垂直"]
[3859,1,7500,4228,3858,3860,"RCS4-WSA14C-200-16-垂直"]
[3860,1,8000,4229,3859,-1,"RCS4-WSA14C-200-16-垂直"]
[3861,0,1750,4234,-1,3862,"RCS4-WSA14C-200-24-水平"]
[3862,0,2500,4236,3861,3863,"RCS4-WSA14C-200-24-水平"]
[3863,0,3500,4238,3862,3864,"RCS4-WSA14C-200-24-水平"]
[3864,0,4500,4239,3863,3865,"RCS4-WSA14C-200-24-水平"]
[3865,0,5000,4241,3864,3866,"RCS4-WSA14C-200-24-水平"]
[3866,0,10000,4242,3865,3867,"RCS4-WSA14C-200-24-水平"]
[3867,0,15000,4243,3866,3868,"RCS4-WSA14C-200-24-水平"]
[3868,0,20000,4245,3867,3869,"RCS4-WSA14C-200-24-水平"]
[3869,1,2500,4246,3868,-1,"RCS4-WSA14C-200-24-垂直"]
[3870,0,1000,4255,-1,3871,"RCS4-WSA14C-200-36-水平"]
[3871,0,1500,4259,3870,3872,"RCS4-WSA14C-200-36-水平"]
[3872,0,2000,4260,3871,3873,"RCS4-WSA14C-200-36-水平"]
[3873,0,2500,4261,3872,3874,"RCS4-WSA14C-200-36-水平"]
[3874,0,3000,4262,3873,3875,"RCS4-WSA14C-200-36-水平"]
[3875,0,4000,4263,3874,3876,"RCS4-WSA14C-200-36-水平"]
[3876,0,6000,4264,3875,3877,"RCS4-WSA14C-200-36-水平"]
[3877,0,7000,4266,3876,-1,"RCS4-WSA14C-200-36-水平"]
[3878,0,10000,4267,-1,3879,"RCS4-WSA14R-200-4-水平"]
[3879,0,30000,4268,3878,3880,"RCS4-WSA14R-200-4-水平"]
[3880,0,60000,4269,3879,3881,"RCS4-WSA14R-200-4-水平"]
[3881,0,75000,4270,3880,3882,"RCS4-WSA14R-200-4-水平"]
[3882,1,4500,4271,3881,3883,"RCS4-WSA14R-200-4-垂直"]
[3883,1,12000,4272,3882,3884,"RCS4-WSA14R-200-4-垂直"]
[3884,1,20000,4273,3883,3885,"RCS4-WSA14R-200-4-垂直"]
[3885,1,25000,4274,3884,-1,"RCS4-WSA14R-200-4-垂直"]
[3886,0,1750,4275,-1,3887,"RCS4-WSA14R-200-8-水平"]
[3887,0,3500,4276,3886,3888,"RCS4-WSA14R-200-8-水平"]
[3888,0,6500,4277,3887,3889,"RCS4-WSA14R-200-8-水平"]
[3889,0,9500,4278,3888,3890,"RCS4-WSA14R-200-8-水平"]
[3890,0,17000,4279,3889,3891,"RCS4-WSA14R-200-8-水平"]
[3891,0,24500,4280,3890,3892,"RCS4-WSA14R-200-8-水平"]
[3892,0,29500,4281,3891,3893,"RCS4-WSA14R-200-8-水平"]
[3893,0,40000,4282,3892,3894,"RCS4-WSA14R-200-8-水平"]
[3894,0,50000,4284,3893,3895,"RCS4-WSA14R-200-8-水平"]
[3895,0,65000,4285,3894,3896,"RCS4-WSA14R-200-8-水平"]
[3896,1,4500,4286,3895,3897,"RCS4-WSA14R-200-8-垂直"]
[3897,1,7500,4287,3896,3898,"RCS4-WSA14R-200-8-垂直"]
[3898,1,9000,4288,3897,3899,"RCS4-WSA14R-200-8-垂直"]
[3899,1,10000,4291,3898,-1,"RCS4-WSA14R-200-8-垂直"]
[3900,0,1750,4295,-1,3901,"RCS4-WSA14R-200-16-水平"]
[3901,0,3500,4297,3900,3902,"RCS4-WSA14R-200-16-水平"]
[3902,0,6500,4298,3901,3903,"RCS4-WSA14R-200-16-水平"]
[3903,0,8500,4299,3902,3904,"RCS4-WSA14R-200-16-水平"]
[3904,0,9500,4300,3903,3905,"RCS4-WSA14R-200-16-水平"]
[3905,0,11500,4301,3904,3906,"RCS4-WSA14R-200-16-水平"]
[3906,0,20000,4303,3905,3907,"RCS4-WSA14R-200-16-水平"]
[3907,0,30000,4305,3906,3908,"RCS4-WSA14R-200-16-水平"]
[3908,0,45000,4306,3907,3909,"RCS4-WSA14R-200-16-水平"]
[3909,1,4500,4307,3908,3910,"RCS4-WSA14R-200-16-垂直"]
[3910,1,7500,4310,3909,3911,"RCS4-WSA14R-200-16-垂直"]
[3911,1,8000,4312,3910,-1,"RCS4-WSA14R-200-16-垂直"]
[3912,0,1750,4316,-1,3913,"RCS4-WSA14R-200-24-水平"]
[3913,0,2500,4318,3912,3914,"RCS4-WSA14R-200-24-水平"]
[3914,0,3500,4320,3913,3915,"RCS4-WSA14R-200-24-水平"]
[3915,0,4500,4321,3914,3916,"RCS4-WSA14R-200-24-水平"]
[3916,0,10000,4324,3915,3917,"RCS4-WSA14R-200-24-水平"]
[3917,0,15000,4325,3916,3918,"RCS4-WSA14R-200-24-水平"]
[3918,0,20000,4327,3917,3919,"RCS4-WSA14R-200-24-水平"]
[3919,1,2500,4328,3918,-1,"RCS4-WSA14R-200-24-垂直"]
[3920,0,500,4337,-1,3921,"RCS4-WSA14R-200-36-水平"]
[3921,0,1000,4338,3920,3922,"RCS4-WSA14R-200-36-水平"]
[3922,0,1500,4341,3921,3923,"RCS4-WSA14R-200-36-水平"]
[3923,0,2000,4342,3922,3924,"RCS4-WSA14R-200-36-水平"]
[3924,0,2500,4343,3923,3925,"RCS4-WSA14R-200-36-水平"]
[3925,0,4000,4345,3924,3926,"RCS4-WSA14R-200-36-水平"]
[3926,0,6000,4346,3925,3927,"RCS4-WSA14R-200-36-水平"]
[3927,0,7000,4348,3926,-1,"RCS4-WSA14R-200-36-水平"]
[3928,0,17000,4349,-1,3929,"RCS4-WSA16C-400-5-水平"]
[3929,0,37000,4350,3928,3930,"RCS4-WSA16C-400-5-水平"]
[3930,0,80000,4351,3929,3931,"RCS4-WSA16C-400-5-水平"]
[3931,0,100000,4352,3930,3932,"RCS4-WSA16C-400-5-水平"]
[3932,1,8000,4354,3931,3933,"RCS4-WSA16C-400-5-垂直"]
[3933,1,17000,4355,3932,3934,"RCS4-WSA16C-400-5-垂直"]
[3934,1,30000,4356,3933,3935,"RCS4-WSA16C-400-5-垂直"]
[3935,1,45000,4357,3934,3936,"RCS4-WSA16C-400-5-垂直"]
[3936,1,50000,4358,3935,-1,"RCS4-WSA16C-400-5-垂直"]
[3937,0,4500,4359,-1,3938,"RCS4-WSA16C-400-10-水平"]
[3938,0,8000,4360,3937,3939,"RCS4-WSA16C-400-10-水平"]
[3939,0,12000,4361,3938,3940,"RCS4-WSA16C-400-10-水平"]
[3940,0,18000,4362,3939,3941,"RCS4-WSA16C-400-10-水平"]
[3941,0,26000,4363,3940,3942,"RCS4-WSA16C-400-10-水平"]
[3942,0,37000,4364,3941,3943,"RCS4-WSA16C-400-10-水平"]
[3943,0,54500,4365,3942,3944,"RCS4-WSA16C-400-10-水平"]
[3944,0,57500,4366,3943,3945,"RCS4-WSA16C-400-10-水平"]
[3945,0,60000,4367,3944,3946,"RCS4-WSA16C-400-10-水平"]
[3946,0,70000,4368,3945,3947,"RCS4-WSA16C-400-10-水平"]
[3947,0,80000,4369,3946,3948,"RCS4-WSA16C-400-10-水平"]
[3948,1,13000,4371,3947,3949,"RCS4-WSA16C-400-10-垂直"]
[3949,1,17500,4372,3948,3950,"RCS4-WSA16C-400-10-垂直"]
[3950,1,22500,4373,3949,3951,"RCS4-WSA16C-400-10-垂直"]
[3951,1,24500,4374,3950,3952,"RCS4-WSA16C-400-10-垂直"]
[3952,1,27500,4375,3951,3953,"RCS4-WSA16C-400-10-垂直"]
[3953,1,30000,4376,3952,3954,"RCS4-WSA16C-400-10-垂直"]
[3954,1,35000,4377,3953,-1,"RCS4-WSA16C-400-10-垂直"]
[3955,0,2500,4380,-1,3956,"RCS4-WSA16C-400-20-水平"]
[3956,0,3500,4381,3955,3957,"RCS4-WSA16C-400-20-水平"]
[3957,0,4500,4382,3956,3958,"RCS4-WSA16C-400-20-水平"]
[3958,0,5500,4383,3957,3959,"RCS4-WSA16C-400-20-水平"]
[3959,0,7500,4384,3958,3960,"RCS4-WSA16C-400-20-水平"]
[3960,0,9500,4385,3959,3961,"RCS4-WSA16C-400-20-水平"]
[3961,0,12500,4386,3960,3962,"RCS4-WSA16C-400-20-水平"]
[3962,0,20000,4387,3961,3963,"RCS4-WSA16C-400-20-水平"]
[3963,0,22000,4388,3962,3964,"RCS4-WSA16C-400-20-水平"]
[3964,0,25000,4389,3963,3965,"RCS4-WSA16C-400-20-水平"]
[3965,0,40000,4390,3964,3966,"RCS4-WSA16C-400-20-水平"]
[3966,0,60000,4391,3965,3967,"RCS4-WSA16C-400-20-水平"]
[3967,1,3500,4392,3966,3968,"RCS4-WSA16C-400-20-垂直"]
[3968,1,5500,4393,3967,3969,"RCS4-WSA16C-400-20-垂直"]
[3969,1,7500,4394,3968,3970,"RCS4-WSA16C-400-20-垂直"]
[3970,1,9500,4395,3969,3971,"RCS4-WSA16C-400-20-垂直"]
[3971,1,10000,4396,3970,3972,"RCS4-WSA16C-400-20-垂直"]
[3972,1,12000,4397,3971,3973,"RCS4-WSA16C-400-20-垂直"]
[3973,1,15000,4398,3972,3974,"RCS4-WSA16C-400-20-垂直"]
[3974,1,20000,4400,3973,-1,"RCS4-WSA16C-400-20-垂直"]
[3975,0,2500,4401,-1,3976,"RCS4-WSA16C-400-30-水平"]
[3976,0,3250,4402,3975,3977,"RCS4-WSA16C-400-30-水平"]
[3977,0,3500,4403,3976,3978,"RCS4-WSA16C-400-30-水平"]
[3978,0,5500,4405,3977,3979,"RCS4-WSA16C-400-30-水平"]
[3979,0,7500,4406,3978,3980,"RCS4-WSA16C-400-30-水平"]
[3980,0,8000,4407,3979,3981,"RCS4-WSA16C-400-30-水平"]
[3981,0,10000,4409,3980,3982,"RCS4-WSA16C-400-30-水平"]
[3982,0,20000,4410,3981,3983,"RCS4-WSA16C-400-30-水平"]
[3983,0,25000,4411,3982,3984,"RCS4-WSA16C-400-30-水平"]
[3984,0,30000,4412,3983,3985,"RCS4-WSA16C-400-30-水平"]
[3985,1,2500,4413,3984,3986,"RCS4-WSA16C-400-30-垂直"]
[3986,1,3000,4414,3985,3987,"RCS4-WSA16C-400-30-垂直"]
[3987,1,4500,4415,3986,3988,"RCS4-WSA16C-400-30-垂直"]
[3988,1,5000,4416,3987,3989,"RCS4-WSA16C-400-30-垂直"]
[3989,1,6000,4417,3988,3990,"RCS4-WSA16C-400-30-垂直"]
[3990,1,8000,4418,3989,3991,"RCS4-WSA16C-400-30-垂直"]
[3991,1,12000,4420,3990,-1,"RCS4-WSA16C-400-30-垂直"]
[3992,0,17000,4422,-1,3993,"RCS4-WSA16R-400-5-水平"]
[3993,0,37000,4423,3992,3994,"RCS4-WSA16R-400-5-水平"]
[3994,0,80000,4424,3993,3995,"RCS4-WSA16R-400-5-水平"]
[3995,0,100000,4425,3994,3996,"RCS4-WSA16R-400-5-水平"]
[3996,1,8000,4427,3995,3997,"RCS4-WSA16R-400-5-垂直"]
[3997,1,17000,4428,3996,3998,"RCS4-WSA16R-400-5-垂直"]
[3998,1,30000,4429,3997,3999,"RCS4-WSA16R-400-5-垂直"]
[3999,1,45000,4430,3998,4000,"RCS4-WSA16R-400-5-垂直"]
[4000,1,50000,4431,3999,-1,"RCS4-WSA16R-400-5-垂直"]
[4001,0,4500,4432,-1,4002,"RCS4-WSA16R-400-10-水平"]
[4002,0,8000,4433,4001,4003,"RCS4-WSA16R-400-10-水平"]
[4003,0,12000,4434,4002,4004,"RCS4-WSA16R-400-10-水平"]
[4004,0,18000,4435,4003,4005,"RCS4-WSA16R-400-10-水平"]
[4005,0,26000,4436,4004,4006,"RCS4-WSA16R-400-10-水平"]
[4006,0,37000,4437,4005,4007,"RCS4-WSA16R-400-10-水平"]
[4007,0,54500,4438,4006,4008,"RCS4-WSA16R-400-10-水平"]
[4008,0,57500,4439,4007,4009,"RCS4-WSA16R-400-10-水平"]
[4009,0,60000,4440,4008,4010,"RCS4-WSA16R-400-10-水平"]
[4010,0,70000,4441,4009,4011,"RCS4-WSA16R-400-10-水平"]
[4011,0,80000,4442,4010,4012,"RCS4-WSA16R-400-10-水平"]
[4012,1,13000,4444,4011,4013,"RCS4-WSA16R-400-10-垂直"]
[4013,1,17500,4445,4012,4014,"RCS4-WSA16R-400-10-垂直"]
[4014,1,22500,4446,4013,4015,"RCS4-WSA16R-400-10-垂直"]
[4015,1,24500,4447,4014,4016,"RCS4-WSA16R-400-10-垂直"]
[4016,1,27500,4448,4015,4017,"RCS4-WSA16R-400-10-垂直"]
[4017,1,30000,4449,4016,4018,"RCS4-WSA16R-400-10-垂直"]
[4018,1,35000,4450,4017,-1,"RCS4-WSA16R-400-10-垂直"]
[4019,0,4500,4453,-1,4020,"RCS4-WSA16R-400-20-水平"]
[4020,0,5500,4454,4019,4021,"RCS4-WSA16R-400-20-水平"]
[4021,0,7500,4457,4020,4022,"RCS4-WSA16R-400-20-水平"]
[4022,0,9500,4458,4021,4023,"RCS4-WSA16R-400-20-水平"]
[4023,0,12500,4459,4022,4024,"RCS4-WSA16R-400-20-水平"]
[4024,0,14500,4460,4023,4025,"RCS4-WSA16R-400-20-水平"]
[4025,0,22000,4461,4024,4026,"RCS4-WSA16R-400-20-水平"]
[4026,0,25000,4462,4025,4027,"RCS4-WSA16R-400-20-水平"]
[4027,0,40000,4463,4026,4028,"RCS4-WSA16R-400-20-水平"]
[4028,0,60000,4464,4027,4029,"RCS4-WSA16R-400-20-水平"]
[4029,1,3500,4465,4028,4030,"RCS4-WSA16R-400-20-垂直"]
[4030,1,5500,4466,4029,4031,"RCS4-WSA16R-400-20-垂直"]
[4031,1,7500,4467,4030,4032,"RCS4-WSA16R-400-20-垂直"]
[4032,1,9500,4468,4031,4033,"RCS4-WSA16R-400-20-垂直"]
[4033,1,10000,4469,4032,4034,"RCS4-WSA16R-400-20-垂直"]
[4034,1,12000,4470,4033,4035,"RCS4-WSA16R-400-20-垂直"]
[4035,1,15000,4471,4034,4036,"RCS4-WSA16R-400-20-垂直"]
[4036,1,18000,4473,4035,-1,"RCS4-WSA16R-400-20-垂直"]
[4037,0,3000,4474,-1,4038,"RCS4-WSA16R-400-30-水平"]
[4038,0,3250,4475,4037,4039,"RCS4-WSA16R-400-30-水平"]
[4039,0,3500,4476,4038,4040,"RCS4-WSA16R-400-30-水平"]
[4040,0,5500,4478,4039,4041,"RCS4-WSA16R-400-30-水平"]
[4041,0,7500,4479,4040,4042,"RCS4-WSA16R-400-30-水平"]
[4042,0,8000,4480,4041,4043,"RCS4-WSA16R-400-30-水平"]
[4043,0,10000,4482,4042,4044,"RCS4-WSA16R-400-30-水平"]
[4044,0,20000,4483,4043,4045,"RCS4-WSA16R-400-30-水平"]
[4045,0,25000,4484,4044,4046,"RCS4-WSA16R-400-30-水平"]
[4046,0,30000,4485,4045,4047,"RCS4-WSA16R-400-30-水平"]
[4047,1,2500,4486,4046,4048,"RCS4-WSA16R-400-30-垂直"]
[4048,1,3500,4487,4047,4049,"RCS4-WSA16R-400-30-垂直"]
[4049,1,4500,4488,4048,4050,"RCS4-WSA16R-400-30-垂直"]
[4050,1,5000,4489,4049,4051,"RCS4-WSA16R-400-30-垂直"]
[4051,1,5500,4490,4050,4052,"RCS4-WSA16R-400-30-垂直"]
[4052,1,8000,4491,4051,4053,"RCS4-WSA16R-400-30-垂直"]
[4053,1,12000,4493,4052,-1,"RCS4-WSA16R-400-30-垂直",null,"↑ Ver.3.5 追加"]

{"sheet":"AccVelDataLink","index":6,"n_rows":4497,"n_cols":10,"rows_kept":4497,"cut":false,"hidden":true,"merged":[]}
[{"$f":"LeadData!A1","v":9.8066499999999994},1,2,3,4]
["ﾃﾞｰﾀ№","水平定格加速度","最高速度","前ﾃﾞｰﾀ№","次ﾃﾞｰﾀ№","備考"]
[{"$f":"ModelData!A3","v":0},"0.001mm/s^2","㎜/s","ﾚｺｰﾄﾞ№","ﾚｺｰﾄﾞ№","型式-姿勢","kg","G","mm/s"]
[{"$f":"A3+1","v":1},{"$f":"H4*$A$1*1000*1000","v":4903325},{"$f":"I4","v":240},-1,-1,"ISB-SXM-60-4-水平",30,0.5,240]
[2,3922660,240,-1,-1,"ISB-SXM-60-4-水平",38,0.4,240]
[3,2941995,240,-1,-1,"ISB-SXM-60-4-水平",50,0.3,240]
[4,1961330,240,-1,-1,"ISB-SXM-60-4-水平",55,0.2,240]
[5,980665,240,-1,-1,"ISB-SXM-60-4-水平",77,0.1,240]
[6,3922660,240,-1,-1,"ISB-SXM-60-4-垂直",12,0.4,240]
[7,2941995,240,-1,-1,"ISB-SXM-60-4-垂直",13,0.3,240]
[8,1961330,240,-1,-1,"ISB-SXM-60-4-垂直",14,0.2,240]
[9,9806650,480,-1,-1,"ISB-SXM-60-8-水平",4,1,480]
[10,8825984.9999999981,480,-1,-1,"ISB-SXM-60-8-水平",8,0.9,480]
[11,7845320,480,-1,-1,"ISB-SXM-60-8-水平",10.199999999999999,0.8,480]
[12,6864654.9999999991,480,-1,-1,"ISB-SXM-60-8-水平",12,0.7,480]
[13,5883990,480,-1,-1,"ISB-SXM-60-8-水平",15,0.6,480]
[14,4903325,480,-1,-1,"ISB-SXM-60-8-水平",20,0.5,480]
[15,3922660,480,-1,-1,"ISB-SXM-60-8-水平",27,0.4,480]
[16,2941995,480,-1,-1,"ISB-SXM-60-8-水平",31,0.3,480]
[17,1961330,480,-1,-1,"ISB-SXM-60-8-水平",35,0.2,480]
[18,980665,480,-1,-1,"ISB-SXM-60-8-水平",40.5,0.1,480]
[19,7845320,480,-1,-1,"ISB-SXM-60-8-垂直",2,0.8,480]
[20,6864654.9999999991,480,-1,-1,"ISB-SXM-60-8-垂直",4,0.7,480]
[21,5883990,480,-1,-1,"ISB-SXM-60-8-垂直",5,0.6,480]
[22,4903325,480,-1,-1,"ISB-SXM-60-8-垂直",6,0.5,480]
[23,3922660,480,-1,-1,"ISB-SXM-60-8-垂直",7,0.4,480]
[24,19613300,960,-1,-1,"ISB-SXM-60-16-水平",1.5,2,960]
[25,18632635,960,-1,-1,"ISB-SXM-60-16-水平",1.6,1.9,960]
[26,17651969.999999996,960,-1,-1,"ISB-SXM-60-16-水平",1.8,1.8,960]
[27,16671305,960,-1,-1,"ISB-SXM-60-16-水平",2,1.7,960]
[28,15690640,960,-1,-1,"ISB-SXM-60-16-水平",2.2000000000000002,1.6,960]
[29,14709975,960,-1,-1,"ISB-SXM-60-16-水平",2.5,1.5,960]
[30,13729309.999999998,960,-1,-1,"ISB-SXM-60-16-水平",2.8,1.4,960]
[31,12748645,960,-1,-1,"ISB-SXM-60-16-水平",3.1,1.3,960]
[32,11767980,960,-1,-1,"ISB-SXM-60-16-水平",3.5,1.2,960]
[33,10787314.999999998,960,-1,-1,"ISB-SXM-60-16-水平",4,1.1000000000000001,960]
[34,9806650,960,-1,-1,"ISB-SXM-60-16-水平",4.5,1,960]
[35,8825984.9999999981,960,-1,-1,"ISB-SXM-60-16-水平",5.5,0.9,960]
[36,7845320,960,-1,-1,"ISB-SXM-60-16-水平",6,0.8,960]
[37,6864654.9999999991,960,-1,-1,"ISB-SXM-60-16-水平",7,0.7,960]
[38,5883990,960,-1,-1,"ISB-SXM-60-16-水平",8.5,0.6,960]
[39,4903325,960,-1,-1,"ISB-SXM-60-16-水平",10.5,0.5,960]
[40,3922660,960,-1,-1,"ISB-SXM-60-16-水平",13,0.4,960]
[41,2941995,960,-1,-1,"ISB-SXM-60-16-水平",15,0.3,960]
[42,1961330,960,-1,-1,"ISB-SXM-60-16-水平",16.899999999999999,0.2,960]
[43,980665,960,-1,-1,"ISB-SXM-60-16-水平",19.5,0.1,960]
[44,15690640,960,-1,-1,"ISB-SXM-60-16-垂直",0.5,1.6,960]
[45,14709975,960,-1,-1,"ISB-SXM-60-16-垂直",0.6,1.5,960]
[46,13729309.999999998,960,-1,-1,"ISB-SXM-60-16-垂直",0.8,1.4,960]
[47,12748645,960,-1,-1,"ISB-SXM-60-16-垂直",1,1.3,960]
[48,11767980,960,-1,-1,"ISB-SXM-60-16-垂直",1.2,1.2,960]
[49,10787314.999999998,960,-1,-1,"ISB-SXM-60-16-垂直",1.4,1.1000000000000001,960]
[50,9806650,960,-1,-1,"ISB-SXM-60-16-垂直",1.6,1,960]
[51,8825984.9999999981,960,-1,-1,"ISB-SXM-60-16-垂直",1.8,0.9,960]
[52,7845320,960,-1,-1,"ISB-SXM-60-16-垂直",2,0.8,960]
[53,6864654.9999999991,960,-1,-1,"ISB-SXM-60-16-垂直",2.2999999999999998,0.7,960]
[54,5883990,960,-1,-1,"ISB-SXM-60-16-垂直",2.6,0.6,960]
[55,4903325,960,-1,-1,"ISB-SXM-60-16-垂直",3,0.5,960]
[56,3922660,960,-1,-1,"ISB-SXM-60-16-垂直",3.5,0.4,960]
[57,4903325,300,-1,-1,"ISB-MXM-100-5-水平",45,0.5,300]
[58,3922660,300,-1,-1,"ISB-MXM-100-5-水平",60,0.4,300]
[59,2941995,300,-1,-1,"ISB-MXM-100-5-水平",80,0.3,300]
[60,1961330,300,-1,-1,"ISB-MXM-100-5-水平",85,0.2,300]
[61,980665,300,-1,-1,"ISB-MXM-100-5-水平",119,0.1,300]
[62,3922660,300,-1,-1,"ISB-MXM-100-5-垂直",15,0.4,300]
[63,2941995,300,-1,-1,"ISB-MXM-100-5-垂直",17,0.3,300]
[64,1961330,300,-1,-1,"ISB-MXM-100-5-垂直",20,0.2,300]
[{"$f":"A67+1","v":65},{"$f":"H68*$A$1*1000*1000","v":6864654.9999999991},{"$f":"I68","v":600},-1,-1,"ISB-MXM-100-10-水平",20,0.7,600]
[66,5883990,600,-1,-1,"ISB-MXM-100-10-水平",23,0.6,600]
[67,4903325,600,-1,-1,"ISB-MXM-100-10-水平",30,0.5,600]
[68,3922660,600,-1,-1,"ISB-MXM-100-10-水平",45,0.4,600]
[69,2941995,600,-1,-1,"ISB-MXM-100-10-水平",52,0.3,600]
[70,1961330,600,-1,-1,"ISB-MXM-100-10-水平",58.5,0.2,600]
[71,980665,600,-1,-1,"ISB-MXM-100-10-水平",67.5,0.1,600]
[72,5883990,600,-1,-1,"ISB-MXM-100-10-垂直",7,0.6,600]
[73,4903325,600,-1,-1,"ISB-MXM-100-10-垂直",8,0.5,600]
[74,3922660,600,-1,-1,"ISB-MXM-100-10-垂直",10,0.4,600]
[75,19613300,1200,-1,-1,"ISB-MXM-100-20-水平",0.5,2,1200]
[76,18632635,1200,-1,-1,"ISB-MXM-100-20-水平",1,1.9,1200]
[77,17651969.999999996,1200,-1,-1,"ISB-MXM-100-20-水平",1.5,1.8,1200]
[78,16671305,1200,-1,-1,"ISB-MXM-100-20-水平",2,1.7,1200]
[79,15690640,1200,-1,-1,"ISB-MXM-100-20-水平",2.5,1.6,1200]
[80,14709975,1200,-1,-1,"ISB-MXM-100-20-水平",3,1.5,1200]
[81,13729309.999999998,1200,-1,-1,"ISB-MXM-100-20-水平",4,1.4,1200]
[82,12748645,1200,-1,-1,"ISB-MXM-100-20-水平",5,1.3,1200]
[83,11767980,1200,-1,-1,"ISB-MXM-100-20-水平",6,1.2,1200]
[84,10787314.999999998,1200,-1,-1,"ISB-MXM-100-20-水平",7,1.1000000000000001,1200]
[85,9806650,1200,-1,-1,"ISB-MXM-100-20-水平",8,1,1200]
[86,8825984.9999999981,1200,-1,-1,"ISB-MXM-100-20-水平",9,0.9,1200]
[87,7845320,1200,-1,-1,"ISB-MXM-100-20-水平",11,0.8,1200]
[88,6864654.9999999991,1200,-1,-1,"ISB-MXM-100-20-水平",13,0.7,1200]
[89,5883990,1200,-1,-1,"ISB-MXM-100-20-水平",15,0.6,1200]
[90,4903325,1200,-1,-1,"ISB-MXM-100-20-水平",18,0.5,1200]
[91,3922660,1200,-1,-1,"ISB-MXM-100-20-水平",23,0.4,1200]
[92,2941995,1200,-1,-1,"ISB-MXM-100-20-水平",26.5,0.3,1200]
[93,1961330,1200,-1,-1,"ISB-MXM-100-20-水平",30,0.2,1200]
[94,980665,1200,-1,-1,"ISB-MXM-100-20-水平",34.5,0.1,1200]
[95,19613300,1800,-1,-1,"ISB-MXM-100-30-水平",0.75,2,1800]
[96,18632635,1800,-1,-1,"ISB-MXM-100-30-水平",1,1.9,1800]
[97,17651969.999999996,1800,-1,-1,"ISB-MXM-100-30-水平",1.25,1.8,1800]
[98,16671305,1800,-1,-1,"ISB-MXM-100-30-水平",1.5,1.7,1800]
[99,15690640,1800,-1,-1,"ISB-MXM-100-30-水平",1.75,1.6,1800]
[100,14709975,1800,-1,-1,"ISB-MXM-100-30-水平",2,1.5,1800]
[101,13729309.999999998,1800,-1,-1,"ISB-MXM-100-30-水平",2.25,1.4,1800]
[102,12748645,1800,-1,-1,"ISB-MXM-100-30-水平",2.5,1.3,1800]
[103,11767980,1800,-1,-1,"ISB-MXM-100-30-水平",3,1.2,1800]
[104,10787314.999999998,1800,-1,-1,"ISB-MXM-100-30-水平",3.5,1.1000000000000001,1800]
[105,9806650,1800,-1,-1,"ISB-MXM-100-30-水平",4,1,1800]
[106,8825984.9999999981,1800,-1,-1,"ISB-MXM-100-30-水平",5,0.9,1800]
[107,7845320,1800,-1,-1,"ISB-MXM-100-30-水平",6,0.8,1800]
[108,6864654.9999999991,1800,-1,-1,"ISB-MXM-100-30-水平",7,0.7,1800]
[109,5883990,1800,-1,-1,"ISB-MXM-100-30-水平",9,0.6,1800]
[110,4903325,1800,-1,-1,"ISB-MXM-100-30-水平",11,0.5,1800]
[111,3922660,1800,-1,-1,"ISB-MXM-100-30-水平",15,0.4,1800]
[112,2941995,1800,-1,-1,"ISB-MXM-100-30-水平",17.5,0.3,1800]
[113,1961330,1800,-1,-1,"ISB-MXM-100-30-水平",19.5,0.2,1800]
[114,980665,1800,-1,-1,"ISB-MXM-100-30-水平",22.5,0.1,1800]
[115,4903325,300,-1,-1,"ISB-MXM-200-5-水平",80,0.5,300]
[116,3922660,300,-1,-1,"ISB-MXM-200-5-水平",90,0.4,300]
[117,2941995,300,-1,-1,"ISB-MXM-200-5-水平",100,0.3,300]
[118,1961330,300,-1,-1,"ISB-MXM-200-5-水平",110,0.2,300]
[119,980665,300,-1,-1,"ISB-MXM-200-5-水平",154,0.1,300]
[120,3922660,300,-1,-1,"ISB-MXM-200-5-垂直",30,0.4,300]
[121,2941995,300,-1,-1,"ISB-MXM-200-5-垂直",34,0.3,300]
[122,1961330,300,-1,-1,"ISB-MXM-200-5-垂直",40,0.2,300]
[123,6864654.9999999991,600,-1,-1,"ISB-MXM-200-10-水平",40,0.7,600]
[124,5883990,600,-1,-1,"ISB-MXM-200-10-水平",51,0.6,600]
[125,4903325,600,-1,-1,"ISB-MXM-200-10-水平",66,0.5,600]
[126,3922660,600,-1,-1,"ISB-MXM-200-10-水平",90,0.4,600]
[127,2941995,600,-1,-1,"ISB-MXM-200-10-水平",103.5,0.3,600]
[128,1961330,600,-1,-1,"ISB-MXM-200-10-水平",117,0.2,600]
[{"$f":"A131+1","v":129},{"$f":"H132*$A$1*1000*1000","v":980665},{"$f":"I132","v":600},-1,-1,"ISB-MXM-200-10-水平",135,0.1,600]
[130,5883990,600,-1,-1,"ISB-MXM-200-10-垂直",15,0.6,600]
[131,4903325,600,-1,-1,"ISB-MXM-200-10-垂直",17,0.5,600]
[132,3922660,600,-1,-1,"ISB-MXM-200-10-垂直",20,0.4,600]
[133,19613300,1200,-1,-1,"ISB-MXM-200-20-水平",4,2,1200]
[134,18632635,1200,-1,-1,"ISB-MXM-200-20-水平",5,1.9,1200]
[135,17651969.999999996,1200,-1,-1,"ISB-MXM-200-20-水平",6,1.8,1200]
[136,16671305,1200,-1,-1,"ISB-MXM-200-20-水平",7,1.7,1200]
[137,15690640,1200,-1,-1,"ISB-MXM-200-20-水平",8,1.6,1200]
[138,14709975,1200,-1,-1,"ISB-MXM-200-20-水平",9,1.5,1200]
[139,13729309.999999998,1200,-1,-1,"ISB-MXM-200-20-水平",10,1.4,1200]
[140,12748645,1200,-1,-1,"ISB-MXM-200-20-水平",11,1.3,1200]
[141,11767980,1200,-1,-1,"ISB-MXM-200-20-水平",12,1.2,1200]
[142,10787314.999999998,1200,-1,-1,"ISB-MXM-200-20-水平",13,1.1000000000000001,1200]
[143,9806650,1200,-1,-1,"ISB-MXM-200-20-水平",15,1,1200]
[144,8825984.9999999981,1200,-1,-1,"ISB-MXM-200-20-水平",17,0.9,1200]
[145,7845320,1200,-1,-1,"ISB-MXM-200-20-水平",20,0.8,1200]
[146,6864654.9999999991,1200,-1,-1,"ISB-MXM-200-20-水平",23,0.7,1200]
[147,5883990,1200,-1,-1,"ISB-MXM-200-20-水平",28,0.6,1200]
[148,4903325,1200,-1,-1,"ISB-MXM-200-20-水平",35,0.5,1200]
[149,3922660,1200,-1,-1,"ISB-MXM-200-20-水平",45,0.4,1200]
[150,2941995,1200,-1,-1,"ISB-MXM-200-20-水平",52,0.3,1200]
[151,1961330,1200,-1,-1,"ISB-MXM-200-20-水平",58.5,0.2,1200]
[152,980665,1200,-1,-1,"ISB-MXM-200-20-水平",67.5,0.1,1200]
[153,19613300,1800,-1,-1,"ISB-MXM-200-30-水平",4.5,2,1800]
[154,18632635,1800,-1,-1,"ISB-MXM-200-30-水平",5,1.9,1800]
[155,17651969.999999996,1800,-1,-1,"ISB-MXM-200-30-水平",5.5,1.8,1800]
[156,16671305,1800,-1,-1,"ISB-MXM-200-30-水平",6,1.7,1800]
[157,15690640,1800,-1,-1,"ISB-MXM-200-30-水平",6.5,1.6,1800]
[158,14709975,1800,-1,-1,"ISB-MXM-200-30-水平",7,1.5,1800]
[159,13729309.999999998,1800,-1,-1,"ISB-MXM-200-30-水平",7.5,1.4,1800]
[160,12748645,1800,-1,-1,"ISB-MXM-200-30-水平",8,1.3,1800]
[161,11767980,1800,-1,-1,"ISB-MXM-200-30-水平",9,1.2,1800]
[162,10787314.999999998,1800,-1,-1,"ISB-MXM-200-30-水平",10,1.1000000000000001,1800]
[163,9806650,1800,-1,-1,"ISB-MXM-200-30-水平",12,1,1800]
[164,8825984.9999999981,1800,-1,-1,"ISB-MXM-200-30-水平",13,0.9,1800]
[165,7845320,1800,-1,-1,"ISB-MXM-200-30-水平",15,0.8,1800]
[166,6864654.9999999991,1800,-1,-1,"ISB-MXM-200-30-水平",17,0.7,1800]
[167,5883990,1800,-1,-1,"ISB-MXM-200-30-水平",20,0.6,1800]
[168,4903325,1800,-1,-1,"ISB-MXM-200-30-水平",24,0.5,1800]
[169,3922660,1800,-1,-1,"ISB-MXM-200-30-水平",30,0.4,1800]
[170,2941995,1800,-1,-1,"ISB-MXM-200-30-水平",34.5,0.3,1800]
[171,1961330,1800,-1,-1,"ISB-MXM-200-30-水平",39,0.2,1800]
[172,980665,1800,-1,-1,"ISB-MXM-200-30-水平",45,0.1,1800]
[173,6864654.9999999991,600,-1,-1,"ISB-LXM-200-10-水平",40,0.7,600]
[174,5883990,600,-1,-1,"ISB-LXM-200-10-水平",51,0.6,600]
[175,4903325,600,-1,-1,"ISB-LXM-200-10-水平",66,0.5,600]
[176,3922660,600,-1,-1,"ISB-LXM-200-10-水平",90,0.4,600]
[177,2941995,600,-1,-1,"ISB-LXM-200-10-水平",103.5,0.3,600]
[178,1961330,600,-1,-1,"ISB-LXM-200-10-水平",117,0.2,600]
[179,980665,600,-1,-1,"ISB-LXM-200-10-水平",135,0.1,600]
[180,5883990,600,-1,-1,"ISB-LXM-200-10-垂直",14,0.6,600]
[181,4903325,600,-1,-1,"ISB-LXM-200-10-垂直",16,0.5,600]
[182,3922660,600,-1,-1,"ISB-LXM-200-10-垂直",20,0.4,600]
[183,17651969.999999996,1200,-1,-1,"ISB-LXM-200-20-水平",1.5,1.8,1200]
[184,16671305,1200,-1,-1,"ISB-LXM-200-20-水平",3,1.7,1200]
[185,15690640,1200,-1,-1,"ISB-LXM-200-20-水平",4.5,1.6,1200]
[186,14709975,1200,-1,-1,"ISB-LXM-200-20-水平",6,1.5,1200]
[187,13729309.999999998,1200,-1,-1,"ISB-LXM-200-20-水平",8,1.4,1200]
[188,12748645,1200,-1,-1,"ISB-LXM-200-20-水平",10,1.3,1200]
[189,11767980,1200,-1,-1,"ISB-LXM-200-20-水平",12,1.2,1200]
[190,10787314.999999998,1200,-1,-1,"ISB-LXM-200-20-水平",13,1.1000000000000001,1200]
[191,9806650,1200,-1,-1,"ISB-LXM-200-20-水平",15,1,1200]
[192,8825984.9999999981,1200,-1,-1,"ISB-LXM-200-20-水平",17,0.9,1200]
[{"$f":"A195+1","v":193},{"$f":"H196*$A$1*1000*1000","v":7845320},{"$f":"I196","v":1200},-1,-1,"ISB-LXM-200-20-水平",20,0.8,1200]
[194,6864654.9999999991,1200,-1,-1,"ISB-LXM-200-20-水平",23,0.7,1200]
[195,5883990,1200,-1,-1,"ISB-LXM-200-20-水平",28,0.6,1200]
[196,4903325,1200,-1,-1,"ISB-LXM-200-20-水平",35,0.5,1200]
[197,3922660,1200,-1,-1,"ISB-LXM-200-20-水平",45,0.4,1200]
[198,2941995,1200,-1,-1,"ISB-LXM-200-20-水平",52,0.3,1200]
[199,1961330,1200,-1,-1,"ISB-LXM-200-20-水平",58.5,0.2,1200]
[200,980665,1200,-1,-1,"ISB-LXM-200-20-水平",67.5,0.1,1200]
[201,14709975,1200,-1,-1,"ISB-LXM-200-20-垂直",1.5,1.5,1200]
[202,13729309.999999998,1200,-1,-1,"ISB-LXM-200-20-垂直",2,1.4,1200]
[203,12748645,1200,-1,-1,"ISB-LXM-200-20-垂直",2.5,1.3,1200]
[204,11767980,1200,-1,-1,"ISB-LXM-200-20-垂直",3,1.2,1200]
[205,10787314.999999998,1200,-1,-1,"ISB-LXM-200-20-垂直",4,1.1000000000000001,1200]
[206,9806650,1200,-1,-1,"ISB-LXM-200-20-垂直",5,1,1200]
[207,8825984.9999999981,1200,-1,-1,"ISB-LXM-200-20-垂直",5.5,0.9,1200]
[208,7845320,1200,-1,-1,"ISB-LXM-200-20-垂直",6,0.8,1200]
[209,6864654.9999999991,1200,-1,-1,"ISB-LXM-200-20-垂直",7,0.7,1200]
[210,5883990,1200,-1,-1,"ISB-LXM-200-20-垂直",7.5,0.6,1200]
[211,4903325,1200,-1,-1,"ISB-LXM-200-20-垂直",8.5,0.5,1200]
[212,3922660,1200,-1,-1,"ISB-LXM-200-20-垂直",10,0.4,1200]
[213,19613300,2400,-1,-1,"ISB-LXM-200-40-水平",2,2,2400]
[214,18632635,2400,-1,-1,"ISB-LXM-200-40-水平",2.5,1.9,2400]
[215,17651969.999999996,2400,-1,-1,"ISB-LXM-200-40-水平",3,1.8,2400]
[216,16671305,2400,-1,-1,"ISB-LXM-200-40-水平",3.5,1.7,2400]
[217,15690640,2400,-1,-1,"ISB-LXM-200-40-水平",4,1.6,2400]
[218,14709975,2400,-1,-1,"ISB-LXM-200-40-水平",4.5,1.5,2400]
[219,13729309.999999998,2400,-1,-1,"ISB-LXM-200-40-水平",5,1.4,2400]
[220,12748645,2400,-1,-1,"ISB-LXM-200-40-水平",5.5,1.3,2400]
[221,11767980,2400,-1,-1,"ISB-LXM-200-40-水平",6,1.2,2400]
[222,10787314.999999998,2400,-1,-1,"ISB-LXM-200-40-水平",6.5,1.1000000000000001,2400]
[223,9806650,2400,-1,-1,"ISB-LXM-200-40-水平",7,1,2400]
[224,8825984.9999999981,2400,-1,-1,"ISB-LXM-200-40-水平",7.5,0.9,2400]
[225,7845320,2400,-1,-1,"ISB-LXM-200-40-水平",8,0.8,2400]
[226,6864654.9999999991,2400,-1,-1,"ISB-LXM-200-40-水平",9,0.7,2400]
[227,5883990,2400,-1,-1,"ISB-LXM-200-40-水平",10.5,0.6,2400]
[228,4903325,2400,-1,-1,"ISB-LXM-200-40-水平",12,0.5,2400]
[229,3922660,2400,-1,-1,"ISB-LXM-200-40-水平",15,0.4,2400]
[230,2941995,2400,-1,-1,"ISB-LXM-200-40-水平",17.5,0.3,2400]
[231,1961330,2400,-1,-1,"ISB-LXM-200-40-水平",19.5,0.2,2400]
[232,980665,2400,-1,-1,"ISB-LXM-200-40-水平",22.5,0.1,2400]
[233,6864654.9999999991,600,-1,-1,"ISB-LXM-400-10-水平",60,0.7,600]
[234,5883990,600,-1,-1,"ISB-LXM-400-10-水平",73,0.6,600]
[235,4903325,600,-1,-1,"ISB-LXM-400-10-水平",92,0.5,600]
[236,3922660,600,-1,-1,"ISB-LXM-400-10-水平",120,0.4,600]
[237,2941995,600,-1,-1,"ISB-LXM-400-10-水平",138,0.3,600]
[238,1961330,600,-1,-1,"ISB-LXM-400-10-水平",156,0.2,600]
[239,980665,600,-1,-1,"ISB-LXM-400-10-水平",180,0.1,600]
[240,5883990,600,-1,-1,"ISB-LXM-400-10-垂直",30,0.6,600]
[241,4903325,600,-1,-1,"ISB-LXM-400-10-垂直",34,0.5,600]
[242,3922660,600,-1,-1,"ISB-LXM-400-10-垂直",40,0.4,600]
[243,19613300,1200,-1,-1,"ISB-LXM-400-20-水平",5,2,1200]
[244,18632635,1200,-1,-1,"ISB-LXM-400-20-水平",6,1.9,1200]
[245,17651969.999999996,1200,-1,-1,"ISB-LXM-400-20-水平",7,1.8,1200]
[246,16671305,1200,-1,-1,"ISB-LXM-400-20-水平",9,1.7,1200]
[247,15690640,1200,-1,-1,"ISB-LXM-400-20-水平",12,1.6,1200]
[248,14709975,1200,-1,-1,"ISB-LXM-400-20-水平",15,1.5,1200]
[249,13729309.999999998,1200,-1,-1,"ISB-LXM-400-20-水平",18,1.4,1200]
[250,12748645,1200,-1,-1,"ISB-LXM-400-20-水平",21,1.3,1200]
[251,11767980,1200,-1,-1,"ISB-LXM-400-20-水平",24,1.2,1200]
[252,10787314.999999998,1200,-1,-1,"ISB-LXM-400-20-水平",27,1.1000000000000001,1200]
[253,9806650,1200,-1,-1,"ISB-LXM-400-20-水平",30,1,1200]
[254,8825984.9999999981,1200,-1,-1,"ISB-LXM-400-20-水平",35,0.9,1200]
[255,7845320,1200,-1,-1,"ISB-LXM-400-20-水平",40,0.8,1200]
[256,6864654.9999999991,1200,-1,-1,"ISB-LXM-400-20-水平",47,0.7,1200]
[{"$f":"A259+1","v":257},{"$f":"H260*$A$1*1000*1000","v":5883990},{"$f":"I260","v":1200},-1,-1,"ISB-LXM-400-20-水平",57,0.6,1200]
[258,4903325,1200,-1,-1,"ISB-LXM-400-20-水平",70,0.5,1200]
[259,3922660,1200,-1,-1,"ISB-LXM-400-20-水平",90,0.4,1200]
[260,2941995,1200,-1,-1,"ISB-LXM-400-20-水平",103.5,0.3,1200]
[261,1961330,1200,-1,-1,"ISB-LXM-400-20-水平",117,0.2,1200]
[262,980665,1200,-1,-1,"ISB-LXM-400-20-水平",135,0.1,1200]
[263,14709975,1200,-1,-1,"ISB-LXM-400-20-垂直",5,1.5,1200]
[264,13729309.999999998,1200,-1,-1,"ISB-LXM-400-20-垂直",6,1.4,1200]
[265,12748645,1200,-1,-1,"ISB-LXM-400-20-垂直",7,1.3,1200]
[266,11767980,1200,-1,-1,"ISB-LXM-400-20-垂直",8,1.2,1200]
[267,10787314.999999998,1200,-1,-1,"ISB-LXM-400-20-垂直",9,1.1000000000000001,1200]
[268,9806650,1200,-1,-1,"ISB-LXM-400-20-垂直",10,1,1200]
[269,8825984.9999999981,1200,-1,-1,"ISB-LXM-400-20-垂直",11,0.9,1200]
[270,7845320,1200,-1,-1,"ISB-LXM-400-20-垂直",12,0.8,1200]
[271,6864654.9999999991,1200,-1,-1,"ISB-LXM-400-20-垂直",14,0.7,1200]
[272,5883990,1200,-1,-1,"ISB-LXM-400-20-垂直",15,0.6,1200]
[273,4903325,1200,-1,-1,"ISB-LXM-400-20-垂直",17,0.5,1200]
[274,3922660,1200,-1,-1,"ISB-LXM-400-20-垂直",20,0.4,1200]
[275,19613300,2400,-1,-1,"ISB-LXM-400-40-水平",6.5,2,2400]
[276,18632635,2400,-1,-1,"ISB-LXM-400-40-水平",7,1.9,2400]
[277,17651969.999999996,2400,-1,-1,"ISB-LXM-400-40-水平",8,1.8,2400]
[278,16671305,2400,-1,-1,"ISB-LXM-400-40-水平",9,1.7,2400]
[279,15690640,2400,-1,-1,"ISB-LXM-400-40-水平",10,1.6,2400]
[280,14709975,2400,-1,-1,"ISB-LXM-400-40-水平",11,1.5,2400]
[281,13729309.999999998,2400,-1,-1,"ISB-LXM-400-40-水平",12,1.4,2400]
[282,12748645,2400,-1,-1,"ISB-LXM-400-40-水平",13.5,1.3,2400]
[283,11767980,2400,-1,-1,"ISB-LXM-400-40-水平",15,1.2,2400]
[284,10787314.999999998,2400,-1,-1,"ISB-LXM-400-40-水平",16,1.1000000000000001,2400]
[285,9806650,2400,-1,-1,"ISB-LXM-400-40-水平",17,1,2400]
[286,8825984.9999999981,2400,-1,-1,"ISB-LXM-400-40-水平",19,0.9,2400]
[287,7845320,2400,-1,-1,"ISB-LXM-400-40-水平",21,0.8,2400]
[288,6864654.9999999991,2400,-1,-1,"ISB-LXM-400-40-水平",23,0.7,2400]
[289,5883990,2400,-1,-1,"ISB-LXM-400-40-水平",27,0.6,2400]
[290,4903325,2400,-1,-1,"ISB-LXM-400-40-水平",32,0.5,2400]
[291,3922660,2400,-1,-1,"ISB-LXM-400-40-水平",40,0.4,2400]
[292,2941995,2400,-1,-1,"ISB-LXM-400-40-水平",46,0.3,2400]
[293,1961330,2400,-1,-1,"ISB-LXM-400-40-水平",52,0.2,2400]
[294,980665,2400,-1,-1,"ISB-LXM-400-40-水平",60,0.1,2400]
[295,4903325,240,-1,-1,"ISB-SXL-60-4-水平",30,0.5,240]
[296,3922660,240,-1,-1,"ISB-SXL-60-4-水平",38,0.4,240]
[297,2941995,240,-1,-1,"ISB-SXL-60-4-水平",50,0.3,240]
[298,1961330,240,-1,-1,"ISB-SXL-60-4-水平",55,0.2,240]
[299,980665,240,-1,-1,"ISB-SXL-60-4-水平",77,0.1,240]
[300,3922660,240,-1,-1,"ISB-SXL-60-4-垂直",12,0.4,240]
[301,2941995,240,-1,-1,"ISB-SXL-60-4-垂直",13,0.3,240]
[302,1961330,240,-1,-1,"ISB-SXL-60-4-垂直",14,0.2,240]
[303,9806650,480,-1,-1,"ISB-SXL-60-8-水平",4,1,480]
[304,8825984.9999999981,480,-1,-1,"ISB-SXL-60-8-水平",8,0.9,480]
[305,7845320,480,-1,-1,"ISB-SXL-60-8-水平",10.199999999999999,0.8,480]
[306,6864654.9999999991,480,-1,-1,"ISB-SXL-60-8-水平",12,0.7,480]
[307,5883990,480,-1,-1,"ISB-SXL-60-8-水平",15,0.6,480]
[308,4903325,480,-1,-1,"ISB-SXL-60-8-水平",20,0.5,480]
[309,3922660,480,-1,-1,"ISB-SXL-60-8-水平",27,0.4,480]
[310,2941995,480,-1,-1,"ISB-SXL-60-8-水平",31,0.3,480]
[311,1961330,480,-1,-1,"ISB-SXL-60-8-水平",35,0.2,480]
[312,980665,480,-1,-1,"ISB-SXL-60-8-水平",40.5,0.1,480]
[313,7845320,480,-1,-1,"ISB-SXL-60-8-垂直",2,0.8,480]
[314,6864654.9999999991,480,-1,-1,"ISB-SXL-60-8-垂直",4,0.7,480]
[315,5883990,480,-1,-1,"ISB-SXL-60-8-垂直",5,0.6,480]
[316,4903325,480,-1,-1,"ISB-SXL-60-8-垂直",6,0.5,480]
[317,3922660,480,-1,-1,"ISB-SXL-60-8-垂直",7,0.4,480]
[318,19613300,960,-1,-1,"ISB-SXL-60-16-水平",1.5,2,960]
[319,18632635,960,-1,-1,"ISB-SXL-60-16-水平",1.6,1.9,960]
[320,17651969.999999996,960,-1,-1,"ISB-SXL-60-16-水平",1.8,1.8,960]
[{"$f":"A323+1","v":321},{"$f":"H324*$A$1*1000*1000","v":16671305},{"$f":"I324","v":960},-1,-1,"ISB-SXL-60-16-水平",2,1.7,960]
[322,15690640,960,-1,-1,"ISB-SXL-60-16-水平",2.2000000000000002,1.6,960]
[323,14709975,960,-1,-1,"ISB-SXL-60-16-水平",2.5,1.5,960]
[324,13729309.999999998,960,-1,-1,"ISB-SXL-60-16-水平",2.8,1.4,960]
[325,12748645,960,-1,-1,"ISB-SXL-60-16-水平",3.1,1.3,960]
[326,11767980,960,-1,-1,"ISB-SXL-60-16-水平",3.5,1.2,960]
[327,10787314.999999998,960,-1,-1,"ISB-SXL-60-16-水平",4,1.1000000000000001,960]
[328,9806650,960,-1,-1,"ISB-SXL-60-16-水平",4.5,1,960]
[329,8825984.9999999981,960,-1,-1,"ISB-SXL-60-16-水平",5.5,0.9,960]
[330,7845320,960,-1,-1,"ISB-SXL-60-16-水平",6,0.8,960]
[331,6864654.9999999991,960,-1,-1,"ISB-SXL-60-16-水平",7,0.7,960]
[332,5883990,960,-1,-1,"ISB-SXL-60-16-水平",8.5,0.6,960]
[333,4903325,960,-1,-1,"ISB-SXL-60-16-水平",10.5,0.5,960]
[334,3922660,960,-1,-1,"ISB-SXL-60-16-水平",13,0.4,960]
[335,2941995,960,-1,-1,"ISB-SXL-60-16-水平",15,0.3,960]
[336,1961330,960,-1,-1,"ISB-SXL-60-16-水平",16.899999999999999,0.2,960]
[337,980665,960,-1,-1,"ISB-SXL-60-16-水平",19.5,0.1,960]
[338,15690640,960,-1,-1,"ISB-SXL-60-16-垂直",0.5,1.6,960]
[339,14709975,960,-1,-1,"ISB-SXL-60-16-垂直",0.6,1.5,960]
[340,13729309.999999998,960,-1,-1,"ISB-SXL-60-16-垂直",0.8,1.4,960]
[341,12748645,960,-1,-1,"ISB-SXL-60-16-垂直",1,1.3,960]
[342,11767980,960,-1,-1,"ISB-SXL-60-16-垂直",1.2,1.2,960]
[343,10787314.999999998,960,-1,-1,"ISB-SXL-60-16-垂直",1.4,1.1000000000000001,960]
[344,9806650,960,-1,-1,"ISB-SXL-60-16-垂直",1.6,1,960]
[345,8825984.9999999981,960,-1,-1,"ISB-SXL-60-16-垂直",1.8,0.9,960]
[346,7845320,960,-1,-1,"ISB-SXL-60-16-垂直",2,0.8,960]
[347,6864654.9999999991,960,-1,-1,"ISB-SXL-60-16-垂直",2.2999999999999998,0.7,960]
[348,5883990,960,-1,-1,"ISB-SXL-60-16-垂直",2.6,0.6,960]
[349,4903325,960,-1,-1,"ISB-SXL-60-16-垂直",3,0.5,960]
[350,3922660,960,-1,-1,"ISB-SXL-60-16-垂直",3.5,0.4,960]
[351,4903325,300,-1,-1,"ISB-MXL-100-5-水平",45,0.5,300]
[352,3922660,300,-1,-1,"ISB-MXL-100-5-水平",60,0.4,300]
[353,2941995,300,-1,-1,"ISB-MXL-100-5-水平",80,0.3,300]
[354,1961330,300,-1,-1,"ISB-MXL-100-5-水平",85,0.2,300]
[355,980665,300,-1,-1,"ISB-MXL-100-5-水平",119,0.1,300]
[356,3922660,300,-1,-1,"ISB-MXL-100-5-垂直",15,0.4,300]
[357,2941995,300,-1,-1,"ISB-MXL-100-5-垂直",17,0.3,300]
[358,1961330,300,-1,-1,"ISB-MXL-100-5-垂直",20,0.2,300]
[359,6864654.9999999991,600,-1,-1,"ISB-MXL-100-10-水平",20,0.7,600]
[360,5883990,600,-1,-1,"ISB-MXL-100-10-水平",23,0.6,600]
[361,4903325,600,-1,-1,"ISB-MXL-100-10-水平",30,0.5,600]
[362,3922660,600,-1,-1,"ISB-MXL-100-10-水平",45,0.4,600]
[363,2941995,600,-1,-1,"ISB-MXL-100-10-水平",52,0.3,600]
[364,1961330,600,-1,-1,"ISB-MXL-100-10-水平",58.5,0.2,600]
[365,980665,600,-1,-1,"ISB-MXL-100-10-水平",67.5,0.1,600]
[366,5883990,600,-1,-1,"ISB-MXL-100-10-垂直",7,0.6,600]
[367,4903325,600,-1,-1,"ISB-MXL-100-10-垂直",8,0.5,600]
[368,3922660,600,-1,-1,"ISB-MXL-100-10-垂直",10,0.4,600]
[369,19613300,1200,-1,-1,"ISB-MXL-100-20-水平",0.5,2,1200]
[370,18632635,1200,-1,-1,"ISB-MXL-100-20-水平",1,1.9,1200]
[371,17651969.999999996,1200,-1,-1,"ISB-MXL-100-20-水平",1.5,1.8,1200]
[372,16671305,1200,-1,-1,"ISB-MXL-100-20-水平",2,1.7,1200]
[373,15690640,1200,-1,-1,"ISB-MXL-100-20-水平",2.5,1.6,1200]
[374,14709975,1200,-1,-1,"ISB-MXL-100-20-水平",3,1.5,1200]
[375,13729309.999999998,1200,-1,-1,"ISB-MXL-100-20-水平",4,1.4,1200]
[376,12748645,1200,-1,-1,"ISB-MXL-100-20-水平",5,1.3,1200]
[377,11767980,1200,-1,-1,"ISB-MXL-100-20-水平",6,1.2,1200]
[378,10787314.999999998,1200,-1,-1,"ISB-MXL-100-20-水平",7,1.1000000000000001,1200]
[379,9806650,1200,-1,-1,"ISB-MXL-100-20-水平",8,1,1200]
[380,8825984.9999999981,1200,-1,-1,"ISB-MXL-100-20-水平",9,0.9,1200]
[381,7845320,1200,-1,-1,"ISB-MXL-100-20-水平",11,0.8,1200]
[382,6864654.9999999991,1200,-1,-1,"ISB-MXL-100-20-水平",13,0.7,1200]
[383,5883990,1200,-1,-1,"ISB-MXL-100-20-水平",15,0.6,1200]
[384,4903325,1200,-1,-1,"ISB-MXL-100-20-水平",18,0.5,1200]
[{"$f":"A387+1","v":385},{"$f":"H388*$A$1*1000*1000","v":3922660},{"$f":"I388","v":1200},-1,-1,"ISB-MXL-100-20-水平",23,0.4,1200]
[386,2941995,1200,-1,-1,"ISB-MXL-100-20-水平",26.5,0.3,1200]
[387,1961330,1200,-1,-1,"ISB-MXL-100-20-水平",30,0.2,1200]
[388,980665,1200,-1,-1,"ISB-MXL-100-20-水平",34.5,0.1,1200]
[389,19613300,1800,-1,-1,"ISB-MXL-100-30-水平",0.75,2,1800]
[390,18632635,1800,-1,-1,"ISB-MXL-100-30-水平",1,1.9,1800]
[391,17651969.999999996,1800,-1,-1,"ISB-MXL-100-30-水平",1.25,1.8,1800]
[392,16671305,1800,-1,-1,"ISB-MXL-100-30-水平",1.5,1.7,1800]
[393,15690640,1800,-1,-1,"ISB-MXL-100-30-水平",1.75,1.6,1800]
[394,14709975,1800,-1,-1,"ISB-MXL-100-30-水平",2,1.5,1800]
[395,13729309.999999998,1800,-1,-1,"ISB-MXL-100-30-水平",2.25,1.4,1800]
[396,12748645,1800,-1,-1,"ISB-MXL-100-30-水平",2.5,1.3,1800]
[397,11767980,1800,-1,-1,"ISB-MXL-100-30-水平",3,1.2,1800]
[398,10787314.999999998,1800,-1,-1,"ISB-MXL-100-30-水平",3.5,1.1000000000000001,1800]
[399,9806650,1800,-1,-1,"ISB-MXL-100-30-水平",4,1,1800]
[400,8825984.9999999981,1800,-1,-1,"ISB-MXL-100-30-水平",5,0.9,1800]
[401,7845320,1800,-1,-1,"ISB-MXL-100-30-水平",6,0.8,1800]
[402,6864654.9999999991,1800,-1,-1,"ISB-MXL-100-30-水平",7,0.7,1800]
[403,5883990,1800,-1,-1,"ISB-MXL-100-30-水平",9,0.6,1800]
[404,4903325,1800,-1,-1,"ISB-MXL-100-30-水平",11,0.5,1800]
[405,3922660,1800,-1,-1,"ISB-MXL-100-30-水平",15,0.4,1800]
[406,2941995,1800,-1,-1,"ISB-MXL-100-30-水平",17.5,0.3,1800]
[407,1961330,1800,-1,-1,"ISB-MXL-100-30-水平",19.5,0.2,1800]
[408,980665,1800,-1,-1,"ISB-MXL-100-30-水平",22.5,0.1,1800]
[409,4903325,300,-1,-1,"ISB-MXL-200-5-水平",80,0.5,300]
[410,3922660,300,-1,-1,"ISB-MXL-200-5-水平",90,0.4,300]
[411,2941995,300,-1,-1,"ISB-MXL-200-5-水平",100,0.3,300]
[412,1961330,300,-1,-1,"ISB-MXL-200-5-水平",110,0.2,300]
[413,980665,300,-1,-1,"ISB-MXL-200-5-水平",154,0.1,300]
[414,3922660,300,-1,-1,"ISB-MXL-200-5-垂直",30,0.4,300]
[415,2941995,300,-1,-1,"ISB-MXL-200-5-垂直",34,0.3,300]
[416,1961330,300,-1,-1,"ISB-MXL-200-5-垂直",40,0.2,300]
[417,6864654.9999999991,600,-1,-1,"ISB-MXL-200-10-水平",40,0.7,600]
[418,5883990,600,-1,-1,"ISB-MXL-200-10-水平",51,0.6,600]
[419,4903325,600,-1,-1,"ISB-MXL-200-10-水平",66,0.5,600]
[420,3922660,600,-1,-1,"ISB-MXL-200-10-水平",90,0.4,600]
[421,2941995,600,-1,-1,"ISB-MXL-200-10-水平",103.5,0.3,600]
[422,1961330,600,-1,-1,"ISB-MXL-200-10-水平",117,0.2,600]
[423,980665,600,-1,-1,"ISB-MXL-200-10-水平",135,0.1,600]
[424,5883990,600,-1,-1,"ISB-MXL-200-10-垂直",15,0.6,600]
[425,4903325,600,-1,-1,"ISB-MXL-200-10-垂直",17,0.5,600]
[426,3922660,600,-1,-1,"ISB-MXL-200-10-垂直",20,0.4,600]
[427,19613300,1200,-1,-1,"ISB-MXL-200-20-水平",4,2,1200]
[428,18632635,1200,-1,-1,"ISB-MXL-200-20-水平",5,1.9,1200]
[429,17651969.999999996,1200,-1,-1,"ISB-MXL-200-20-水平",6,1.8,1200]
[430,16671305,1200,-1,-1,"ISB-MXL-200-20-水平",7,1.7,1200]
[431,15690640,1200,-1,-1,"ISB-MXL-200-20-水平",8,1.6,1200]
[432,14709975,1200,-1,-1,"ISB-MXL-200-20-水平",9,1.5,1200]
[433,13729309.999999998,1200,-1,-1,"ISB-MXL-200-20-水平",10,1.4,1200]
[434,12748645,1200,-1,-1,"ISB-MXL-200-20-水平",11,1.3,1200]
[435,11767980,1200,-1,-1,"ISB-MXL-200-20-水平",12,1.2,1200]
[436,10787314.999999998,1200,-1,-1,"ISB-MXL-200-20-水平",13,1.1000000000000001,1200]
[437,9806650,1200,-1,-1,"ISB-MXL-200-20-水平",15,1,1200]
[438,8825984.9999999981,1200,-1,-1,"ISB-MXL-200-20-水平",17,0.9,1200]
[439,7845320,1200,-1,-1,"ISB-MXL-200-20-水平",20,0.8,1200]
[440,6864654.9999999991,1200,-1,-1,"ISB-MXL-200-20-水平",23,0.7,1200]
[441,5883990,1200,-1,-1,"ISB-MXL-200-20-水平",28,0.6,1200]
[442,4903325,1200,-1,-1,"ISB-MXL-200-20-水平",35,0.5,1200]
[443,3922660,1200,-1,-1,"ISB-MXL-200-20-水平",45,0.4,1200]
[444,2941995,1200,-1,-1,"ISB-MXL-200-20-水平",52,0.3,1200]
[445,1961330,1200,-1,-1,"ISB-MXL-200-20-水平",58.5,0.2,1200]
[446,980665,1200,-1,-1,"ISB-MXL-200-20-水平",67.5,0.1,1200]
[447,19613300,1800,-1,-1,"ISB-MXL-200-30-水平",4.5,2,1800]
[448,18632635,1800,-1,-1,"ISB-MXL-200-30-水平",5,1.9,1800]
[{"$f":"A451+1","v":449},{"$f":"H452*$A$1*1000*1000","v":17651969.999999996},{"$f":"I452","v":1800},-1,-1,"ISB-MXL-200-30-水平",5.5,1.8,1800]
[450,16671305,1800,-1,-1,"ISB-MXL-200-30-水平",6,1.7,1800]
[451,15690640,1800,-1,-1,"ISB-MXL-200-30-水平",6.5,1.6,1800]
[452,14709975,1800,-1,-1,"ISB-MXL-200-30-水平",7,1.5,1800]
[453,13729309.999999998,1800,-1,-1,"ISB-MXL-200-30-水平",7.5,1.4,1800]
[454,12748645,1800,-1,-1,"ISB-MXL-200-30-水平",8,1.3,1800]
[455,11767980,1800,-1,-1,"ISB-MXL-200-30-水平",9,1.2,1800]
[456,10787314.999999998,1800,-1,-1,"ISB-MXL-200-30-水平",10,1.1000000000000001,1800]
[457,9806650,1800,-1,-1,"ISB-MXL-200-30-水平",12,1,1800]
[458,8825984.9999999981,1800,-1,-1,"ISB-MXL-200-30-水平",13,0.9,1800]
[459,7845320,1800,-1,-1,"ISB-MXL-200-30-水平",15,0.8,1800]
[460,6864654.9999999991,1800,-1,-1,"ISB-MXL-200-30-水平",17,0.7,1800]
[461,5883990,1800,-1,-1,"ISB-MXL-200-30-水平",20,0.6,1800]
[462,4903325,1800,-1,-1,"ISB-MXL-200-30-水平",24,0.5,1800]
[463,3922660,1800,-1,-1,"ISB-MXL-200-30-水平",30,0.4,1800]
[464,2941995,1800,-1,-1,"ISB-MXL-200-30-水平",34.5,0.3,1800]
[465,1961330,1800,-1,-1,"ISB-MXL-200-30-水平",39,0.2,1800]
[466,980665,1800,-1,-1,"ISB-MXL-200-30-水平",45,0.1,1800]
[467,6864654.9999999991,600,-1,-1,"ISB-LXL-200-10-水平",40,0.7,600]
[468,5883990,600,-1,-1,"ISB-LXL-200-10-水平",51,0.6,600]
[469,4903325,600,-1,-1,"ISB-LXL-200-10-水平",66,0.5,600]
[470,3922660,600,-1,-1,"ISB-LXL-200-10-水平",90,0.4,600]
[471,2941995,600,-1,-1,"ISB-LXL-200-10-水平",103.5,0.3,600]
[472,1961330,600,-1,-1,"ISB-LXL-200-10-水平",117,0.2,600]
[473,980665,600,-1,-1,"ISB-LXL-200-10-水平",135,0.1,600]
[474,5883990,600,-1,-1,"ISB-LXL-200-10-垂直",14,0.6,600]
[475,4903325,600,-1,-1,"ISB-LXL-200-10-垂直",16,0.5,600]
[476,3922660,600,-1,-1,"ISB-LXL-200-10-垂直",20,0.4,600]
[477,17651969.999999996,1200,-1,-1,"ISB-LXL-200-20-水平",1.5,1.8,1200]
[478,16671305,1200,-1,-1,"ISB-LXL-200-20-水平",3,1.7,1200]
[479,15690640,1200,-1,-1,"ISB-LXL-200-20-水平",4.5,1.6,1200]
[480,14709975,1200,-1,-1,"ISB-LXL-200-20-水平",6,1.5,1200]
[481,13729309.999999998,1200,-1,-1,"ISB-LXL-200-20-水平",8,1.4,1200]
[482,12748645,1200,-1,-1,"ISB-LXL-200-20-水平",10,1.3,1200]
[483,11767980,1200,-1,-1,"ISB-LXL-200-20-水平",12,1.2,1200]
[484,10787314.999999998,1200,-1,-1,"ISB-LXL-200-20-水平",13,1.1000000000000001,1200]
[485,9806650,1200,-1,-1,"ISB-LXL-200-20-水平",15,1,1200]
[486,8825984.9999999981,1200,-1,-1,"ISB-LXL-200-20-水平",17,0.9,1200]
[487,7845320,1200,-1,-1,"ISB-LXL-200-20-水平",20,0.8,1200]
[488,6864654.9999999991,1200,-1,-1,"ISB-LXL-200-20-水平",23,0.7,1200]
[489,5883990,1200,-1,-1,"ISB-LXL-200-20-水平",28,0.6,1200]
[490,4903325,1200,-1,-1,"ISB-LXL-200-20-水平",35,0.5,1200]
[491,3922660,1200,-1,-1,"ISB-LXL-200-20-水平",45,0.4,1200]
[492,2941995,1200,-1,-1,"ISB-LXL-200-20-水平",52,0.3,1200]
[493,1961330,1200,-1,-1,"ISB-LXL-200-20-水平",58.5,0.2,1200]
[494,980665,1200,-1,-1,"ISB-LXL-200-20-水平",67.5,0.1,1200]
[495,14709975,1200,-1,-1,"ISB-LXL-200-20-垂直",1.5,1.5,1200]
[496,13729309.999999998,1200,-1,-1,"ISB-LXL-200-20-垂直",2,1.4,1200]
[497,12748645,1200,-1,-1,"ISB-LXL-200-20-垂直",2.5,1.3,1200]
[498,11767980,1200,-1,-1,"ISB-LXL-200-20-垂直",3,1.2,1200]
[499,10787314.999999998,1200,-1,-1,"ISB-LXL-200-20-垂直",4,1.1000000000000001,1200]
[500,9806650,1200,-1,-1,"ISB-LXL-200-20-垂直",5,1,1200]
[501,8825984.9999999981,1200,-1,-1,"ISB-LXL-200-20-垂直",5.5,0.9,1200]
[502,7845320,1200,-1,-1,"ISB-LXL-200-20-垂直",6,0.8,1200]
[503,6864654.9999999991,1200,-1,-1,"ISB-LXL-200-20-垂直",7,0.7,1200]
[504,5883990,1200,-1,-1,"ISB-LXL-200-20-垂直",7.5,0.6,1200]
[505,4903325,1200,-1,-1,"ISB-LXL-200-20-垂直",8.5,0.5,1200]
[506,3922660,1200,-1,-1,"ISB-LXL-200-20-垂直",10,0.4,1200]
[507,19613300,2400,-1,-1,"ISB-LXL-200-40-水平",2,2,2400]
[508,18632635,2400,-1,-1,"ISB-LXL-200-40-水平",2.5,1.9,2400]
[509,17651969.999999996,2400,-1,-1,"ISB-LXL-200-40-水平",3,1.8,2400]
[510,16671305,2400,-1,-1,"ISB-LXL-200-40-水平",3.5,1.7,2400]
[511,15690640,2400,-1,-1,"ISB-LXL-200-40-水平",4,1.6,2400]
[512,14709975,2400,-1,-1,"ISB-LXL-200-40-水平",4.5,1.5,2400]
[{"$f":"A515+1","v":513},{"$f":"H516*$A$1*1000*1000","v":13729309.999999998},{"$f":"I516","v":2400},-1,-1,"ISB-LXL-200-40-水平",5,1.4,2400]
[514,12748645,2400,-1,-1,"ISB-LXL-200-40-水平",5.5,1.3,2400]
[515,11767980,2400,-1,-1,"ISB-LXL-200-40-水平",6,1.2,2400]
[516,10787314.999999998,2400,-1,-1,"ISB-LXL-200-40-水平",6.5,1.1000000000000001,2400]
[517,9806650,2400,-1,-1,"ISB-LXL-200-40-水平",7,1,2400]
[518,8825984.9999999981,2400,-1,-1,"ISB-LXL-200-40-水平",7.5,0.9,2400]
[519,7845320,2400,-1,-1,"ISB-LXL-200-40-水平",8,0.8,2400]
[520,6864654.9999999991,2400,-1,-1,"ISB-LXL-200-40-水平",9,0.7,2400]
[521,5883990,2400,-1,-1,"ISB-LXL-200-40-水平",10.5,0.6,2400]
[522,4903325,2400,-1,-1,"ISB-LXL-200-40-水平",12,0.5,2400]
[523,3922660,2400,-1,-1,"ISB-LXL-200-40-水平",15,0.4,2400]
[524,2941995,2400,-1,-1,"ISB-LXL-200-40-水平",17.5,0.3,2400]
[525,1961330,2400,-1,-1,"ISB-LXL-200-40-水平",19.5,0.2,2400]
[526,980665,2400,-1,-1,"ISB-LXL-200-40-水平",22.5,0.1,2400]
[527,6864654.9999999991,600,-1,-1,"ISB-LXL-400-10-水平",60,0.7,600]
[528,5883990,600,-1,-1,"ISB-LXL-400-10-水平",73,0.6,600]
[529,4903325,600,-1,-1,"ISB-LXL-400-10-水平",92,0.5,600]
[530,3922660,600,-1,-1,"ISB-LXL-400-10-水平",120,0.4,600]
[531,2941995,600,-1,-1,"ISB-LXL-400-10-水平",138,0.3,600]
[532,1961330,600,-1,-1,"ISB-LXL-400-10-水平",156,0.2,600]
[533,980665,600,-1,-1,"ISB-LXL-400-10-水平",180,0.1,600]
[534,5883990,600,-1,-1,"ISB-LXL-400-10-垂直",30,0.6,600]
[535,4903325,600,-1,-1,"ISB-LXL-400-10-垂直",34,0.5,600]
[536,3922660,600,-1,-1,"ISB-LXL-400-10-垂直",40,0.4,600]
[537,19613300,1200,-1,-1,"ISB-LXL-400-20-水平",5,2,1200]
[538,18632635,1200,-1,-1,"ISB-LXL-400-20-水平",6,1.9,1200]
[539,17651969.999999996,1200,-1,-1,"ISB-LXL-400-20-水平",7,1.8,1200]
[540,16671305,1200,-1,-1,"ISB-LXL-400-20-水平",9,1.7,1200]
[541,15690640,1200,-1,-1,"ISB-LXL-400-20-水平",12,1.6,1200]
[542,14709975,1200,-1,-1,"ISB-LXL-400-20-水平",15,1.5,1200]
[543,13729309.999999998,1200,-1,-1,"ISB-LXL-400-20-水平",18,1.4,1200]
[544,12748645,1200,-1,-1,"ISB-LXL-400-20-水平",21,1.3,1200]
[545,11767980,1200,-1,-1,"ISB-LXL-400-20-水平",24,1.2,1200]
[546,10787314.999999998,1200,-1,-1,"ISB-LXL-400-20-水平",27,1.1000000000000001,1200]
[547,9806650,1200,-1,-1,"ISB-LXL-400-20-水平",30,1,1200]
[548,8825984.9999999981,1200,-1,-1,"ISB-LXL-400-20-水平",35,0.9,1200]
[549,7845320,1200,-1,-1,"ISB-LXL-400-20-水平",40,0.8,1200]
[550,6864654.9999999991,1200,-1,-1,"ISB-LXL-400-20-水平",47,0.7,1200]
[551,5883990,1200,-1,-1,"ISB-LXL-400-20-水平",57,0.6,1200]
[552,4903325,1200,-1,-1,"ISB-LXL-400-20-水平",70,0.5,1200]
[553,3922660,1200,-1,-1,"ISB-LXL-400-20-水平",90,0.4,1200]
[554,2941995,1200,-1,-1,"ISB-LXL-400-20-水平",103.5,0.3,1200]
[555,1961330,1200,-1,-1,"ISB-LXL-400-20-水平",117,0.2,1200]
[556,980665,1200,-1,-1,"ISB-LXL-400-20-水平",135,0.1,1200]
[557,14709975,1200,-1,-1,"ISB-LXL-400-20-垂直",5,1.5,1200]
[558,13729309.999999998,1200,-1,-1,"ISB-LXL-400-20-垂直",6,1.4,1200]
[559,12748645,1200,-1,-1,"ISB-LXL-400-20-垂直",7,1.3,1200]
[560,11767980,1200,-1,-1,"ISB-LXL-400-20-垂直",8,1.2,1200]
[561,10787314.999999998,1200,-1,-1,"ISB-LXL-400-20-垂直",9,1.1000000000000001,1200]
[562,9806650,1200,-1,-1,"ISB-LXL-400-20-垂直",10,1,1200]
[563,8825984.9999999981,1200,-1,-1,"ISB-LXL-400-20-垂直",11,0.9,1200]
[564,7845320,1200,-1,-1,"ISB-LXL-400-20-垂直",12,0.8,1200]
[565,6864654.9999999991,1200,-1,-1,"ISB-LXL-400-20-垂直",14,0.7,1200]
[566,5883990,1200,-1,-1,"ISB-LXL-400-20-垂直",15,0.6,1200]
[567,4903325,1200,-1,-1,"ISB-LXL-400-20-垂直",17,0.5,1200]
[568,3922660,1200,-1,-1,"ISB-LXL-400-20-垂直",20,0.4,1200]
[569,19613300,2400,-1,-1,"ISB-LXL-400-40-水平",6.5,2,2400]
[570,18632635,2400,-1,-1,"ISB-LXL-400-40-水平",7,1.9,2400]
[571,17651969.999999996,2400,-1,-1,"ISB-LXL-400-40-水平",8,1.8,2400]
[572,16671305,2400,-1,-1,"ISB-LXL-400-40-水平",9,1.7,2400]
[573,15690640,2400,-1,-1,"ISB-LXL-400-40-水平",10,1.6,2400]
[574,14709975,2400,-1,-1,"ISB-LXL-400-40-水平",11,1.5,2400]
[575,13729309.999999998,2400,-1,-1,"ISB-LXL-400-40-水平",12,1.4,2400]
[576,12748645,2400,-1,-1,"ISB-LXL-400-40-水平",13.5,1.3,2400]
[{"$f":"A579+1","v":577},{"$f":"H580*$A$1*1000*1000","v":11767980},{"$f":"I580","v":2400},-1,-1,"ISB-LXL-400-40-水平",15,1.2,2400]
[578,10787314.999999998,2400,-1,-1,"ISB-LXL-400-40-水平",16,1.1000000000000001,2400]
[579,9806650,2400,-1,-1,"ISB-LXL-400-40-水平",17,1,2400]
[580,8825984.9999999981,2400,-1,-1,"ISB-LXL-400-40-水平",19,0.9,2400]
[581,7845320,2400,-1,-1,"ISB-LXL-400-40-水平",21,0.8,2400]
[582,6864654.9999999991,2400,-1,-1,"ISB-LXL-400-40-水平",23,0.7,2400]
[583,5883990,2400,-1,-1,"ISB-LXL-400-40-水平",27,0.6,2400]
[584,4903325,2400,-1,-1,"ISB-LXL-400-40-水平",32,0.5,2400]
[585,3922660,2400,-1,-1,"ISB-LXL-400-40-水平",40,0.4,2400]
[586,2941995,2400,-1,-1,"ISB-LXL-400-40-水平",46,0.3,2400]
[587,1961330,2400,-1,-1,"ISB-LXL-400-40-水平",52,0.2,2400]
[588,980665,2400,-1,-1,"ISB-LXL-400-40-水平",60,0.1,2400]
[589,4903325,240,-1,-1,"ISDB-S-60-4-水平",30,0.5,240]
[590,3922660,240,-1,-1,"ISDB-S-60-4-水平",38,0.4,240]
[591,2941995,240,-1,-1,"ISDB-S-60-4-水平",50,0.3,240]
[592,1961330,240,-1,-1,"ISDB-S-60-4-水平",55,0.2,240]
[593,980665,240,-1,-1,"ISDB-S-60-4-水平",77,0.1,240]
[594,3922660,240,-1,-1,"ISDB-S-60-4-垂直",12,0.4,240]
[595,2941995,240,-1,-1,"ISDB-S-60-4-垂直",13,0.3,240]
[596,1961330,240,-1,-1,"ISDB-S-60-4-垂直",14,0.2,240]
[597,9806650,480,-1,-1,"ISDB-S-60-8-水平",4,1,480]
[598,8825984.9999999981,480,-1,-1,"ISDB-S-60-8-水平",8,0.9,480]
[599,7845320,480,-1,-1,"ISDB-S-60-8-水平",10.199999999999999,0.8,480]
[600,6864654.9999999991,480,-1,-1,"ISDB-S-60-8-水平",12,0.7,480]
[601,5883990,480,-1,-1,"ISDB-S-60-8-水平",15,0.6,480]
[602,4903325,480,-1,-1,"ISDB-S-60-8-水平",20,0.5,480]
[603,3922660,480,-1,-1,"ISDB-S-60-8-水平",27,0.4,480]
[604,2941995,480,-1,-1,"ISDB-S-60-8-水平",31,0.3,480]
[605,1961330,480,-1,-1,"ISDB-S-60-8-水平",35,0.2,480]
[606,980665,480,-1,-1,"ISDB-S-60-8-水平",40.5,0.1,480]
[607,7845320,480,-1,-1,"ISDB-S-60-8-垂直",2,0.8,480]
[608,6864654.9999999991,480,-1,-1,"ISDB-S-60-8-垂直",4,0.7,480]
[609,5883990,480,-1,-1,"ISDB-S-60-8-垂直",5,0.6,480]
[610,4903325,480,-1,-1,"ISDB-S-60-8-垂直",5.5,0.5,480]
[611,3922660,480,-1,-1,"ISDB-S-60-8-垂直",6,0.4,480]
[612,17651969.999999996,960,-1,-1,"ISDB-S-60-16-水平",1.8,1.8,960]
[613,16671305,960,-1,-1,"ISDB-S-60-16-水平",2,1.7,960]
[614,15690640,960,-1,-1,"ISDB-S-60-16-水平",2.2000000000000002,1.6,960]
[615,14709975,960,-1,-1,"ISDB-S-60-16-水平",2.5,1.5,960]
[616,13729309.999999998,960,-1,-1,"ISDB-S-60-16-水平",2.8,1.4,960]
[617,12748645,960,-1,-1,"ISDB-S-60-16-水平",3.1,1.3,960]
[618,11767980,960,-1,-1,"ISDB-S-60-16-水平",3.5,1.2,960]
[619,10787314.999999998,960,-1,-1,"ISDB-S-60-16-水平",4,1.1000000000000001,960]
[620,9806650,960,-1,-1,"ISDB-S-60-16-水平",4.5,1,960]
[621,8825984.9999999981,960,-1,-1,"ISDB-S-60-16-水平",5.5,0.9,960]
[622,7845320,960,-1,-1,"ISDB-S-60-16-水平",6,0.8,960]
[623,6864654.9999999991,960,-1,-1,"ISDB-S-60-16-水平",7,0.7,960]
[624,5883990,960,-1,-1,"ISDB-S-60-16-水平",8.5,0.6,960]
[625,4903325,960,-1,-1,"ISDB-S-60-16-水平",10.5,0.5,960]
[626,3922660,960,-1,-1,"ISDB-S-60-16-水平",13,0.4,960]
[627,2941995,960,-1,-1,"ISDB-S-60-16-水平",15,0.3,960]
[628,1961330,960,-1,-1,"ISDB-S-60-16-水平",16.899999999999999,0.2,960]
[629,980665,960,-1,-1,"ISDB-S-60-16-水平",19.5,0.1,960]
[630,15690640,960,-1,-1,"ISDB-S-60-16-垂直",0.5,1.6,960]
[631,14709975,960,-1,-1,"ISDB-S-60-16-垂直",0.6,1.5,960]
[632,13729309.999999998,960,-1,-1,"ISDB-S-60-16-垂直",0.8,1.4,960]
[633,12748645,960,-1,-1,"ISDB-S-60-16-垂直",1,1.3,960]
[634,11767980,960,-1,-1,"ISDB-S-60-16-垂直",1.2,1.2,960]
[635,10787314.999999998,960,-1,-1,"ISDB-S-60-16-垂直",1.4,1.1000000000000001,960]
[636,9806650,960,-1,-1,"ISDB-S-60-16-垂直",1.6,1,960]
[637,8825984.9999999981,960,-1,-1,"ISDB-S-60-16-垂直",1.8,0.9,960]
[638,7845320,960,-1,-1,"ISDB-S-60-16-垂直",2,0.8,960]
[639,6864654.9999999991,960,-1,-1,"ISDB-S-60-16-垂直",2.2999999999999998,0.7,960]
[640,5883990,960,-1,-1,"ISDB-S-60-16-垂直",2.5,0.6,960]
[{"$f":"A643+1","v":641},{"$f":"H644*$A$1*1000*1000","v":4903325},{"$f":"I644","v":960},-1,-1,"ISDB-S-60-16-垂直",2.8,0.5,960]
[642,3922660,960,-1,-1,"ISDB-S-60-16-垂直",3,0.4,960]
[643,4903325,300,-1,-1,"ISDB-M-100-5-水平",45,0.5,300]
[644,3922660,300,-1,-1,"ISDB-M-100-5-水平",60,0.4,300]
[645,2941995,300,-1,-1,"ISDB-M-100-5-水平",80,0.3,300]
[646,1961330,300,-1,-1,"ISDB-M-100-5-水平",85,0.2,300]
[647,980665,300,-1,-1,"ISDB-M-100-5-水平",119,0.1,300]
[648,3922660,300,-1,-1,"ISDB-M-100-5-垂直",15,0.4,300]
[649,2941995,300,-1,-1,"ISDB-M-100-5-垂直",17,0.3,300]
[650,1961330,300,-1,-1,"ISDB-M-100-5-垂直",20,0.2,300]
[651,6864654.9999999991,600,-1,-1,"ISDB-M-100-10-水平",20,0.7,600]
[652,5883990,600,-1,-1,"ISDB-M-100-10-水平",23,0.6,600]
[653,4903325,600,-1,-1,"ISDB-M-100-10-水平",30,0.5,600]
[654,3922660,600,-1,-1,"ISDB-M-100-10-水平",45,0.4,600]
[655,2941995,600,-1,-1,"ISDB-M-100-10-水平",52,0.3,600]
[656,1961330,600,-1,-1,"ISDB-M-100-10-水平",58.5,0.2,600]
[657,980665,600,-1,-1,"ISDB-M-100-10-水平",67.5,0.1,600]
[658,5883990,600,-1,-1,"ISDB-M-100-10-垂直",7,0.6,600]
[659,4903325,600,-1,-1,"ISDB-M-100-10-垂直",8,0.5,600]
[660,3922660,600,-1,-1,"ISDB-M-100-10-垂直",10,0.4,600]
[661,17651969.999999996,1200,-1,-1,"ISDB-M-100-20-水平",1.5,1.8,1200]
[662,16671305,1200,-1,-1,"ISDB-M-100-20-水平",2,1.7,1200]
[663,15690640,1200,-1,-1,"ISDB-M-100-20-水平",2.5,1.6,1200]
[664,14709975,1200,-1,-1,"ISDB-M-100-20-水平",3,1.5,1200]
[665,13729309.999999998,1200,-1,-1,"ISDB-M-100-20-水平",4,1.4,1200]
[666,12748645,1200,-1,-1,"ISDB-M-100-20-水平",5,1.3,1200]
[667,11767980,1200,-1,-1,"ISDB-M-100-20-水平",6,1.2,1200]
[668,10787314.999999998,1200,-1,-1,"ISDB-M-100-20-水平",7,1.1000000000000001,1200]
[669,9806650,1200,-1,-1,"ISDB-M-100-20-水平",8,1,1200]
[670,8825984.9999999981,1200,-1,-1,"ISDB-M-100-20-水平",9,0.9,1200]
[671,7845320,1200,-1,-1,"ISDB-M-100-20-水平",11,0.8,1200]
[672,6864654.9999999991,1200,-1,-1,"ISDB-M-100-20-水平",13,0.7,1200]
[673,5883990,1200,-1,-1,"ISDB-M-100-20-水平",15,0.6,1200]
[674,4903325,1200,-1,-1,"ISDB-M-100-20-水平",18,0.5,1200]
[675,3922660,1200,-1,-1,"ISDB-M-100-20-水平",23,0.4,1200]
[676,2941995,1200,-1,-1,"ISDB-M-100-20-水平",26.5,0.3,1200]
[677,1961330,1200,-1,-1,"ISDB-M-100-20-水平",30,0.2,1200]
[678,980665,1200,-1,-1,"ISDB-M-100-20-水平",34.5,0.1,1200]
[679,17651969.999999996,1800,-1,-1,"ISDB-M-100-30-水平",1.25,1.8,1800]
[680,16671305,1800,-1,-1,"ISDB-M-100-30-水平",1.5,1.7,1800]
[681,15690640,1800,-1,-1,"ISDB-M-100-30-水平",1.75,1.6,1800]
[682,14709975,1800,-1,-1,"ISDB-M-100-30-水平",2,1.5,1800]
[683,13729309.999999998,1800,-1,-1,"ISDB-M-100-30-水平",2.25,1.4,1800]
[684,12748645,1800,-1,-1,"ISDB-M-100-30-水平",2.5,1.3,1800]
[685,11767980,1800,-1,-1,"ISDB-M-100-30-水平",3,1.2,1800]
[686,10787314.999999998,1800,-1,-1,"ISDB-M-100-30-水平",3.5,1.1000000000000001,1800]
[687,9806650,1800,-1,-1,"ISDB-M-100-30-水平",4,1,1800]
[688,8825984.9999999981,1800,-1,-1,"ISDB-M-100-30-水平",5,0.9,1800]
[689,7845320,1800,-1,-1,"ISDB-M-100-30-水平",6,0.8,1800]
[690,6864654.9999999991,1800,-1,-1,"ISDB-M-100-30-水平",7,0.7,1800]
[691,5883990,1800,-1,-1,"ISDB-M-100-30-水平",9,0.6,1800]
[692,4903325,1800,-1,-1,"ISDB-M-100-30-水平",11,0.5,1800]
[693,3922660,1800,-1,-1,"ISDB-M-100-30-水平",15,0.4,1800]
[694,2941995,1800,-1,-1,"ISDB-M-100-30-水平",17.5,0.3,1800]
[695,1961330,1800,-1,-1,"ISDB-M-100-30-水平",19.5,0.2,1800]
[696,980665,1800,-1,-1,"ISDB-M-100-30-水平",22.5,0.1,1800]
[697,4903325,300,-1,-1,"ISDB-M-200-5-水平",80,0.5,300]
[698,3922660,300,-1,-1,"ISDB-M-200-5-水平",90,0.4,300]
[699,2941995,300,-1,-1,"ISDB-M-200-5-水平",100,0.3,300]
[700,1961330,300,-1,-1,"ISDB-M-200-5-水平",110,0.2,300]
[701,980665,300,-1,-1,"ISDB-M-200-5-水平",154,0.1,300]
[702,3922660,300,-1,-1,"ISDB-M-200-5-垂直",30,0.4,300]
[703,2941995,300,-1,-1,"ISDB-M-200-5-垂直",34,0.3,300]
[704,1961330,300,-1,-1,"ISDB-M-200-5-垂直",40,0.2,300]
[{"$f":"A707+1","v":705},{"$f":"H708*$A$1*1000*1000","v":6864654.9999999991},{"$f":"I708","v":600},-1,-1,"ISDB-M-200-10-水平",40,0.7,600]
[706,5883990,600,-1,-1,"ISDB-M-200-10-水平",51,0.6,600]
[707,4903325,600,-1,-1,"ISDB-M-200-10-水平",66,0.5,600]
[708,3922660,600,-1,-1,"ISDB-M-200-10-水平",90,0.4,600]
[709,2941995,600,-1,-1,"ISDB-M-200-10-水平",103.5,0.3,600]
[710,1961330,600,-1,-1,"ISDB-M-200-10-水平",117,0.2,600]
[711,980665,600,-1,-1,"ISDB-M-200-10-水平",135,0.1,600]
[712,5883990,600,-1,-1,"ISDB-M-200-10-垂直",15,0.6,600]
[713,4903325,600,-1,-1,"ISDB-M-200-10-垂直",17,0.5,600]
[714,3922660,600,-1,-1,"ISDB-M-200-10-垂直",20,0.4,600]
[715,17651969.999999996,1200,-1,-1,"ISDB-M-200-20-水平",6,1.8,1200]
[716,16671305,1200,-1,-1,"ISDB-M-200-20-水平",7,1.7,1200]
[717,15690640,1200,-1,-1,"ISDB-M-200-20-水平",8,1.6,1200]
[718,14709975,1200,-1,-1,"ISDB-M-200-20-水平",9,1.5,1200]
[719,13729309.999999998,1200,-1,-1,"ISDB-M-200-20-水平",10,1.4,1200]
[720,12748645,1200,-1,-1,"ISDB-M-200-20-水平",11,1.3,1200]
[721,11767980,1200,-1,-1,"ISDB-M-200-20-水平",12,1.2,1200]
[722,10787314.999999998,1200,-1,-1,"ISDB-M-200-20-水平",13,1.1000000000000001,1200]
[723,9806650,1200,-1,-1,"ISDB-M-200-20-水平",16,1,1200]
[724,8825984.9999999981,1200,-1,-1,"ISDB-M-200-20-水平",18,0.9,1200]
[725,7845320,1200,-1,-1,"ISDB-M-200-20-水平",20,0.8,1200]
[726,6864654.9999999991,1200,-1,-1,"ISDB-M-200-20-水平",23,0.7,1200]
[727,5883990,1200,-1,-1,"ISDB-M-200-20-水平",28,0.6,1200]
[728,4903325,1200,-1,-1,"ISDB-M-200-20-水平",35,0.5,1200]
[729,3922660,1200,-1,-1,"ISDB-M-200-20-水平",45,0.4,1200]
[730,2941995,1200,-1,-1,"ISDB-M-200-20-水平",52,0.3,1200]
[731,1961330,1200,-1,-1,"ISDB-M-200-20-水平",58.5,0.2,1200]
[732,980665,1200,-1,-1,"ISDB-M-200-20-水平",67.5,0.1,1200]
[733,17651969.999999996,1800,-1,-1,"ISDB-M-200-30-水平",5.5,1.8,1800]
[734,16671305,1800,-1,-1,"ISDB-M-200-30-水平",6,1.7,1800]
[735,15690640,1800,-1,-1,"ISDB-M-200-30-水平",6.5,1.6,1800]
[736,14709975,1800,-1,-1,"ISDB-M-200-30-水平",7,1.5,1800]
[737,13729309.999999998,1800,-1,-1,"ISDB-M-200-30-水平",7.5,1.4,1800]
[738,12748645,1800,-1,-1,"ISDB-M-200-30-水平",8,1.3,1800]
[739,11767980,1800,-1,-1,"ISDB-M-200-30-水平",9,1.2,1800]
[740,10787314.999999998,1800,-1,-1,"ISDB-M-200-30-水平",10,1.1000000000000001,1800]
[741,9806650,1800,-1,-1,"ISDB-M-200-30-水平",12,1,1800]
[742,8825984.9999999981,1800,-1,-1,"ISDB-M-200-30-水平",13,0.9,1800]
[743,7845320,1800,-1,-1,"ISDB-M-200-30-水平",15,0.8,1800]
[744,6864654.9999999991,1800,-1,-1,"ISDB-M-200-30-水平",17,0.7,1800]
[745,5883990,1800,-1,-1,"ISDB-M-200-30-水平",20,0.6,1800]
[746,4903325,1800,-1,-1,"ISDB-M-200-30-水平",24,0.5,1800]
[747,3922660,1800,-1,-1,"ISDB-M-200-30-水平",30,0.4,1800]
[748,2941995,1800,-1,-1,"ISDB-M-200-30-水平",34.5,0.3,1800]
[749,1961330,1800,-1,-1,"ISDB-M-200-30-水平",39,0.2,1800]
[750,980665,1800,-1,-1,"ISDB-M-200-30-水平",45,0.1,1800]
[751,6864654.9999999991,600,-1,-1,"ISDB-L-200-10-水平",40,0.7,600]
[752,5883990,600,-1,-1,"ISDB-L-200-10-水平",51,0.6,600]
[753,4903325,600,-1,-1,"ISDB-L-200-10-水平",66,0.5,600]
[754,3922660,600,-1,-1,"ISDB-L-200-10-水平",90,0.4,600]
[755,2941995,600,-1,-1,"ISDB-L-200-10-水平",103.5,0.3,600]
[756,1961330,600,-1,-1,"ISDB-L-200-10-水平",117,0.2,600]
[757,980665,600,-1,-1,"ISDB-L-200-10-水平",135,0.1,600]
[758,5883990,600,-1,-1,"ISDB-L-200-10-垂直",14,0.6,600]
[759,4903325,600,-1,-1,"ISDB-L-200-10-垂直",16,0.5,600]
[760,3922660,600,-1,-1,"ISDB-L-200-10-垂直",20,0.4,600]
[761,17651969.999999996,1200,-1,-1,"ISDB-L-200-20-水平",1.5,1.8,1200]
[762,16671305,1200,-1,-1,"ISDB-L-200-20-水平",3,1.7,1200]
[763,15690640,1200,-1,-1,"ISDB-L-200-20-水平",4.5,1.6,1200]
[764,14709975,1200,-1,-1,"ISDB-L-200-20-水平",6,1.5,1200]
[765,13729309.999999998,1200,-1,-1,"ISDB-L-200-20-水平",8,1.4,1200]
[766,12748645,1200,-1,-1,"ISDB-L-200-20-水平",10,1.3,1200]
[767,11767980,1200,-1,-1,"ISDB-L-200-20-水平",12,1.2,1200]
[768,10787314.999999998,1200,-1,-1,"ISDB-L-200-20-水平",13,1.1000000000000001,1200]
[{"$f":"A771+1","v":769},{"$f":"H772*$A$1*1000*1000","v":9806650},{"$f":"I772","v":1200},-1,-1,"ISDB-L-200-20-水平",15,1,1200]
[770,8825984.9999999981,1200,-1,-1,"ISDB-L-200-20-水平",17,0.9,1200]
[771,7845320,1200,-1,-1,"ISDB-L-200-20-水平",20,0.8,1200]
[772,6864654.9999999991,1200,-1,-1,"ISDB-L-200-20-水平",23,0.7,1200]
[773,5883990,1200,-1,-1,"ISDB-L-200-20-水平",28,0.6,1200]
[774,4903325,1200,-1,-1,"ISDB-L-200-20-水平",35,0.5,1200]
[775,3922660,1200,-1,-1,"ISDB-L-200-20-水平",45,0.4,1200]
[776,2941995,1200,-1,-1,"ISDB-L-200-20-水平",52,0.3,1200]
[777,1961330,1200,-1,-1,"ISDB-L-200-20-水平",58.5,0.2,1200]
[778,980665,1200,-1,-1,"ISDB-L-200-20-水平",67.5,0.1,1200]
[779,14709975,1200,-1,-1,"ISDB-L-200-20-垂直",1.5,1.5,1200]
[780,13729309.999999998,1200,-1,-1,"ISDB-L-200-20-垂直",2,1.4,1200]
[781,12748645,1200,-1,-1,"ISDB-L-200-20-垂直",2.5,1.3,1200]
[782,11767980,1200,-1,-1,"ISDB-L-200-20-垂直",3,1.2,1200]
[783,10787314.999999998,1200,-1,-1,"ISDB-L-200-20-垂直",4,1.1000000000000001,1200]
[784,9806650,1200,-1,-1,"ISDB-L-200-20-垂直",5,1,1200]
[785,8825984.9999999981,1200,-1,-1,"ISDB-L-200-20-垂直",5.5,0.9,1200]
[786,7845320,1200,-1,-1,"ISDB-L-200-20-垂直",6,0.8,1200]
[787,6864654.9999999991,1200,-1,-1,"ISDB-L-200-20-垂直",7,0.7,1200]
[788,5883990,1200,-1,-1,"ISDB-L-200-20-垂直",7.5,0.6,1200]
[789,4903325,1200,-1,-1,"ISDB-L-200-20-垂直",8.5,0.5,1200]
[790,3922660,1200,-1,-1,"ISDB-L-200-20-垂直",9,0.4,1200]
[791,17651969.999999996,1800,-1,-1,"ISDB-L-200-40-水平",2.5,1.8,1800]
[792,16671305,1800,-1,-1,"ISDB-L-200-40-水平",3,1.7,1800]
[793,15690640,1800,-1,-1,"ISDB-L-200-40-水平",3.5,1.6,1800]
[794,14709975,1800,-1,-1,"ISDB-L-200-40-水平",4,1.5,1800]
[795,13729309.999999998,1800,-1,-1,"ISDB-L-200-40-水平",5,1.4,1800]
[796,12748645,1800,-1,-1,"ISDB-L-200-40-水平",5.5,1.3,1800]
[797,11767980,1800,-1,-1,"ISDB-L-200-40-水平",6,1.2,1800]
[798,10787314.999999998,1800,-1,-1,"ISDB-L-200-40-水平",6.5,1.1000000000000001,1800]
[799,9806650,1800,-1,-1,"ISDB-L-200-40-水平",7,1,1800]
[800,8825984.9999999981,1800,-1,-1,"ISDB-L-200-40-水平",7.5,0.9,1800]
[801,7845320,1800,-1,-1,"ISDB-L-200-40-水平",8,0.8,1800]
[802,6864654.9999999991,1800,-1,-1,"ISDB-L-200-40-水平",9,0.7,1800]
[803,5883990,1800,-1,-1,"ISDB-L-200-40-水平",10.5,0.6,1800]
[804,4903325,1800,-1,-1,"ISDB-L-200-40-水平",12,0.5,1800]
[805,3922660,1800,-1,-1,"ISDB-L-200-40-水平",15,0.4,1800]
[806,2941995,1800,-1,-1,"ISDB-L-200-40-水平",17.5,0.3,1800]
[807,1961330,1800,-1,-1,"ISDB-L-200-40-水平",19.5,0.2,1800]
[808,980665,1800,-1,-1,"ISDB-L-200-40-水平",22.5,0.1,1800]
[809,6864654.9999999991,600,-1,-1,"ISDB-L-400-10-水平",60,0.7,600]
[810,5883990,600,-1,-1,"ISDB-L-400-10-水平",73,0.6,600]
[811,4903325,600,-1,-1,"ISDB-L-400-10-水平",92,0.5,600]
[812,3922660,600,-1,-1,"ISDB-L-400-10-水平",120,0.4,600]
[813,2941995,600,-1,-1,"ISDB-L-400-10-水平",138,0.3,600]
[814,1961330,600,-1,-1,"ISDB-L-400-10-水平",156,0.2,600]
[815,980665,600,-1,-1,"ISDB-L-400-10-水平",180,0.1,600]
[816,5883990,600,-1,-1,"ISDB-L-400-10-垂直",30,0.6,600]
[817,4903325,600,-1,-1,"ISDB-L-400-10-垂直",35,0.5,600]
[818,3922660,600,-1,-1,"ISDB-L-400-10-垂直",40,0.4,600]
[819,17651969.999999996,1200,-1,-1,"ISDB-L-400-20-水平",7,1.8,1200]
[820,16671305,1200,-1,-1,"ISDB-L-400-20-水平",9,1.7,1200]
[821,15690640,1200,-1,-1,"ISDB-L-400-20-水平",12,1.6,1200]
[822,14709975,1200,-1,-1,"ISDB-L-400-20-水平",15,1.5,1200]
[823,13729309.999999998,1200,-1,-1,"ISDB-L-400-20-水平",18,1.4,1200]
[824,12748645,1200,-1,-1,"ISDB-L-400-20-水平",21,1.3,1200]
[825,11767980,1200,-1,-1,"ISDB-L-400-20-水平",24,1.2,1200]
[826,10787314.999999998,1200,-1,-1,"ISDB-L-400-20-水平",27,1.1000000000000001,1200]
[827,9806650,1200,-1,-1,"ISDB-L-400-20-水平",30,1,1200]
[828,8825984.9999999981,1200,-1,-1,"ISDB-L-400-20-水平",35,0.9,1200]
[829,7845320,1200,-1,-1,"ISDB-L-400-20-水平",40,0.8,1200]
[830,6864654.9999999991,1200,-1,-1,"ISDB-L-400-20-水平",47,0.7,1200]
[831,5883990,1200,-1,-1,"ISDB-L-400-20-水平",57,0.6,1200]
[832,4903325,1200,-1,-1,"ISDB-L-400-20-水平",70,0.5,1200]
[{"$f":"A835+1","v":833},{"$f":"H836*$A$1*1000*1000","v":3922660},{"$f":"I836","v":1200},-1,-1,"ISDB-L-400-20-水平",90,0.4,1200]
[834,2941995,1200,-1,-1,"ISDB-L-400-20-水平",103.5,0.3,1200]
[835,1961330,1200,-1,-1,"ISDB-L-400-20-水平",117,0.2,1200]
[836,980665,1200,-1,-1,"ISDB-L-400-20-水平",135,0.1,1200]
[837,14709975,1200,-1,-1,"ISDB-L-400-20-垂直",5,1.5,1200]
[838,13729309.999999998,1200,-1,-1,"ISDB-L-400-20-垂直",6,1.4,1200]
[839,12748645,1200,-1,-1,"ISDB-L-400-20-垂直",7,1.3,1200]
[840,11767980,1200,-1,-1,"ISDB-L-400-20-垂直",8,1.2,1200]
[841,10787314.999999998,1200,-1,-1,"ISDB-L-400-20-垂直",9,1.1000000000000001,1200]
[842,9806650,1200,-1,-1,"ISDB-L-400-20-垂直",10,1,1200]
[843,8825984.9999999981,1200,-1,-1,"ISDB-L-400-20-垂直",11,0.9,1200]
[844,7845320,1200,-1,-1,"ISDB-L-400-20-垂直",12,0.8,1200]
[845,6864654.9999999991,1200,-1,-1,"ISDB-L-400-20-垂直",14,0.7,1200]
[846,5883990,1200,-1,-1,"ISDB-L-400-20-垂直",15,0.6,1200]
[847,4903325,1200,-1,-1,"ISDB-L-400-20-垂直",17,0.5,1200]
[848,3922660,1200,-1,-1,"ISDB-L-400-20-垂直",20,0.4,1200]
[849,17651969.999999996,1800,-1,-1,"ISDB-L-400-40-水平",7,1.8,1800]
[850,16671305,1800,-1,-1,"ISDB-L-400-40-水平",8,1.7,1800]
[851,15690640,1800,-1,-1,"ISDB-L-400-40-水平",9,1.6,1800]
[852,14709975,1800,-1,-1,"ISDB-L-400-40-水平",10,1.5,1800]
[853,13729309.999999998,1800,-1,-1,"ISDB-L-400-40-水平",11,1.4,1800]
[854,12748645,1800,-1,-1,"ISDB-L-400-40-水平",12,1.3,1800]
[855,11767980,1800,-1,-1,"ISDB-L-400-40-水平",13,1.2,1800]
[856,10787314.999999998,1800,-1,-1,"ISDB-L-400-40-水平",15,1.1000000000000001,1800]
[857,9806650,1800,-1,-1,"ISDB-L-400-40-水平",17,1,1800]
[858,8825984.9999999981,1800,-1,-1,"ISDB-L-400-40-水平",19,0.9,1800]
[859,7845320,1800,-1,-1,"ISDB-L-400-40-水平",21,0.8,1800]
[860,6864654.9999999991,1800,-1,-1,"ISDB-L-400-40-水平",23,0.7,1800]
[861,5883990,1800,-1,-1,"ISDB-L-400-40-水平",27,0.6,1800]
[862,4903325,1800,-1,-1,"ISDB-L-400-40-水平",32,0.5,1800]
[863,3922660,1800,-1,-1,"ISDB-L-400-40-水平",40,0.4,1800]
[864,2941995,1800,-1,-1,"ISDB-L-400-40-水平",46,0.3,1800]
[865,1961330,1800,-1,-1,"ISDB-L-400-40-水平",52,0.2,1800]
[866,980665,1800,-1,-1,"ISDB-L-400-40-水平",60,0.1,1800]
[867,4903325,240,-1,-1,"ISDBCR-S-60-4-水平",30,0.5,240]
[868,3922660,240,-1,-1,"ISDBCR-S-60-4-水平",38,0.4,240]
[869,2941995,240,-1,-1,"ISDBCR-S-60-4-水平",50,0.3,240]
[870,1961330,240,-1,-1,"ISDBCR-S-60-4-水平",55,0.2,240]
[871,980665,240,-1,-1,"ISDBCR-S-60-4-水平",71,0.1,240]
[872,3922660,240,-1,-1,"ISDBCR-S-60-4-垂直",12,0.4,240]
[873,2941995,240,-1,-1,"ISDBCR-S-60-4-垂直",13,0.3,240]
[874,1961330,240,-1,-1,"ISDBCR-S-60-4-垂直",14,0.2,240]
[875,6864654.9999999991,480,-1,-1,"ISDBCR-S-60-8-水平",12,0.7,480]
[876,5883990,480,-1,-1,"ISDBCR-S-60-8-水平",15,0.6,480]
[877,4903325,480,-1,-1,"ISDBCR-S-60-8-水平",20,0.5,480]
[878,3922660,480,-1,-1,"ISDBCR-S-60-8-水平",27,0.4,480]
[879,2941995,480,-1,-1,"ISDBCR-S-60-8-水平",30,0.3,480]
[880,1961330,480,-1,-1,"ISDBCR-S-60-8-水平",32.5,0.2,480]
[881,980665,480,-1,-1,"ISDBCR-S-60-8-水平",35,0.1,480]
[882,5883990,480,-1,-1,"ISDBCR-S-60-8-垂直",5,0.6,480]
[883,4903325,480,-1,-1,"ISDBCR-S-60-8-垂直",5.5,0.5,480]
[884,3922660,480,-1,-1,"ISDBCR-S-60-8-垂直",6,0.4,480]
[885,9806650,960,-1,-1,"ISDBCR-S-60-16-水平",4.5,1,960]
[886,8825984.9999999981,960,-1,-1,"ISDBCR-S-60-16-水平",5.5,0.9,960]
[887,7845320,960,-1,-1,"ISDBCR-S-60-16-水平",6,0.8,960]
[888,6864654.9999999991,960,-1,-1,"ISDBCR-S-60-16-水平",7,0.7,960]
[889,5883990,960,-1,-1,"ISDBCR-S-60-16-水平",8.5,0.6,960]
[890,4903325,960,-1,-1,"ISDBCR-S-60-16-水平",10.5,0.5,960]
[891,3922660,960,-1,-1,"ISDBCR-S-60-16-水平",13,0.4,960]
[892,2941995,960,-1,-1,"ISDBCR-S-60-16-水平",14.5,0.3,960]
[893,1961330,960,-1,-1,"ISDBCR-S-60-16-水平",15.5,0.2,960]
[894,980665,960,-1,-1,"ISDBCR-S-60-16-水平",17,0.1,960]
[895,7845320,960,-1,-1,"ISDBCR-S-60-16-垂直",2,0.8,960]
[896,6864654.9999999991,960,-1,-1,"ISDBCR-S-60-16-垂直",2.2999999999999998,0.7,960]
[{"$f":"A899+1","v":897},{"$f":"H900*$A$1*1000*1000","v":5883990},{"$f":"I900","v":960},-1,-1,"ISDBCR-S-60-16-垂直",2.5,0.6,960]
[898,4903325,960,-1,-1,"ISDBCR-S-60-16-垂直",2.8,0.5,960]
[899,3922660,960,-1,-1,"ISDBCR-S-60-16-垂直",3,0.4,960]
[900,4903325,300,-1,-1,"ISDBCR-M-100-5-水平",45,0.5,300]
[901,3922660,300,-1,-1,"ISDBCR-M-100-5-水平",60,0.4,300]
[902,2941995,300,-1,-1,"ISDBCR-M-100-5-水平",80,0.3,300]
[903,1961330,300,-1,-1,"ISDBCR-M-100-5-水平",85,0.2,300]
[904,980665,300,-1,-1,"ISDBCR-M-100-5-水平",110,0.1,300]
[905,3922660,300,-1,-1,"ISDBCR-M-100-5-垂直",15,0.4,300]
[906,2941995,300,-1,-1,"ISDBCR-M-100-5-垂直",17,0.3,300]
[907,1961330,300,-1,-1,"ISDBCR-M-100-5-垂直",20,0.2,300]
[908,6864654.9999999991,600,-1,-1,"ISDBCR-M-100-10-水平",20,0.7,600]
[909,5883990,600,-1,-1,"ISDBCR-M-100-10-水平",23,0.6,600]
[910,4903325,600,-1,-1,"ISDBCR-M-100-10-水平",30,0.5,600]
[911,3922660,600,-1,-1,"ISDBCR-M-100-10-水平",45,0.4,600]
[912,2941995,600,-1,-1,"ISDBCR-M-100-10-水平",49.5,0.3,600]
[913,1961330,600,-1,-1,"ISDBCR-M-100-10-水平",54,0.2,600]
[914,980665,600,-1,-1,"ISDBCR-M-100-10-水平",58.5,0.1,600]
[915,5883990,600,-1,-1,"ISDBCR-M-100-10-垂直",7,0.6,600]
[916,4903325,600,-1,-1,"ISDBCR-M-100-10-垂直",8,0.5,600]
[917,3922660,600,-1,-1,"ISDBCR-M-100-10-垂直",10,0.4,600]
[918,9806650,1200,-1,-1,"ISDBCR-M-100-20-水平",8,1,1200]
[919,8825984.9999999981,1200,-1,-1,"ISDBCR-M-100-20-水平",9,0.9,1200]
[920,7845320,1200,-1,-1,"ISDBCR-M-100-20-水平",11,0.8,1200]
[921,6864654.9999999991,1200,-1,-1,"ISDBCR-M-100-20-水平",13,0.7,1200]
[922,5883990,1200,-1,-1,"ISDBCR-M-100-20-水平",15,0.6,1200]
[923,4903325,1200,-1,-1,"ISDBCR-M-100-20-水平",18,0.5,1200]
[924,3922660,1200,-1,-1,"ISDBCR-M-100-20-水平",23,0.4,1200]
[925,2941995,1200,-1,-1,"ISDBCR-M-100-20-水平",25,0.3,1200]
[926,1961330,1200,-1,-1,"ISDBCR-M-100-20-水平",27.5,0.2,1200]
[927,980665,1200,-1,-1,"ISDBCR-M-100-20-水平",30,0.1,1200]
[928,9806650,1800,-1,-1,"ISDBCR-M-100-30-水平",4,1,1800]
[929,8825984.9999999981,1800,-1,-1,"ISDBCR-M-100-30-水平",5,0.9,1800]
[930,7845320,1800,-1,-1,"ISDBCR-M-100-30-水平",6,0.8,1800]
[931,6864654.9999999991,1800,-1,-1,"ISDBCR-M-100-30-水平",7,0.7,1800]
[932,5883990,1800,-1,-1,"ISDBCR-M-100-30-水平",9,0.6,1800]
[933,4903325,1800,-1,-1,"ISDBCR-M-100-30-水平",11,0.5,1800]
[934,3922660,1800,-1,-1,"ISDBCR-M-100-30-水平",15,0.4,1800]
[935,2941995,1800,-1,-1,"ISDBCR-M-100-30-水平",16.5,0.3,1800]
[936,1961330,1800,-1,-1,"ISDBCR-M-100-30-水平",18,0.2,1800]
[937,980665,1800,-1,-1,"ISDBCR-M-100-30-水平",19.5,0.1,1800]
[938,4903325,300,-1,-1,"ISDBCR-M-200-5-水平",80,0.5,300]
[939,3922660,300,-1,-1,"ISDBCR-M-200-5-水平",90,0.4,300]
[940,2941995,300,-1,-1,"ISDBCR-M-200-5-水平",100,0.3,300]
[941,1961330,300,-1,-1,"ISDBCR-M-200-5-水平",110,0.2,300]
[942,980665,300,-1,-1,"ISDBCR-M-200-5-水平",143,0.1,300]
[943,3922660,300,-1,-1,"ISDBCR-M-200-5-垂直",30,0.4,300]
[944,2941995,300,-1,-1,"ISDBCR-M-200-5-垂直",34,0.3,300]
[945,1961330,300,-1,-1,"ISDBCR-M-200-5-垂直",40,0.2,300]
[946,6864654.9999999991,600,-1,-1,"ISDBCR-M-200-10-水平",40,0.7,600]
[947,5883990,600,-1,-1,"ISDBCR-M-200-10-水平",51,0.6,600]
[948,4903325,600,-1,-1,"ISDBCR-M-200-10-水平",66,0.5,600]
[949,3922660,600,-1,-1,"ISDBCR-M-200-10-水平",90,0.4,600]
[950,2941995,600,-1,-1,"ISDBCR-M-200-10-水平",99,0.3,600]
[951,1961330,600,-1,-1,"ISDBCR-M-200-10-水平",108,0.2,600]
[952,980665,600,-1,-1,"ISDBCR-M-200-10-水平",117,0.1,600]
[953,5883990,600,-1,-1,"ISDBCR-M-200-10-垂直",15,0.6,600]
[954,4903325,600,-1,-1,"ISDBCR-M-200-10-垂直",17,0.5,600]
[955,3922660,600,-1,-1,"ISDBCR-M-200-10-垂直",20,0.4,600]
[956,9806650,1200,-1,-1,"ISDBCR-M-200-20-水平",16,1,1200]
[957,8825984.9999999981,1200,-1,-1,"ISDBCR-M-200-20-水平",18,0.9,1200]
[958,7845320,1200,-1,-1,"ISDBCR-M-200-20-水平",20,0.8,1200]
[959,6864654.9999999991,1200,-1,-1,"ISDBCR-M-200-20-水平",23,0.7,1200]
[960,5883990,1200,-1,-1,"ISDBCR-M-200-20-水平",28,0.6,1200]
[{"$f":"A963+1","v":961},{"$f":"H964*$A$1*1000*1000","v":4903325},{"$f":"I964","v":1200},-1,-1,"ISDBCR-M-200-20-水平",35,0.5,1200]
[962,3922660,1200,-1,-1,"ISDBCR-M-200-20-水平",45,0.4,1200]
[963,2941995,1200,-1,-1,"ISDBCR-M-200-20-水平",49.5,0.3,1200]
[964,1961330,1200,-1,-1,"ISDBCR-M-200-20-水平",54,0.2,1200]
[965,980665,1200,-1,-1,"ISDBCR-M-200-20-水平",58.5,0.1,1200]
[966,9806650,1800,-1,-1,"ISDBCR-M-200-30-水平",12,1,1800]
[967,8825984.9999999981,1800,-1,-1,"ISDBCR-M-200-30-水平",13,0.9,1800]
[968,7845320,1800,-1,-1,"ISDBCR-M-200-30-水平",15,0.8,1800]
[969,6864654.9999999991,1800,-1,-1,"ISDBCR-M-200-30-水平",17,0.7,1800]
[970,5883990,1800,-1,-1,"ISDBCR-M-200-30-水平",20,0.6,1800]
[971,4903325,1800,-1,-1,"ISDBCR-M-200-30-水平",24,0.5,1800]
[972,3922660,1800,-1,-1,"ISDBCR-M-200-30-水平",30,0.4,1800]
[973,2941995,1800,-1,-1,"ISDBCR-M-200-30-水平",33,0.3,1800]
[974,1961330,1800,-1,-1,"ISDBCR-M-200-30-水平",36,0.2,1800]
[975,980665,1800,-1,-1,"ISDBCR-M-200-30-水平",39,0.1,1800]
[976,6864654.9999999991,600,-1,-1,"ISDBCR-L-200-10-水平",40,0.7,600]
[977,5883990,600,-1,-1,"ISDBCR-L-200-10-水平",51,0.6,600]
[978,4903325,600,-1,-1,"ISDBCR-L-200-10-水平",66,0.5,600]
[979,3922660,600,-1,-1,"ISDBCR-L-200-10-水平",90,0.4,600]
[980,2941995,600,-1,-1,"ISDBCR-L-200-10-水平",99,0.3,600]
[981,1961330,600,-1,-1,"ISDBCR-L-200-10-水平",108,0.2,600]
[982,980665,600,-1,-1,"ISDBCR-L-200-10-水平",117,0.1,600]
[983,5883990,600,-1,-1,"ISDBCR-L-200-10-垂直",14,0.6,600]
[984,4903325,600,-1,-1,"ISDBCR-L-200-10-垂直",16,0.5,600]
[985,3922660,600,-1,-1,"ISDBCR-L-200-10-垂直",20,0.4,600]
[986,9806650,1200,-1,-1,"ISDBCR-L-200-20-水平",15,1,1200]
[987,8825984.9999999981,1200,-1,-1,"ISDBCR-L-200-20-水平",17,0.9,1200]
[988,7845320,1200,-1,-1,"ISDBCR-L-200-20-水平",20,0.8,1200]
[989,6864654.9999999991,1200,-1,-1,"ISDBCR-L-200-20-水平",23,0.7,1200]
[990,5883990,1200,-1,-1,"ISDBCR-L-200-20-水平",28,0.6,1200]
[991,4903325,1200,-1,-1,"ISDBCR-L-200-20-水平",35,0.5,1200]
[992,3922660,1200,-1,-1,"ISDBCR-L-200-20-水平",45,0.4,1200]
[993,2941995,1200,-1,-1,"ISDBCR-L-200-20-水平",49.5,0.3,1200]
[994,1961330,1200,-1,-1,"ISDBCR-L-200-20-水平",54,0.2,1200]
[995,980665,1200,-1,-1,"ISDBCR-L-200-20-水平",58.5,0.1,1200]
[996,9806650,1200,-1,-1,"ISDBCR-L-200-20-垂直",5,1,1200]
[997,8825984.9999999981,1200,-1,-1,"ISDBCR-L-200-20-垂直",5.5,0.9,1200]
[998,7845320,1200,-1,-1,"ISDBCR-L-200-20-垂直",6,0.8,1200]
[999,6864654.9999999991,1200,-1,-1,"ISDBCR-L-200-20-垂直",7,0.7,1200]
[1000,5883990,1200,-1,-1,"ISDBCR-L-200-20-垂直",7.5,0.6,1200]
[1001,4903325,1200,-1,-1,"ISDBCR-L-200-20-垂直",8.5,0.5,1200]
[1002,3922660,1200,-1,-1,"ISDBCR-L-200-20-垂直",9,0.4,1200]
[1003,9806650,1800,-1,-1,"ISDBCR-L-200-40-水平",7,1,1800]
[1004,8825984.9999999981,1800,-1,-1,"ISDBCR-L-200-40-水平",7.5,0.9,1800]
[1005,7845320,1800,-1,-1,"ISDBCR-L-200-40-水平",8,0.8,1800]
[1006,6864654.9999999991,1800,-1,-1,"ISDBCR-L-200-40-水平",9,0.7,1800]
[1007,5883990,1800,-1,-1,"ISDBCR-L-200-40-水平",10.5,0.6,1800]
[1008,4903325,1800,-1,-1,"ISDBCR-L-200-40-水平",12,0.5,1800]
[1009,3922660,1800,-1,-1,"ISDBCR-L-200-40-水平",15,0.4,1800]
[1010,2941995,1800,-1,-1,"ISDBCR-L-200-40-水平",16.5,0.3,1800]
[1011,1961330,1800,-1,-1,"ISDBCR-L-200-40-水平",18,0.2,1800]
[1012,980665,1800,-1,-1,"ISDBCR-L-200-40-水平",19.5,0.1,1800]
[1013,6864654.9999999991,600,-1,-1,"ISDBCR-L-400-10-水平",60,0.7,600]
[1014,5883990,600,-1,-1,"ISDBCR-L-400-10-水平",73,0.6,600]
[1015,4903325,600,-1,-1,"ISDBCR-L-400-10-水平",92,0.5,600]
[1016,3922660,600,-1,-1,"ISDBCR-L-400-10-水平",120,0.4,600]
[1017,2941995,600,-1,-1,"ISDBCR-L-400-10-水平",132,0.3,600]
[1018,1961330,600,-1,-1,"ISDBCR-L-400-10-水平",144,0.2,600]
[1019,980665,600,-1,-1,"ISDBCR-L-400-10-水平",156,0.1,600]
[1020,5883990,600,-1,-1,"ISDBCR-L-400-10-垂直",30,0.6,600]
[1021,4903325,600,-1,-1,"ISDBCR-L-400-10-垂直",35,0.5,600]
[1022,3922660,600,-1,-1,"ISDBCR-L-400-10-垂直",40,0.4,600]
[1023,9806650,1200,-1,-1,"ISDBCR-L-400-20-水平",30,1,1200]
[1024,8825984.9999999981,1200,-1,-1,"ISDBCR-L-400-20-水平",35,0.9,1200]
[{"$f":"A1027+1","v":1025},{"$f":"H1028*$A$1*1000*1000","v":7845320},{"$f":"I1028","v":1200},-1,-1,"ISDBCR-L-400-20-水平",40,0.8,1200]
[1026,6864654.9999999991,1200,-1,-1,"ISDBCR-L-400-20-水平",47,0.7,1200]
[1027,5883990,1200,-1,-1,"ISDBCR-L-400-20-水平",57,0.6,1200]
[1028,4903325,1200,-1,-1,"ISDBCR-L-400-20-水平",70,0.5,1200]
[1029,3922660,1200,-1,-1,"ISDBCR-L-400-20-水平",90,0.4,1200]
[1030,2941995,1200,-1,-1,"ISDBCR-L-400-20-水平",99,0.3,1200]
[1031,1961330,1200,-1,-1,"ISDBCR-L-400-20-水平",108,0.2,1200]
[1032,980665,1200,-1,-1,"ISDBCR-L-400-20-水平",117,0.1,1200]
[1033,9806650,1200,-1,-1,"ISDBCR-L-400-20-垂直",10,1,1200]
[1034,8825984.9999999981,1200,-1,-1,"ISDBCR-L-400-20-垂直",11,0.9,1200]
[1035,7845320,1200,-1,-1,"ISDBCR-L-400-20-垂直",12,0.8,1200]
[1036,6864654.9999999991,1200,-1,-1,"ISDBCR-L-400-20-垂直",14,0.7,1200]
[1037,5883990,1200,-1,-1,"ISDBCR-L-400-20-垂直",15,0.6,1200]
[1038,4903325,1200,-1,-1,"ISDBCR-L-400-20-垂直",17,0.5,1200]
[1039,3922660,1200,-1,-1,"ISDBCR-L-400-20-垂直",20,0.4,1200]
[1040,9806650,1800,-1,-1,"ISDBCR-L-400-40-水平",17,1,1800]
[1041,8825984.9999999981,1800,-1,-1,"ISDBCR-L-400-40-水平",19,0.9,1800]
[1042,7845320,1800,-1,-1,"ISDBCR-L-400-40-水平",21,0.8,1800]
[1043,6864654.9999999991,1800,-1,-1,"ISDBCR-L-400-40-水平",23,0.7,1800]
[1044,5883990,1800,-1,-1,"ISDBCR-L-400-40-水平",27,0.6,1800]
[1045,4903325,1800,-1,-1,"ISDBCR-L-400-40-水平",32,0.5,1800]
[1046,3922660,1800,-1,-1,"ISDBCR-L-400-40-水平",40,0.4,1800]
[1047,2941995,1800,-1,-1,"ISDBCR-L-400-40-水平",44,0.3,1800]
[1048,1961330,1800,-1,-1,"ISDBCR-L-400-40-水平",48,0.2,1800]
[1049,980665,1800,-1,-1,"ISDBCR-L-400-40-水平",52,0.1,1800]
[1050,6864654.9999999991,600,-1,-1,"SSPA-SXM-200-10-水平",50,0.7,600]
[1051,5883990,600,-1,-1,"SSPA-SXM-200-10-水平",60,0.6,600]
[1052,4903325,600,-1,-1,"SSPA-SXM-200-10-水平",72,0.5,600]
[1053,3922660,600,-1,-1,"SSPA-SXM-200-10-水平",90,0.4,600]
[1054,2941995,600,-1,-1,"SSPA-SXM-200-10-水平",103,0.3,600]
[1055,1961330,600,-1,-1,"SSPA-SXM-200-10-水平",117,0.2,600]
[1056,980665,600,-1,-1,"SSPA-SXM-200-10-水平",135,0.1,600]
[1057,19613300,1200,-1,-1,"SSPA-SXM-200-20-水平",7.5,2,1200]
[1058,18632635,1200,-1,-1,"SSPA-SXM-200-20-水平",8,1.9,1200]
[1059,17651969.999999996,1200,-1,-1,"SSPA-SXM-200-20-水平",8.5,1.8,1200]
[1060,16671305,1200,-1,-1,"SSPA-SXM-200-20-水平",9,1.7,1200]
[1061,15690640,1200,-1,-1,"SSPA-SXM-200-20-水平",9.5,1.6,1200]
[1062,14709975,1200,-1,-1,"SSPA-SXM-200-20-水平",10.5,1.5,1200]
[1063,13729309.999999998,1200,-1,-1,"SSPA-SXM-200-20-水平",11.5,1.4,1200]
[1064,12748645,1200,-1,-1,"SSPA-SXM-200-20-水平",12.5,1.3,1200]
[1065,11767980,1200,-1,-1,"SSPA-SXM-200-20-水平",14,1.2,1200]
[1066,10787314.999999998,1200,-1,-1,"SSPA-SXM-200-20-水平",15.5,1.1000000000000001,1200]
[1067,9806650,1200,-1,-1,"SSPA-SXM-200-20-水平",17,1,1200]
[1068,8825984.9999999981,1200,-1,-1,"SSPA-SXM-200-20-水平",19.5,0.9,1200]
[1069,7845320,1200,-1,-1,"SSPA-SXM-200-20-水平",22.5,0.8,1200]
[1070,6864654.9999999991,1200,-1,-1,"SSPA-SXM-200-20-水平",26,0.7,1200]
[1071,5883990,1200,-1,-1,"SSPA-SXM-200-20-水平",30,0.6,1200]
[1072,4903325,1200,-1,-1,"SSPA-SXM-200-20-水平",36,0.5,1200]
[1073,3922660,1200,-1,-1,"SSPA-SXM-200-20-水平",45,0.4,1200]
[1074,2941995,1200,-1,-1,"SSPA-SXM-200-20-水平",52,0.3,1200]
[1075,1961330,1200,-1,-1,"SSPA-SXM-200-20-水平",58.5,0.2,1200]
[1076,980665,1200,-1,-1,"SSPA-SXM-200-20-水平",67.5,0.1,1200]
[1077,19613300,1800,-1,-1,"SSPA-SXM-200-30-水平",4.5,2,1800]
[1078,18632635,1800,-1,-1,"SSPA-SXM-200-30-水平",5,1.9,1800]
[1079,17651969.999999996,1800,-1,-1,"SSPA-SXM-200-30-水平",5.5,1.8,1800]
[1080,16671305,1800,-1,-1,"SSPA-SXM-200-30-水平",6,1.7,1800]
[1081,15690640,1800,-1,-1,"SSPA-SXM-200-30-水平",6.5,1.6,1800]
[1082,14709975,1800,-1,-1,"SSPA-SXM-200-30-水平",7,1.5,1800]
[1083,13729309.999999998,1800,-1,-1,"SSPA-SXM-200-30-水平",8,1.4,1800]
[1084,12748645,1800,-1,-1,"SSPA-SXM-200-30-水平",9,1.3,1800]
[1085,11767980,1800,-1,-1,"SSPA-SXM-200-30-水平",10,1.2,1800]
[1086,10787314.999999998,1800,-1,-1,"SSPA-SXM-200-30-水平",11,1.1000000000000001,1800]
[1087,9806650,1800,-1,-1,"SSPA-SXM-200-30-水平",12,1,1800]
[1088,8825984.9999999981,1800,-1,-1,"SSPA-SXM-200-30-水平",13,0.9,1800]
[{"$f":"A1091+1","v":1089},{"$f":"H1092*$A$1*1000*1000","v":7845320},{"$f":"I1092","v":1800},-1,-1,"SSPA-SXM-200-30-水平",15,0.8,1800]
[1090,6864654.9999999991,1800,-1,-1,"SSPA-SXM-200-30-水平",17,0.7,1800]
[1091,5883990,1800,-1,-1,"SSPA-SXM-200-30-水平",20,0.6,1800]
[1092,4903325,1800,-1,-1,"SSPA-SXM-200-30-水平",24,0.5,1800]
[1093,3922660,1800,-1,-1,"SSPA-SXM-200-30-水平",30,0.4,1800]
[1094,2941995,1800,-1,-1,"SSPA-SXM-200-30-水平",34.5,0.3,1800]
[1095,1961330,1800,-1,-1,"SSPA-SXM-200-30-水平",39,0.2,1800]
[1096,980665,1800,-1,-1,"SSPA-SXM-200-30-水平",45,0.1,1800]
[1097,6864654.9999999991,600,-1,-1,"SSPA-MXM-400-10-水平",70,0.7,600]
[1098,5883990,600,-1,-1,"SSPA-MXM-400-10-水平",80,0.6,600]
[1099,4903325,600,-1,-1,"SSPA-MXM-400-10-水平",96,0.5,600]
[1100,3922660,600,-1,-1,"SSPA-MXM-400-10-水平",120,0.4,600]
[1101,2941995,600,-1,-1,"SSPA-MXM-400-10-水平",138,0.3,600]
[1102,1961330,600,-1,-1,"SSPA-MXM-400-10-水平",156,0.2,600]
[1103,980665,600,-1,-1,"SSPA-MXM-400-10-水平",180,0.1,600]
[1104,19613300,1200,-1,-1,"SSPA-MXM-400-20-水平",12,2,1200]
[1105,18632635,1200,-1,-1,"SSPA-MXM-400-20-水平",13,1.9,1200]
[1106,17651969.999999996,1200,-1,-1,"SSPA-MXM-400-20-水平",14,1.8,1200]
[1107,16671305,1200,-1,-1,"SSPA-MXM-400-20-水平",15,1.7,1200]
[1108,15690640,1200,-1,-1,"SSPA-MXM-400-20-水平",16,1.6,1200]
[1109,14709975,1200,-1,-1,"SSPA-MXM-400-20-水平",18,1.5,1200]
[1110,13729309.999999998,1200,-1,-1,"SSPA-MXM-400-20-水平",20,1.4,1200]
[1111,12748645,1200,-1,-1,"SSPA-MXM-400-20-水平",23,1.3,1200]
[1112,11767980,1200,-1,-1,"SSPA-MXM-400-20-水平",26,1.2,1200]
[1113,10787314.999999998,1200,-1,-1,"SSPA-MXM-400-20-水平",30,1.1000000000000001,1200]
[1114,9806650,1200,-1,-1,"SSPA-MXM-400-20-水平",34,1,1200]
[1115,8825984.9999999981,1200,-1,-1,"SSPA-MXM-400-20-水平",39,0.9,1200]
[1116,7845320,1200,-1,-1,"SSPA-MXM-400-20-水平",45,0.8,1200]
[1117,6864654.9999999991,1200,-1,-1,"SSPA-MXM-400-20-水平",51,0.7,1200]
[1118,5883990,1200,-1,-1,"SSPA-MXM-400-20-水平",60,0.6,1200]
[1119,4903325,1200,-1,-1,"SSPA-MXM-400-20-水平",72,0.5,1200]
[1120,3922660,1200,-1,-1,"SSPA-MXM-400-20-水平",90,0.4,1200]
[1121,2941995,1200,-1,-1,"SSPA-MXM-400-20-水平",103.5,0.3,1200]
[1122,1961330,1200,-1,-1,"SSPA-MXM-400-20-水平",117,0.2,1200]
[1123,980665,1200,-1,-1,"SSPA-MXM-400-20-水平",135,0.1,1200]
[1124,19613300,2400,-1,-1,"SSPA-MXM-400-40-水平",5.5,2,2400]
[1125,18632635,2400,-1,-1,"SSPA-MXM-400-40-水平",6,1.9,2400]
[1126,17651969.999999996,2400,-1,-1,"SSPA-MXM-400-40-水平",6.5,1.8,2400]
[1127,16671305,2400,-1,-1,"SSPA-MXM-400-40-水平",7,1.7,2400]
[1128,15690640,2400,-1,-1,"SSPA-MXM-400-40-水平",8,1.6,2400]
[1129,14709975,2400,-1,-1,"SSPA-MXM-400-40-水平",9,1.5,2400]
[1130,13729309.999999998,2400,-1,-1,"SSPA-MXM-400-40-水平",10,1.4,2400]
[1131,12748645,2400,-1,-1,"SSPA-MXM-400-40-水平",11.5,1.3,2400]
[1132,11767980,2400,-1,-1,"SSPA-MXM-400-40-水平",13.5,1.2,2400]
[1133,10787314.999999998,2400,-1,-1,"SSPA-MXM-400-40-水平",15,1.1000000000000001,2400]
[1134,9806650,2400,-1,-1,"SSPA-MXM-400-40-水平",17,1,2400]
[1135,8825984.9999999981,2400,-1,-1,"SSPA-MXM-400-40-水平",19.5,0.9,2400]
[1136,7845320,2400,-1,-1,"SSPA-MXM-400-40-水平",22.5,0.8,2400]
[1137,6864654.9999999991,2400,-1,-1,"SSPA-MXM-400-40-水平",25.5,0.7,2400]
[1138,5883990,2400,-1,-1,"SSPA-MXM-400-40-水平",30,0.6,2400]
[1139,4903325,2400,-1,-1,"SSPA-MXM-400-40-水平",36,0.5,2400]
[1140,3922660,2400,-1,-1,"SSPA-MXM-400-40-水平",45,0.4,2400]
[1141,2941995,2400,-1,-1,"SSPA-MXM-400-40-水平",52,0.3,2400]
[1142,1961330,2400,-1,-1,"SSPA-MXM-400-40-水平",58.5,0.2,2400]
[1143,980665,2400,-1,-1,"SSPA-MXM-400-40-水平",67.5,0.1,2400]
[1144,19613300,1250,-1,-1,"SSPA-LXM-750-25-水平",15,2,1250]
[1145,18632635,1250,-1,-1,"SSPA-LXM-750-25-水平",17,1.9,1250]
[1146,17651969.999999996,1250,-1,-1,"SSPA-LXM-750-25-水平",19,1.8,1250]
[1147,16671305,1250,-1,-1,"SSPA-LXM-750-25-水平",22,1.7,1250]
[1148,15690640,1250,-1,-1,"SSPA-LXM-750-25-水平",25,1.6,1250]
[1149,14709975,1250,-1,-1,"SSPA-LXM-750-25-水平",28,1.5,1250]
[1150,13729309.999999998,1250,-1,-1,"SSPA-LXM-750-25-水平",32,1.4,1250]
[1151,12748645,1250,-1,-1,"SSPA-LXM-750-25-水平",36,1.3,1250]
[1152,11767980,1250,-1,-1,"SSPA-LXM-750-25-水平",40,1.2,1250]
[{"$f":"A1155+1","v":1153},{"$f":"H1156*$A$1*1000*1000","v":10787314.999999998},{"$f":"I1156","v":1250},-1,-1,"SSPA-LXM-750-25-水平",44,1.1000000000000001,1250]
[1154,9806650,1250,-1,-1,"SSPA-LXM-750-25-水平",48,1,1250]
[1155,8825984.9999999981,1250,-1,-1,"SSPA-LXM-750-25-水平",53,0.9,1250]
[1156,7845320,1250,-1,-1,"SSPA-LXM-750-25-水平",60,0.8,1250]
[1157,6864654.9999999991,1250,-1,-1,"SSPA-LXM-750-25-水平",69,0.7,1250]
[1158,5883990,1250,-1,-1,"SSPA-LXM-750-25-水平",80,0.6,1250]
[1159,4903325,1250,-1,-1,"SSPA-LXM-750-25-水平",96,0.5,1250]
[1160,3922660,1250,-1,-1,"SSPA-LXM-750-25-水平",120,0.4,1250]
[1161,2941995,1250,-1,-1,"SSPA-LXM-750-25-水平",138,0.3,1250]
[1162,1961330,1250,-1,-1,"SSPA-LXM-750-25-水平",156,0.2,1250]
[1163,980665,1250,-1,-1,"SSPA-LXM-750-25-水平",180,0.1,1250]
[1164,19613300,2500,-1,-1,"SSPA-LXM-750-50-水平",8,2,2500]
[1165,18632635,2500,-1,-1,"SSPA-LXM-750-50-水平",9,1.9,2500]
[1166,17651969.999999996,2500,-1,-1,"SSPA-LXM-750-50-水平",10,1.8,2500]
[1167,16671305,2500,-1,-1,"SSPA-LXM-750-50-水平",11,1.7,2500]
[1168,15690640,2500,-1,-1,"SSPA-LXM-750-50-水平",12,1.6,2500]
[1169,14709975,2500,-1,-1,"SSPA-LXM-750-50-水平",14,1.5,2500]
[1170,13729309.999999998,2500,-1,-1,"SSPA-LXM-750-50-水平",16,1.4,2500]
[1171,12748645,2500,-1,-1,"SSPA-LXM-750-50-水平",18,1.3,2500]
[1172,11767980,2500,-1,-1,"SSPA-LXM-750-50-水平",20,1.2,2500]
[1173,10787314.999999998,2500,-1,-1,"SSPA-LXM-750-50-水平",22,1.1000000000000001,2500]
[1174,9806650,2500,-1,-1,"SSPA-LXM-750-50-水平",24,1,2500]
[1175,8825984.9999999981,2500,-1,-1,"SSPA-LXM-750-50-水平",27,0.9,2500]
[1176,7845320,2500,-1,-1,"SSPA-LXM-750-50-水平",30,0.8,2500]
[1177,6864654.9999999991,2500,-1,-1,"SSPA-LXM-750-50-水平",34,0.7,2500]
[1178,5883990,2500,-1,-1,"SSPA-LXM-750-50-水平",40,0.6,2500]
[1179,4903325,2500,-1,-1,"SSPA-LXM-750-50-水平",48,0.5,2500]
[1180,3922660,2500,-1,-1,"SSPA-LXM-750-50-水平",60,0.4,2500]
[1181,2941995,2500,-1,-1,"SSPA-LXM-750-50-水平",69,0.3,2500]
[1182,1961330,2500,-1,-1,"SSPA-LXM-750-50-水平",78,0.2,2500]
[1183,980665,2500,-1,-1,"SSPA-LXM-750-50-水平",90,0.1,2500]
[1184,6864654.9999999991,600,-1,-1,"SSPDACR-S-200-10-水平",50,0.7,600]
[1185,5883990,600,-1,-1,"SSPDACR-S-200-10-水平",60,0.6,600]
[1186,4903325,600,-1,-1,"SSPDACR-S-200-10-水平",72,0.5,600]
[1187,3922660,600,-1,-1,"SSPDACR-S-200-10-水平",90,0.4,600]
[1188,2941995,600,-1,-1,"SSPDACR-S-200-10-水平",99,0.3,600]
[1189,1961330,600,-1,-1,"SSPDACR-S-200-10-水平",108,0.2,600]
[1190,980665,600,-1,-1,"SSPDACR-S-200-10-水平",117,0.1,600]
[1191,9806650,1100,-1,-1,"SSPDACR-S-200-20-水平",17,1,1100]
[1192,8825984.9999999981,1100,-1,-1,"SSPDACR-S-200-20-水平",19.5,0.9,1100]
[1193,7845320,1100,-1,-1,"SSPDACR-S-200-20-水平",22.5,0.8,1100]
[1194,6864654.9999999991,1100,-1,-1,"SSPDACR-S-200-20-水平",26,0.7,1100]
[1195,5883990,1100,-1,-1,"SSPDACR-S-200-20-水平",30,0.6,1100]
[1196,4903325,1100,-1,-1,"SSPDACR-S-200-20-水平",36,0.5,1100]
[1197,3922660,1100,-1,-1,"SSPDACR-S-200-20-水平",45,0.4,1100]
[1198,2941995,1100,-1,-1,"SSPDACR-S-200-20-水平",49.5,0.3,1100]
[1199,1961330,1100,-1,-1,"SSPDACR-S-200-20-水平",54,0.2,1100]
[1200,980665,1100,-1,-1,"SSPDACR-S-200-20-水平",58.5,0.1,1100]
[1201,11767980,1600,-1,-1,"SSPDACR-S-200-30-水平",10,1.2,1600]
[1202,10787314.999999998,1600,-1,-1,"SSPDACR-S-200-30-水平",11,1.1000000000000001,1600]
[1203,9806650,1600,-1,-1,"SSPDACR-S-200-30-水平",12,1,1600]
[1204,8825984.9999999981,1600,-1,-1,"SSPDACR-S-200-30-水平",13,0.9,1600]
[1205,7845320,1600,-1,-1,"SSPDACR-S-200-30-水平",15,0.8,1600]
[1206,6864654.9999999991,1600,-1,-1,"SSPDACR-S-200-30-水平",17,0.7,1600]
[1207,5883990,1600,-1,-1,"SSPDACR-S-200-30-水平",20,0.6,1600]
[1208,4903325,1600,-1,-1,"SSPDACR-S-200-30-水平",24,0.5,1600]
[1209,3922660,1600,-1,-1,"SSPDACR-S-200-30-水平",30,0.4,1600]
[1210,2941995,1600,-1,-1,"SSPDACR-S-200-30-水平",33,0.3,1600]
[1211,1961330,1600,-1,-1,"SSPDACR-S-200-30-水平",36,0.2,1600]
[1212,980665,1600,-1,-1,"SSPDACR-S-200-30-水平",39,0.1,1600]
[1213,6864654.9999999991,600,-1,-1,"SSPDACR-M-400-10-水平",70,0.7,600]
[1214,5883990,600,-1,-1,"SSPDACR-M-400-10-水平",80,0.6,600]
[1215,4903325,600,-1,-1,"SSPDACR-M-400-10-水平",96,0.5,600]
[1216,3922660,600,-1,-1,"SSPDACR-M-400-10-水平",120,0.4,600]
[{"$f":"A1219+1","v":1217},{"$f":"H1220*$A$1*1000*1000","v":2941995},{"$f":"I1220","v":600},-1,-1,"SSPDACR-M-400-10-水平",132,0.3,600]
[1218,1961330,600,-1,-1,"SSPDACR-M-400-10-水平",144,0.2,600]
[1219,980665,600,-1,-1,"SSPDACR-M-400-10-水平",156,0.1,600]
[1220,9806650,1100,-1,-1,"SSPDACR-M-400-20-水平",34,1,1100]
[1221,8825984.9999999981,1100,-1,-1,"SSPDACR-M-400-20-水平",39,0.9,1100]
[1222,7845320,1100,-1,-1,"SSPDACR-M-400-20-水平",45,0.8,1100]
[1223,6864654.9999999991,1100,-1,-1,"SSPDACR-M-400-20-水平",51,0.7,1100]
[1224,5883990,1100,-1,-1,"SSPDACR-M-400-20-水平",60,0.6,1100]
[1225,4903325,1100,-1,-1,"SSPDACR-M-400-20-水平",72,0.5,1100]
[1226,3922660,1100,-1,-1,"SSPDACR-M-400-20-水平",90,0.4,1100]
[1227,2941995,1100,-1,-1,"SSPDACR-M-400-20-水平",99,0.3,1100]
[1228,1961330,1100,-1,-1,"SSPDACR-M-400-20-水平",108,0.2,1100]
[1229,980665,1100,-1,-1,"SSPDACR-M-400-20-水平",117,0.1,1100]
[1230,11767980,1600,-1,-1,"SSPDACR-M-400-40-水平",13.5,1.2,1600]
[1231,10787314.999999998,1600,-1,-1,"SSPDACR-M-400-40-水平",15,1.1000000000000001,1600]
[1232,9806650,1600,-1,-1,"SSPDACR-M-400-40-水平",17,1,1600]
[1233,8825984.9999999981,1600,-1,-1,"SSPDACR-M-400-40-水平",19.5,0.9,1600]
[1234,7845320,1600,-1,-1,"SSPDACR-M-400-40-水平",22.5,0.8,1600]
[1235,6864654.9999999991,1600,-1,-1,"SSPDACR-M-400-40-水平",25.5,0.7,1600]
[1236,5883990,1600,-1,-1,"SSPDACR-M-400-40-水平",30,0.6,1600]
[1237,4903325,1600,-1,-1,"SSPDACR-M-400-40-水平",36,0.5,1600]
[1238,3922660,1600,-1,-1,"SSPDACR-M-400-40-水平",45,0.4,1600]
[1239,2941995,1600,-1,-1,"SSPDACR-M-400-40-水平",49.5,0.3,1600]
[1240,1961330,1600,-1,-1,"SSPDACR-M-400-40-水平",54,0.2,1600]
[1241,980665,1600,-1,-1,"SSPDACR-M-400-40-水平",58.5,0.1,1600]
[1242,11767980,1100,-1,-1,"SSPDACR-L-750-25-水平",40,1.2,1100]
[1243,10787314.999999998,1100,-1,-1,"SSPDACR-L-750-25-水平",44,1.1000000000000001,1100]
[1244,9806650,1100,-1,-1,"SSPDACR-L-750-25-水平",48,1,1100]
[1245,8825984.9999999981,1100,-1,-1,"SSPDACR-L-750-25-水平",53,0.9,1100]
[1246,7845320,1100,-1,-1,"SSPDACR-L-750-25-水平",60,0.8,1100]
[1247,6864654.9999999991,1100,-1,-1,"SSPDACR-L-750-25-水平",69,0.7,1100]
[1248,5883990,1100,-1,-1,"SSPDACR-L-750-25-水平",80,0.6,1100]
[1249,4903325,1100,-1,-1,"SSPDACR-L-750-25-水平",96,0.5,1100]
[1250,3922660,1100,-1,-1,"SSPDACR-L-750-25-水平",120,0.4,1100]
[1251,2941995,1100,-1,-1,"SSPDACR-L-750-25-水平",132,0.3,1100]
[1252,1961330,1100,-1,-1,"SSPDACR-L-750-25-水平",144,0.2,1100]
[1253,980665,1100,-1,-1,"SSPDACR-L-750-25-水平",156,0.1,1100]
[1254,11767980,1600,-1,-1,"SSPDACR-L-750-50-水平",20,1.2,1600]
[1255,10787314.999999998,1600,-1,-1,"SSPDACR-L-750-50-水平",22,1.1000000000000001,1600]
[1256,9806650,1600,-1,-1,"SSPDACR-L-750-50-水平",24,1,1600]
[1257,8825984.9999999981,1600,-1,-1,"SSPDACR-L-750-50-水平",27,0.9,1600]
[1258,7845320,1600,-1,-1,"SSPDACR-L-750-50-水平",30,0.8,1600]
[1259,6864654.9999999991,1600,-1,-1,"SSPDACR-L-750-50-水平",34,0.7,1600]
[1260,5883990,1600,-1,-1,"SSPDACR-L-750-50-水平",40,0.6,1600]
[1261,4903325,1600,-1,-1,"SSPDACR-L-750-50-水平",48,0.5,1600]
[1262,3922660,1600,-1,-1,"SSPDACR-L-750-50-水平",60,0.4,1600]
[1263,2941995,1600,-1,-1,"SSPDACR-L-750-50-水平",66,0.3,1600]
[1264,1961330,1600,-1,-1,"SSPDACR-L-750-50-水平",72,0.2,1600]
[1265,980665,1600,-1,-1,"SSPDACR-L-750-50-水平",78,0.1,1600]
[1266,2941995,300,-1,-1,"RCS3-SA8C-100-5-水平",65,0.3,300]
[1267,1961330,300,-1,-1,"RCS3-SA8C-100-5-水平",80,0.2,300]
[1268,980665,300,-1,-1,"RCS3-SA8C-100-5-水平",120,0.1,300]
[1269,2941995,300,-1,-1,"RCS3-SA8C-100-5-垂直",12,0.3,300]
[1270,1961330,300,-1,-1,"RCS3-SA8C-100-5-垂直",16,0.2,300]
[1271,6864654.9999999991,600,-1,-1,"RCS3-SA8C-100-10-水平",8,0.7,600]
[1272,5883990,600,-1,-1,"RCS3-SA8C-100-10-水平",13,0.6,600]
[1273,4903325,600,-1,-1,"RCS3-SA8C-100-10-水平",20,0.5,600]
[1274,3922660,600,-1,-1,"RCS3-SA8C-100-10-水平",28,0.4,600]
[1275,2941995,600,-1,-1,"RCS3-SA8C-100-10-水平",40,0.3,600]
[1276,1961330,600,-1,-1,"RCS3-SA8C-100-10-水平",48,0.2,600]
[1277,980665,600,-1,-1,"RCS3-SA8C-100-10-水平",60,0.1,600]
[1278,6864654.9999999991,600,-1,-1,"RCS3-SA8C-100-10-垂直",2.5,0.7,600]
[1279,5883990,600,-1,-1,"RCS3-SA8C-100-10-垂直",3,0.6,600]
[1280,4903325,600,-1,-1,"RCS3-SA8C-100-10-垂直",4,0.5,600]
[{"$f":"A1283+1","v":1281},{"$f":"H1284*$A$1*1000*1000","v":3922660},{"$f":"I1284","v":600},-1,-1,"RCS3-SA8C-100-10-垂直",5.5,0.4,600]
[1282,2941995,600,-1,-1,"RCS3-SA8C-100-10-垂直",8,0.3,600]
[1283,14709975,1330,-1,-1,"RCS3-SA8C-100-20-水平",1.5,1.5,1330]
[1284,13729309.999999998,1330,-1,-1,"RCS3-SA8C-100-20-水平",1.7,1.4,1330]
[1285,12748645,1330,-1,-1,"RCS3-SA8C-100-20-水平",1.9,1.3,1330]
[1286,11767980,1330,-1,-1,"RCS3-SA8C-100-20-水平",2.15,1.2,1330]
[1287,10787314.999999998,1330,-1,-1,"RCS3-SA8C-100-20-水平",2.5499999999999998,1.1000000000000001,1330]
[1288,9806650,1330,-1,-1,"RCS3-SA8C-100-20-水平",3,1,1330]
[1289,8825984.9999999981,1330,-1,-1,"RCS3-SA8C-100-20-水平",3.5,0.9,1330]
[1290,7845320,1330,-1,-1,"RCS3-SA8C-100-20-水平",4.2,0.8,1330]
[1291,6864654.9999999991,1330,-1,-1,"RCS3-SA8C-100-20-水平",5,0.7,1330]
[1292,5883990,1330,-1,-1,"RCS3-SA8C-100-20-水平",7,0.6,1330]
[1293,4903325,1330,-1,-1,"RCS3-SA8C-100-20-水平",10,0.5,1330]
[1294,3922660,1330,-1,-1,"RCS3-SA8C-100-20-水平",14,0.4,1330]
[1295,2941995,1330,-1,-1,"RCS3-SA8C-100-20-水平",20,0.3,1330]
[1296,1961330,1330,-1,-1,"RCS3-SA8C-100-20-水平",24,0.2,1330]
[1297,980665,1330,-1,-1,"RCS3-SA8C-100-20-水平",30,0.1,1330]
[1298,14709975,1330,-1,-1,"RCS3-SA8C-100-20-垂直",0.25,1.5,1330]
[1299,13729309.999999998,1330,-1,-1,"RCS3-SA8C-100-20-垂直",0.3,1.4,1330]
[1300,12748645,1330,-1,-1,"RCS3-SA8C-100-20-垂直",0.35,1.3,1330]
[1301,11767980,1330,-1,-1,"RCS3-SA8C-100-20-垂直",0.4,1.2,1330]
[1302,10787314.999999998,1330,-1,-1,"RCS3-SA8C-100-20-垂直",0.55000000000000004,1.1000000000000001,1330]
[1303,9806650,1330,-1,-1,"RCS3-SA8C-100-20-垂直",0.75,1,1330]
[1304,8825984.9999999981,1330,-1,-1,"RCS3-SA8C-100-20-垂直",1,0.9,1330]
[1305,7845320,1330,-1,-1,"RCS3-SA8C-100-20-垂直",1.25,0.8,1330]
[1306,6864654.9999999991,1330,-1,-1,"RCS3-SA8C-100-20-垂直",1.5,0.7,1330]
[1307,5883990,1330,-1,-1,"RCS3-SA8C-100-20-垂直",1.75,0.6,1330]
[1308,4903325,1330,-1,-1,"RCS3-SA8C-100-20-垂直",2,0.5,1330]
[1309,3922660,1330,-1,-1,"RCS3-SA8C-100-20-垂直",3,0.4,1330]
[1310,2941995,1330,-1,-1,"RCS3-SA8C-100-20-垂直",4,0.3,1330]
[1311,19613300,2000,-1,-1,"RCS3-SA8C-100-30-水平",0.25,2,2000]
[1312,18632635,2000,-1,-1,"RCS3-SA8C-100-30-水平",0.3,1.9,2000]
[1313,17651969.999999996,2000,-1,-1,"RCS3-SA8C-100-30-水平",0.35,1.8,2000]
[1314,16671305,2000,-1,-1,"RCS3-SA8C-100-30-水平",0.4,1.7,2000]
[1315,15690640,2000,-1,-1,"RCS3-SA8C-100-30-水平",0.45,1.6,2000]
[1316,14709975,2000,-1,-1,"RCS3-SA8C-100-30-水平",0.5,1.5,2000]
[1317,13729309.999999998,2000,-1,-1,"RCS3-SA8C-100-30-水平",0.55000000000000004,1.4,2000]
[1318,12748645,2000,-1,-1,"RCS3-SA8C-100-30-水平",0.6,1.3,2000]
[1319,11767980,2000,-1,-1,"RCS3-SA8C-100-30-水平",0.7,1.2,2000]
[1320,10787314.999999998,2000,-1,-1,"RCS3-SA8C-100-30-水平",0.8,1.1000000000000001,2000]
[1321,9806650,2000,-1,-1,"RCS3-SA8C-100-30-水平",1,1,2000]
[1322,8825984.9999999981,2000,-1,-1,"RCS3-SA8C-100-30-水平",2,0.9,2000]
[1323,7845320,2000,-1,-1,"RCS3-SA8C-100-30-水平",3,0.8,2000]
[1324,6864654.9999999991,2000,-1,-1,"RCS3-SA8C-100-30-水平",4,0.7,2000]
[1325,5883990,2000,-1,-1,"RCS3-SA8C-100-30-水平",5,0.6,2000]
[1326,4903325,2000,-1,-1,"RCS3-SA8C-100-30-水平",6,0.5,2000]
[1327,3922660,2000,-1,-1,"RCS3-SA8C-100-30-水平",7,0.4,2000]
[1328,2941995,2000,-1,-1,"RCS3-SA8C-100-30-水平",8,0.3,2000]
[1329,1961330,2000,-1,-1,"RCS3-SA8C-100-30-水平",9.6,0.2,2000]
[1330,980665,2000,-1,-1,"RCS3-SA8C-100-30-水平",12,0.1,2000]
[1331,14709975,2000,-1,-1,"RCS3-SA8C-100-30-垂直",0.1,1.5,2000]
[1332,13729309.999999998,2000,-1,-1,"RCS3-SA8C-100-30-垂直",0.15,1.4,2000]
[1333,12748645,2000,-1,-1,"RCS3-SA8C-100-30-垂直",0.2,1.3,2000]
[1334,11767980,2000,-1,-1,"RCS3-SA8C-100-30-垂直",0.3,1.2,2000]
[1335,10787314.999999998,2000,-1,-1,"RCS3-SA8C-100-30-垂直",0.4,1.1000000000000001,2000]
[1336,9806650,2000,-1,-1,"RCS3-SA8C-100-30-垂直",0.5,1,2000]
[1337,8825984.9999999981,2000,-1,-1,"RCS3-SA8C-100-30-垂直",0.6,0.9,2000]
[1338,7845320,2000,-1,-1,"RCS3-SA8C-100-30-垂直",0.75,0.8,2000]
[1339,6864654.9999999991,2000,-1,-1,"RCS3-SA8C-100-30-垂直",1,0.7,2000]
[1340,5883990,2000,-1,-1,"RCS3-SA8C-100-30-垂直",1.2,0.6,2000]
[1341,4903325,2000,-1,-1,"RCS3-SA8C-100-30-垂直",1.5,0.5,2000]
[1342,3922660,2000,-1,-1,"RCS3-SA8C-100-30-垂直",1.75,0.4,2000]
[1343,2941995,2000,-1,-1,"RCS3-SA8C-100-30-垂直",2,0.3,2000]
[1344,9806650,600,-1,-1,"RCS3-SA8C-150-10-水平",2,1,600]
[{"$f":"A1347+1","v":1345},{"$f":"H1348*$A$1*1000*1000","v":8825984.9999999981},{"$f":"I1348","v":600},-1,-1,"RCS3-SA8C-150-10-水平",5,0.9,600]
[1346,7845320,600,-1,-1,"RCS3-SA8C-150-10-水平",10,0.8,600]
[1347,6864654.9999999991,600,-1,-1,"RCS3-SA8C-150-10-水平",15,0.7,600]
[1348,5883990,600,-1,-1,"RCS3-SA8C-150-10-水平",20,0.6,600]
[1349,4903325,600,-1,-1,"RCS3-SA8C-150-10-水平",30,0.5,600]
[1350,3922660,600,-1,-1,"RCS3-SA8C-150-10-水平",42,0.4,600]
[1351,2941995,600,-1,-1,"RCS3-SA8C-150-10-水平",60,0.3,600]
[1352,1961330,600,-1,-1,"RCS3-SA8C-150-10-水平",72,0.2,600]
[1353,980665,600,-1,-1,"RCS3-SA8C-150-10-水平",90,0.1,600]
[1354,9806650,600,-1,-1,"RCS3-SA8C-150-10-垂直",1.5,1,600]
[1355,8825984.9999999981,600,-1,-1,"RCS3-SA8C-150-10-垂直",1.8,0.9,600]
[1356,7845320,600,-1,-1,"RCS3-SA8C-150-10-垂直",2.2999999999999998,0.8,600]
[1357,6864654.9999999991,600,-1,-1,"RCS3-SA8C-150-10-垂直",3,0.7,600]
[1358,5883990,600,-1,-1,"RCS3-SA8C-150-10-垂直",4,0.6,600]
[1359,4903325,600,-1,-1,"RCS3-SA8C-150-10-垂直",6,0.5,600]
[1360,3922660,600,-1,-1,"RCS3-SA8C-150-10-垂直",8.5,0.4,600]
[1361,2941995,600,-1,-1,"RCS3-SA8C-150-10-垂直",12,0.3,600]
[1362,19613300,1330,-1,-1,"RCS3-SA8C-150-20-水平",1.5,2,1330]
[1363,18632635,1330,-1,-1,"RCS3-SA8C-150-20-水平",1.7,1.9,1330]
[1364,17651969.999999996,1330,-1,-1,"RCS3-SA8C-150-20-水平",1.9,1.8,1330]
[1365,16671305,1330,-1,-1,"RCS3-SA8C-150-20-水平",2.1,1.7,1330]
[1366,15690640,1330,-1,-1,"RCS3-SA8C-150-20-水平",2.2999999999999998,1.6,1330]
[1367,14709975,1330,-1,-1,"RCS3-SA8C-150-20-水平",2.5,1.5,1330]
[1368,13729309.999999998,1330,-1,-1,"RCS3-SA8C-150-20-水平",2.7,1.4,1330]
[1369,12748645,1330,-1,-1,"RCS3-SA8C-150-20-水平",2.9,1.3,1330]
[1370,11767980,1330,-1,-1,"RCS3-SA8C-150-20-水平",3.2,1.2,1330]
[1371,10787314.999999998,1330,-1,-1,"RCS3-SA8C-150-20-水平",3.6,1.1000000000000001,1330]
[1372,9806650,1330,-1,-1,"RCS3-SA8C-150-20-水平",4,1,1330]
[1373,8825984.9999999981,1330,-1,-1,"RCS3-SA8C-150-20-水平",4.8,0.9,1330]
[1374,7845320,1330,-1,-1,"RCS3-SA8C-150-20-水平",6,0.8,1330]
[1375,6864654.9999999991,1330,-1,-1,"RCS3-SA8C-150-20-水平",7.5,0.7,1330]
[1376,5883990,1330,-1,-1,"RCS3-SA8C-150-20-水平",11,0.6,1330]
[1377,4903325,1330,-1,-1,"RCS3-SA8C-150-20-水平",15,0.5,1330]
[1378,3922660,1330,-1,-1,"RCS3-SA8C-150-20-水平",21,0.4,1330]
[1379,2941995,1330,-1,-1,"RCS3-SA8C-150-20-水平",30,0.3,1330]
[1380,1961330,1330,-1,-1,"RCS3-SA8C-150-20-水平",36,0.2,1330]
[1381,980665,1330,-1,-1,"RCS3-SA8C-150-20-水平",45,0.1,1330]
[1382,19613300,1330,-1,-1,"RCS3-SA8C-150-20-垂直",0.25,2,1330]
[1383,18632635,1330,-1,-1,"RCS3-SA8C-150-20-垂直",0.3,1.9,1330]
[1384,17651969.999999996,1330,-1,-1,"RCS3-SA8C-150-20-垂直",0.35,1.8,1330]
[1385,16671305,1330,-1,-1,"RCS3-SA8C-150-20-垂直",0.4,1.7,1330]
[1386,15690640,1330,-1,-1,"RCS3-SA8C-150-20-垂直",0.45,1.6,1330]
[1387,14709975,1330,-1,-1,"RCS3-SA8C-150-20-垂直",0.55000000000000004,1.5,1330]
[1388,13729309.999999998,1330,-1,-1,"RCS3-SA8C-150-20-垂直",0.65,1.4,1330]
[1389,12748645,1330,-1,-1,"RCS3-SA8C-150-20-垂直",0.75,1.3,1330]
[1390,11767980,1330,-1,-1,"RCS3-SA8C-150-20-垂直",0.85,1.2,1330]
[1391,10787314.999999998,1330,-1,-1,"RCS3-SA8C-150-20-垂直",1,1.1000000000000001,1330]
[1392,9806650,1330,-1,-1,"RCS3-SA8C-150-20-垂直",1.2,1,1330]
[1393,8825984.9999999981,1330,-1,-1,"RCS3-SA8C-150-20-垂直",1.4,0.9,1330]
[1394,7845320,1330,-1,-1,"RCS3-SA8C-150-20-垂直",1.65,0.8,1330]
[1395,6864654.9999999991,1330,-1,-1,"RCS3-SA8C-150-20-垂直",2,0.7,1330]
[1396,5883990,1330,-1,-1,"RCS3-SA8C-150-20-垂直",2.4,0.6,1330]
[1397,4903325,1330,-1,-1,"RCS3-SA8C-150-20-垂直",3,0.5,1330]
[1398,3922660,1330,-1,-1,"RCS3-SA8C-150-20-垂直",4,0.4,1330]
[1399,2941995,1330,-1,-1,"RCS3-SA8C-150-20-垂直",6,0.3,1330]
[1400,19613300,2000,-1,-1,"RCS3-SA8C-150-30-水平",0.5,2,2000]
[1401,18632635,2000,-1,-1,"RCS3-SA8C-150-30-水平",0.6,1.9,2000]
[1402,17651969.999999996,2000,-1,-1,"RCS3-SA8C-150-30-水平",0.7,1.8,2000]
[1403,16671305,2000,-1,-1,"RCS3-SA8C-150-30-水平",0.8,1.7,2000]
[1404,15690640,2000,-1,-1,"RCS3-SA8C-150-30-水平",0.9,1.6,2000]
[1405,14709975,2000,-1,-1,"RCS3-SA8C-150-30-水平",1,1.5,2000]
[1406,13729309.999999998,2000,-1,-1,"RCS3-SA8C-150-30-水平",1.1499999999999999,1.4,2000]
[1407,12748645,2000,-1,-1,"RCS3-SA8C-150-30-水平",1.3,1.3,2000]
[1408,11767980,2000,-1,-1,"RCS3-SA8C-150-30-水平",1.5,1.2,2000]
[{"$f":"A1411+1","v":1409},{"$f":"H1412*$A$1*1000*1000","v":10787314.999999998},{"$f":"I1412","v":2000},-1,-1,"RCS3-SA8C-150-30-水平",1.7,1.1000000000000001,2000]
[1410,9806650,2000,-1,-1,"RCS3-SA8C-150-30-水平",2,1,2000]
[1411,8825984.9999999981,2000,-1,-1,"RCS3-SA8C-150-30-水平",3,0.9,2000]
[1412,7845320,2000,-1,-1,"RCS3-SA8C-150-30-水平",4.5,0.8,2000]
[1413,6864654.9999999991,2000,-1,-1,"RCS3-SA8C-150-30-水平",6,0.7,2000]
[1414,5883990,2000,-1,-1,"RCS3-SA8C-150-30-水平",8,0.6,2000]
[1415,4903325,2000,-1,-1,"RCS3-SA8C-150-30-水平",10,0.5,2000]
[1416,3922660,2000,-1,-1,"RCS3-SA8C-150-30-水平",11,0.4,2000]
[1417,2941995,2000,-1,-1,"RCS3-SA8C-150-30-水平",12,0.3,2000]
[1418,1961330,2000,-1,-1,"RCS3-SA8C-150-30-水平",14.4,0.2,2000]
[1419,980665,2000,-1,-1,"RCS3-SA8C-150-30-水平",18,0.1,2000]
[1420,19613300,2000,-1,-1,"RCS3-SA8C-150-30-垂直",0.1,2,2000]
[1421,18632635,2000,-1,-1,"RCS3-SA8C-150-30-垂直",0.15,1.9,2000]
[1422,17651969.999999996,2000,-1,-1,"RCS3-SA8C-150-30-垂直",0.2,1.8,2000]
[1423,16671305,2000,-1,-1,"RCS3-SA8C-150-30-垂直",0.25,1.7,2000]
[1424,15690640,2000,-1,-1,"RCS3-SA8C-150-30-垂直",0.3,1.6,2000]
[1425,14709975,2000,-1,-1,"RCS3-SA8C-150-30-垂直",0.35,1.5,2000]
[1426,13729309.999999998,2000,-1,-1,"RCS3-SA8C-150-30-垂直",0.4,1.4,2000]
[1427,12748645,2000,-1,-1,"RCS3-SA8C-150-30-垂直",0.5,1.3,2000]
[1428,11767980,2000,-1,-1,"RCS3-SA8C-150-30-垂直",0.6,1.2,2000]
[1429,10787314.999999998,2000,-1,-1,"RCS3-SA8C-150-30-垂直",0.75,1.1000000000000001,2000]
[1430,9806650,2000,-1,-1,"RCS3-SA8C-150-30-垂直",0.9,1,2000]
[1431,8825984.9999999981,2000,-1,-1,"RCS3-SA8C-150-30-垂直",1.05,0.9,2000]
[1432,7845320,2000,-1,-1,"RCS3-SA8C-150-30-垂直",1.25,0.8,2000]
[1433,6864654.9999999991,2000,-1,-1,"RCS3-SA8C-150-30-垂直",1.5,0.7,2000]
[1434,5883990,2000,-1,-1,"RCS3-SA8C-150-30-垂直",1.75,0.6,2000]
[1435,4903325,2000,-1,-1,"RCS3-SA8C-150-30-垂直",2,0.5,2000]
[1436,3922660,2000,-1,-1,"RCS3-SA8C-150-30-垂直",2.5,0.4,2000]
[1437,2941995,2000,-1,-1,"RCS3-SA8C-150-30-垂直",3,0.3,2000]
[1438,2941995,300,-1,-1,"RCS3-SS8C-100-5-水平",65,0.3,300]
[1439,1961330,300,-1,-1,"RCS3-SS8C-100-5-水平",80,0.2,300]
[1440,980665,300,-1,-1,"RCS3-SS8C-100-5-水平",120,0.1,300]
[1441,2941995,300,-1,-1,"RCS3-SS8C-100-5-垂直",12,0.3,300]
[1442,1961330,300,-1,-1,"RCS3-SS8C-100-5-垂直",16,0.2,300]
[1443,6864654.9999999991,600,-1,-1,"RCS3-SS8C-100-10-水平",8,0.7,600]
[1444,5883990,600,-1,-1,"RCS3-SS8C-100-10-水平",13,0.6,600]
[1445,4903325,600,-1,-1,"RCS3-SS8C-100-10-水平",20,0.5,600]
[1446,3922660,600,-1,-1,"RCS3-SS8C-100-10-水平",28,0.4,600]
[1447,2941995,600,-1,-1,"RCS3-SS8C-100-10-水平",40,0.3,600]
[1448,1961330,600,-1,-1,"RCS3-SS8C-100-10-水平",48,0.2,600]
[1449,980665,600,-1,-1,"RCS3-SS8C-100-10-水平",60,0.1,600]
[1450,6864654.9999999991,600,-1,-1,"RCS3-SS8C-100-10-垂直",2.5,0.7,600]
[1451,5883990,600,-1,-1,"RCS3-SS8C-100-10-垂直",3,0.6,600]
[1452,4903325,600,-1,-1,"RCS3-SS8C-100-10-垂直",4,0.5,600]
[1453,3922660,600,-1,-1,"RCS3-SS8C-100-10-垂直",5.5,0.4,600]
[1454,2941995,600,-1,-1,"RCS3-SS8C-100-10-垂直",8,0.3,600]
[1455,14709975,1330,-1,-1,"RCS3-SS8C-100-20-水平",1.5,1.5,1330]
[1456,13729309.999999998,1330,-1,-1,"RCS3-SS8C-100-20-水平",1.7,1.4,1330]
[1457,12748645,1330,-1,-1,"RCS3-SS8C-100-20-水平",1.9,1.3,1330]
[1458,11767980,1330,-1,-1,"RCS3-SS8C-100-20-水平",2.15,1.2,1330]
[1459,10787314.999999998,1330,-1,-1,"RCS3-SS8C-100-20-水平",2.5499999999999998,1.1000000000000001,1330]
[1460,9806650,1330,-1,-1,"RCS3-SS8C-100-20-水平",3,1,1330]
[1461,8825984.9999999981,1330,-1,-1,"RCS3-SS8C-100-20-水平",3.5,0.9,1330]
[1462,7845320,1330,-1,-1,"RCS3-SS8C-100-20-水平",4.2,0.8,1330]
[1463,6864654.9999999991,1330,-1,-1,"RCS3-SS8C-100-20-水平",5,0.7,1330]
[1464,5883990,1330,-1,-1,"RCS3-SS8C-100-20-水平",7,0.6,1330]
[1465,4903325,1330,-1,-1,"RCS3-SS8C-100-20-水平",10,0.5,1330]
[1466,3922660,1330,-1,-1,"RCS3-SS8C-100-20-水平",14,0.4,1330]
[1467,2941995,1330,-1,-1,"RCS3-SS8C-100-20-水平",20,0.3,1330]
[1468,1961330,1330,-1,-1,"RCS3-SS8C-100-20-水平",24,0.2,1330]
[1469,980665,1330,-1,-1,"RCS3-SS8C-100-20-水平",30,0.1,1330]
[1470,14709975,1330,-1,-1,"RCS3-SS8C-100-20-垂直",0.25,1.5,1330]
[1471,13729309.999999998,1330,-1,-1,"RCS3-SS8C-100-20-垂直",0.3,1.4,1330]
[1472,12748645,1330,-1,-1,"RCS3-SS8C-100-20-垂直",0.35,1.3,1330]
[{"$f":"A1475+1","v":1473},{"$f":"H1476*$A$1*1000*1000","v":11767980},{"$f":"I1476","v":1330},-1,-1,"RCS3-SS8C-100-20-垂直",0.4,1.2,1330]
[1474,10787314.999999998,1330,-1,-1,"RCS3-SS8C-100-20-垂直",0.55000000000000004,1.1000000000000001,1330]
[1475,9806650,1330,-1,-1,"RCS3-SS8C-100-20-垂直",0.75,1,1330]
[1476,8825984.9999999981,1330,-1,-1,"RCS3-SS8C-100-20-垂直",1,0.9,1330]
[1477,7845320,1330,-1,-1,"RCS3-SS8C-100-20-垂直",1.25,0.8,1330]
[1478,6864654.9999999991,1330,-1,-1,"RCS3-SS8C-100-20-垂直",1.5,0.7,1330]
[1479,5883990,1330,-1,-1,"RCS3-SS8C-100-20-垂直",1.75,0.6,1330]
[1480,4903325,1330,-1,-1,"RCS3-SS8C-100-20-垂直",2,0.5,1330]
[1481,3922660,1330,-1,-1,"RCS3-SS8C-100-20-垂直",3,0.4,1330]
[1482,2941995,1330,-1,-1,"RCS3-SS8C-100-20-垂直",4,0.3,1330]
[1483,19613300,2000,-1,-1,"RCS3-SS8C-100-30-水平",0.25,2,2000]
[1484,18632635,2000,-1,-1,"RCS3-SS8C-100-30-水平",0.3,1.9,2000]
[1485,17651969.999999996,2000,-1,-1,"RCS3-SS8C-100-30-水平",0.35,1.8,2000]
[1486,16671305,2000,-1,-1,"RCS3-SS8C-100-30-水平",0.4,1.7,2000]
[1487,15690640,2000,-1,-1,"RCS3-SS8C-100-30-水平",0.45,1.6,2000]
[1488,14709975,2000,-1,-1,"RCS3-SS8C-100-30-水平",0.5,1.5,2000]
[1489,13729309.999999998,2000,-1,-1,"RCS3-SS8C-100-30-水平",0.55000000000000004,1.4,2000]
[1490,12748645,2000,-1,-1,"RCS3-SS8C-100-30-水平",0.6,1.3,2000]
[1491,11767980,2000,-1,-1,"RCS3-SS8C-100-30-水平",0.7,1.2,2000]
[1492,10787314.999999998,2000,-1,-1,"RCS3-SS8C-100-30-水平",0.8,1.1000000000000001,2000]
[1493,9806650,2000,-1,-1,"RCS3-SS8C-100-30-水平",1,1,2000]
[1494,8825984.9999999981,2000,-1,-1,"RCS3-SS8C-100-30-水平",2,0.9,2000]
[1495,7845320,2000,-1,-1,"RCS3-SS8C-100-30-水平",3,0.8,2000]
[1496,6864654.9999999991,2000,-1,-1,"RCS3-SS8C-100-30-水平",4,0.7,2000]
[1497,5883990,2000,-1,-1,"RCS3-SS8C-100-30-水平",5,0.6,2000]
[1498,4903325,2000,-1,-1,"RCS3-SS8C-100-30-水平",6,0.5,2000]
[1499,3922660,2000,-1,-1,"RCS3-SS8C-100-30-水平",7,0.4,2000]
[1500,2941995,2000,-1,-1,"RCS3-SS8C-100-30-水平",8,0.3,2000]
[1501,1961330,2000,-1,-1,"RCS3-SS8C-100-30-水平",9.6,0.2,2000]
[1502,980665,2000,-1,-1,"RCS3-SS8C-100-30-水平",12,0.1,2000]
[1503,14709975,2000,-1,-1,"RCS3-SS8C-100-30-垂直",0.1,1.5,2000]
[1504,13729309.999999998,2000,-1,-1,"RCS3-SS8C-100-30-垂直",0.15,1.4,2000]
[1505,12748645,2000,-1,-1,"RCS3-SS8C-100-30-垂直",0.2,1.3,2000]
[1506,11767980,2000,-1,-1,"RCS3-SS8C-100-30-垂直",0.3,1.2,2000]
[1507,10787314.999999998,2000,-1,-1,"RCS3-SS8C-100-30-垂直",0.4,1.1000000000000001,2000]
[1508,9806650,2000,-1,-1,"RCS3-SS8C-100-30-垂直",0.5,1,2000]
[1509,8825984.9999999981,2000,-1,-1,"RCS3-SS8C-100-30-垂直",0.6,0.9,2000]
[1510,7845320,2000,-1,-1,"RCS3-SS8C-100-30-垂直",0.75,0.8,2000]
[1511,6864654.9999999991,2000,-1,-1,"RCS3-SS8C-100-30-垂直",1,0.7,2000]
[1512,5883990,2000,-1,-1,"RCS3-SS8C-100-30-垂直",1.2,0.6,2000]
[1513,4903325,2000,-1,-1,"RCS3-SS8C-100-30-垂直",1.5,0.5,2000]
[1514,3922660,2000,-1,-1,"RCS3-SS8C-100-30-垂直",1.75,0.4,2000]
[1515,2941995,2000,-1,-1,"RCS3-SS8C-100-30-垂直",2,0.3,2000]
[1516,9806650,600,-1,-1,"RCS3-SS8C-150-10-水平",2,1,600]
[1517,8825984.9999999981,600,-1,-1,"RCS3-SS8C-150-10-水平",5,0.9,600]
[1518,7845320,600,-1,-1,"RCS3-SS8C-150-10-水平",10,0.8,600]
[1519,6864654.9999999991,600,-1,-1,"RCS3-SS8C-150-10-水平",15,0.7,600]
[1520,5883990,600,-1,-1,"RCS3-SS8C-150-10-水平",20,0.6,600]
[1521,4903325,600,-1,-1,"RCS3-SS8C-150-10-水平",30,0.5,600]
[1522,3922660,600,-1,-1,"RCS3-SS8C-150-10-水平",42,0.4,600]
[1523,2941995,600,-1,-1,"RCS3-SS8C-150-10-水平",60,0.3,600]
[1524,1961330,600,-1,-1,"RCS3-SS8C-150-10-水平",72,0.2,600]
[1525,980665,600,-1,-1,"RCS3-SS8C-150-10-水平",90,0.1,600]
[1526,9806650,600,-1,-1,"RCS3-SS8C-150-10-垂直",1.5,1,600]
[1527,8825984.9999999981,600,-1,-1,"RCS3-SS8C-150-10-垂直",1.8,0.9,600]
[1528,7845320,600,-1,-1,"RCS3-SS8C-150-10-垂直",2.2999999999999998,0.8,600]
[1529,6864654.9999999991,600,-1,-1,"RCS3-SS8C-150-10-垂直",3,0.7,600]
[1530,5883990,600,-1,-1,"RCS3-SS8C-150-10-垂直",4,0.6,600]
[1531,4903325,600,-1,-1,"RCS3-SS8C-150-10-垂直",6,0.5,600]
[1532,3922660,600,-1,-1,"RCS3-SS8C-150-10-垂直",8.5,0.4,600]
[1533,2941995,600,-1,-1,"RCS3-SS8C-150-10-垂直",12,0.3,600]
[1534,19613300,1330,-1,-1,"RCS3-SS8C-150-20-水平",1.5,2,1330]
[1535,18632635,1330,-1,-1,"RCS3-SS8C-150-20-水平",1.7,1.9,1330]
[1536,17651969.999999996,1330,-1,-1,"RCS3-SS8C-150-20-水平",1.9,1.8,1330]
[{"$f":"A1539+1","v":1537},{"$f":"H1540*$A$1*1000*1000","v":16671305},{"$f":"I1540","v":1330},-1,-1,"RCS3-SS8C-150-20-水平",2.1,1.7,1330]
[1538,15690640,1330,-1,-1,"RCS3-SS8C-150-20-水平",2.2999999999999998,1.6,1330]
[1539,14709975,1330,-1,-1,"RCS3-SS8C-150-20-水平",2.5,1.5,1330]
[1540,13729309.999999998,1330,-1,-1,"RCS3-SS8C-150-20-水平",2.7,1.4,1330]
[1541,12748645,1330,-1,-1,"RCS3-SS8C-150-20-水平",2.9,1.3,1330]
[1542,11767980,1330,-1,-1,"RCS3-SS8C-150-20-水平",3.2,1.2,1330]
[1543,10787314.999999998,1330,-1,-1,"RCS3-SS8C-150-20-水平",3.6,1.1000000000000001,1330]
[1544,9806650,1330,-1,-1,"RCS3-SS8C-150-20-水平",4,1,1330]
[1545,8825984.9999999981,1330,-1,-1,"RCS3-SS8C-150-20-水平",4.8,0.9,1330]
[1546,7845320,1330,-1,-1,"RCS3-SS8C-150-20-水平",6,0.8,1330]
[1547,6864654.9999999991,1330,-1,-1,"RCS3-SS8C-150-20-水平",7.5,0.7,1330]
[1548,5883990,1330,-1,-1,"RCS3-SS8C-150-20-水平",11,0.6,1330]
[1549,4903325,1330,-1,-1,"RCS3-SS8C-150-20-水平",15,0.5,1330]
[1550,3922660,1330,-1,-1,"RCS3-SS8C-150-20-水平",21,0.4,1330]
[1551,2941995,1330,-1,-1,"RCS3-SS8C-150-20-水平",30,0.3,1330]
[1552,1961330,1330,-1,-1,"RCS3-SS8C-150-20-水平",36,0.2,1330]
[1553,980665,1330,-1,-1,"RCS3-SS8C-150-20-水平",45,0.1,1330]
[1554,19613300,1330,-1,-1,"RCS3-SS8C-150-20-垂直",0.25,2,1330]
[1555,18632635,1330,-1,-1,"RCS3-SS8C-150-20-垂直",0.3,1.9,1330]
[1556,17651969.999999996,1330,-1,-1,"RCS3-SS8C-150-20-垂直",0.35,1.8,1330]
[1557,16671305,1330,-1,-1,"RCS3-SS8C-150-20-垂直",0.4,1.7,1330]
[1558,15690640,1330,-1,-1,"RCS3-SS8C-150-20-垂直",0.45,1.6,1330]
[1559,14709975,1330,-1,-1,"RCS3-SS8C-150-20-垂直",0.55000000000000004,1.5,1330]
[1560,13729309.999999998,1330,-1,-1,"RCS3-SS8C-150-20-垂直",0.65,1.4,1330]
[1561,12748645,1330,-1,-1,"RCS3-SS8C-150-20-垂直",0.75,1.3,1330]
[1562,11767980,1330,-1,-1,"RCS3-SS8C-150-20-垂直",0.85,1.2,1330]
[1563,10787314.999999998,1330,-1,-1,"RCS3-SS8C-150-20-垂直",1,1.1000000000000001,1330]
[1564,9806650,1330,-1,-1,"RCS3-SS8C-150-20-垂直",1.2,1,1330]
[1565,8825984.9999999981,1330,-1,-1,"RCS3-SS8C-150-20-垂直",1.4,0.9,1330]
[1566,7845320,1330,-1,-1,"RCS3-SS8C-150-20-垂直",1.65,0.8,1330]
[1567,6864654.9999999991,1330,-1,-1,"RCS3-SS8C-150-20-垂直",2,0.7,1330]
[1568,5883990,1330,-1,-1,"RCS3-SS8C-150-20-垂直",2.4,0.6,1330]
[1569,4903325,1330,-1,-1,"RCS3-SS8C-150-20-垂直",3,0.5,1330]
[1570,3922660,1330,-1,-1,"RCS3-SS8C-150-20-垂直",4,0.4,1330]
[1571,2941995,1330,-1,-1,"RCS3-SS8C-150-20-垂直",6,0.3,1330]
[1572,19613300,2000,-1,-1,"RCS3-SS8C-150-30-水平",0.5,2,2000]
[1573,18632635,2000,-1,-1,"RCS3-SS8C-150-30-水平",0.6,1.9,2000]
[1574,17651969.999999996,2000,-1,-1,"RCS3-SS8C-150-30-水平",0.7,1.8,2000]
[1575,16671305,2000,-1,-1,"RCS3-SS8C-150-30-水平",0.8,1.7,2000]
[1576,15690640,2000,-1,-1,"RCS3-SS8C-150-30-水平",0.9,1.6,2000]
[1577,14709975,2000,-1,-1,"RCS3-SS8C-150-30-水平",1,1.5,2000]
[1578,13729309.999999998,2000,-1,-1,"RCS3-SS8C-150-30-水平",1.1499999999999999,1.4,2000]
[1579,12748645,2000,-1,-1,"RCS3-SS8C-150-30-水平",1.3,1.3,2000]
[1580,11767980,2000,-1,-1,"RCS3-SS8C-150-30-水平",1.5,1.2,2000]
[1581,10787314.999999998,2000,-1,-1,"RCS3-SS8C-150-30-水平",1.7,1.1000000000000001,2000]
[1582,9806650,2000,-1,-1,"RCS3-SS8C-150-30-水平",2,1,2000]
[1583,8825984.9999999981,2000,-1,-1,"RCS3-SS8C-150-30-水平",3,0.9,2000]
[1584,7845320,2000,-1,-1,"RCS3-SS8C-150-30-水平",4.5,0.8,2000]
[1585,6864654.9999999991,2000,-1,-1,"RCS3-SS8C-150-30-水平",6,0.7,2000]
[1586,5883990,2000,-1,-1,"RCS3-SS8C-150-30-水平",8,0.6,2000]
[1587,4903325,2000,-1,-1,"RCS3-SS8C-150-30-水平",10,0.5,2000]
[1588,3922660,2000,-1,-1,"RCS3-SS8C-150-30-水平",11,0.4,2000]
[1589,2941995,2000,-1,-1,"RCS3-SS8C-150-30-水平",12,0.3,2000]
[1590,1961330,2000,-1,-1,"RCS3-SS8C-150-30-水平",14.4,0.2,2000]
[1591,980665,2000,-1,-1,"RCS3-SS8C-150-30-水平",18,0.1,2000]
[1592,19613300,2000,-1,-1,"RCS3-SS8C-150-30-垂直",0.1,2,2000]
[1593,18632635,2000,-1,-1,"RCS3-SS8C-150-30-垂直",0.15,1.9,2000]
[1594,17651969.999999996,2000,-1,-1,"RCS3-SS8C-150-30-垂直",0.2,1.8,2000]
[1595,16671305,2000,-1,-1,"RCS3-SS8C-150-30-垂直",0.25,1.7,2000]
[1596,15690640,2000,-1,-1,"RCS3-SS8C-150-30-垂直",0.3,1.6,2000]
[1597,14709975,2000,-1,-1,"RCS3-SS8C-150-30-垂直",0.35,1.5,2000]
[1598,13729309.999999998,2000,-1,-1,"RCS3-SS8C-150-30-垂直",0.4,1.4,2000]
[1599,12748645,2000,-1,-1,"RCS3-SS8C-150-30-垂直",0.5,1.3,2000]
[1600,11767980,2000,-1,-1,"RCS3-SS8C-150-30-垂直",0.6,1.2,2000]
[{"$f":"A1603+1","v":1601},{"$f":"H1604*$A$1*1000*1000","v":10787314.999999998},{"$f":"I1604","v":2000},-1,-1,"RCS3-SS8C-150-30-垂直",0.75,1.1000000000000001,2000]
[1602,9806650,2000,-1,-1,"RCS3-SS8C-150-30-垂直",0.9,1,2000]
[1603,8825984.9999999981,2000,-1,-1,"RCS3-SS8C-150-30-垂直",1.05,0.9,2000]
[1604,7845320,2000,-1,-1,"RCS3-SS8C-150-30-垂直",1.25,0.8,2000]
[1605,6864654.9999999991,2000,-1,-1,"RCS3-SS8C-150-30-垂直",1.5,0.7,2000]
[1606,5883990,2000,-1,-1,"RCS3-SS8C-150-30-垂直",1.75,0.6,2000]
[1607,4903325,2000,-1,-1,"RCS3-SS8C-150-30-垂直",2,0.5,2000]
[1608,3922660,2000,-1,-1,"RCS3-SS8C-150-30-垂直",2.5,0.4,2000]
[1609,2941995,2000,-1,-1,"RCS3-SS8C-150-30-垂直",3,0.3,2000]
[1610,2941995,300,-1,-1,"RCS3CR-SA8C-100-5-水平",65,0.3,300]
[1611,1961330,300,-1,-1,"RCS3CR-SA8C-100-5-水平",80,0.2,300]
[1612,980665,300,-1,-1,"RCS3CR-SA8C-100-5-水平",104,0.1,300]
[1613,2941995,300,-1,-1,"RCS3CR-SA8C-100-5-垂直",12,0.3,300]
[1614,1961330,300,-1,-1,"RCS3CR-SA8C-100-5-垂直",16,0.2,300]
[1615,4903325,600,-1,-1,"RCS3CR-SA8C-100-10-水平",20,0.5,600]
[1616,3922660,600,-1,-1,"RCS3CR-SA8C-100-10-水平",28,0.4,600]
[1617,2941995,600,-1,-1,"RCS3CR-SA8C-100-10-水平",40,0.3,600]
[1618,1961330,600,-1,-1,"RCS3CR-SA8C-100-10-水平",46,0.2,600]
[1619,980665,600,-1,-1,"RCS3CR-SA8C-100-10-水平",52,0.1,600]
[1620,4903325,600,-1,-1,"RCS3CR-SA8C-100-10-垂直",4,0.5,600]
[1621,3922660,600,-1,-1,"RCS3CR-SA8C-100-10-垂直",5.5,0.4,600]
[1622,2941995,600,-1,-1,"RCS3CR-SA8C-100-10-垂直",8,0.3,600]
[1623,6864654.9999999991,1200,-1,-1,"RCS3CR-SA8C-100-20-水平",5,0.7,1200]
[1624,5883990,1200,-1,-1,"RCS3CR-SA8C-100-20-水平",7,0.6,1200]
[1625,4903325,1200,-1,-1,"RCS3CR-SA8C-100-20-水平",10,0.5,1200]
[1626,3922660,1200,-1,-1,"RCS3CR-SA8C-100-20-水平",14,0.4,1200]
[1627,2941995,1200,-1,-1,"RCS3CR-SA8C-100-20-水平",20,0.3,1200]
[1628,1961330,1200,-1,-1,"RCS3CR-SA8C-100-20-水平",23,0.2,1200]
[1629,980665,1200,-1,-1,"RCS3CR-SA8C-100-20-水平",26,0.1,1200]
[1630,6864654.9999999991,1200,-1,-1,"RCS3CR-SA8C-100-20-垂直",1.5,0.7,1200]
[1631,5883990,1200,-1,-1,"RCS3CR-SA8C-100-20-垂直",1.75,0.6,1200]
[1632,4903325,1200,-1,-1,"RCS3CR-SA8C-100-20-垂直",2,0.5,1200]
[1633,3922660,1200,-1,-1,"RCS3CR-SA8C-100-20-垂直",3,0.4,1200]
[1634,2941995,1200,-1,-1,"RCS3CR-SA8C-100-20-垂直",4,0.3,1200]
[1635,9806650,1800,-1,-1,"RCS3CR-SA8C-100-30-水平",1,1,1800]
[1636,8825984.9999999981,1800,-1,-1,"RCS3CR-SA8C-100-30-水平",2,0.9,1800]
[1637,7845320,1800,-1,-1,"RCS3CR-SA8C-100-30-水平",3,0.8,1800]
[1638,6864654.9999999991,1800,-1,-1,"RCS3CR-SA8C-100-30-水平",4,0.7,1800]
[1639,5883990,1800,-1,-1,"RCS3CR-SA8C-100-30-水平",5,0.6,1800]
[1640,4903325,1800,-1,-1,"RCS3CR-SA8C-100-30-水平",6,0.5,1800]
[1641,3922660,1800,-1,-1,"RCS3CR-SA8C-100-30-水平",7,0.4,1800]
[1642,2941995,1800,-1,-1,"RCS3CR-SA8C-100-30-水平",8,0.3,1800]
[1643,1961330,1800,-1,-1,"RCS3CR-SA8C-100-30-水平",9.5,0.2,1800]
[1644,980665,1800,-1,-1,"RCS3CR-SA8C-100-30-水平",10.5,0.1,1800]
[1645,6864654.9999999991,1800,-1,-1,"RCS3CR-SA8C-100-30-垂直",1,0.7,1800]
[1646,5883990,1800,-1,-1,"RCS3CR-SA8C-100-30-垂直",1.2,0.6,1800]
[1647,4903325,1800,-1,-1,"RCS3CR-SA8C-100-30-垂直",1.5,0.5,1800]
[1648,3922660,1800,-1,-1,"RCS3CR-SA8C-100-30-垂直",1.75,0.4,1800]
[1649,2941995,1800,-1,-1,"RCS3CR-SA8C-100-30-垂直",2,0.3,1800]
[1650,4903325,600,-1,-1,"RCS3CR-SA8C-150-10-水平",30,0.5,600]
[1651,3922660,600,-1,-1,"RCS3CR-SA8C-150-10-水平",42,0.4,600]
[1652,2941995,600,-1,-1,"RCS3CR-SA8C-150-10-水平",60,0.3,600]
[1653,1961330,600,-1,-1,"RCS3CR-SA8C-150-10-水平",69,0.2,600]
[1654,980665,600,-1,-1,"RCS3CR-SA8C-150-10-水平",78,0.1,600]
[1655,4903325,600,-1,-1,"RCS3CR-SA8C-150-10-垂直",6,0.5,600]
[1656,3922660,600,-1,-1,"RCS3CR-SA8C-150-10-垂直",8.5,0.4,600]
[1657,2941995,600,-1,-1,"RCS3CR-SA8C-150-10-垂直",12,0.3,600]
[1658,6864654.9999999991,1200,-1,-1,"RCS3CR-SA8C-150-20-水平",7.5,0.7,1200]
[1659,5883990,1200,-1,-1,"RCS3CR-SA8C-150-20-水平",11,0.6,1200]
[1660,4903325,1200,-1,-1,"RCS3CR-SA8C-150-20-水平",15,0.5,1200]
[1661,3922660,1200,-1,-1,"RCS3CR-SA8C-150-20-水平",21,0.4,1200]
[1662,2941995,1200,-1,-1,"RCS3CR-SA8C-150-20-水平",30,0.3,1200]
[1663,1961330,1200,-1,-1,"RCS3CR-SA8C-150-20-水平",34.5,0.2,1200]
[1664,980665,1200,-1,-1,"RCS3CR-SA8C-150-20-水平",39,0.1,1200]
[{"$f":"A1667+1","v":1665},{"$f":"H1668*$A$1*1000*1000","v":6864654.9999999991},{"$f":"I1668","v":1200},-1,-1,"RCS3CR-SA8C-150-20-垂直",2,0.7,1200]
[1666,5883990,1200,-1,-1,"RCS3CR-SA8C-150-20-垂直",2.4,0.6,1200]
[1667,4903325,1200,-1,-1,"RCS3CR-SA8C-150-20-垂直",3,0.5,1200]
[1668,3922660,1200,-1,-1,"RCS3CR-SA8C-150-20-垂直",4,0.4,1200]
[1669,2941995,1200,-1,-1,"RCS3CR-SA8C-150-20-垂直",6,0.3,1200]
[1670,9806650,1800,-1,-1,"RCS3CR-SA8C-150-30-水平",2,1,1800]
[1671,8825984.9999999981,1800,-1,-1,"RCS3CR-SA8C-150-30-水平",3,0.9,1800]
[1672,7845320,1800,-1,-1,"RCS3CR-SA8C-150-30-水平",4.5,0.8,1800]
[1673,6864654.9999999991,1800,-1,-1,"RCS3CR-SA8C-150-30-水平",6,0.7,1800]
[1674,5883990,1800,-1,-1,"RCS3CR-SA8C-150-30-水平",8,0.6,1800]
[1675,4903325,1800,-1,-1,"RCS3CR-SA8C-150-30-水平",10,0.5,1800]
[1676,3922660,1800,-1,-1,"RCS3CR-SA8C-150-30-水平",11,0.4,1800]
[1677,2941995,1800,-1,-1,"RCS3CR-SA8C-150-30-水平",12,0.3,1800]
[1678,1961330,1800,-1,-1,"RCS3CR-SA8C-150-30-水平",14,0.2,1800]
[1679,980665,1800,-1,-1,"RCS3CR-SA8C-150-30-水平",15.5,0.1,1800]
[1680,6864654.9999999991,1800,-1,-1,"RCS3CR-SA8C-150-30-垂直",1.5,0.7,1800]
[1681,5883990,1800,-1,-1,"RCS3CR-SA8C-150-30-垂直",1.75,0.6,1800]
[1682,4903325,1800,-1,-1,"RCS3CR-SA8C-150-30-垂直",2,0.5,1800]
[1683,3922660,1800,-1,-1,"RCS3CR-SA8C-150-30-垂直",2.5,0.4,1800]
[1684,2941995,1800,-1,-1,"RCS3CR-SA8C-150-30-垂直",3,0.3,1800]
[1685,2941995,300,-1,-1,"RCS3CR-SS8C-100-5-水平",65,0.3,300]
[1686,1961330,300,-1,-1,"RCS3CR-SS8C-100-5-水平",80,0.2,300]
[1687,980665,300,-1,-1,"RCS3CR-SS8C-100-5-水平",104,0.1,300]
[1688,2941995,300,-1,-1,"RCS3CR-SS8C-100-5-垂直",12,0.3,300]
[1689,1961330,300,-1,-1,"RCS3CR-SS8C-100-5-垂直",16,0.2,300]
[1690,4903325,600,-1,-1,"RCS3CR-SS8C-100-10-水平",20,0.5,600]
[1691,3922660,600,-1,-1,"RCS3CR-SS8C-100-10-水平",28,0.4,600]
[1692,2941995,600,-1,-1,"RCS3CR-SS8C-100-10-水平",40,0.3,600]
[1693,1961330,600,-1,-1,"RCS3CR-SS8C-100-10-水平",46,0.2,600]
[1694,980665,600,-1,-1,"RCS3CR-SS8C-100-10-水平",52,0.1,600]
[1695,4903325,600,-1,-1,"RCS3CR-SS8C-100-10-垂直",4,0.5,600]
[1696,3922660,600,-1,-1,"RCS3CR-SS8C-100-10-垂直",5.5,0.4,600]
[1697,2941995,600,-1,-1,"RCS3CR-SS8C-100-10-垂直",8,0.3,600]
[1698,6864654.9999999991,1200,-1,-1,"RCS3CR-SS8C-100-20-水平",5,0.7,1200]
[1699,5883990,1200,-1,-1,"RCS3CR-SS8C-100-20-水平",7,0.6,1200]
[1700,4903325,1200,-1,-1,"RCS3CR-SS8C-100-20-水平",10,0.5,1200]
[1701,3922660,1200,-1,-1,"RCS3CR-SS8C-100-20-水平",14,0.4,1200]
[1702,2941995,1200,-1,-1,"RCS3CR-SS8C-100-20-水平",20,0.3,1200]
[1703,1961330,1200,-1,-1,"RCS3CR-SS8C-100-20-水平",23,0.2,1200]
[1704,980665,1200,-1,-1,"RCS3CR-SS8C-100-20-水平",26,0.1,1200]
[1705,6864654.9999999991,1200,-1,-1,"RCS3CR-SS8C-100-20-垂直",1.5,0.7,1200]
[1706,5883990,1200,-1,-1,"RCS3CR-SS8C-100-20-垂直",1.75,0.6,1200]
[1707,4903325,1200,-1,-1,"RCS3CR-SS8C-100-20-垂直",2,0.5,1200]
[1708,3922660,1200,-1,-1,"RCS3CR-SS8C-100-20-垂直",3,0.4,1200]
[1709,2941995,1200,-1,-1,"RCS3CR-SS8C-100-20-垂直",4,0.3,1200]
[1710,9806650,1800,-1,-1,"RCS3CR-SS8C-100-30-水平",1,1,1800]
[1711,8825984.9999999981,1800,-1,-1,"RCS3CR-SS8C-100-30-水平",2,0.9,1800]
[1712,7845320,1800,-1,-1,"RCS3CR-SS8C-100-30-水平",3,0.8,1800]
[1713,6864654.9999999991,1800,-1,-1,"RCS3CR-SS8C-100-30-水平",4,0.7,1800]
[1714,5883990,1800,-1,-1,"RCS3CR-SS8C-100-30-水平",5,0.6,1800]
[1715,4903325,1800,-1,-1,"RCS3CR-SS8C-100-30-水平",6,0.5,1800]
[1716,3922660,1800,-1,-1,"RCS3CR-SS8C-100-30-水平",7,0.4,1800]
[1717,2941995,1800,-1,-1,"RCS3CR-SS8C-100-30-水平",8,0.3,1800]
[1718,1961330,1800,-1,-1,"RCS3CR-SS8C-100-30-水平",9.5,0.2,1800]
[1719,980665,1800,-1,-1,"RCS3CR-SS8C-100-30-水平",10.5,0.1,1800]
[1720,6864654.9999999991,1800,-1,-1,"RCS3CR-SS8C-100-30-垂直",1,0.7,1800]
[1721,5883990,1800,-1,-1,"RCS3CR-SS8C-100-30-垂直",1.2,0.6,1800]
[1722,4903325,1800,-1,-1,"RCS3CR-SS8C-100-30-垂直",1.5,0.5,1800]
[1723,3922660,1800,-1,-1,"RCS3CR-SS8C-100-30-垂直",1.75,0.4,1800]
[1724,2941995,1800,-1,-1,"RCS3CR-SS8C-100-30-垂直",2,0.3,1800]
[1725,4903325,600,-1,-1,"RCS3CR-SS8C-150-10-水平",30,0.5,600]
[1726,3922660,600,-1,-1,"RCS3CR-SS8C-150-10-水平",42,0.4,600]
[1727,2941995,600,-1,-1,"RCS3CR-SS8C-150-10-水平",60,0.3,600]
[1728,1961330,600,-1,-1,"RCS3CR-SS8C-150-10-水平",69,0.2,600]
[{"$f":"A1731+1","v":1729},{"$f":"H1732*$A$1*1000*1000","v":980665},{"$f":"I1732","v":600},-1,-1,"RCS3CR-SS8C-150-10-水平",78,0.1,600]
[1730,4903325,600,-1,-1,"RCS3CR-SS8C-150-10-垂直",6,0.5,600]
[1731,3922660,600,-1,-1,"RCS3CR-SS8C-150-10-垂直",8.5,0.4,600]
[1732,2941995,600,-1,-1,"RCS3CR-SS8C-150-10-垂直",12,0.3,600]
[1733,6864654.9999999991,1200,-1,-1,"RCS3CR-SS8C-150-20-水平",7.5,0.7,1200]
[1734,5883990,1200,-1,-1,"RCS3CR-SS8C-150-20-水平",11,0.6,1200]
[1735,4903325,1200,-1,-1,"RCS3CR-SS8C-150-20-水平",15,0.5,1200]
[1736,3922660,1200,-1,-1,"RCS3CR-SS8C-150-20-水平",21,0.4,1200]
[1737,2941995,1200,-1,-1,"RCS3CR-SS8C-150-20-水平",30,0.3,1200]
[1738,1961330,1200,-1,-1,"RCS3CR-SS8C-150-20-水平",34.5,0.2,1200]
[1739,980665,1200,-1,-1,"RCS3CR-SS8C-150-20-水平",39,0.1,1200]
[1740,6864654.9999999991,1200,-1,-1,"RCS3CR-SS8C-150-20-垂直",2,0.7,1200]
[1741,5883990,1200,-1,-1,"RCS3CR-SS8C-150-20-垂直",2.4,0.6,1200]
[1742,4903325,1200,-1,-1,"RCS3CR-SS8C-150-20-垂直",3,0.5,1200]
[1743,3922660,1200,-1,-1,"RCS3CR-SS8C-150-20-垂直",4,0.4,1200]
[1744,2941995,1200,-1,-1,"RCS3CR-SS8C-150-20-垂直",6,0.3,1200]
[1745,9806650,1800,-1,-1,"RCS3CR-SS8C-150-30-水平",2,1,1800]
[1746,8825984.9999999981,1800,-1,-1,"RCS3CR-SS8C-150-30-水平",3,0.9,1800]
[1747,7845320,1800,-1,-1,"RCS3CR-SS8C-150-30-水平",4.5,0.8,1800]
[1748,6864654.9999999991,1800,-1,-1,"RCS3CR-SS8C-150-30-水平",6,0.7,1800]
[1749,5883990,1800,-1,-1,"RCS3CR-SS8C-150-30-水平",8,0.6,1800]
[1750,4903325,1800,-1,-1,"RCS3CR-SS8C-150-30-水平",10,0.5,1800]
[1751,3922660,1800,-1,-1,"RCS3CR-SS8C-150-30-水平",11,0.4,1800]
[1752,2941995,1800,-1,-1,"RCS3CR-SS8C-150-30-水平",12,0.3,1800]
[1753,1961330,1800,-1,-1,"RCS3CR-SS8C-150-30-水平",14,0.2,1800]
[1754,980665,1800,-1,-1,"RCS3CR-SS8C-150-30-水平",15.5,0.1,1800]
[1755,6864654.9999999991,1800,-1,-1,"RCS3CR-SS8C-150-30-垂直",1.5,0.7,1800]
[1756,5883990,1800,-1,-1,"RCS3CR-SS8C-150-30-垂直",1.75,0.6,1800]
[1757,4903325,1800,-1,-1,"RCS3CR-SS8C-150-30-垂直",2,0.5,1800]
[1758,3922660,1800,-1,-1,"RCS3CR-SS8C-150-30-垂直",2.5,0.4,1800]
[1759,2941995,1800,-1,-1,"RCS3CR-SS8C-150-30-垂直",3,0.3,1800]
[1760,2941995,300,-1,-1,"RCS3-SA8R-100-5-水平",65,0.3,300]
[1761,1961330,300,-1,-1,"RCS3-SA8R-100-5-水平",80,0.2,300]
[1762,980665,300,-1,-1,"RCS3-SA8R-100-5-水平",104,0.1,300]
[1763,2941995,300,-1,-1,"RCS3-SA8R-100-5-垂直",12,0.3,300]
[1764,1961330,300,-1,-1,"RCS3-SA8R-100-5-垂直",16,0.2,300]
[1765,6864654.9999999991,600,-1,-1,"RCS3-SA8R-100-10-水平",5.5,0.7,600]
[1766,5883990,600,-1,-1,"RCS3-SA8R-100-10-水平",10,0.6,600]
[1767,4903325,600,-1,-1,"RCS3-SA8R-100-10-水平",20,0.5,600]
[1768,3922660,600,-1,-1,"RCS3-SA8R-100-10-水平",28,0.4,600]
[1769,2941995,600,-1,-1,"RCS3-SA8R-100-10-水平",40,0.3,600]
[1770,1961330,600,-1,-1,"RCS3-SA8R-100-10-水平",46,0.2,600]
[1771,980665,600,-1,-1,"RCS3-SA8R-100-10-水平",52,0.1,600]
[1772,6864654.9999999991,600,-1,-1,"RCS3-SA8R-100-10-垂直",1.5,0.7,600]
[1773,5883990,600,-1,-1,"RCS3-SA8R-100-10-垂直",2,0.6,600]
[1774,4903325,600,-1,-1,"RCS3-SA8R-100-10-垂直",4,0.5,600]
[1775,3922660,600,-1,-1,"RCS3-SA8R-100-10-垂直",5.5,0.4,600]
[1776,2941995,600,-1,-1,"RCS3-SA8R-100-10-垂直",8,0.3,600]
[1777,9806650,1200,-1,-1,"RCS3-SA8R-100-20-水平",2,1,1200]
[1778,8825984.9999999981,1200,-1,-1,"RCS3-SA8R-100-20-水平",2.5,0.9,1200]
[1779,7845320,1200,-1,-1,"RCS3-SA8R-100-20-水平",3,0.8,1200]
[1780,6864654.9999999991,1200,-1,-1,"RCS3-SA8R-100-20-水平",5,0.7,1200]
[1781,5883990,1200,-1,-1,"RCS3-SA8R-100-20-水平",7,0.6,1200]
[1782,4903325,1200,-1,-1,"RCS3-SA8R-100-20-水平",10,0.5,1200]
[1783,3922660,1200,-1,-1,"RCS3-SA8R-100-20-水平",14,0.4,1200]
[1784,2941995,1200,-1,-1,"RCS3-SA8R-100-20-水平",20,0.3,1200]
[1785,1961330,1200,-1,-1,"RCS3-SA8R-100-20-水平",23,0.2,1200]
[1786,980665,1200,-1,-1,"RCS3-SA8R-100-20-水平",26,0.1,1200]
[1787,9806650,1200,-1,-1,"RCS3-SA8R-100-20-垂直",0.5,1,1200]
[1788,8825984.9999999981,1200,-1,-1,"RCS3-SA8R-100-20-垂直",0.75,0.9,1200]
[1789,7845320,1200,-1,-1,"RCS3-SA8R-100-20-垂直",1,0.8,1200]
[1790,6864654.9999999991,1200,-1,-1,"RCS3-SA8R-100-20-垂直",1.5,0.7,1200]
[1791,5883990,1200,-1,-1,"RCS3-SA8R-100-20-垂直",1.75,0.6,1200]
[1792,4903325,1200,-1,-1,"RCS3-SA8R-100-20-垂直",2,0.5,1200]
[{"$f":"A1795+1","v":1793},{"$f":"H1796*$A$1*1000*1000","v":3922660},{"$f":"I1796","v":1200},-1,-1,"RCS3-SA8R-100-20-垂直",3,0.4,1200]
[1794,2941995,1200,-1,-1,"RCS3-SA8R-100-20-垂直",4,0.3,1200]
[1795,11767980,1800,-1,-1,"RCS3-SA8R-100-30-水平",0.25,1.2,1800]
[1796,10787314.999999998,1800,-1,-1,"RCS3-SA8R-100-30-水平",0.5,1.1000000000000001,1800]
[1797,9806650,1800,-1,-1,"RCS3-SA8R-100-30-水平",1,1,1800]
[1798,8825984.9999999981,1800,-1,-1,"RCS3-SA8R-100-30-水平",2,0.9,1800]
[1799,7845320,1800,-1,-1,"RCS3-SA8R-100-30-水平",3,0.8,1800]
[1800,6864654.9999999991,1800,-1,-1,"RCS3-SA8R-100-30-水平",4,0.7,1800]
[1801,5883990,1800,-1,-1,"RCS3-SA8R-100-30-水平",5,0.6,1800]
[1802,4903325,1800,-1,-1,"RCS3-SA8R-100-30-水平",6,0.5,1800]
[1803,3922660,1800,-1,-1,"RCS3-SA8R-100-30-水平",7,0.4,1800]
[1804,2941995,1800,-1,-1,"RCS3-SA8R-100-30-水平",8,0.3,1800]
[1805,1961330,1800,-1,-1,"RCS3-SA8R-100-30-水平",9,0.2,1800]
[1806,980665,1800,-1,-1,"RCS3-SA8R-100-30-水平",10.5,0.1,1800]
[1807,11767980,1800,-1,-1,"RCS3-SA8R-100-30-垂直",0.2,1.2,1800]
[1808,10787314.999999998,1800,-1,-1,"RCS3-SA8R-100-30-垂直",0.3,1.1000000000000001,1800]
[1809,9806650,1800,-1,-1,"RCS3-SA8R-100-30-垂直",0.4,1,1800]
[1810,8825984.9999999981,1800,-1,-1,"RCS3-SA8R-100-30-垂直",0.5,0.9,1800]
[1811,7845320,1800,-1,-1,"RCS3-SA8R-100-30-垂直",0.7,0.8,1800]
[1812,6864654.9999999991,1800,-1,-1,"RCS3-SA8R-100-30-垂直",1,0.7,1800]
[1813,5883990,1800,-1,-1,"RCS3-SA8R-100-30-垂直",1.2,0.6,1800]
[1814,4903325,1800,-1,-1,"RCS3-SA8R-100-30-垂直",1.5,0.5,1800]
[1815,3922660,1800,-1,-1,"RCS3-SA8R-100-30-垂直",1.75,0.4,1800]
[1816,2941995,1800,-1,-1,"RCS3-SA8R-100-30-垂直",2,0.3,1800]
[1817,6864654.9999999991,600,-1,-1,"RCS3-SA8R-150-10-水平",8,0.7,600]
[1818,5883990,600,-1,-1,"RCS3-SA8R-150-10-水平",15,0.6,600]
[1819,4903325,600,-1,-1,"RCS3-SA8R-150-10-水平",30,0.5,600]
[1820,3922660,600,-1,-1,"RCS3-SA8R-150-10-水平",42,0.4,600]
[1821,2941995,600,-1,-1,"RCS3-SA8R-150-10-水平",60,0.3,600]
[1822,1961330,600,-1,-1,"RCS3-SA8R-150-10-水平",69,0.2,600]
[1823,980665,600,-1,-1,"RCS3-SA8R-150-10-水平",78,0.1,600]
[1824,6864654.9999999991,600,-1,-1,"RCS3-SA8R-150-10-垂直",2,0.7,600]
[1825,5883990,600,-1,-1,"RCS3-SA8R-150-10-垂直",3,0.6,600]
[1826,4903325,600,-1,-1,"RCS3-SA8R-150-10-垂直",6,0.5,600]
[1827,3922660,600,-1,-1,"RCS3-SA8R-150-10-垂直",8.5,0.4,600]
[1828,2941995,600,-1,-1,"RCS3-SA8R-150-10-垂直",12,0.3,600]
[1829,9806650,1200,-1,-1,"RCS3-SA8R-150-20-水平",2.5,1,1200]
[1830,8825984.9999999981,1200,-1,-1,"RCS3-SA8R-150-20-水平",3.5,0.9,1200]
[1831,7845320,1200,-1,-1,"RCS3-SA8R-150-20-水平",4.5,0.8,1200]
[1832,6864654.9999999991,1200,-1,-1,"RCS3-SA8R-150-20-水平",7.5,0.7,1200]
[1833,5883990,1200,-1,-1,"RCS3-SA8R-150-20-水平",11,0.6,1200]
[1834,4903325,1200,-1,-1,"RCS3-SA8R-150-20-水平",15,0.5,1200]
[1835,3922660,1200,-1,-1,"RCS3-SA8R-150-20-水平",21,0.4,1200]
[1836,2941995,1200,-1,-1,"RCS3-SA8R-150-20-水平",30,0.3,1200]
[1837,1961330,1200,-1,-1,"RCS3-SA8R-150-20-水平",34.5,0.2,1200]
[1838,980665,1200,-1,-1,"RCS3-SA8R-150-20-水平",39,0.1,1200]
[1839,9806650,1200,-1,-1,"RCS3-SA8R-150-20-垂直",0.8,1,1200]
[1840,8825984.9999999981,1200,-1,-1,"RCS3-SA8R-150-20-垂直",1,0.9,1200]
[1841,7845320,1200,-1,-1,"RCS3-SA8R-150-20-垂直",1.5,0.8,1200]
[1842,6864654.9999999991,1200,-1,-1,"RCS3-SA8R-150-20-垂直",2,0.7,1200]
[1843,5883990,1200,-1,-1,"RCS3-SA8R-150-20-垂直",2.4,0.6,1200]
[1844,4903325,1200,-1,-1,"RCS3-SA8R-150-20-垂直",3,0.5,1200]
[1845,3922660,1200,-1,-1,"RCS3-SA8R-150-20-垂直",4,0.4,1200]
[1846,2941995,1200,-1,-1,"RCS3-SA8R-150-20-垂直",6,0.3,1200]
[1847,11767980,1800,-1,-1,"RCS3-SA8R-150-30-水平",1,1.2,1800]
[1848,10787314.999999998,1800,-1,-1,"RCS3-SA8R-150-30-水平",1.5,1.1000000000000001,1800]
[1849,9806650,1800,-1,-1,"RCS3-SA8R-150-30-水平",2,1,1800]
[1850,8825984.9999999981,1800,-1,-1,"RCS3-SA8R-150-30-水平",3,0.9,1800]
[1851,7845320,1800,-1,-1,"RCS3-SA8R-150-30-水平",4.5,0.8,1800]
[1852,6864654.9999999991,1800,-1,-1,"RCS3-SA8R-150-30-水平",6,0.7,1800]
[1853,5883990,1800,-1,-1,"RCS3-SA8R-150-30-水平",8,0.6,1800]
[1854,4903325,1800,-1,-1,"RCS3-SA8R-150-30-水平",10,0.5,1800]
[1855,3922660,1800,-1,-1,"RCS3-SA8R-150-30-水平",11,0.4,1800]
[1856,2941995,1800,-1,-1,"RCS3-SA8R-150-30-水平",12,0.3,1800]
[{"$f":"A1859+1","v":1857},{"$f":"H1860*$A$1*1000*1000","v":1961330},{"$f":"I1860","v":1800},-1,-1,"RCS3-SA8R-150-30-水平",13.8,0.2,1800]
[1858,980665,1800,-1,-1,"RCS3-SA8R-150-30-水平",15.5,0.1,1800]
[1859,11767980,1800,-1,-1,"RCS3-SA8R-150-30-垂直",0.4,1.2,1800]
[1860,10787314.999999998,1800,-1,-1,"RCS3-SA8R-150-30-垂直",0.5,1.1000000000000001,1800]
[1861,9806650,1800,-1,-1,"RCS3-SA8R-150-30-垂直",0.6,1,1800]
[1862,8825984.9999999981,1800,-1,-1,"RCS3-SA8R-150-30-垂直",0.8,0.9,1800]
[1863,7845320,1800,-1,-1,"RCS3-SA8R-150-30-垂直",1.1000000000000001,0.8,1800]
[1864,6864654.9999999991,1800,-1,-1,"RCS3-SA8R-150-30-垂直",1.5,0.7,1800]
[1865,5883990,1800,-1,-1,"RCS3-SA8R-150-30-垂直",1.75,0.6,1800]
[1866,4903325,1800,-1,-1,"RCS3-SA8R-150-30-垂直",2,0.5,1800]
[1867,3922660,1800,-1,-1,"RCS3-SA8R-150-30-垂直",2.5,0.4,1800]
[1868,2941995,1800,-1,-1,"RCS3-SA8R-150-30-垂直",3,0.3,1800]
[1869,2941995,300,-1,-1,"RCS3-SS8R-100-5-水平",65,0.3,300]
[1870,1961330,300,-1,-1,"RCS3-SS8R-100-5-水平",80,0.2,300]
[1871,980665,300,-1,-1,"RCS3-SS8R-100-5-水平",104,0.1,300]
[1872,2941995,300,-1,-1,"RCS3-SS8R-100-5-垂直",12,0.3,300]
[1873,1961330,300,-1,-1,"RCS3-SS8R-100-5-垂直",16,0.2,300]
[1874,6864654.9999999991,600,-1,-1,"RCS3-SS8R-100-10-水平",5.5,0.7,600]
[1875,5883990,600,-1,-1,"RCS3-SS8R-100-10-水平",10,0.6,600]
[1876,4903325,600,-1,-1,"RCS3-SS8R-100-10-水平",20,0.5,600]
[1877,3922660,600,-1,-1,"RCS3-SS8R-100-10-水平",28,0.4,600]
[1878,2941995,600,-1,-1,"RCS3-SS8R-100-10-水平",40,0.3,600]
[1879,1961330,600,-1,-1,"RCS3-SS8R-100-10-水平",46,0.2,600]
[1880,980665,600,-1,-1,"RCS3-SS8R-100-10-水平",52,0.1,600]
[1881,6864654.9999999991,600,-1,-1,"RCS3-SS8R-100-10-垂直",1.5,0.7,600]
[1882,5883990,600,-1,-1,"RCS3-SS8R-100-10-垂直",2,0.6,600]
[1883,4903325,600,-1,-1,"RCS3-SS8R-100-10-垂直",4,0.5,600]
[1884,3922660,600,-1,-1,"RCS3-SS8R-100-10-垂直",5.5,0.4,600]
[1885,2941995,600,-1,-1,"RCS3-SS8R-100-10-垂直",8,0.3,600]
[1886,9806650,1200,-1,-1,"RCS3-SS8R-100-20-水平",2,1,1200]
[1887,8825984.9999999981,1200,-1,-1,"RCS3-SS8R-100-20-水平",2.5,0.9,1200]
[1888,7845320,1200,-1,-1,"RCS3-SS8R-100-20-水平",3,0.8,1200]
[1889,6864654.9999999991,1200,-1,-1,"RCS3-SS8R-100-20-水平",5,0.7,1200]
[1890,5883990,1200,-1,-1,"RCS3-SS8R-100-20-水平",7,0.6,1200]
[1891,4903325,1200,-1,-1,"RCS3-SS8R-100-20-水平",10,0.5,1200]
[1892,3922660,1200,-1,-1,"RCS3-SS8R-100-20-水平",14,0.4,1200]
[1893,2941995,1200,-1,-1,"RCS3-SS8R-100-20-水平",20,0.3,1200]
[1894,1961330,1200,-1,-1,"RCS3-SS8R-100-20-水平",23,0.2,1200]
[1895,980665,1200,-1,-1,"RCS3-SS8R-100-20-水平",26,0.1,1200]
[1896,9806650,1200,-1,-1,"RCS3-SS8R-100-20-垂直",0.5,1,1200]
[1897,8825984.9999999981,1200,-1,-1,"RCS3-SS8R-100-20-垂直",0.75,0.9,1200]
[1898,7845320,1200,-1,-1,"RCS3-SS8R-100-20-垂直",1,0.8,1200]
[1899,6864654.9999999991,1200,-1,-1,"RCS3-SS8R-100-20-垂直",1.5,0.7,1200]
[1900,5883990,1200,-1,-1,"RCS3-SS8R-100-20-垂直",1.75,0.6,1200]
[1901,4903325,1200,-1,-1,"RCS3-SS8R-100-20-垂直",2,0.5,1200]
[1902,3922660,1200,-1,-1,"RCS3-SS8R-100-20-垂直",3,0.4,1200]
[1903,2941995,1200,-1,-1,"RCS3-SS8R-100-20-垂直",4,0.3,1200]
[1904,11767980,1800,-1,-1,"RCS3-SS8R-100-30-水平",0.25,1.2,1800]
[1905,10787314.999999998,1800,-1,-1,"RCS3-SS8R-100-30-水平",0.5,1.1000000000000001,1800]
[1906,9806650,1800,-1,-1,"RCS3-SS8R-100-30-水平",1,1,1800]
[1907,8825984.9999999981,1800,-1,-1,"RCS3-SS8R-100-30-水平",2,0.9,1800]
[1908,7845320,1800,-1,-1,"RCS3-SS8R-100-30-水平",3,0.8,1800]
[1909,6864654.9999999991,1800,-1,-1,"RCS3-SS8R-100-30-水平",4,0.7,1800]
[1910,5883990,1800,-1,-1,"RCS3-SS8R-100-30-水平",5,0.6,1800]
[1911,4903325,1800,-1,-1,"RCS3-SS8R-100-30-水平",6,0.5,1800]
[1912,3922660,1800,-1,-1,"RCS3-SS8R-100-30-水平",7,0.4,1800]
[1913,2941995,1800,-1,-1,"RCS3-SS8R-100-30-水平",8,0.3,1800]
[1914,1961330,1800,-1,-1,"RCS3-SS8R-100-30-水平",9,0.2,1800]
[1915,980665,1800,-1,-1,"RCS3-SS8R-100-30-水平",10.5,0.1,1800]
[1916,11767980,1800,-1,-1,"RCS3-SS8R-100-30-垂直",0.2,1.2,1800]
[1917,10787314.999999998,1800,-1,-1,"RCS3-SS8R-100-30-垂直",0.3,1.1000000000000001,1800]
[1918,9806650,1800,-1,-1,"RCS3-SS8R-100-30-垂直",0.4,1,1800]
[1919,8825984.9999999981,1800,-1,-1,"RCS3-SS8R-100-30-垂直",0.5,0.9,1800]
[1920,7845320,1800,-1,-1,"RCS3-SS8R-100-30-垂直",0.7,0.8,1800]
[{"$f":"A1923+1","v":1921},{"$f":"H1924*$A$1*1000*1000","v":6864654.9999999991},{"$f":"I1924","v":1800},-1,-1,"RCS3-SS8R-100-30-垂直",1,0.7,1800]
[1922,5883990,1800,-1,-1,"RCS3-SS8R-100-30-垂直",1.2,0.6,1800]
[1923,4903325,1800,-1,-1,"RCS3-SS8R-100-30-垂直",1.5,0.5,1800]
[1924,3922660,1800,-1,-1,"RCS3-SS8R-100-30-垂直",1.75,0.4,1800]
[1925,2941995,1800,-1,-1,"RCS3-SS8R-100-30-垂直",2,0.3,1800]
[1926,6864654.9999999991,600,-1,-1,"RCS3-SS8R-150-10-水平",8,0.7,600]
[1927,5883990,600,-1,-1,"RCS3-SS8R-150-10-水平",15,0.6,600]
[1928,4903325,600,-1,-1,"RCS3-SS8R-150-10-水平",30,0.5,600]
[1929,3922660,600,-1,-1,"RCS3-SS8R-150-10-水平",42,0.4,600]
[1930,2941995,600,-1,-1,"RCS3-SS8R-150-10-水平",60,0.3,600]
[1931,1961330,600,-1,-1,"RCS3-SS8R-150-10-水平",69,0.2,600]
[1932,980665,600,-1,-1,"RCS3-SS8R-150-10-水平",78,0.1,600]
[1933,6864654.9999999991,600,-1,-1,"RCS3-SS8R-150-10-垂直",2,0.7,600]
[1934,5883990,600,-1,-1,"RCS3-SS8R-150-10-垂直",3,0.6,600]
[1935,4903325,600,-1,-1,"RCS3-SS8R-150-10-垂直",6,0.5,600]
[1936,3922660,600,-1,-1,"RCS3-SS8R-150-10-垂直",8.5,0.4,600]
[1937,2941995,600,-1,-1,"RCS3-SS8R-150-10-垂直",12,0.3,600]
[1938,9806650,1200,-1,-1,"RCS3-SS8R-150-20-水平",2.5,1,1200]
[1939,8825984.9999999981,1200,-1,-1,"RCS3-SS8R-150-20-水平",3.5,0.9,1200]
[1940,7845320,1200,-1,-1,"RCS3-SS8R-150-20-水平",4.5,0.8,1200]
[1941,6864654.9999999991,1200,-1,-1,"RCS3-SS8R-150-20-水平",7.5,0.7,1200]
[1942,5883990,1200,-1,-1,"RCS3-SS8R-150-20-水平",11,0.6,1200]
[1943,4903325,1200,-1,-1,"RCS3-SS8R-150-20-水平",15,0.5,1200]
[1944,3922660,1200,-1,-1,"RCS3-SS8R-150-20-水平",21,0.4,1200]
[1945,2941995,1200,-1,-1,"RCS3-SS8R-150-20-水平",30,0.3,1200]
[1946,1961330,1200,-1,-1,"RCS3-SS8R-150-20-水平",34.5,0.2,1200]
[1947,980665,1200,-1,-1,"RCS3-SS8R-150-20-水平",39,0.1,1200]
[1948,9806650,1200,-1,-1,"RCS3-SS8R-150-20-垂直",0.8,1,1200]
[1949,8825984.9999999981,1200,-1,-1,"RCS3-SS8R-150-20-垂直",1,0.9,1200]
[1950,7845320,1200,-1,-1,"RCS3-SS8R-150-20-垂直",1.5,0.8,1200]
[1951,6864654.9999999991,1200,-1,-1,"RCS3-SS8R-150-20-垂直",2,0.7,1200]
[1952,5883990,1200,-1,-1,"RCS3-SS8R-150-20-垂直",2.4,0.6,1200]
[1953,4903325,1200,-1,-1,"RCS3-SS8R-150-20-垂直",3,0.5,1200]
[1954,3922660,1200,-1,-1,"RCS3-SS8R-150-20-垂直",4,0.4,1200]
[1955,2941995,1200,-1,-1,"RCS3-SS8R-150-20-垂直",6,0.3,1200]
[1956,11767980,1800,-1,-1,"RCS3-SS8R-150-30-水平",1,1.2,1800]
[1957,10787314.999999998,1800,-1,-1,"RCS3-SS8R-150-30-水平",1.5,1.1000000000000001,1800]
[1958,9806650,1800,-1,-1,"RCS3-SS8R-150-30-水平",2,1,1800]
[1959,8825984.9999999981,1800,-1,-1,"RCS3-SS8R-150-30-水平",3,0.9,1800]
[1960,7845320,1800,-1,-1,"RCS3-SS8R-150-30-水平",4.5,0.8,1800]
[1961,6864654.9999999991,1800,-1,-1,"RCS3-SS8R-150-30-水平",6,0.7,1800]
[1962,5883990,1800,-1,-1,"RCS3-SS8R-150-30-水平",8,0.6,1800]
[1963,4903325,1800,-1,-1,"RCS3-SS8R-150-30-水平",10,0.5,1800]
[1964,3922660,1800,-1,-1,"RCS3-SS8R-150-30-水平",11,0.4,1800]
[1965,2941995,1800,-1,-1,"RCS3-SS8R-150-30-水平",12,0.3,1800]
[1966,1961330,1800,-1,-1,"RCS3-SS8R-150-30-水平",13.8,0.2,1800]
[1967,980665,1800,-1,-1,"RCS3-SS8R-150-30-水平",15.5,0.1,1800]
[1968,11767980,1800,-1,-1,"RCS3-SS8R-150-30-垂直",0.4,1.2,1800]
[1969,10787314.999999998,1800,-1,-1,"RCS3-SS8R-150-30-垂直",0.5,1.1000000000000001,1800]
[1970,9806650,1800,-1,-1,"RCS3-SS8R-150-30-垂直",0.6,1,1800]
[1971,8825984.9999999981,1800,-1,-1,"RCS3-SS8R-150-30-垂直",0.8,0.9,1800]
[1972,7845320,1800,-1,-1,"RCS3-SS8R-150-30-垂直",1.1000000000000001,0.8,1800]
[1973,6864654.9999999991,1800,-1,-1,"RCS3-SS8R-150-30-垂直",1.5,0.7,1800]
[1974,5883990,1800,-1,-1,"RCS3-SS8R-150-30-垂直",1.75,0.6,1800]
[1975,4903325,1800,-1,-1,"RCS3-SS8R-150-30-垂直",2,0.5,1800]
[1976,3922660,1800,-1,-1,"RCS3-SS8R-150-30-垂直",2.5,0.4,1800]
[1977,2941995,1800,-1,-1,"RCS3-SS8R-150-30-垂直",3,0.3,1800]
[1978,4903325,165,-1,-1,"RCS2-SA4C-20-2.5-水平",1,0.5,165]
[1979,3922660,165,-1,-1,"RCS2-SA4C-20-2.5-水平",2.5,0.4,165]
[1980,2941995,165,-1,-1,"RCS2-SA4C-20-2.5-水平",5,0.3,165]
[1981,1961330,165,-1,-1,"RCS2-SA4C-20-2.5-水平",8,0.2,165]
[1982,980665,165,-1,-1,"RCS2-SA4C-20-2.5-水平",11,0.1,165]
[1983,2941995,165,-1,-1,"RCS2-SA4C-20-2.5-垂直",2,0.3,165]
[1984,1961330,165,-1,-1,"RCS2-SA4C-20-2.5-垂直",4.5,0.2,165]
[{"$f":"A1987+1","v":1985},{"$f":"H1988*$A$1*1000*1000","v":11767980},{"$f":"I1988","v":330},-1,-1,"RCS2-SA4C-20-5-水平",0.4,1.2,330]
[1986,10787314.999999998,330,-1,-1,"RCS2-SA4C-20-5-水平",0.7,1.1000000000000001,330]
[1987,9806650,330,-1,-1,"RCS2-SA4C-20-5-水平",1,1,330]
[1988,8825984.9999999981,330,-1,-1,"RCS2-SA4C-20-5-水平",1.5,0.9,330]
[1989,7845320,330,-1,-1,"RCS2-SA4C-20-5-水平",2,0.8,330]
[1990,6864654.9999999991,330,-1,-1,"RCS2-SA4C-20-5-水平",2.5,0.7,330]
[1991,5883990,330,-1,-1,"RCS2-SA4C-20-5-水平",3.25,0.6,330]
[1992,4903325,330,-1,-1,"RCS2-SA4C-20-5-水平",4,0.5,330]
[1993,3922660,330,-1,-1,"RCS2-SA4C-20-5-水平",5,0.4,330]
[1994,2941995,330,-1,-1,"RCS2-SA4C-20-5-水平",6,0.3,330]
[1995,1961330,330,-1,-1,"RCS2-SA4C-20-5-水平",7.2,0.2,330]
[1996,980665,330,-1,-1,"RCS2-SA4C-20-5-水平",8.5,0.1,330]
[1997,9806650,330,-1,-1,"RCS2-SA4C-20-5-垂直",0.5,1,330]
[1998,8825984.9999999981,330,-1,-1,"RCS2-SA4C-20-5-垂直",0.6,0.9,330]
[1999,7845320,330,-1,-1,"RCS2-SA4C-20-5-垂直",0.8,0.8,330]
[2000,6864654.9999999991,330,-1,-1,"RCS2-SA4C-20-5-垂直",1,0.7,330]
[2001,5883990,330,-1,-1,"RCS2-SA4C-20-5-垂直",1.2,0.6,330]
[2002,4903325,330,-1,-1,"RCS2-SA4C-20-5-垂直",1.5,0.5,330]
[2003,3922660,330,-1,-1,"RCS2-SA4C-20-5-垂直",1.9,0.4,330]
[2004,2941995,330,-1,-1,"RCS2-SA4C-20-5-垂直",2.5,0.3,330]
[2005,14709975,665,-1,-1,"RCS2-SA4C-20-10-水平",0.5,1.5,665]
[2006,13729309.999999998,665,-1,-1,"RCS2-SA4C-20-10-水平",0.55000000000000004,1.4,665]
[2007,12748645,665,-1,-1,"RCS2-SA4C-20-10-水平",0.6,1.3,665]
[2008,11767980,665,-1,-1,"RCS2-SA4C-20-10-水平",0.65,1.2,665]
[2009,10787314.999999998,665,-1,-1,"RCS2-SA4C-20-10-水平",0.7,1.1000000000000001,665]
[2010,9806650,665,-1,-1,"RCS2-SA4C-20-10-水平",0.8,1,665]
[2011,8825984.9999999981,665,-1,-1,"RCS2-SA4C-20-10-水平",0.9,0.9,665]
[2012,7845320,665,-1,-1,"RCS2-SA4C-20-10-水平",1.2,0.8,665]
[2013,6864654.9999999991,665,-1,-1,"RCS2-SA4C-20-10-水平",1.5,0.7,665]
[2014,5883990,665,-1,-1,"RCS2-SA4C-20-10-水平",2,0.6,665]
[2015,4903325,665,-1,-1,"RCS2-SA4C-20-10-水平",2.5,0.5,665]
[2016,3922660,665,-1,-1,"RCS2-SA4C-20-10-水平",3.25,0.4,665]
[2017,2941995,665,-1,-1,"RCS2-SA4C-20-10-水平",4,0.3,665]
[2018,1961330,665,-1,-1,"RCS2-SA4C-20-10-水平",4.8,0.2,665]
[2019,980665,665,-1,-1,"RCS2-SA4C-20-10-水平",5.5,0.1,665]
[2020,14709975,665,-1,-1,"RCS2-SA4C-20-10-垂直",0.1,1.5,665]
[2021,13729309.999999998,665,-1,-1,"RCS2-SA4C-20-10-垂直",0.12,1.4,665]
[2022,12748645,665,-1,-1,"RCS2-SA4C-20-10-垂直",0.14000000000000001,1.3,665]
[2023,11767980,665,-1,-1,"RCS2-SA4C-20-10-垂直",0.17,1.2,665]
[2024,10787314.999999998,665,-1,-1,"RCS2-SA4C-20-10-垂直",0.21,1.1000000000000001,665]
[2025,9806650,665,-1,-1,"RCS2-SA4C-20-10-垂直",0.25,1,665]
[2026,8825984.9999999981,665,-1,-1,"RCS2-SA4C-20-10-垂直",0.32,0.9,665]
[2027,7845320,665,-1,-1,"RCS2-SA4C-20-10-垂直",0.4,0.8,665]
[2028,6864654.9999999991,665,-1,-1,"RCS2-SA4C-20-10-垂直",0.5,0.7,665]
[2029,5883990,665,-1,-1,"RCS2-SA4C-20-10-垂直",0.6,0.6,665]
[2030,4903325,665,-1,-1,"RCS2-SA4C-20-10-垂直",0.7,0.5,665]
[2031,3922660,665,-1,-1,"RCS2-SA4C-20-10-垂直",0.85,0.4,665]
[2032,2941995,665,-1,-1,"RCS2-SA4C-20-10-垂直",1,0.3,665]
[2033,19613300,1330,-1,-1,"RCS2-SA4C-20-16-水平",0.2,2,1330]
[2034,18632635,1330,-1,-1,"RCS2-SA4C-20-16-水平",0.215,1.9,1330]
[2035,17651969.999999996,1330,-1,-1,"RCS2-SA4C-20-16-水平",0.23,1.8,1330]
[2036,16671305,1330,-1,-1,"RCS2-SA4C-20-16-水平",0.25,1.7,1330]
[2037,15690640,1330,-1,-1,"RCS2-SA4C-20-16-水平",0.27,1.6,1330]
[2038,14709975,1330,-1,-1,"RCS2-SA4C-20-16-水平",0.3,1.5,1330]
[2039,13729309.999999998,1330,-1,-1,"RCS2-SA4C-20-16-水平",0.32,1.4,1330]
[2040,12748645,1330,-1,-1,"RCS2-SA4C-20-16-水平",0.36,1.3,1330]
[2041,11767980,1330,-1,-1,"RCS2-SA4C-20-16-水平",0.4,1.2,1330]
[2042,10787314.999999998,1330,-1,-1,"RCS2-SA4C-20-16-水平",0.44,1.1000000000000001,1330]
[2043,9806650,1330,-1,-1,"RCS2-SA4C-20-16-水平",0.5,1,1330]
[2044,8825984.9999999981,1330,-1,-1,"RCS2-SA4C-20-16-水平",0.65,0.9,1330]
[2045,7845320,1330,-1,-1,"RCS2-SA4C-20-16-水平",0.8,0.8,1330]
[2046,6864654.9999999991,1330,-1,-1,"RCS2-SA4C-20-16-水平",1,0.7,1330]
[2047,5883990,1330,-1,-1,"RCS2-SA4C-20-16-水平",1.2,0.6,1330]
[2048,4903325,1330,-1,-1,"RCS2-SA4C-20-16-水平",1.5,0.5,1330]
[{"$f":"A2051+1","v":2049},{"$f":"H2052*$A$1*1000*1000","v":3922660},{"$f":"I2052","v":1330},-1,-1,"RCS2-SA4C-20-16-水平",2,0.4,1330]
[2050,2941995,1330,-1,-1,"RCS2-SA4C-20-16-水平",2.5,0.3,1330]
[2051,1961330,1330,-1,-1,"RCS2-SA4C-20-16-水平",3,0.2,1330]
[2052,980665,1330,-1,-1,"RCS2-SA4C-20-16-水平",3.5,0.1,1330]
[2053,9806650,1330,-1,-1,"RCS2-SA4C-20-16-垂直",0.1,1,1330]
[2054,8825984.9999999981,1330,-1,-1,"RCS2-SA4C-20-16-垂直",0.12,0.9,1330]
[2055,7845320,1330,-1,-1,"RCS2-SA4C-20-16-垂直",0.15,0.8,1330]
[2056,6864654.9999999991,1330,-1,-1,"RCS2-SA4C-20-16-垂直",0.2,0.7,1330]
[2057,5883990,1330,-1,-1,"RCS2-SA4C-20-16-垂直",0.25,0.6,1330]
[2058,4903325,1330,-1,-1,"RCS2-SA4C-20-16-垂直",0.3,0.5,1330]
[2059,3922660,1330,-1,-1,"RCS2-SA4C-20-16-垂直",0.4,0.4,1330]
[2060,2941995,1330,-1,-1,"RCS2-SA4C-20-16-垂直",0.6,0.3,1330]
[2061,2941995,200,-1,-1,"RCS2-SA5C-20-3-水平",3,0.3,200]
[2062,1961330,200,-1,-1,"RCS2-SA5C-20-3-水平",12,0.2,200]
[2063,980665,200,-1,-1,"RCS2-SA5C-20-3-水平",17,0.1,200]
[2064,2941995,200,-1,-1,"RCS2-SA5C-20-3-垂直",2,0.3,200]
[2065,1961330,200,-1,-1,"RCS2-SA5C-20-3-垂直",4,0.2,200]
[2066,9806650,400,-1,-1,"RCS2-SA5C-20-6-水平",1,1,400]
[2067,8825984.9999999981,400,-1,-1,"RCS2-SA5C-20-6-水平",1.4,0.9,400]
[2068,7845320,400,-1,-1,"RCS2-SA5C-20-6-水平",1.9,0.8,400]
[2069,6864654.9999999991,400,-1,-1,"RCS2-SA5C-20-6-水平",2.5,0.7,400]
[2070,5883990,400,-1,-1,"RCS2-SA5C-20-6-水平",3.3,0.6,400]
[2071,4903325,400,-1,-1,"RCS2-SA5C-20-6-水平",4.5,0.5,400]
[2072,3922660,400,-1,-1,"RCS2-SA5C-20-6-水平",6,0.4,400]
[2073,2941995,400,-1,-1,"RCS2-SA5C-20-6-水平",8,0.3,400]
[2074,1961330,400,-1,-1,"RCS2-SA5C-20-6-水平",9.6,0.2,400]
[2075,980665,400,-1,-1,"RCS2-SA5C-20-6-水平",11,0.1,400]
[2076,9806650,400,-1,-1,"RCS2-SA5C-20-6-垂直",0.5,1,400]
[2077,8825984.9999999981,400,-1,-1,"RCS2-SA5C-20-6-垂直",0.55000000000000004,0.9,400]
[2078,7845320,400,-1,-1,"RCS2-SA5C-20-6-垂直",0.65,0.8,400]
[2079,6864654.9999999991,400,-1,-1,"RCS2-SA5C-20-6-垂直",0.8,0.7,400]
[2080,5883990,400,-1,-1,"RCS2-SA5C-20-6-垂直",1,0.6,400]
[2081,4903325,400,-1,-1,"RCS2-SA5C-20-6-垂直",1.25,0.5,400]
[2082,3922660,400,-1,-1,"RCS2-SA5C-20-6-垂直",1.6,0.4,400]
[2083,2941995,400,-1,-1,"RCS2-SA5C-20-6-垂直",2,0.3,400]
[2084,14709975,1000,-1,-1,"RCS2-SA5C-20-12-水平",0.5,1.5,1000]
[2085,13729309.999999998,1000,-1,-1,"RCS2-SA5C-20-12-水平",0.55000000000000004,1.4,1000]
[2086,12748645,1000,-1,-1,"RCS2-SA5C-20-12-水平",0.65,1.3,1000]
[2087,11767980,1000,-1,-1,"RCS2-SA5C-20-12-水平",0.75,1.2,1000]
[2088,10787314.999999998,1000,-1,-1,"RCS2-SA5C-20-12-水平",0.85,1.1000000000000001,1000]
[2089,9806650,1000,-1,-1,"RCS2-SA5C-20-12-水平",1,1,1000]
[2090,8825984.9999999981,1000,-1,-1,"RCS2-SA5C-20-12-水平",1.25,0.9,1000]
[2091,7845320,1000,-1,-1,"RCS2-SA5C-20-12-水平",1.5,0.8,1000]
[2092,6864654.9999999991,1000,-1,-1,"RCS2-SA5C-20-12-水平",1.75,0.7,1000]
[2093,5883990,1000,-1,-1,"RCS2-SA5C-20-12-水平",2,0.6,1000]
[2094,4903325,1000,-1,-1,"RCS2-SA5C-20-12-水平",2.5,0.5,1000]
[2095,3922660,1000,-1,-1,"RCS2-SA5C-20-12-水平",3,0.4,1000]
[2096,2941995,1000,-1,-1,"RCS2-SA5C-20-12-水平",4,0.3,1000]
[2097,1961330,1000,-1,-1,"RCS2-SA5C-20-12-水平",4.8,0.2,1000]
[2098,980665,1000,-1,-1,"RCS2-SA5C-20-12-水平",5.5,0.1,1000]
[2099,11767980,1000,-1,-1,"RCS2-SA5C-20-12-垂直",0.1,1.2,1000]
[2100,10787314.999999998,1000,-1,-1,"RCS2-SA5C-20-12-垂直",0.15,1.1000000000000001,1000]
[2101,9806650,1000,-1,-1,"RCS2-SA5C-20-12-垂直",0.2,1,1000]
[2102,8825984.9999999981,1000,-1,-1,"RCS2-SA5C-20-12-垂直",0.25,0.9,1000]
[2103,7845320,1000,-1,-1,"RCS2-SA5C-20-12-垂直",0.3,0.8,1000]
[2104,6864654.9999999991,1000,-1,-1,"RCS2-SA5C-20-12-垂直",0.35,0.7,1000]
[2105,5883990,1000,-1,-1,"RCS2-SA5C-20-12-垂直",0.45,0.6,1000]
[2106,4903325,1000,-1,-1,"RCS2-SA5C-20-12-垂直",0.6,0.5,1000]
[2107,3922660,1000,-1,-1,"RCS2-SA5C-20-12-垂直",0.8,0.4,1000]
[2108,2941995,1000,-1,-1,"RCS2-SA5C-20-12-垂直",1,0.3,1000]
[2109,14709975,1660,-1,-1,"RCS2-SA5C-20-20-水平",0.2,1.5,1660]
[2110,13729309.999999998,1660,-1,-1,"RCS2-SA5C-20-20-水平",0.25,1.4,1660]
[2111,12748645,1660,-1,-1,"RCS2-SA5C-20-20-水平",0.3,1.3,1660]
[2112,11767980,1660,-1,-1,"RCS2-SA5C-20-20-水平",0.35,1.2,1660]
[{"$f":"A2115+1","v":2113},{"$f":"H2116*$A$1*1000*1000","v":10787314.999999998},{"$f":"I2116","v":1660},-1,-1,"RCS2-SA5C-20-20-水平",0.4,1.1000000000000001,1660]
[2114,9806650,1660,-1,-1,"RCS2-SA5C-20-20-水平",0.5,1,1660]
[2115,8825984.9999999981,1660,-1,-1,"RCS2-SA5C-20-20-水平",0.6,0.9,1660]
[2116,7845320,1660,-1,-1,"RCS2-SA5C-20-20-水平",0.8,0.8,1660]
[2117,6864654.9999999991,1660,-1,-1,"RCS2-SA5C-20-20-水平",1,0.7,1660]
[2118,5883990,1660,-1,-1,"RCS2-SA5C-20-20-水平",1.1499999999999999,0.6,1660]
[2119,4903325,1660,-1,-1,"RCS2-SA5C-20-20-水平",1.4,0.5,1660]
[2120,3922660,1660,-1,-1,"RCS2-SA5C-20-20-水平",1.75,0.4,1660]
[2121,2941995,1660,-1,-1,"RCS2-SA5C-20-20-水平",2,0.3,1660]
[2122,1961330,1660,-1,-1,"RCS2-SA5C-20-20-水平",2.4,0.2,1660]
[2123,980665,1660,-1,-1,"RCS2-SA5C-20-20-水平",3,0.1,1660]
[2124,6864654.9999999991,1660,-1,-1,"RCS2-SA5C-20-20-垂直",0.1,0.7,1660]
[2125,5883990,1660,-1,-1,"RCS2-SA5C-20-20-垂直",0.16,0.6,1660]
[2126,4903325,1660,-1,-1,"RCS2-SA5C-20-20-垂直",0.25,0.5,1660]
[2127,3922660,1660,-1,-1,"RCS2-SA5C-20-20-垂直",0.35,0.4,1660]
[2128,2941995,1660,-1,-1,"RCS2-SA5C-20-20-垂直",0.5,0.3,1660]
[2129,3922660,200,-1,-1,"RCS2-SA6C-30-3-水平",1,0.4,200]
[2130,2941995,200,-1,-1,"RCS2-SA6C-30-3-水平",7,0.3,200]
[2131,1961330,200,-1,-1,"RCS2-SA6C-30-3-水平",18,0.2,200]
[2132,980665,200,-1,-1,"RCS2-SA6C-30-3-水平",25,0.1,200]
[2133,2941995,200,-1,-1,"RCS2-SA6C-30-3-垂直",2,0.3,200]
[2134,1961330,200,-1,-1,"RCS2-SA6C-30-3-垂直",6,0.2,200]
[2135,9806650,400,-1,-1,"RCS2-SA6C-30-6-水平",1.5,1,400]
[2136,8825984.9999999981,400,-1,-1,"RCS2-SA6C-30-6-水平",2.5,0.9,400]
[2137,7845320,400,-1,-1,"RCS2-SA6C-30-6-水平",3.5,0.8,400]
[2138,6864654.9999999991,400,-1,-1,"RCS2-SA6C-30-6-水平",5,0.7,400]
[2139,5883990,400,-1,-1,"RCS2-SA6C-30-6-水平",6.2,0.6,400]
[2140,4903325,400,-1,-1,"RCS2-SA6C-30-6-水平",8,0.5,400]
[2141,3922660,400,-1,-1,"RCS2-SA6C-30-6-水平",10,0.4,400]
[2142,2941995,400,-1,-1,"RCS2-SA6C-30-6-水平",12,0.3,400]
[2143,1961330,400,-1,-1,"RCS2-SA6C-30-6-水平",14.5,0.2,400]
[2144,980665,400,-1,-1,"RCS2-SA6C-30-6-水平",16.5,0.1,400]
[2145,9806650,400,-1,-1,"RCS2-SA6C-30-6-垂直",0.5,1,400]
[2146,8825984.9999999981,400,-1,-1,"RCS2-SA6C-30-6-垂直",0.65,0.9,400]
[2147,7845320,400,-1,-1,"RCS2-SA6C-30-6-垂直",0.8,0.8,400]
[2148,6864654.9999999991,400,-1,-1,"RCS2-SA6C-30-6-垂直",1,0.7,400]
[2149,5883990,400,-1,-1,"RCS2-SA6C-30-6-垂直",1.25,0.6,400]
[2150,4903325,400,-1,-1,"RCS2-SA6C-30-6-垂直",1.5,0.5,400]
[2151,3922660,400,-1,-1,"RCS2-SA6C-30-6-垂直",2.1,0.4,400]
[2152,2941995,400,-1,-1,"RCS2-SA6C-30-6-垂直",3,0.3,400]
[2153,19613300,1000,-1,-1,"RCS2-SA6C-30-12-水平",0.25,2,1000]
[2154,18632635,1000,-1,-1,"RCS2-SA6C-30-12-水平",0.3,1.9,1000]
[2155,17651969.999999996,1000,-1,-1,"RCS2-SA6C-30-12-水平",0.35,1.8,1000]
[2156,16671305,1000,-1,-1,"RCS2-SA6C-30-12-水平",0.4,1.7,1000]
[2157,15690640,1000,-1,-1,"RCS2-SA6C-30-12-水平",0.45,1.6,1000]
[2158,14709975,1000,-1,-1,"RCS2-SA6C-30-12-水平",0.5,1.5,1000]
[2159,13729309.999999998,1000,-1,-1,"RCS2-SA6C-30-12-水平",0.55000000000000004,1.4,1000]
[2160,12748645,1000,-1,-1,"RCS2-SA6C-30-12-水平",0.65,1.3,1000]
[2161,11767980,1000,-1,-1,"RCS2-SA6C-30-12-水平",0.75,1.2,1000]
[2162,10787314.999999998,1000,-1,-1,"RCS2-SA6C-30-12-水平",0.85,1.1000000000000001,1000]
[2163,9806650,1000,-1,-1,"RCS2-SA6C-30-12-水平",1,1,1000]
[2164,8825984.9999999981,1000,-1,-1,"RCS2-SA6C-30-12-水平",1.25,0.9,1000]
[2165,7845320,1000,-1,-1,"RCS2-SA6C-30-12-水平",1.6,0.8,1000]
[2166,6864654.9999999991,1000,-1,-1,"RCS2-SA6C-30-12-水平",2,0.7,1000]
[2167,5883990,1000,-1,-1,"RCS2-SA6C-30-12-水平",2.75,0.6,1000]
[2168,4903325,1000,-1,-1,"RCS2-SA6C-30-12-水平",3.5,0.5,1000]
[2169,3922660,1000,-1,-1,"RCS2-SA6C-30-12-水平",4.5,0.4,1000]
[2170,2941995,1000,-1,-1,"RCS2-SA6C-30-12-水平",6,0.3,1000]
[2171,1961330,1000,-1,-1,"RCS2-SA6C-30-12-水平",7.2,0.2,1000]
[2172,980665,1000,-1,-1,"RCS2-SA6C-30-12-水平",8.5,0.1,1000]
[2173,11767980,1000,-1,-1,"RCS2-SA6C-30-12-垂直",0.1,1.2,1000]
[2174,10787314.999999998,1000,-1,-1,"RCS2-SA6C-30-12-垂直",0.15,1.1000000000000001,1000]
[2175,9806650,1000,-1,-1,"RCS2-SA6C-30-12-垂直",0.22,1,1000]
[2176,8825984.9999999981,1000,-1,-1,"RCS2-SA6C-30-12-垂直",0.3,0.9,1000]
[{"$f":"A2179+1","v":2177},{"$f":"H2180*$A$1*1000*1000","v":7845320},{"$f":"I2180","v":1000},-1,-1,"RCS2-SA6C-30-12-垂直",0.4,0.8,1000]
[2178,6864654.9999999991,1000,-1,-1,"RCS2-SA6C-30-12-垂直",0.5,0.7,1000]
[2179,5883990,1000,-1,-1,"RCS2-SA6C-30-12-垂直",0.65,0.6,1000]
[2180,4903325,1000,-1,-1,"RCS2-SA6C-30-12-垂直",0.85,0.5,1000]
[2181,3922660,1000,-1,-1,"RCS2-SA6C-30-12-垂直",1.2,0.4,1000]
[2182,2941995,1000,-1,-1,"RCS2-SA6C-30-12-垂直",1.5,0.3,1000]
[2183,14709975,1660,-1,-1,"RCS2-SA6C-30-20-水平",0.25,1.5,1660]
[2184,13729309.999999998,1660,-1,-1,"RCS2-SA6C-30-20-水平",0.3,1.4,1660]
[2185,12748645,1660,-1,-1,"RCS2-SA6C-30-20-水平",0.4,1.3,1660]
[2186,11767980,1660,-1,-1,"RCS2-SA6C-30-20-水平",0.5,1.2,1660]
[2187,10787314.999999998,1660,-1,-1,"RCS2-SA6C-30-20-水平",0.65,1.1000000000000001,1660]
[2188,9806650,1660,-1,-1,"RCS2-SA6C-30-20-水平",0.75,1,1660]
[2189,8825984.9999999981,1660,-1,-1,"RCS2-SA6C-30-20-水平",0.85,0.9,1660]
[2190,7845320,1660,-1,-1,"RCS2-SA6C-30-20-水平",1,0.8,1660]
[2191,6864654.9999999991,1660,-1,-1,"RCS2-SA6C-30-20-水平",1.25,0.7,1660]
[2192,5883990,1660,-1,-1,"RCS2-SA6C-30-20-水平",1.5,0.6,1660]
[2193,4903325,1660,-1,-1,"RCS2-SA6C-30-20-水平",2,0.5,1660]
[2194,3922660,1660,-1,-1,"RCS2-SA6C-30-20-水平",2.5,0.4,1660]
[2195,2941995,1660,-1,-1,"RCS2-SA6C-30-20-水平",3,0.3,1660]
[2196,1961330,1660,-1,-1,"RCS2-SA6C-30-20-水平",3.6,0.2,1660]
[2197,980665,1660,-1,-1,"RCS2-SA6C-30-20-水平",4.2,0.1,1660]
[2198,5883990,1660,-1,-1,"RCS2-SA6C-30-20-垂直",0.1,0.6,1660]
[2199,4903325,1660,-1,-1,"RCS2-SA6C-30-20-垂直",0.2,0.5,1660]
[2200,3922660,1660,-1,-1,"RCS2-SA6C-30-20-垂直",0.35,0.4,1660]
[2201,2941995,1660,-1,-1,"RCS2-SA6C-30-20-垂直",0.5,0.3,1660]
[2202,4903325,200,-1,-1,"RCS2-SA7C-60-4-水平",3,0.5,200]
[2203,3922660,200,-1,-1,"RCS2-SA7C-60-4-水平",10,0.4,200]
[2204,2941995,200,-1,-1,"RCS2-SA7C-60-4-水平",20,0.3,200]
[2205,1961330,200,-1,-1,"RCS2-SA7C-60-4-水平",40,0.2,200]
[2206,980665,200,-1,-1,"RCS2-SA7C-60-4-水平",60,0.1,200]
[2207,2941995,200,-1,-1,"RCS2-SA7C-60-4-垂直",6,0.3,200]
[2208,1961330,200,-1,-1,"RCS2-SA7C-60-4-垂直",12,0.2,200]
[2209,14709975,400,-1,-1,"RCS2-SA7C-60-8-水平",1,1.5,400]
[2210,13729309.999999998,400,-1,-1,"RCS2-SA7C-60-8-水平",1.5,1.4,400]
[2211,12748645,400,-1,-1,"RCS2-SA7C-60-8-水平",2,1.3,400]
[2212,11767980,400,-1,-1,"RCS2-SA7C-60-8-水平",2.5,1.2,400]
[2213,10787314.999999998,400,-1,-1,"RCS2-SA7C-60-8-水平",3.2,1.1000000000000001,400]
[2214,9806650,400,-1,-1,"RCS2-SA7C-60-8-水平",4,1,400]
[2215,8825984.9999999981,400,-1,-1,"RCS2-SA7C-60-8-水平",5.5,0.9,400]
[2216,7845320,400,-1,-1,"RCS2-SA7C-60-8-水平",7.5,0.8,400]
[2217,6864654.9999999991,400,-1,-1,"RCS2-SA7C-60-8-水平",10,0.7,400]
[2218,5883990,400,-1,-1,"RCS2-SA7C-60-8-水平",12.2,0.6,400]
[2219,4903325,400,-1,-1,"RCS2-SA7C-60-8-水平",15,0.5,400]
[2220,3922660,400,-1,-1,"RCS2-SA7C-60-8-水平",20,0.4,400]
[2221,2941995,400,-1,-1,"RCS2-SA7C-60-8-水平",25,0.3,400]
[2222,1961330,400,-1,-1,"RCS2-SA7C-60-8-水平",30,0.2,400]
[2223,980665,400,-1,-1,"RCS2-SA7C-60-8-水平",37.5,0.1,400]
[2224,14709975,400,-1,-1,"RCS2-SA7C-60-8-垂直",0.5,1.5,400]
[2225,13729309.999999998,400,-1,-1,"RCS2-SA7C-60-8-垂直",0.55000000000000004,1.4,400]
[2226,12748645,400,-1,-1,"RCS2-SA7C-60-8-垂直",0.6,1.3,400]
[2227,11767980,400,-1,-1,"RCS2-SA7C-60-8-垂直",0.7,1.2,400]
[2228,10787314.999999998,400,-1,-1,"RCS2-SA7C-60-8-垂直",0.8,1.1000000000000001,400]
[2229,9806650,400,-1,-1,"RCS2-SA7C-60-8-垂直",1,1,400]
[2230,8825984.9999999981,400,-1,-1,"RCS2-SA7C-60-8-垂直",1.3,0.9,400]
[2231,7845320,400,-1,-1,"RCS2-SA7C-60-8-垂直",1.6,0.8,400]
[2232,6864654.9999999991,400,-1,-1,"RCS2-SA7C-60-8-垂直",2,0.7,400]
[2233,5883990,400,-1,-1,"RCS2-SA7C-60-8-垂直",2.4,0.6,400]
[2234,4903325,400,-1,-1,"RCS2-SA7C-60-8-垂直",3,0.5,400]
[2235,3922660,400,-1,-1,"RCS2-SA7C-60-8-垂直",4.2,0.4,400]
[2236,2941995,400,-1,-1,"RCS2-SA7C-60-8-垂直",6,0.3,400]
[2237,19613300,1060,-1,-1,"RCS2-SA7C-60-16-水平",1,2,1060]
[2238,18632635,1060,-1,-1,"RCS2-SA7C-60-16-水平",1.1499999999999999,1.9,1060]
[2239,17651969.999999996,1060,-1,-1,"RCS2-SA7C-60-16-水平",1.35,1.8,1060]
[2240,16671305,1060,-1,-1,"RCS2-SA7C-60-16-水平",1.55,1.7,1060]
[{"$f":"A2243+1","v":2241},{"$f":"H2244*$A$1*1000*1000","v":15690640},{"$f":"I2244","v":1060},-1,-1,"RCS2-SA7C-60-16-水平",1.75,1.6,1060]
[2242,14709975,1060,-1,-1,"RCS2-SA7C-60-16-水平",2,1.5,1060]
[2243,13729309.999999998,1060,-1,-1,"RCS2-SA7C-60-16-水平",2.2000000000000002,1.4,1060]
[2244,12748645,1060,-1,-1,"RCS2-SA7C-60-16-水平",2.4500000000000002,1.3,1060]
[2245,11767980,1060,-1,-1,"RCS2-SA7C-60-16-水平",2.75,1.2,1060]
[2246,10787314.999999998,1060,-1,-1,"RCS2-SA7C-60-16-水平",3.1,1.1000000000000001,1060]
[2247,9806650,1060,-1,-1,"RCS2-SA7C-60-16-水平",3.5,1,1060]
[2248,8825984.9999999981,1060,-1,-1,"RCS2-SA7C-60-16-水平",3.9,0.9,1060]
[2249,7845320,1060,-1,-1,"RCS2-SA7C-60-16-水平",4.4000000000000004,0.8,1060]
[2250,6864654.9999999991,1060,-1,-1,"RCS2-SA7C-60-16-水平",5,0.7,1060]
[2251,5883990,1060,-1,-1,"RCS2-SA7C-60-16-水平",5.9,0.6,1060]
[2252,4903325,1060,-1,-1,"RCS2-SA7C-60-16-水平",7,0.5,1060]
[2253,3922660,1060,-1,-1,"RCS2-SA7C-60-16-水平",9,0.4,1060]
[2254,2941995,1060,-1,-1,"RCS2-SA7C-60-16-水平",12,0.3,1060]
[2255,1961330,1060,-1,-1,"RCS2-SA7C-60-16-水平",14.5,0.2,1060]
[2256,980665,1060,-1,-1,"RCS2-SA7C-60-16-水平",18,0.1,1060]
[2257,14709975,1060,-1,-1,"RCS2-SA7C-60-16-垂直",0.25,1.5,1060]
[2258,13729309.999999998,1060,-1,-1,"RCS2-SA7C-60-16-垂直",0.27,1.4,1060]
[2259,12748645,1060,-1,-1,"RCS2-SA7C-60-16-垂直",0.3,1.3,1060]
[2260,11767980,1060,-1,-1,"RCS2-SA7C-60-16-垂直",0.4,1.2,1060]
[2261,10787314.999999998,1060,-1,-1,"RCS2-SA7C-60-16-垂直",0.45,1.1000000000000001,1060]
[2262,9806650,1060,-1,-1,"RCS2-SA7C-60-16-垂直",0.55000000000000004,1,1060]
[2263,8825984.9999999981,1060,-1,-1,"RCS2-SA7C-60-16-垂直",0.65,0.9,1060]
[2264,7845320,1060,-1,-1,"RCS2-SA7C-60-16-垂直",0.8,0.8,1060]
[2265,6864654.9999999991,1060,-1,-1,"RCS2-SA7C-60-16-垂直",1,0.7,1060]
[2266,5883990,1060,-1,-1,"RCS2-SA7C-60-16-垂直",1.2,0.6,1060]
[2267,4903325,1060,-1,-1,"RCS2-SA7C-60-16-垂直",1.5,0.5,1060]
[2268,3922660,1060,-1,-1,"RCS2-SA7C-60-16-垂直",2,0.4,1060]
[2269,2941995,1060,-1,-1,"RCS2-SA7C-60-16-垂直",3,0.3,1060]
[2270,19613300,1600,-1,-1,"RCS2-SA7C-60-24-水平",0.5,2,1600]
[2271,18632635,1600,-1,-1,"RCS2-SA7C-60-24-水平",0.55000000000000004,1.9,1600]
[2272,17651969.999999996,1600,-1,-1,"RCS2-SA7C-60-24-水平",0.65,1.8,1600]
[2273,16671305,1600,-1,-1,"RCS2-SA7C-60-24-水平",0.75,1.7,1600]
[2274,15690640,1600,-1,-1,"RCS2-SA7C-60-24-水平",0.85,1.6,1600]
[2275,14709975,1600,-1,-1,"RCS2-SA7C-60-24-水平",1,1.5,1600]
[2276,13729309.999999998,1600,-1,-1,"RCS2-SA7C-60-24-水平",1.1499999999999999,1.4,1600]
[2277,12748645,1600,-1,-1,"RCS2-SA7C-60-24-水平",1.3,1.3,1600]
[2278,11767980,1600,-1,-1,"RCS2-SA7C-60-24-水平",1.5,1.2,1600]
[2279,10787314.999999998,1600,-1,-1,"RCS2-SA7C-60-24-水平",1.75,1.1000000000000001,1600]
[2280,9806650,1600,-1,-1,"RCS2-SA7C-60-24-水平",2,1,1600]
[2281,8825984.9999999981,1600,-1,-1,"RCS2-SA7C-60-24-水平",2.25,0.9,1600]
[2282,7845320,1600,-1,-1,"RCS2-SA7C-60-24-水平",2.6,0.8,1600]
[2283,6864654.9999999991,1600,-1,-1,"RCS2-SA7C-60-24-水平",3,0.7,1600]
[2284,5883990,1600,-1,-1,"RCS2-SA7C-60-24-水平",3.6,0.6,1600]
[2285,4903325,1600,-1,-1,"RCS2-SA7C-60-24-水平",4.5,0.5,1600]
[2286,3922660,1600,-1,-1,"RCS2-SA7C-60-24-水平",6,0.4,1600]
[2287,2941995,1600,-1,-1,"RCS2-SA7C-60-24-水平",8,0.3,1600]
[2288,1961330,1600,-1,-1,"RCS2-SA7C-60-24-水平",9.5,0.2,1600]
[2289,980665,1600,-1,-1,"RCS2-SA7C-60-24-水平",12,0.1,1600]
[2290,14709975,1600,-1,-1,"RCS2-SA7C-60-24-垂直",0.1,1.5,1600]
[2291,13729309.999999998,1600,-1,-1,"RCS2-SA7C-60-24-垂直",0.13,1.4,1600]
[2292,12748645,1600,-1,-1,"RCS2-SA7C-60-24-垂直",0.16,1.3,1600]
[2293,11767980,1600,-1,-1,"RCS2-SA7C-60-24-垂直",0.2,1.2,1600]
[2294,10787314.999999998,1600,-1,-1,"RCS2-SA7C-60-24-垂直",0.25,1.1000000000000001,1600]
[2295,9806650,1600,-1,-1,"RCS2-SA7C-60-24-垂直",0.3,1,1600]
[2296,8825984.9999999981,1600,-1,-1,"RCS2-SA7C-60-24-垂直",0.4,0.9,1600]
[2297,7845320,1600,-1,-1,"RCS2-SA7C-60-24-垂直",0.5,0.8,1600]
[2298,6864654.9999999991,1600,-1,-1,"RCS2-SA7C-60-24-垂直",0.6,0.7,1600]
[2299,5883990,1600,-1,-1,"RCS2-SA7C-60-24-垂直",0.75,0.6,1600]
[2300,4903325,1600,-1,-1,"RCS2-SA7C-60-24-垂直",0.9,0.5,1600]
[2301,3922660,1600,-1,-1,"RCS2-SA7C-60-24-垂直",1.1000000000000001,0.4,1600]
[2302,2941995,1600,-1,-1,"RCS2-SA7C-60-24-垂直",1.4,0.3,1600]
[2303,6864654.9999999991,300,-1,-1,"RCS2-SS7C-60-6-水平",5,0.7,300]
[2304,5883990,300,-1,-1,"RCS2-SS7C-60-6-水平",9,0.6,300]
[{"$f":"A2307+1","v":2305},{"$f":"H2308*$A$1*1000*1000","v":4903325},{"$f":"I2308","v":300},-1,-1,"RCS2-SS7C-60-6-水平",15,0.5,300]
[2306,3922660,300,-1,-1,"RCS2-SS7C-60-6-水平",22,0.4,300]
[2307,2941995,300,-1,-1,"RCS2-SS7C-60-6-水平",30,0.3,300]
[2308,1961330,300,-1,-1,"RCS2-SS7C-60-6-水平",36,0.2,300]
[2309,980665,300,-1,-1,"RCS2-SS7C-60-6-水平",45,0.1,300]
[2310,4903325,300,-1,-1,"RCS2-SS7C-60-6-垂直",4,0.5,300]
[2311,3922660,300,-1,-1,"RCS2-SS7C-60-6-垂直",5.5,0.4,300]
[2312,2941995,300,-1,-1,"RCS2-SS7C-60-6-垂直",8,0.3,300]
[2313,19613300,800,-1,-1,"RCS2-SS7C-60-12-水平",2,2,800]
[2314,18632635,800,-1,-1,"RCS2-SS7C-60-12-水平",2.1,1.9,800]
[2315,17651969.999999996,800,-1,-1,"RCS2-SS7C-60-12-水平",2.2000000000000002,1.8,800]
[2316,16671305,800,-1,-1,"RCS2-SS7C-60-12-水平",2.2999999999999998,1.7,800]
[2317,15690640,800,-1,-1,"RCS2-SS7C-60-12-水平",2.4,1.6,800]
[2318,14709975,800,-1,-1,"RCS2-SS7C-60-12-水平",2.5,1.5,800]
[2319,13729309.999999998,800,-1,-1,"RCS2-SS7C-60-12-水平",2.6,1.4,800]
[2320,12748645,800,-1,-1,"RCS2-SS7C-60-12-水平",2.8,1.3,800]
[2321,11767980,800,-1,-1,"RCS2-SS7C-60-12-水平",3,1.2,800]
[2322,10787314.999999998,800,-1,-1,"RCS2-SS7C-60-12-水平",3.5,1.1000000000000001,800]
[2323,9806650,800,-1,-1,"RCS2-SS7C-60-12-水平",4,1,800]
[2324,8825984.9999999981,800,-1,-1,"RCS2-SS7C-60-12-水平",4.5,0.9,800]
[2325,7845320,800,-1,-1,"RCS2-SS7C-60-12-水平",5.2,0.8,800]
[2326,6864654.9999999991,800,-1,-1,"RCS2-SS7C-60-12-水平",6,0.7,800]
[2327,5883990,800,-1,-1,"RCS2-SS7C-60-12-水平",7.3,0.6,800]
[2328,4903325,800,-1,-1,"RCS2-SS7C-60-12-水平",9,0.5,800]
[2329,3922660,800,-1,-1,"RCS2-SS7C-60-12-水平",12,0.4,800]
[2330,2941995,800,-1,-1,"RCS2-SS7C-60-12-水平",15,0.3,800]
[2331,1961330,800,-1,-1,"RCS2-SS7C-60-12-水平",18,0.2,800]
[2332,980665,800,-1,-1,"RCS2-SS7C-60-12-水平",22.5,0.1,800]
[2333,14709975,800,-1,-1,"RCS2-SS7C-60-12-垂直",0.25,1.5,800]
[2334,13729309.999999998,800,-1,-1,"RCS2-SS7C-60-12-垂直",0.3,1.4,800]
[2335,12748645,800,-1,-1,"RCS2-SS7C-60-12-垂直",0.4,1.3,800]
[2336,11767980,800,-1,-1,"RCS2-SS7C-60-12-垂直",0.5,1.2,800]
[2337,10787314.999999998,800,-1,-1,"RCS2-SS7C-60-12-垂直",0.6,1.1000000000000001,800]
[2338,9806650,800,-1,-1,"RCS2-SS7C-60-12-垂直",0.75,1,800]
[2339,8825984.9999999981,800,-1,-1,"RCS2-SS7C-60-12-垂直",0.85,0.9,800]
[2340,7845320,800,-1,-1,"RCS2-SS7C-60-12-垂直",1,0.8,800]
[2341,6864654.9999999991,800,-1,-1,"RCS2-SS7C-60-12-垂直",1.25,0.7,800]
[2342,5883990,800,-1,-1,"RCS2-SS7C-60-12-垂直",1.5,0.6,800]
[2343,4903325,800,-1,-1,"RCS2-SS7C-60-12-垂直",2,0.5,800]
[2344,3922660,800,-1,-1,"RCS2-SS7C-60-12-垂直",2.8,0.4,800]
[2345,2941995,800,-1,-1,"RCS2-SS7C-60-12-垂直",4,0.3,800]
[2346,19613300,1330,-1,-1,"RCS2-SS7C-60-20-水平",1,2,1330]
[2347,18632635,1330,-1,-1,"RCS2-SS7C-60-20-水平",1.1000000000000001,1.9,1330]
[2348,17651969.999999996,1330,-1,-1,"RCS2-SS7C-60-20-水平",1.2,1.8,1330]
[2349,16671305,1330,-1,-1,"RCS2-SS7C-60-20-水平",1.3,1.7,1330]
[2350,15690640,1330,-1,-1,"RCS2-SS7C-60-20-水平",1.4,1.6,1330]
[2351,14709975,1330,-1,-1,"RCS2-SS7C-60-20-水平",1.5,1.5,1330]
[2352,13729309.999999998,1330,-1,-1,"RCS2-SS7C-60-20-水平",1.65,1.4,1330]
[2353,12748645,1330,-1,-1,"RCS2-SS7C-60-20-水平",1.8,1.3,1330]
[2354,11767980,1330,-1,-1,"RCS2-SS7C-60-20-水平",2,1.2,1330]
[2355,10787314.999999998,1330,-1,-1,"RCS2-SS7C-60-20-水平",2.2000000000000002,1.1000000000000001,1330]
[2356,9806650,1330,-1,-1,"RCS2-SS7C-60-20-水平",2.5,1,1330]
[2357,8825984.9999999981,1330,-1,-1,"RCS2-SS7C-60-20-水平",2.8,0.9,1330]
[2358,7845320,1330,-1,-1,"RCS2-SS7C-60-20-水平",3.2,0.8,1330]
[2359,6864654.9999999991,1330,-1,-1,"RCS2-SS7C-60-20-水平",3.7,0.7,1330]
[2360,5883990,1330,-1,-1,"RCS2-SS7C-60-20-水平",4.4000000000000004,0.6,1330]
[2361,4903325,1330,-1,-1,"RCS2-SS7C-60-20-水平",5.4,0.5,1330]
[2362,3922660,1330,-1,-1,"RCS2-SS7C-60-20-水平",7,0.4,1330]
[2363,2941995,1330,-1,-1,"RCS2-SS7C-60-20-水平",9,0.3,1330]
[2364,1961330,1330,-1,-1,"RCS2-SS7C-60-20-水平",11,0.2,1330]
[2365,980665,1330,-1,-1,"RCS2-SS7C-60-20-水平",13.5,0.1,1330]
[2366,14709975,1330,-1,-1,"RCS2-SS7C-60-20-垂直",0.1,1.5,1330]
[2367,13729309.999999998,1330,-1,-1,"RCS2-SS7C-60-20-垂直",0.15,1.4,1330]
[2368,12748645,1330,-1,-1,"RCS2-SS7C-60-20-垂直",0.2,1.3,1330]
[{"$f":"A2371+1","v":2369},{"$f":"H2372*$A$1*1000*1000","v":11767980},{"$f":"I2372","v":1330},-1,-1,"RCS2-SS7C-60-20-垂直",0.25,1.2,1330]
[2370,10787314.999999998,1330,-1,-1,"RCS2-SS7C-60-20-垂直",0.3,1.1000000000000001,1330]
[2371,9806650,1330,-1,-1,"RCS2-SS7C-60-20-垂直",0.4,1,1330]
[2372,8825984.9999999981,1330,-1,-1,"RCS2-SS7C-60-20-垂直",0.5,0.9,1330]
[2373,7845320,1330,-1,-1,"RCS2-SS7C-60-20-垂直",0.6,0.8,1330]
[2374,6864654.9999999991,1330,-1,-1,"RCS2-SS7C-60-20-垂直",0.75,0.7,1330]
[2375,5883990,1330,-1,-1,"RCS2-SS7C-60-20-垂直",0.95,0.6,1330]
[2376,4903325,1330,-1,-1,"RCS2-SS7C-60-20-垂直",1.2,0.5,1330]
[2377,3922660,1330,-1,-1,"RCS2-SS7C-60-20-垂直",1.7,0.4,1330]
[2378,2941995,1330,-1,-1,"RCS2-SS7C-60-20-垂直",2.4,0.3,1330]
[2379,1961330,165,-1,-1,"RCS2CR-SA4C-20-2.5-水平",8,0.2,165]
[2380,980665,165,-1,-1,"RCS2CR-SA4C-20-2.5-水平",10.5,0.1,165]
[2381,1961330,165,-1,-1,"RCS2CR-SA4C-20-2.5-垂直",4.5,0.2,165]
[2382,2941995,330,-1,-1,"RCS2CR-SA4C-20-5-水平",6,0.3,330]
[2383,1961330,330,-1,-1,"RCS2CR-SA4C-20-5-水平",7,0.2,330]
[2384,980665,330,-1,-1,"RCS2CR-SA4C-20-5-水平",8,0.1,330]
[2385,2941995,330,-1,-1,"RCS2CR-SA4C-20-5-垂直",2.5,0.3,330]
[2386,2941995,665,-1,-1,"RCS2CR-SA4C-20-10-水平",4,0.3,665]
[2387,1961330,665,-1,-1,"RCS2CR-SA4C-20-10-水平",4.5,0.2,665]
[2388,980665,665,-1,-1,"RCS2CR-SA4C-20-10-水平",5,0.1,665]
[2389,2941995,665,-1,-1,"RCS2CR-SA4C-20-10-垂直",1,0.3,665]
[2390,2941995,1060,-1,-1,"RCS2CR-SA4C-20-16-水平",2.5,0.3,1060]
[2391,1961330,1060,-1,-1,"RCS2CR-SA4C-20-16-水平",2.8,0.2,1060]
[2392,980665,1060,-1,-1,"RCS2CR-SA4C-20-16-水平",3.2,0.1,1060]
[2393,2941995,1060,-1,-1,"RCS2CR-SA4C-20-16-垂直",0.6,0.3,1060]
[2394,1961330,200,-1,-1,"RCS2CR-SA5C-20-3-水平",12,0.2,200]
[2395,980665,200,-1,-1,"RCS2CR-SA5C-20-3-水平",15.5,0.1,200]
[2396,1961330,200,-1,-1,"RCS2CR-SA5C-20-3-垂直",4,0.2,200]
[2397,2941995,400,-1,-1,"RCS2CR-SA5C-20-6-水平",8,0.3,400]
[2398,1961330,400,-1,-1,"RCS2CR-SA5C-20-6-水平",9,0.2,400]
[2399,980665,400,-1,-1,"RCS2CR-SA5C-20-6-水平",10.5,0.1,400]
[2400,2941995,400,-1,-1,"RCS2CR-SA5C-20-6-垂直",2,0.3,400]
[2401,2941995,800,-1,-1,"RCS2CR-SA5C-20-12-水平",4,0.3,800]
[2402,1961330,800,-1,-1,"RCS2CR-SA5C-20-12-水平",4.5,0.2,800]
[2403,980665,800,-1,-1,"RCS2CR-SA5C-20-12-水平",5,0.1,800]
[2404,2941995,800,-1,-1,"RCS2CR-SA5C-20-12-垂直",1,0.3,800]
[2405,2941995,1300,-1,-1,"RCS2CR-SA5C-20-20-水平",2,0.3,1300]
[2406,1961330,1300,-1,-1,"RCS2CR-SA5C-20-20-水平",2.2999999999999998,0.2,1300]
[2407,980665,1300,-1,-1,"RCS2CR-SA5C-20-20-水平",2.6,0.1,1300]
[2408,2941995,1300,-1,-1,"RCS2CR-SA5C-20-20-垂直",0.5,0.3,1300]
[2409,1961330,200,-1,-1,"RCS2CR-SA6C-30-3-水平",18,0.2,200]
[2410,980665,200,-1,-1,"RCS2CR-SA6C-30-3-水平",23.5,0.1,200]
[2411,1961330,200,-1,-1,"RCS2CR-SA6C-30-3-垂直",6,0.2,200]
[2412,2941995,400,-1,-1,"RCS2CR-SA6C-30-6-水平",12,0.3,400]
[2413,1961330,400,-1,-1,"RCS2CR-SA6C-30-6-水平",14,0.2,400]
[2414,980665,400,-1,-1,"RCS2CR-SA6C-30-6-水平",15.5,0.1,400]
[2415,2941995,400,-1,-1,"RCS2CR-SA6C-30-6-垂直",3,0.3,400]
[2416,2941995,800,-1,-1,"RCS2CR-SA6C-30-12-水平",6,0.3,800]
[2417,1961330,800,-1,-1,"RCS2CR-SA6C-30-12-水平",7,0.2,800]
[2418,980665,800,-1,-1,"RCS2CR-SA6C-30-12-水平",8,0.1,800]
[2419,2941995,800,-1,-1,"RCS2CR-SA6C-30-12-垂直",1.5,0.3,800]
[2420,2941995,1300,-1,-1,"RCS2CR-SA6C-30-20-水平",3,0.3,1300]
[2421,1961330,1300,-1,-1,"RCS2CR-SA6C-30-20-水平",3.5,0.2,1300]
[2422,980665,1300,-1,-1,"RCS2CR-SA6C-30-20-水平",4,0.1,1300]
[2423,2941995,1300,-1,-1,"RCS2CR-SA6C-30-20-垂直",0.5,0.3,1300]
[2424,1961330,200,-1,-1,"RCS2CR-SA7C-60-4-水平",40,0.2,200]
[2425,980665,200,-1,-1,"RCS2CR-SA7C-60-4-水平",52,0.1,200]
[2426,1961330,200,-1,-1,"RCS2CR-SA7C-60-4-垂直",12,0.2,200]
[2427,2941995,400,-1,-1,"RCS2CR-SA7C-60-8-水平",25,0.3,400]
[2428,1961330,400,-1,-1,"RCS2CR-SA7C-60-8-水平",29,0.2,400]
[2429,980665,400,-1,-1,"RCS2CR-SA7C-60-8-水平",32.5,0.1,400]
[2430,2941995,400,-1,-1,"RCS2CR-SA7C-60-8-垂直",6,0.3,400]
[2431,2941995,800,-1,-1,"RCS2CR-SA7C-60-16-水平",12,0.3,800]
[2432,1961330,800,-1,-1,"RCS2CR-SA7C-60-16-水平",14,0.2,800]
[{"$f":"A2435+1","v":2433},{"$f":"H2436*$A$1*1000*1000","v":980665},{"$f":"I2436","v":800},-1,-1,"RCS2CR-SA7C-60-16-水平",15.5,0.1,800]
[2434,2941995,800,-1,-1,"RCS2CR-SA7C-60-16-垂直",3,0.3,800]
[2435,2941995,1200,-1,-1,"RCS2CR-SA7C-60-24-水平",8,0.3,1200]
[2436,1961330,1200,-1,-1,"RCS2CR-SA7C-60-24-水平",9.5,0.2,1200]
[2437,980665,1200,-1,-1,"RCS2CR-SA7C-60-24-水平",10.5,0.1,1200]
[2438,2941995,1200,-1,-1,"RCS2CR-SA7C-60-24-垂直",1.4,0.3,1200]
[2439,2941995,300,-1,-1,"RCS2CR-SS7C-60-6-水平",30,0.3,300]
[2440,1961330,300,-1,-1,"RCS2CR-SS7C-60-6-水平",34.5,0.2,300]
[2441,980665,300,-1,-1,"RCS2CR-SS7C-60-6-水平",39,0.1,300]
[2442,2941995,300,-1,-1,"RCS2CR-SS7C-60-6-垂直",8,0.3,300]
[2443,2941995,600,-1,-1,"RCS2CR-SS7C-60-12-水平",15,0.3,600]
[2444,1961330,600,-1,-1,"RCS2CR-SS7C-60-12-水平",17.5,0.2,600]
[2445,980665,600,-1,-1,"RCS2CR-SS7C-60-12-水平",19.5,0.1,600]
[2446,2941995,600,-1,-1,"RCS2CR-SS7C-60-12-垂直",4,0.3,600]
[2447,2941995,1000,-1,-1,"RCS2CR-SS7C-60-20-水平",9,0.3,1000]
[2448,1961330,1000,-1,-1,"RCS2CR-SS7C-60-20-水平",10.5,0.2,1000]
[2449,980665,1000,-1,-1,"RCS2CR-SS7C-60-20-水平",11.5,0.1,1000]
[2450,2941995,1000,-1,-1,"RCS2CR-SS7C-60-20-垂直",2.4,0.3,1000]
[2451,1961330,165,-1,-1,"RCS2-SA4D-20-2.5-水平",8,0.2,165]
[2452,1961330,165,-1,-1,"RCS2-SA4D-20-2.5-垂直",4.5,0.2,165]
[2453,2941995,330,-1,-1,"RCS2-SA4D-20-5-水平",6,0.3,330]
[2454,2941995,330,-1,-1,"RCS2-SA4D-20-5-垂直",2.5,0.3,330]
[2455,2941995,665,-1,-1,"RCS2-SA4D-20-10-水平",4,0.3,665]
[2456,2941995,665,-1,-1,"RCS2-SA4D-20-10-垂直",1,0.3,665]
[2457,1961330,200,-1,-1,"RCS2-SA5D-20-3-水平",12,0.2,200]
[2458,1961330,200,-1,-1,"RCS2-SA5D-20-3-垂直",4,0.2,200]
[2459,2941995,400,-1,-1,"RCS2-SA5D-20-6-水平",8,0.3,400]
[2460,2941995,400,-1,-1,"RCS2-SA5D-20-6-垂直",2,0.3,400]
[2461,2941995,800,-1,-1,"RCS2-SA5D-20-12-水平",4,0.3,800]
[2462,2941995,800,-1,-1,"RCS2-SA5D-20-12-垂直",1,0.3,800]
[2463,1961330,200,-1,-1,"RCS2-SA6D-30-3-水平",18,0.2,200]
[2464,1961330,200,-1,-1,"RCS2-SA6D-30-3-垂直",6,0.2,200]
[2465,2941995,400,-1,-1,"RCS2-SA6D-30-6-水平",12,0.3,400]
[2466,2941995,400,-1,-1,"RCS2-SA6D-30-6-垂直",3,0.3,400]
[2467,2941995,800,-1,-1,"RCS2-SA6D-30-12-水平",6,0.3,800]
[2468,2941995,800,-1,-1,"RCS2-SA6D-30-12-垂直",1.5,0.3,800]
[2469,1961330,200,-1,-1,"RCS2CR-SA5D-20-3-水平",12,0.2,200]
[2470,1961330,200,-1,-1,"RCS2CR-SA5D-20-3-垂直",4,0.2,200]
[2471,2941995,400,-1,-1,"RCS2CR-SA5D-20-6-水平",8,0.3,400]
[2472,2941995,400,-1,-1,"RCS2CR-SA5D-20-6-垂直",2,0.3,400]
[2473,2941995,800,-1,-1,"RCS2CR-SA5D-20-12-水平",4,0.3,800]
[2474,2941995,800,-1,-1,"RCS2CR-SA5D-20-12-垂直",1,0.3,800]
[2475,1961330,200,-1,-1,"RCS2CR-SA6D-30-3-水平",18,0.2,200]
[2476,1961330,200,-1,-1,"RCS2CR-SA6D-30-3-垂直",6,0.2,200]
[2477,2941995,400,-1,-1,"RCS2CR-SA6D-30-6-水平",12,0.3,400]
[2478,2941995,400,-1,-1,"RCS2CR-SA6D-30-6-垂直",3,0.3,400]
[2479,2941995,800,-1,-1,"RCS2CR-SA6D-30-12-水平",6,0.3,800]
[2480,2941995,800,-1,-1,"RCS2CR-SA6D-30-12-垂直",1.5,0.3,800]
[2481,3922660,165,-1,-1,"RCS2-SA4R-20-2.5-水平",1.75,0.4,165]
[2482,2941995,165,-1,-1,"RCS2-SA4R-20-2.5-水平",3.5,0.3,165]
[2483,1961330,165,-1,-1,"RCS2-SA4R-20-2.5-水平",8,0.2,165]
[2484,980665,165,-1,-1,"RCS2-SA4R-20-2.5-水平",10.5,0.1,165]
[2485,2941995,165,-1,-1,"RCS2-SA4R-20-2.5-垂直",1.5,0.3,165]
[2486,1961330,165,-1,-1,"RCS2-SA4R-20-2.5-垂直",4.5,0.2,165]
[2487,5883990,330,-1,-1,"RCS2-SA4R-20-5-水平",2.5,0.6,330]
[2488,4903325,330,-1,-1,"RCS2-SA4R-20-5-水平",3.5,0.5,330]
[2489,3922660,330,-1,-1,"RCS2-SA4R-20-5-水平",4.5,0.4,330]
[2490,2941995,330,-1,-1,"RCS2-SA4R-20-5-水平",6,0.3,330]
[2491,1961330,330,-1,-1,"RCS2-SA4R-20-5-水平",7,0.2,330]
[2492,980665,330,-1,-1,"RCS2-SA4R-20-5-水平",8,0.1,330]
[2493,5883990,330,-1,-1,"RCS2-SA4R-20-5-垂直",1,0.6,330]
[2494,4903325,330,-1,-1,"RCS2-SA4R-20-5-垂直",1.25,0.5,330]
[2495,3922660,330,-1,-1,"RCS2-SA4R-20-5-垂直",1.7,0.4,330]
[2496,2941995,330,-1,-1,"RCS2-SA4R-20-5-垂直",2.5,0.3,330]
[{"$f":"A2499+1","v":2497},{"$f":"H2500*$A$1*1000*1000","v":7845320},{"$f":"I2500","v":665},-1,-1,"RCS2-SA4R-20-10-水平",1,0.8,665]
[2498,6864654.9999999991,665,-1,-1,"RCS2-SA4R-20-10-水平",1.5,0.7,665]
[2499,5883990,665,-1,-1,"RCS2-SA4R-20-10-水平",2,0.6,665]
[2500,4903325,665,-1,-1,"RCS2-SA4R-20-10-水平",2.5,0.5,665]
[2501,3922660,665,-1,-1,"RCS2-SA4R-20-10-水平",3,0.4,665]
[2502,2941995,665,-1,-1,"RCS2-SA4R-20-10-水平",4,0.3,665]
[2503,1961330,665,-1,-1,"RCS2-SA4R-20-10-水平",4.5999999999999996,0.2,665]
[2504,980665,665,-1,-1,"RCS2-SA4R-20-10-水平",5.2,0.1,665]
[2505,7845320,665,-1,-1,"RCS2-SA4R-20-10-垂直",0.3,0.8,665]
[2506,6864654.9999999991,665,-1,-1,"RCS2-SA4R-20-10-垂直",0.35,0.7,665]
[2507,5883990,665,-1,-1,"RCS2-SA4R-20-10-垂直",0.4,0.6,665]
[2508,4903325,665,-1,-1,"RCS2-SA4R-20-10-垂直",0.5,0.5,665]
[2509,3922660,665,-1,-1,"RCS2-SA4R-20-10-垂直",0.7,0.4,665]
[2510,2941995,665,-1,-1,"RCS2-SA4R-20-10-垂直",1,0.3,665]
[2511,2941995,200,-1,-1,"RCS2-SA5R-20-3-水平",2.5,0.3,200]
[2512,1961330,200,-1,-1,"RCS2-SA5R-20-3-水平",12,0.2,200]
[2513,980665,200,-1,-1,"RCS2-SA5R-20-3-水平",15.5,0.1,200]
[2514,2941995,200,-1,-1,"RCS2-SA5R-20-3-垂直",2,0.3,200]
[2515,1961330,200,-1,-1,"RCS2-SA5R-20-3-垂直",4,0.2,200]
[2516,5883990,400,-1,-1,"RCS2-SA5R-20-6-水平",2.5,0.6,400]
[2517,4903325,400,-1,-1,"RCS2-SA5R-20-6-水平",4,0.5,400]
[2518,3922660,400,-1,-1,"RCS2-SA5R-20-6-水平",6,0.4,400]
[2519,2941995,400,-1,-1,"RCS2-SA5R-20-6-水平",8,0.3,400]
[2520,1961330,400,-1,-1,"RCS2-SA5R-20-6-水平",9.1999999999999993,0.2,400]
[2521,980665,400,-1,-1,"RCS2-SA5R-20-6-水平",10.5,0.1,400]
[2522,5883990,400,-1,-1,"RCS2-SA5R-20-6-垂直",0.8,0.6,400]
[2523,4903325,400,-1,-1,"RCS2-SA5R-20-6-垂直",1.1000000000000001,0.5,400]
[2524,3922660,400,-1,-1,"RCS2-SA5R-20-6-垂直",1.5,0.4,400]
[2525,2941995,400,-1,-1,"RCS2-SA5R-20-6-垂直",2,0.3,400]
[2526,7845320,800,-1,-1,"RCS2-SA5R-20-12-水平",1,0.8,800]
[2527,6864654.9999999991,800,-1,-1,"RCS2-SA5R-20-12-水平",1.5,0.7,800]
[2528,5883990,800,-1,-1,"RCS2-SA5R-20-12-水平",2,0.6,800]
[2529,4903325,800,-1,-1,"RCS2-SA5R-20-12-水平",2.5,0.5,800]
[2530,3922660,800,-1,-1,"RCS2-SA5R-20-12-水平",3,0.4,800]
[2531,2941995,800,-1,-1,"RCS2-SA5R-20-12-水平",4,0.3,800]
[2532,1961330,800,-1,-1,"RCS2-SA5R-20-12-水平",4.5999999999999996,0.2,800]
[2533,980665,800,-1,-1,"RCS2-SA5R-20-12-水平",5.2,0.1,800]
[2534,7845320,800,-1,-1,"RCS2-SA5R-20-12-垂直",0.25,0.8,800]
[2535,6864654.9999999991,800,-1,-1,"RCS2-SA5R-20-12-垂直",0.3,0.7,800]
[2536,5883990,800,-1,-1,"RCS2-SA5R-20-12-垂直",0.4,0.6,800]
[2537,4903325,800,-1,-1,"RCS2-SA5R-20-12-垂直",0.55000000000000004,0.5,800]
[2538,3922660,800,-1,-1,"RCS2-SA5R-20-12-垂直",0.7,0.4,800]
[2539,2941995,800,-1,-1,"RCS2-SA5R-20-12-垂直",1,0.3,800]
[2540,2941995,200,-1,-1,"RCS2-SA6R-30-3-水平",5.5,0.3,200]
[2541,1961330,200,-1,-1,"RCS2-SA6R-30-3-水平",18,0.2,200]
[2542,980665,200,-1,-1,"RCS2-SA6R-30-3-水平",23.5,0.1,200]
[2543,2941995,200,-1,-1,"RCS2-SA6R-30-3-垂直",1.6,0.3,200]
[2544,1961330,200,-1,-1,"RCS2-SA6R-30-3-垂直",6,0.2,200]
[2545,5883990,400,-1,-1,"RCS2-SA6R-30-6-水平",5.5,0.6,400]
[2546,4903325,400,-1,-1,"RCS2-SA6R-30-6-水平",7,0.5,400]
[2547,3922660,400,-1,-1,"RCS2-SA6R-30-6-水平",9,0.4,400]
[2548,2941995,400,-1,-1,"RCS2-SA6R-30-6-水平",12,0.3,400]
[2549,1961330,400,-1,-1,"RCS2-SA6R-30-6-水平",13.8,0.2,400]
[2550,980665,400,-1,-1,"RCS2-SA6R-30-6-水平",15.5,0.1,400]
[2551,5883990,400,-1,-1,"RCS2-SA6R-30-6-垂直",1,0.6,400]
[2552,4903325,400,-1,-1,"RCS2-SA6R-30-6-垂直",1.5,0.5,400]
[2553,3922660,400,-1,-1,"RCS2-SA6R-30-6-垂直",2,0.4,400]
[2554,2941995,400,-1,-1,"RCS2-SA6R-30-6-垂直",3,0.3,400]
[2555,7845320,800,-1,-1,"RCS2-SA6R-30-12-水平",1,0.8,800]
[2556,6864654.9999999991,800,-1,-1,"RCS2-SA6R-30-12-水平",1.5,0.7,800]
[2557,5883990,800,-1,-1,"RCS2-SA6R-30-12-水平",2,0.6,800]
[2558,4903325,800,-1,-1,"RCS2-SA6R-30-12-水平",3,0.5,800]
[2559,3922660,800,-1,-1,"RCS2-SA6R-30-12-水平",4,0.4,800]
[2560,2941995,800,-1,-1,"RCS2-SA6R-30-12-水平",6,0.3,800]
[{"$f":"A2563+1","v":2561},{"$f":"H2564*$A$1*1000*1000","v":1961330},{"$f":"I2564","v":800},-1,-1,"RCS2-SA6R-30-12-水平",6.9,0.2,800]
[2562,980665,800,-1,-1,"RCS2-SA6R-30-12-水平",7.8,0.1,800]
[2563,7845320,800,-1,-1,"RCS2-SA6R-30-12-垂直",0.35,0.8,800]
[2564,6864654.9999999991,800,-1,-1,"RCS2-SA6R-30-12-垂直",0.45,0.7,800]
[2565,5883990,800,-1,-1,"RCS2-SA6R-30-12-垂直",0.55000000000000004,0.6,800]
[2566,4903325,800,-1,-1,"RCS2-SA6R-30-12-垂直",0.7,0.5,800]
[2567,3922660,800,-1,-1,"RCS2-SA6R-30-12-垂直",1,0.4,800]
[2568,2941995,800,-1,-1,"RCS2-SA6R-30-12-垂直",1.5,0.3,800]
[2569,3922660,200,-1,-1,"RCS2-SA7R-60-4-水平",8,0.4,200]
[2570,2941995,200,-1,-1,"RCS2-SA7R-60-4-水平",16,0.3,200]
[2571,1961330,200,-1,-1,"RCS2-SA7R-60-4-水平",40,0.2,200]
[2572,980665,200,-1,-1,"RCS2-SA7R-60-4-水平",52,0.1,200]
[2573,2941995,200,-1,-1,"RCS2-SA7R-60-4-垂直",5,0.3,200]
[2574,1961330,200,-1,-1,"RCS2-SA7R-60-4-垂直",12,0.2,200]
[2575,5883990,400,-1,-1,"RCS2-SA7R-60-8-水平",10,0.6,400]
[2576,4903325,400,-1,-1,"RCS2-SA7R-60-8-水平",13,0.5,400]
[2577,3922660,400,-1,-1,"RCS2-SA7R-60-8-水平",18,0.4,400]
[2578,2941995,400,-1,-1,"RCS2-SA7R-60-8-水平",25,0.3,400]
[2579,1961330,400,-1,-1,"RCS2-SA7R-60-8-水平",28.8,0.2,400]
[2580,980665,400,-1,-1,"RCS2-SA7R-60-8-水平",32.5,0.1,400]
[2581,5883990,400,-1,-1,"RCS2-SA7R-60-8-垂直",2,0.6,400]
[2582,4903325,400,-1,-1,"RCS2-SA7R-60-8-垂直",2.5,0.5,400]
[2583,3922660,400,-1,-1,"RCS2-SA7R-60-8-垂直",3.5,0.4,400]
[2584,2941995,400,-1,-1,"RCS2-SA7R-60-8-垂直",6,0.3,400]
[2585,7845320,800,-1,-1,"RCS2-SA7R-60-16-水平",3.5,0.8,800]
[2586,6864654.9999999991,800,-1,-1,"RCS2-SA7R-60-16-水平",4,0.7,800]
[2587,5883990,800,-1,-1,"RCS2-SA7R-60-16-水平",5,0.6,800]
[2588,4903325,800,-1,-1,"RCS2-SA7R-60-16-水平",6,0.5,800]
[2589,3922660,800,-1,-1,"RCS2-SA7R-60-16-水平",8,0.4,800]
[2590,2941995,800,-1,-1,"RCS2-SA7R-60-16-水平",12,0.3,800]
[2591,1961330,800,-1,-1,"RCS2-SA7R-60-16-水平",13.8,0.2,800]
[2592,980665,800,-1,-1,"RCS2-SA7R-60-16-水平",15.6,0.1,800]
[2593,7845320,800,-1,-1,"RCS2-SA7R-60-16-垂直",0.65,0.8,800]
[2594,6864654.9999999991,800,-1,-1,"RCS2-SA7R-60-16-垂直",0.8,0.7,800]
[2595,5883990,800,-1,-1,"RCS2-SA7R-60-16-垂直",1,0.6,800]
[2596,4903325,800,-1,-1,"RCS2-SA7R-60-16-垂直",1.2,0.5,800]
[2597,3922660,800,-1,-1,"RCS2-SA7R-60-16-垂直",1.6,0.4,800]
[2598,2941995,800,-1,-1,"RCS2-SA7R-60-16-垂直",3,0.3,800]
[2599,4903325,300,-1,-1,"RCS2-SS7R-60-6-水平",11,0.5,300]
[2600,3922660,300,-1,-1,"RCS2-SS7R-60-6-水平",18,0.4,300]
[2601,2941995,300,-1,-1,"RCS2-SS7R-60-6-水平",30,0.3,300]
[2602,1961330,300,-1,-1,"RCS2-SS7R-60-6-水平",34.5,0.2,300]
[2603,980665,300,-1,-1,"RCS2-SS7R-60-6-水平",39,0.1,300]
[2604,4903325,300,-1,-1,"RCS2-SS7R-60-6-垂直",3,0.5,300]
[2605,3922660,300,-1,-1,"RCS2-SS7R-60-6-垂直",4.5,0.4,300]
[2606,2941995,300,-1,-1,"RCS2-SS7R-60-6-垂直",8,0.3,300]
[2607,7845320,600,-1,-1,"RCS2-SS7R-60-12-水平",4,0.8,600]
[2608,6864654.9999999991,600,-1,-1,"RCS2-SS7R-60-12-水平",5,0.7,600]
[2609,5883990,600,-1,-1,"RCS2-SS7R-60-12-水平",6,0.6,600]
[2610,4903325,600,-1,-1,"RCS2-SS7R-60-12-水平",8,0.5,600]
[2611,3922660,600,-1,-1,"RCS2-SS7R-60-12-水平",11,0.4,600]
[2612,2941995,600,-1,-1,"RCS2-SS7R-60-12-水平",15,0.3,600]
[2613,1961330,600,-1,-1,"RCS2-SS7R-60-12-水平",17.3,0.2,600]
[2614,980665,600,-1,-1,"RCS2-SS7R-60-12-水平",19.5,0.1,600]
[2615,7845320,600,-1,-1,"RCS2-SS7R-60-12-垂直",0.8,0.8,600]
[2616,6864654.9999999991,600,-1,-1,"RCS2-SS7R-60-12-垂直",1,0.7,600]
[2617,5883990,600,-1,-1,"RCS2-SS7R-60-12-垂直",1.3,0.6,600]
[2618,4903325,600,-1,-1,"RCS2-SS7R-60-12-垂直",1.8,0.5,600]
[2619,3922660,600,-1,-1,"RCS2-SS7R-60-12-垂直",2.5,0.4,600]
[2620,2941995,600,-1,-1,"RCS2-SS7R-60-12-垂直",4,0.3,600]
[2621,2941995,150,-1,-1,"RCS2-RA4C-20-3-水平",3,0.3,150]
[2622,1961330,150,-1,-1,"RCS2-RA4C-20-3-水平",12,0.2,150]
[2623,980665,150,-1,-1,"RCS2-RA4C-20-3-水平",15.5,0.1,150]
[2624,2941995,150,-1,-1,"RCS2-RA4C-20-3-垂直",2,0.3,150]
[{"$f":"A2627+1","v":2625},{"$f":"H2628*$A$1*1000*1000","v":1961330},{"$f":"I2628","v":150},-1,-1,"RCS2-RA4C-20-3-垂直",4,0.2,150]
[2626,9806650,300,-1,-1,"RCS2-RA4C-20-6-水平",0.5,1,300]
[2627,8825984.9999999981,300,-1,-1,"RCS2-RA4C-20-6-水平",0.75,0.9,300]
[2628,7845320,300,-1,-1,"RCS2-RA4C-20-6-水平",1,0.8,300]
[2629,6864654.9999999991,300,-1,-1,"RCS2-RA4C-20-6-水平",1.5,0.7,300]
[2630,5883990,300,-1,-1,"RCS2-RA4C-20-6-水平",2.2000000000000002,0.6,300]
[2631,4903325,300,-1,-1,"RCS2-RA4C-20-6-水平",3,0.5,300]
[2632,3922660,300,-1,-1,"RCS2-RA4C-20-6-水平",4.2,0.4,300]
[2633,2941995,300,-1,-1,"RCS2-RA4C-20-6-水平",6,0.3,300]
[2634,1961330,300,-1,-1,"RCS2-RA4C-20-6-水平",7.2,0.2,300]
[2635,980665,300,-1,-1,"RCS2-RA4C-20-6-水平",8,0.1,300]
[2636,6864654.9999999991,300,-1,-1,"RCS2-RA4C-20-6-垂直",0.5,0.7,300]
[2637,5883990,300,-1,-1,"RCS2-RA4C-20-6-垂直",0.7,0.6,300]
[2638,4903325,300,-1,-1,"RCS2-RA4C-20-6-垂直",1,0.5,300]
[2639,3922660,300,-1,-1,"RCS2-RA4C-20-6-垂直",1.4,0.4,300]
[2640,2941995,300,-1,-1,"RCS2-RA4C-20-6-垂直",2,0.3,300]
[2641,9806650,600,-1,-1,"RCS2-RA4C-20-12-水平",0.25,1,600]
[2642,8825984.9999999981,600,-1,-1,"RCS2-RA4C-20-12-水平",0.35,0.9,600]
[2643,7845320,600,-1,-1,"RCS2-RA4C-20-12-水平",0.5,0.8,600]
[2644,6864654.9999999991,600,-1,-1,"RCS2-RA4C-20-12-水平",0.75,0.7,600]
[2645,5883990,600,-1,-1,"RCS2-RA4C-20-12-水平",1,0.6,600]
[2646,4903325,600,-1,-1,"RCS2-RA4C-20-12-水平",1.5,0.5,600]
[2647,3922660,600,-1,-1,"RCS2-RA4C-20-12-水平",2.1,0.4,600]
[2648,2941995,600,-1,-1,"RCS2-RA4C-20-12-水平",3,0.3,600]
[2649,1961330,600,-1,-1,"RCS2-RA4C-20-12-水平",3.6,0.2,600]
[2650,980665,600,-1,-1,"RCS2-RA4C-20-12-水平",4,0.1,600]
[2651,7845320,600,-1,-1,"RCS2-RA4C-20-12-垂直",0.1,0.8,600]
[2652,6864654.9999999991,600,-1,-1,"RCS2-RA4C-20-12-垂直",0.2,0.7,600]
[2653,5883990,600,-1,-1,"RCS2-RA4C-20-12-垂直",0.35,0.6,600]
[2654,4903325,600,-1,-1,"RCS2-RA4C-20-12-垂直",0.5,0.5,600]
[2655,3922660,600,-1,-1,"RCS2-RA4C-20-12-垂直",0.7,0.4,600]
[2656,2941995,600,-1,-1,"RCS2-RA4C-20-12-垂直",1,0.3,600]
[2657,2941995,150,-1,-1,"RCS2-RA4C-30-3-水平",5,0.3,150]
[2658,1961330,150,-1,-1,"RCS2-RA4C-30-3-水平",18,0.2,150]
[2659,980665,150,-1,-1,"RCS2-RA4C-30-3-水平",23.5,0.1,150]
[2660,2941995,150,-1,-1,"RCS2-RA4C-30-3-垂直",3.5,0.3,150]
[2661,1961330,150,-1,-1,"RCS2-RA4C-30-3-垂直",6.5,0.2,150]
[2662,9806650,300,-1,-1,"RCS2-RA4C-30-6-水平",1,1,300]
[2663,8825984.9999999981,300,-1,-1,"RCS2-RA4C-30-6-水平",1.4,0.9,300]
[2664,7845320,300,-1,-1,"RCS2-RA4C-30-6-水平",1.8,0.8,300]
[2665,6864654.9999999991,300,-1,-1,"RCS2-RA4C-30-6-水平",2.5,0.7,300]
[2666,5883990,300,-1,-1,"RCS2-RA4C-30-6-水平",3.2,0.6,300]
[2667,4903325,300,-1,-1,"RCS2-RA4C-30-6-水平",4.5,0.5,300]
[2668,3922660,300,-1,-1,"RCS2-RA4C-30-6-水平",6.5,0.4,300]
[2669,2941995,300,-1,-1,"RCS2-RA4C-30-6-水平",9,0.3,300]
[2670,1961330,300,-1,-1,"RCS2-RA4C-30-6-水平",10.8,0.2,300]
[2671,980665,300,-1,-1,"RCS2-RA4C-30-6-水平",12,0.1,300]
[2672,9806650,300,-1,-1,"RCS2-RA4C-30-6-垂直",0.25,1,300]
[2673,8825984.9999999981,300,-1,-1,"RCS2-RA4C-30-6-垂直",0.4,0.9,300]
[2674,7845320,300,-1,-1,"RCS2-RA4C-30-6-垂直",0.55000000000000004,0.8,300]
[2675,6864654.9999999991,300,-1,-1,"RCS2-RA4C-30-6-垂直",0.75,0.7,300]
[2676,5883990,300,-1,-1,"RCS2-RA4C-30-6-垂直",1.1000000000000001,0.6,300]
[2677,4903325,300,-1,-1,"RCS2-RA4C-30-6-垂直",1.5,0.5,300]
[2678,3922660,300,-1,-1,"RCS2-RA4C-30-6-垂直",2.1,0.4,300]
[2679,2941995,300,-1,-1,"RCS2-RA4C-30-6-垂直",3,0.3,300]
[2680,14709975,600,-1,-1,"RCS2-RA4C-30-12-水平",0.25,1.5,600]
[2681,13729309.999999998,600,-1,-1,"RCS2-RA4C-30-12-水平",0.3,1.4,600]
[2682,12748645,600,-1,-1,"RCS2-RA4C-30-12-水平",0.4,1.3,600]
[2683,11767980,600,-1,-1,"RCS2-RA4C-30-12-水平",0.5,1.2,600]
[2684,10787314.999999998,600,-1,-1,"RCS2-RA4C-30-12-水平",0.6,1.1000000000000001,600]
[2685,9806650,600,-1,-1,"RCS2-RA4C-30-12-水平",0.7,1,600]
[2686,8825984.9999999981,600,-1,-1,"RCS2-RA4C-30-12-水平",0.85,0.9,600]
[2687,7845320,600,-1,-1,"RCS2-RA4C-30-12-水平",1,0.8,600]
[2688,6864654.9999999991,600,-1,-1,"RCS2-RA4C-30-12-水平",1.25,0.7,600]
[{"$f":"A2691+1","v":2689},{"$f":"H2692*$A$1*1000*1000","v":5883990},{"$f":"I2692","v":600},-1,-1,"RCS2-RA4C-30-12-水平",1.55,0.6,600]
[2690,4903325,600,-1,-1,"RCS2-RA4C-30-12-水平",2,0.5,600]
[2691,3922660,600,-1,-1,"RCS2-RA4C-30-12-水平",2.8,0.4,600]
[2692,2941995,600,-1,-1,"RCS2-RA4C-30-12-水平",4,0.3,600]
[2693,1961330,600,-1,-1,"RCS2-RA4C-30-12-水平",4.8,0.2,600]
[2694,980665,600,-1,-1,"RCS2-RA4C-30-12-水平",5.2,0.1,600]
[2695,9806650,600,-1,-1,"RCS2-RA4C-30-12-垂直",0.1,1,600]
[2696,8825984.9999999981,600,-1,-1,"RCS2-RA4C-30-12-垂直",0.15,0.9,600]
[2697,7845320,600,-1,-1,"RCS2-RA4C-30-12-垂直",0.25,0.8,600]
[2698,6864654.9999999991,600,-1,-1,"RCS2-RA4C-30-12-垂直",0.35,0.7,600]
[2699,5883990,600,-1,-1,"RCS2-RA4C-30-12-垂直",0.5,0.6,600]
[2700,4903325,600,-1,-1,"RCS2-RA4C-30-12-垂直",0.7,0.5,600]
[2701,3922660,600,-1,-1,"RCS2-RA4C-30-12-垂直",1,0.4,600]
[2702,2941995,600,-1,-1,"RCS2-RA4C-30-12-垂直",1.5,0.3,600]
[2703,4903325,200,-1,-1,"RCS2-RA5C-60-4-水平",3,0.5,200]
[2704,3922660,200,-1,-1,"RCS2-RA5C-60-4-水平",10,0.4,200]
[2705,2941995,200,-1,-1,"RCS2-RA5C-60-4-水平",25,0.3,200]
[2706,1961330,200,-1,-1,"RCS2-RA5C-60-4-水平",50,0.2,200]
[2707,980665,200,-1,-1,"RCS2-RA5C-60-4-水平",65,0.1,200]
[2708,4903325,200,-1,-1,"RCS2-RA5C-60-4-垂直",3,0.5,200]
[2709,3922660,200,-1,-1,"RCS2-RA5C-60-4-垂直",4,0.4,200]
[2710,2941995,200,-1,-1,"RCS2-RA5C-60-4-垂直",6,0.3,200]
[2711,1961330,200,-1,-1,"RCS2-RA5C-60-4-垂直",11.5,0.2,200]
[2712,11767980,400,-1,-1,"RCS2-RA5C-60-8-水平",2.5,1.2,400]
[2713,10787314.999999998,400,-1,-1,"RCS2-RA5C-60-8-水平",3.2,1.1000000000000001,400]
[2714,9806650,400,-1,-1,"RCS2-RA5C-60-8-水平",4,1,400]
[2715,8825984.9999999981,400,-1,-1,"RCS2-RA5C-60-8-水平",5.5,0.9,400]
[2716,7845320,400,-1,-1,"RCS2-RA5C-60-8-水平",7.5,0.8,400]
[2717,6864654.9999999991,400,-1,-1,"RCS2-RA5C-60-8-水平",10,0.7,400]
[2718,5883990,400,-1,-1,"RCS2-RA5C-60-8-水平",12.2,0.6,400]
[2719,4903325,400,-1,-1,"RCS2-RA5C-60-8-水平",15,0.5,400]
[2720,3922660,400,-1,-1,"RCS2-RA5C-60-8-水平",20,0.4,400]
[2721,2941995,400,-1,-1,"RCS2-RA5C-60-8-水平",25,0.3,400]
[2722,1961330,400,-1,-1,"RCS2-RA5C-60-8-水平",30,0.2,400]
[2723,980665,400,-1,-1,"RCS2-RA5C-60-8-水平",32.5,0.1,400]
[2724,9806650,400,-1,-1,"RCS2-RA5C-60-8-垂直",0.5,1,400]
[2725,8825984.9999999981,400,-1,-1,"RCS2-RA5C-60-8-垂直",0.8,0.9,400]
[2726,7845320,400,-1,-1,"RCS2-RA5C-60-8-垂直",1.1000000000000001,0.8,400]
[2727,6864654.9999999991,400,-1,-1,"RCS2-RA5C-60-8-垂直",1.5,0.7,400]
[2728,5883990,400,-1,-1,"RCS2-RA5C-60-8-垂直",1.9,0.6,400]
[2729,4903325,400,-1,-1,"RCS2-RA5C-60-8-垂直",2.5,0.5,400]
[2730,3922660,400,-1,-1,"RCS2-RA5C-60-8-垂直",3.5,0.4,400]
[2731,2941995,400,-1,-1,"RCS2-RA5C-60-8-垂直",5,0.3,400]
[2732,14709975,800,-1,-1,"RCS2-RA5C-60-16-水平",2,1.5,800]
[2733,13729309.999999998,800,-1,-1,"RCS2-RA5C-60-16-水平",2.2000000000000002,1.4,800]
[2734,12748645,800,-1,-1,"RCS2-RA5C-60-16-水平",2.4500000000000002,1.3,800]
[2735,11767980,800,-1,-1,"RCS2-RA5C-60-16-水平",2.75,1.2,800]
[2736,10787314.999999998,800,-1,-1,"RCS2-RA5C-60-16-水平",3.1,1.1000000000000001,800]
[2737,9806650,800,-1,-1,"RCS2-RA5C-60-16-水平",3.5,1,800]
[2738,8825984.9999999981,800,-1,-1,"RCS2-RA5C-60-16-水平",3.9,0.9,800]
[2739,7845320,800,-1,-1,"RCS2-RA5C-60-16-水平",4.4000000000000004,0.8,800]
[2740,6864654.9999999991,800,-1,-1,"RCS2-RA5C-60-16-水平",5,0.7,800]
[2741,5883990,800,-1,-1,"RCS2-RA5C-60-16-水平",5.9,0.6,800]
[2742,4903325,800,-1,-1,"RCS2-RA5C-60-16-水平",7,0.5,800]
[2743,3922660,800,-1,-1,"RCS2-RA5C-60-16-水平",9,0.4,800]
[2744,2941995,800,-1,-1,"RCS2-RA5C-60-16-水平",12,0.3,800]
[2745,1961330,800,-1,-1,"RCS2-RA5C-60-16-水平",14.4,0.2,800]
[2746,980665,800,-1,-1,"RCS2-RA5C-60-16-水平",15.5,0.1,800]
[2747,9806650,800,-1,-1,"RCS2-RA5C-60-16-垂直",0.1,1,800]
[2748,8825984.9999999981,800,-1,-1,"RCS2-RA5C-60-16-垂直",0.15,0.9,800]
[2749,7845320,800,-1,-1,"RCS2-RA5C-60-16-垂直",0.3,0.8,800]
[2750,6864654.9999999991,800,-1,-1,"RCS2-RA5C-60-16-垂直",0.5,0.7,800]
[2751,5883990,800,-1,-1,"RCS2-RA5C-60-16-垂直",0.7,0.6,800]
[2752,4903325,800,-1,-1,"RCS2-RA5C-60-16-垂直",1,0.5,800]
[{"$f":"A2755+1","v":2753},{"$f":"H2756*$A$1*1000*1000","v":3922660},{"$f":"I2756","v":800},-1,-1,"RCS2-RA5C-60-16-垂直",1.5,0.4,800]
[2754,2941995,800,-1,-1,"RCS2-RA5C-60-16-垂直",2,0.3,800]
[2755,4903325,200,-1,-1,"RCS2-RA5C-100-4-水平",5,0.5,200]
[2756,3922660,200,-1,-1,"RCS2-RA5C-100-4-水平",15,0.4,200]
[2757,2941995,200,-1,-1,"RCS2-RA5C-100-4-水平",30,0.3,200]
[2758,1961330,200,-1,-1,"RCS2-RA5C-100-4-水平",60,0.2,200]
[2759,980665,200,-1,-1,"RCS2-RA5C-100-4-水平",78,0.1,200]
[2760,4903325,200,-1,-1,"RCS2-RA5C-100-4-垂直",5,0.5,200]
[2761,3922660,200,-1,-1,"RCS2-RA5C-100-4-垂直",7,0.4,200]
[2762,2941995,200,-1,-1,"RCS2-RA5C-100-4-垂直",10,0.3,200]
[2763,1961330,200,-1,-1,"RCS2-RA5C-100-4-垂直",18,0.2,200]
[2764,11767980,400,-1,-1,"RCS2-RA5C-100-8-水平",3,1.2,400]
[2765,10787314.999999998,400,-1,-1,"RCS2-RA5C-100-8-水平",4,1.1000000000000001,400]
[2766,9806650,400,-1,-1,"RCS2-RA5C-100-8-水平",5,1,400]
[2767,8825984.9999999981,400,-1,-1,"RCS2-RA5C-100-8-水平",6.5,0.9,400]
[2768,7845320,400,-1,-1,"RCS2-RA5C-100-8-水平",8.5,0.8,400]
[2769,6864654.9999999991,400,-1,-1,"RCS2-RA5C-100-8-水平",11,0.7,400]
[2770,5883990,400,-1,-1,"RCS2-RA5C-100-8-水平",13.5,0.6,400]
[2771,4903325,400,-1,-1,"RCS2-RA5C-100-8-水平",17,0.5,400]
[2772,3922660,400,-1,-1,"RCS2-RA5C-100-8-水平",22,0.4,400]
[2773,2941995,400,-1,-1,"RCS2-RA5C-100-8-水平",30,0.3,400]
[2774,1961330,400,-1,-1,"RCS2-RA5C-100-8-水平",36,0.2,400]
[2775,980665,400,-1,-1,"RCS2-RA5C-100-8-水平",39,0.1,400]
[2776,9806650,400,-1,-1,"RCS2-RA5C-100-8-垂直",1,1,400]
[2777,8825984.9999999981,400,-1,-1,"RCS2-RA5C-100-8-垂直",1.5,0.9,400]
[2778,7845320,400,-1,-1,"RCS2-RA5C-100-8-垂直",2,0.8,400]
[2779,6864654.9999999991,400,-1,-1,"RCS2-RA5C-100-8-垂直",2.5,0.7,400]
[2780,5883990,400,-1,-1,"RCS2-RA5C-100-8-垂直",3.5,0.6,400]
[2781,4903325,400,-1,-1,"RCS2-RA5C-100-8-垂直",4.5,0.5,400]
[2782,3922660,400,-1,-1,"RCS2-RA5C-100-8-垂直",6,0.4,400]
[2783,2941995,400,-1,-1,"RCS2-RA5C-100-8-垂直",9,0.3,400]
[2784,14709975,800,-1,-1,"RCS2-RA5C-100-16-水平",2.5,1.5,800]
[2785,13729309.999999998,800,-1,-1,"RCS2-RA5C-100-16-水平",2.7,1.4,800]
[2786,12748645,800,-1,-1,"RCS2-RA5C-100-16-水平",2.9,1.3,800]
[2787,11767980,800,-1,-1,"RCS2-RA5C-100-16-水平",3.2,1.2,800]
[2788,10787314.999999998,800,-1,-1,"RCS2-RA5C-100-16-水平",3.6,1.1000000000000001,800]
[2789,9806650,800,-1,-1,"RCS2-RA5C-100-16-水平",4,1,800]
[2790,8825984.9999999981,800,-1,-1,"RCS2-RA5C-100-16-水平",4.4000000000000004,0.9,800]
[2791,7845320,800,-1,-1,"RCS2-RA5C-100-16-水平",5,0.8,800]
[2792,6864654.9999999991,800,-1,-1,"RCS2-RA5C-100-16-水平",6,0.7,800]
[2793,5883990,800,-1,-1,"RCS2-RA5C-100-16-水平",7.1,0.6,800]
[2794,4903325,800,-1,-1,"RCS2-RA5C-100-16-水平",8.6,0.5,800]
[2795,3922660,800,-1,-1,"RCS2-RA5C-100-16-水平",11,0.4,800]
[2796,2941995,800,-1,-1,"RCS2-RA5C-100-16-水平",15,0.3,800]
[2797,1961330,800,-1,-1,"RCS2-RA5C-100-16-水平",18,0.2,800]
[2798,980665,800,-1,-1,"RCS2-RA5C-100-16-水平",19.5,0.1,800]
[2799,11767980,800,-1,-1,"RCS2-RA5C-100-16-垂直",0.25,1.2,800]
[2800,10787314.999999998,800,-1,-1,"RCS2-RA5C-100-16-垂直",0.35,1.1000000000000001,800]
[2801,9806650,800,-1,-1,"RCS2-RA5C-100-16-垂直",0.5,1,800]
[2802,8825984.9999999981,800,-1,-1,"RCS2-RA5C-100-16-垂直",0.65,0.9,800]
[2803,7845320,800,-1,-1,"RCS2-RA5C-100-16-垂直",0.8,0.8,800]
[2804,6864654.9999999991,800,-1,-1,"RCS2-RA5C-100-16-垂直",1,0.7,800]
[2805,5883990,800,-1,-1,"RCS2-RA5C-100-16-垂直",1.3,0.6,800]
[2806,4903325,800,-1,-1,"RCS2-RA5C-100-16-垂直",1.75,0.5,800]
[2807,3922660,800,-1,-1,"RCS2-RA5C-100-16-垂直",2.4,0.4,800]
[2808,2941995,800,-1,-1,"RCS2-RA5C-100-16-垂直",3.5,0.3,800]
[{"$f":"A2811+1","v":2809},29419950,2160,-1,-1,"ISB-SXM-100-36-水平",1.5,3,2160]
[2810,28439285,2160,-1,-1,"ISB-SXM-100-36-水平",1.6,2.9,2160]
[2811,27458619.999999996,2160,-1,-1,"ISB-SXM-100-36-水平",1.7,2.8,2160]
[2812,26477955,2160,-1,-1,"ISB-SXM-100-36-水平",1.8,2.7,2160]
[2813,25497290,2160,-1,-1,"ISB-SXM-100-36-水平",1.9,2.6,2160]
[2814,24516624.999999996,2160,-1,-1,"ISB-SXM-100-36-水平",2,2.5,2160]
[2815,23535960,2160,-1,-1,"ISB-SXM-100-36-水平",2.2999999999999998,2.4,2160]
[2816,22555295,2160,-1,-1,"ISB-SXM-100-36-水平",2.6,2.2999999999999998,2160]
[2817,{"$f":"H2820*$A$1*1000*1000","v":21574629.999999996},{"$f":"I2820","v":2160},-1,-1,"ISB-SXM-100-36-水平",2.9,2.2000000000000002,2160]
[2818,20593965,2160,-1,-1,"ISB-SXM-100-36-水平",3.2,2.1,2160]
[2819,19613300,2160,-1,-1,"ISB-SXM-100-36-水平",3.5,2,2160]
[2820,18632635,2160,-1,-1,"ISB-SXM-100-36-水平",3.6,1.9,2160]
[2821,17651969.999999996,2160,-1,-1,"ISB-SXM-100-36-水平",3.7,1.8,2160]
[2822,16671305,2160,-1,-1,"ISB-SXM-100-36-水平",3.8,1.7,2160]
[2823,15690640,2160,-1,-1,"ISB-SXM-100-36-水平",3.9,1.6,2160]
[2824,14709975,2160,-1,-1,"ISB-SXM-100-36-水平",4,1.5,2160]
[2825,13729309.999999998,2160,-1,-1,"ISB-SXM-100-36-水平",4.0999999999999996,1.4,2160]
[2826,12748645,2160,-1,-1,"ISB-SXM-100-36-水平",4.3,1.3,2160]
[2827,11767980,2160,-1,-1,"ISB-SXM-100-36-水平",4.5,1.2,2160]
[2828,10787314.999999998,2160,-1,-1,"ISB-SXM-100-36-水平",5,1.1000000000000001,2160]
[2829,9806650,2160,-1,-1,"ISB-SXM-100-36-水平",5.5,1,2160]
[2830,8825984.9999999981,2160,-1,-1,"ISB-SXM-100-36-水平",6,0.9,2160]
[2831,7845320,2160,-1,-1,"ISB-SXM-100-36-水平",6.7,0.8,2160]
[2832,6864654.9999999991,2160,-1,-1,"ISB-SXM-100-36-水平",7.5,0.7,2160]
[2833,5883990,2160,-1,-1,"ISB-SXM-100-36-水平",8.1999999999999993,0.6,2160]
[2834,4903325,2160,-1,-1,"ISB-SXM-100-36-水平",9,0.5,2160]
[2835,3922660,2160,-1,-1,"ISB-SXM-100-36-水平",10,0.4,2160]
[2836,15690640,2160,-1,-1,"ISB-SXM-100-36-垂直",2,1.6,2160]
[2837,29419950,2500,-1,-1,"ISB-MXM-400-48-水平",5,3,2500]
[2838,28439285,2500,-1,-1,"ISB-MXM-400-48-水平",5.4,2.9,2500]
[2839,27458619.999999996,2500,-1,-1,"ISB-MXM-400-48-水平",5.8,2.8,2500]
[2840,26477955,2500,-1,-1,"ISB-MXM-400-48-水平",6.2,2.7,2500]
[{"$f":"A2843+1","v":2841},25497290,2500,-1,-1,"ISB-MXM-400-48-水平",6.6,2.6,2500]
[2842,24516624.999999996,2500,-1,-1,"ISB-MXM-400-48-水平",7,2.5,2500]
[2843,23535960,2500,-1,-1,"ISB-MXM-400-48-水平",7.6,2.4,2500]
[2844,22555295,2500,-1,-1,"ISB-MXM-400-48-水平",8.1999999999999993,2.2999999999999998,2500]
[2845,21574629.999999996,2500,-1,-1,"ISB-MXM-400-48-水平",8.8000000000000007,2.2000000000000002,2500]
[2846,20593965,2500,-1,-1,"ISB-MXM-400-48-水平",9.4,2.1,2500]
[2847,19613300,2500,-1,-1,"ISB-MXM-400-48-水平",10,2,2500]
[2848,18632635,2500,-1,-1,"ISB-MXM-400-48-水平",10.4,1.9,2500]
[2849,17651969.999999996,2500,-1,-1,"ISB-MXM-400-48-水平",10.8,1.8,2500]
[2850,16671305,2500,-1,-1,"ISB-MXM-400-48-水平",11,1.7,2500]
[2851,15690640,2500,-1,-1,"ISB-MXM-400-48-水平",11.4,1.6,2500]
[2852,14709975,2500,-1,-1,"ISB-MXM-400-48-水平",11.8,1.5,2500]
[2853,13729309.999999998,2500,-1,-1,"ISB-MXM-400-48-水平",12.2,1.4,2500]
[2854,12748645,2500,-1,-1,"ISB-MXM-400-48-水平",12.6,1.3,2500]
[2855,11767980,2500,-1,-1,"ISB-MXM-400-48-水平",13,1.2,2500]
[2856,10787314.999999998,2500,-1,-1,"ISB-MXM-400-48-水平",13.8,1.1000000000000001,2500]
[2857,9806650,2500,-1,-1,"ISB-MXM-400-48-水平",14.6,1,2500]
[2858,8825984.9999999981,2500,-1,-1,"ISB-MXM-400-48-水平",15.5,0.9,2500]
[2859,7845320,2500,-1,-1,"ISB-MXM-400-48-水平",16.399999999999999,0.8,2500]
[2860,6864654.9999999991,2500,-1,-1,"ISB-MXM-400-48-水平",17.3,0.7,2500]
[2861,5883990,2500,-1,-1,"ISB-MXM-400-48-水平",18.2,0.6,2500]
[2862,4903325,2500,-1,-1,"ISB-MXM-400-48-水平",19.100000000000001,0.5,2500]
[2863,3922660,2500,-1,-1,"ISB-MXM-400-48-水平",20,0.4,2500]
[2864,15690640,2500,-1,-1,"ISB-MXM-400-48-垂直",6,1.6,2500]
[2865,29419950,2160,-1,-1,"ISB-SXL-100-36-水平",1.5,3,2160]
[2866,28439285,2160,-1,-1,"ISB-SXL-100-36-水平",1.6,2.9,2160]
[2867,27458619.999999996,2160,-1,-1,"ISB-SXL-100-36-水平",1.7,2.8,2160]
[2868,26477955,2160,-1,-1,"ISB-SXL-100-36-水平",1.8,2.7,2160]
[2869,25497290,2160,-1,-1,"ISB-SXL-100-36-水平",1.9,2.6,2160]
[2870,24516624.999999996,2160,-1,-1,"ISB-SXL-100-36-水平",2,2.5,2160]
[2871,23535960,2160,-1,-1,"ISB-SXL-100-36-水平",2.2999999999999998,2.4,2160]
[2872,22555295,2160,-1,-1,"ISB-SXL-100-36-水平",2.6,2.2999999999999998,2160]
[{"$f":"A2875+1","v":2873},21574629.999999996,2160,-1,-1,"ISB-SXL-100-36-水平",2.9,2.2000000000000002,2160]
[2874,20593965,2160,-1,-1,"ISB-SXL-100-36-水平",3.2,2.1,2160]
[2875,19613300,2160,-1,-1,"ISB-SXL-100-36-水平",3.5,2,2160]
[2876,18632635,2160,-1,-1,"ISB-SXL-100-36-水平",3.6,1.9,2160]
[2877,17651969.999999996,2160,-1,-1,"ISB-SXL-100-36-水平",3.7,1.8,2160]
[2878,16671305,2160,-1,-1,"ISB-SXL-100-36-水平",3.8,1.7,2160]
[2879,15690640,2160,-1,-1,"ISB-SXL-100-36-水平",3.9,1.6,2160]
[2880,14709975,2160,-1,-1,"ISB-SXL-100-36-水平",4,1.5,2160]
[2881,{"$f":"H2884*$A$1*1000*1000","v":13729309.999999998},{"$f":"I2884","v":2160},-1,-1,"ISB-SXL-100-36-水平",4.0999999999999996,1.4,2160]
[2882,12748645,2160,-1,-1,"ISB-SXL-100-36-水平",4.3,1.3,2160]
[2883,11767980,2160,-1,-1,"ISB-SXL-100-36-水平",4.5,1.2,2160]
[2884,10787314.999999998,2160,-1,-1,"ISB-SXL-100-36-水平",5,1.1000000000000001,2160]
[2885,9806650,2160,-1,-1,"ISB-SXL-100-36-水平",5.5,1,2160]
[2886,8825984.9999999981,2160,-1,-1,"ISB-SXL-100-36-水平",6,0.9,2160]
[2887,7845320,2160,-1,-1,"ISB-SXL-100-36-水平",6.7,0.8,2160]
[2888,6864654.9999999991,2160,-1,-1,"ISB-SXL-100-36-水平",7.5,0.7,2160]
[2889,5883990,2160,-1,-1,"ISB-SXL-100-36-水平",8.1999999999999993,0.6,2160]
[2890,4903325,2160,-1,-1,"ISB-SXL-100-36-水平",9,0.5,2160]
[2891,3922660,2160,-1,-1,"ISB-SXL-100-36-水平",10,0.4,2160]
[2892,15690640,2160,-1,-1,"ISB-SXL-100-36-垂直",2,1.6,2160]
[2893,29419950,2500,-1,-1,"ISB-MXL-400-48-水平",5,3,2500]
[2894,28439285,2500,-1,-1,"ISB-MXL-400-48-水平",5.4,2.9,2500]
[2895,27458619.999999996,2500,-1,-1,"ISB-MXL-400-48-水平",5.8,2.8,2500]
[2896,26477955,2500,-1,-1,"ISB-MXL-400-48-水平",6.2,2.7,2500]
[2897,25497290,2500,-1,-1,"ISB-MXL-400-48-水平",6.6,2.6,2500]
[2898,24516624.999999996,2500,-1,-1,"ISB-MXL-400-48-水平",7,2.5,2500]
[2899,23535960,2500,-1,-1,"ISB-MXL-400-48-水平",7.6,2.4,2500]
[2900,22555295,2500,-1,-1,"ISB-MXL-400-48-水平",8.1999999999999993,2.2999999999999998,2500]
[2901,21574629.999999996,2500,-1,-1,"ISB-MXL-400-48-水平",8.8000000000000007,2.2000000000000002,2500]
[2902,20593965,2500,-1,-1,"ISB-MXL-400-48-水平",9.4,2.1,2500]
[2903,19613300,2500,-1,-1,"ISB-MXL-400-48-水平",10,2,2500]
[2904,18632635,2500,-1,-1,"ISB-MXL-400-48-水平",10.4,1.9,2500]
[{"$f":"A2907+1","v":2905},17651969.999999996,2500,-1,-1,"ISB-MXL-400-48-水平",10.8,1.8,2500]
[2906,16671305,2500,-1,-1,"ISB-MXL-400-48-水平",11,1.7,2500]
[2907,15690640,2500,-1,-1,"ISB-MXL-400-48-水平",11.4,1.6,2500]
[2908,14709975,2500,-1,-1,"ISB-MXL-400-48-水平",11.8,1.5,2500]
[2909,13729309.999999998,2500,-1,-1,"ISB-MXL-400-48-水平",12.2,1.4,2500]
[2910,12748645,2500,-1,-1,"ISB-MXL-400-48-水平",12.6,1.3,2500]
[2911,11767980,2500,-1,-1,"ISB-MXL-400-48-水平",13,1.2,2500]
[2912,10787314.999999998,2500,-1,-1,"ISB-MXL-400-48-水平",13.8,1.1000000000000001,2500]
[2913,9806650,2500,-1,-1,"ISB-MXL-400-48-水平",14.6,1,2500]
[2914,8825984.9999999981,2500,-1,-1,"ISB-MXL-400-48-水平",15.5,0.9,2500]
[2915,7845320,2500,-1,-1,"ISB-MXL-400-48-水平",16.399999999999999,0.8,2500]
[2916,6864654.9999999991,2500,-1,-1,"ISB-MXL-400-48-水平",17.3,0.7,2500]
[2917,5883990,2500,-1,-1,"ISB-MXL-400-48-水平",18.2,0.6,2500]
[2918,4903325,2500,-1,-1,"ISB-MXL-400-48-水平",19.100000000000001,0.5,2500]
[2919,3922660,2500,-1,-1,"ISB-MXL-400-48-水平",20,0.4,2500]
[2920,15690640,2500,-1,-1,"ISB-MXL-400-48-垂直",6,1.6,2500]
[2921,29419950,2000,-1,-1,"ISDB-S-100-36-水平",1.4,3,2000]
[2922,28439285,2000,-1,-1,"ISDB-S-100-36-水平",1.5,2.9,2000]
[2923,27458619.999999996,2000,-1,-1,"ISDB-S-100-36-水平",1.6,2.8,2000]
[2924,26477955,2000,-1,-1,"ISDB-S-100-36-水平",1.7,2.7,2000]
[2925,25497290,2000,-1,-1,"ISDB-S-100-36-水平",1.8,2.6,2000]
[2926,24516624.999999996,2000,-1,-1,"ISDB-S-100-36-水平",1.9,2.5,2000]
[2927,23535960,2000,-1,-1,"ISDB-S-100-36-水平",2,2.4,2000]
[2928,22555295,2000,-1,-1,"ISDB-S-100-36-水平",2.2000000000000002,2.2999999999999998,2000]
[2929,21574629.999999996,2000,-1,-1,"ISDB-S-100-36-水平",2.4,2.2000000000000002,2000]
[2930,20593965,2000,-1,-1,"ISDB-S-100-36-水平",2.6,2.1,2000]
[2931,19613300,2000,-1,-1,"ISDB-S-100-36-水平",2.9,2,2000]
[2932,18632635,2000,-1,-1,"ISDB-S-100-36-水平",3.2,1.9,2000]
[2933,17651969.999999996,2000,-1,-1,"ISDB-S-100-36-水平",3.5,1.8,2000]
[2934,16671305,2000,-1,-1,"ISDB-S-100-36-水平",3.6,1.7,2000]
[2935,15690640,2000,-1,-1,"ISDB-S-100-36-水平",3.7,1.6,2000]
[2936,14709975,2000,-1,-1,"ISDB-S-100-36-水平",3.8,1.5,2000]
[{"$f":"A2939+1","v":2937},13729309.999999998,2000,-1,-1,"ISDB-S-100-36-水平",3.9,1.4,2000]
[2938,12748645,2000,-1,-1,"ISDB-S-100-36-水平",4,1.3,2000]
[2939,11767980,2000,-1,-1,"ISDB-S-100-36-水平",4.0999999999999996,1.2,2000]
[2940,10787314.999999998,2000,-1,-1,"ISDB-S-100-36-水平",4.3,1.1000000000000001,2000]
[2941,9806650,2000,-1,-1,"ISDB-S-100-36-水平",4.5,1,2000]
[2942,8825984.9999999981,2000,-1,-1,"ISDB-S-100-36-水平",5.4,0.9,2000]
[2943,7845320,2000,-1,-1,"ISDB-S-100-36-水平",6.3,0.8,2000]
[2944,6864654.9999999991,2000,-1,-1,"ISDB-S-100-36-水平",7.2,0.7,2000]
[2945,{"$f":"H2948*$A$1*1000*1000","v":5883990},{"$f":"I2948","v":2000},-1,-1,"ISDB-S-100-36-水平",8.1,0.6,2000]
[2946,4903325,2000,-1,-1,"ISDB-S-100-36-水平",9,0.5,2000]
[2947,3922660,2000,-1,-1,"ISDB-S-100-36-水平",10,0.4,2000]
[2948,15690640,2000,-1,-1,"ISDB-S-100-36-垂直",2,1.6,2000]
[2949,29419950,2200,-1,-1,"ISDB-M-400-48-水平",5,3,2200]
[2950,28439285,2200,-1,-1,"ISDB-M-400-48-水平",5.3,2.9,2200]
[2951,27458619.999999996,2200,-1,-1,"ISDB-M-400-48-水平",5.6,2.8,2200]
[2952,26477955,2200,-1,-1,"ISDB-M-400-48-水平",5.9,2.7,2200]
[2953,25497290,2200,-1,-1,"ISDB-M-400-48-水平",6.2,2.6,2200]
[2954,24516624.999999996,2200,-1,-1,"ISDB-M-400-48-水平",6.6,2.5,2200]
[2955,23535960,2200,-1,-1,"ISDB-M-400-48-水平",7,2.4,2200]
[2956,22555295,2200,-1,-1,"ISDB-M-400-48-水平",7.5,2.2999999999999998,2200]
[2957,21574629.999999996,2200,-1,-1,"ISDB-M-400-48-水平",8,2.2000000000000002,2200]
[2958,20593965,2200,-1,-1,"ISDB-M-400-48-水平",8.5,2.1,2200]
[2959,19613300,2200,-1,-1,"ISDB-M-400-48-水平",9,2,2200]
[2960,18632635,2200,-1,-1,"ISDB-M-400-48-水平",9.5,1.9,2200]
[2961,17651969.999999996,2200,-1,-1,"ISDB-M-400-48-水平",10,1.8,2200]
[2962,16671305,2200,-1,-1,"ISDB-M-400-48-水平",10.3,1.7,2200]
[2963,15690640,2200,-1,-1,"ISDB-M-400-48-水平",10.6,1.6,2200]
[2964,14709975,2200,-1,-1,"ISDB-M-400-48-水平",11,1.5,2200]
[2965,13729309.999999998,2200,-1,-1,"ISDB-M-400-48-水平",11.4,1.4,2200]
[2966,12748645,2200,-1,-1,"ISDB-M-400-48-水平",11.8,1.3,2200]
[2967,11767980,2200,-1,-1,"ISDB-M-400-48-水平",12.2,1.2,2200]
[2968,10787314.999999998,2200,-1,-1,"ISDB-M-400-48-水平",12.6,1.1000000000000001,2200]
[{"$f":"A2971+1","v":2969},9806650,2200,-1,-1,"ISDB-M-400-48-水平",13,1,2200]
[2970,8825984.9999999981,2200,-1,-1,"ISDB-M-400-48-水平",14,0.9,2200]
[2971,7845320,2200,-1,-1,"ISDB-M-400-48-水平",15.2,0.8,2200]
[2972,6864654.9999999991,2200,-1,-1,"ISDB-M-400-48-水平",16.399999999999999,0.7,2200]
[2973,5883990,2200,-1,-1,"ISDB-M-400-48-水平",17.600000000000001,0.6,2200]
[2974,4903325,2200,-1,-1,"ISDB-M-400-48-水平",18.8,0.5,2200]
[2975,3922660,2200,-1,-1,"ISDB-M-400-48-水平",20,0.4,2200]
[2976,15690640,2200,-1,-1,"ISDB-M-400-48-垂直",6,1.6,2200]
[2977,14709975,150,-1,-1,"RCS4-SA4C-60-2.5-水平",11,1.5,150,"↓ Ver.3.5 追加"]
[2978,11767980,150,-1,-1,"RCS4-SA4C-60-2.5-水平",17,1.2,150]
[2979,2941995,150,-1,2980,"RCS4-SA4C-60-2.5-水平",20,0.3,150]
[2980,4903325,150,2979,2981,"RCS4-SA4C-60-2.5-水平",20,0.5,150]
[2981,6864655,150,2980,2982,"RCS4-SA4C-60-2.5-水平",20,0.7,150]
[2982,9806650,150,2981,-1,"RCS4-SA4C-60-2.5-水平",20,1,150]
[2983,14709975,150,-1,-1,"RCS4-SA4C-60-2.5-垂直",6,1.5,150]
[2984,11767980,150,-1,-1,"RCS4-SA4C-60-2.5-垂直",7,1.2,150]
[2985,9806650,150,-1,-1,"RCS4-SA4C-60-2.5-垂直",8,1,150]
[2986,6864655,150,-1,-1,"RCS4-SA4C-60-2.5-垂直",10,0.7,150]
[2987,2941995,150,-1,2988,"RCS4-SA4C-60-2.5-垂直",12,0.3,150]
[2988,4903325,150,2987,-1,"RCS4-SA4C-60-2.5-垂直",12,0.5,150]
[2989,44129925,300,-1,-1,"RCS4-SA4C-60-5-水平",4,4.5,300]
[2990,41187930,300,-1,-1,"RCS4-SA4C-60-5-水平",4.5,4.2,300]
[2991,39226600,300,-1,-1,"RCS4-SA4C-60-5-水平",5,4,300]
[2992,36284605,300,-1,-1,"RCS4-SA4C-60-5-水平",5.5,3.7,300]
[2993,34323275,300,-1,-1,"RCS4-SA4C-60-5-水平",6,3.5,300]
[2994,31381280,300,-1,-1,"RCS4-SA4C-60-5-水平",6.5,3.2,300]
[2995,29419950,300,-1,-1,"RCS4-SA4C-60-5-水平",7,3,300]
[2996,26477955,300,-1,-1,"RCS4-SA4C-60-5-水平",8,2.7,300]
[2997,24516625,300,-1,-1,"RCS4-SA4C-60-5-水平",9,2.5,300]
[2998,21574630,300,-1,-1,"RCS4-SA4C-60-5-水平",10,2.2000000000000002,300]
[2999,19613300,300,-1,-1,"RCS4-SA4C-60-5-水平",11,2,300]
[3000,14709975,300,-1,-1,"RCS4-SA4C-60-5-水平",14,1.5,300]
[3001,11767980,300,-1,-1,"RCS4-SA4C-60-5-水平",14.5,1.2,300]
[3002,6864655,300,-1,3003,"RCS4-SA4C-60-5-水平",15,0.7,300]
[3003,9806650,300,3002,-1,"RCS4-SA4C-60-5-水平",15,1,300]
[3004,2941995,300,-1,3005,"RCS4-SA4C-60-5-水平",17,0.3,300]
[3005,4903325,300,3004,-1,"RCS4-SA4C-60-5-水平",17,0.5,300]
[3006,29419950,300,-1,-1,"RCS4-SA4C-60-5-垂直",4.25,3,300]
[3007,26477955,300,-1,-1,"RCS4-SA4C-60-5-垂直",4.5,2.7,300]
[3008,24516625,300,-1,-1,"RCS4-SA4C-60-5-垂直",4.75,2.5,300]
[3009,21574630,300,-1,-1,"RCS4-SA4C-60-5-垂直",5,2.2000000000000002,300]
[3010,19613300,300,-1,-1,"RCS4-SA4C-60-5-垂直",5.25,2,300]
[3011,14709975,300,-1,-1,"RCS4-SA4C-60-5-垂直",5.5,1.5,300]
[3012,11767980,300,-1,-1,"RCS4-SA4C-60-5-垂直",5.75,1.2,300]
[3013,6864655,300,-1,3014,"RCS4-SA4C-60-5-垂直",6,0.7,300]
[3014,9806650,300,3013,-1,"RCS4-SA4C-60-5-垂直",6,1,300]
[3015,2941995,300,-1,3016,"RCS4-SA4C-60-5-垂直",8,0.3,300]
[3016,4903325,300,3015,-1,"RCS4-SA4C-60-5-垂直",8,0.5,300]
[3017,44129925,600,-1,-1,"RCS4-SA4C-60-10-水平",1,4.5,600]
[3018,41187930,600,-1,-1,"RCS4-SA4C-60-10-水平",1.25,4.2,600]
[3019,39226600,600,-1,-1,"RCS4-SA4C-60-10-水平",1.5,4,600]
[3020,36284605,600,-1,-1,"RCS4-SA4C-60-10-水平",1.75,3.7,600]
[3021,34323275,600,-1,-1,"RCS4-SA4C-60-10-水平",2,3.5,600]
[3022,31381280,600,-1,-1,"RCS4-SA4C-60-10-水平",2.25,3.2,600]
[3023,29419950,600,-1,-1,"RCS4-SA4C-60-10-水平",2.5,3,600]
[3024,26477955,600,-1,-1,"RCS4-SA4C-60-10-水平",3,2.7,600]
[3025,24516625,600,-1,-1,"RCS4-SA4C-60-10-水平",3.5,2.5,600]
[3026,21574630,600,-1,-1,"RCS4-SA4C-60-10-水平",4,2.2000000000000002,600]
[3027,19613300,600,-1,-1,"RCS4-SA4C-60-10-水平",4.5,2,600]
[3028,14709975,600,-1,-1,"RCS4-SA4C-60-10-水平",5,1.5,600]
[3029,11767980,600,-1,-1,"RCS4-SA4C-60-10-水平",6,1.2,600]
[3030,9806650,600,-1,-1,"RCS4-SA4C-60-10-水平",10,1,600]
[3031,6864655,600,-1,-1,"RCS4-SA4C-60-10-水平",12,0.7,600]
[3032,2941995,600,-1,3033,"RCS4-SA4C-60-10-水平",14,0.3,600]
[3033,4903325,600,3032,-1,"RCS4-SA4C-60-10-水平",14,0.5,600]
[3034,26477955,600,-1,3035,"RCS4-SA4C-60-10-垂直",1,2.7,600]
[3035,29419950,600,3034,-1,"RCS4-SA4C-60-10-垂直",1,3,600]
[3036,21574630,600,-1,3037,"RCS4-SA4C-60-10-垂直",1.5,2.2000000000000002,600]
[3037,24516625,600,3036,-1,"RCS4-SA4C-60-10-垂直",1.5,2.5,600]
[3038,11767980,600,-1,3039,"RCS4-SA4C-60-10-垂直",2,1.2,600]
[3039,14709975,600,3038,3040,"RCS4-SA4C-60-10-垂直",2,1.5,600]
[3040,19613300,600,3039,-1,"RCS4-SA4C-60-10-垂直",2,2,600]
[3041,6864655,600,-1,3042,"RCS4-SA4C-60-10-垂直",3,0.7,600]
[3042,9806650,600,3041,-1,"RCS4-SA4C-60-10-垂直",3,1,600]
[3043,2941995,600,-1,3044,"RCS4-SA4C-60-10-垂直",5,0.3,600]
[3044,4903325,600,3043,-1,"RCS4-SA4C-60-10-垂直",5,0.5,600]
[3045,41187930,960,-1,3046,"RCS4-SA4C-60-16-水平",1,4.2,960]
[3046,44129925,960,3045,-1,"RCS4-SA4C-60-16-水平",1,4.5,960]
[3047,39226600,960,-1,-1,"RCS4-SA4C-60-16-水平",1.25,4,960]
[3048,36284605,960,-1,-1,"RCS4-SA4C-60-16-水平",1.5,3.7,960]
[3049,34323275,960,-1,-1,"RCS4-SA4C-60-16-水平",1.75,3.5,960]
[3050,29419950,960,-1,3051,"RCS4-SA4C-60-16-水平",2,3,960]
[3051,31381280,960,3050,-1,"RCS4-SA4C-60-16-水平",2,3.2,960]
[3052,26477955,960,-1,-1,"RCS4-SA4C-60-16-水平",2.25,2.7,960]
[3053,24516625,960,-1,-1,"RCS4-SA4C-60-16-水平",2.5,2.5,960]
[3054,21574630,960,-1,-1,"RCS4-SA4C-60-16-水平",2.75,2.2000000000000002,960]
[3055,19613300,960,-1,-1,"RCS4-SA4C-60-16-水平",3,2,960]
[3056,14709975,960,-1,-1,"RCS4-SA4C-60-16-水平",3.5,1.5,960]
[3057,11767980,960,-1,-1,"RCS4-SA4C-60-16-水平",4,1.2,960]
[3058,6864655,960,-1,3059,"RCS4-SA4C-60-16-水平",6,0.7,960]
[3059,9806650,960,3058,-1,"RCS4-SA4C-60-16-水平",6,1,960]
[3060,4903325,960,-1,-1,"RCS4-SA4C-60-16-水平",8,0.5,960]
[3061,2941995,960,-1,-1,"RCS4-SA4C-60-16-水平",10,0.3,960]
[3062,26477955,960,-1,3063,"RCS4-SA4C-60-16-垂直",0.75,2.7,960]
[3063,29419950,960,3062,-1,"RCS4-SA4C-60-16-垂直",0.75,3,960]
[3064,11767980,960,-1,3065,"RCS4-SA4C-60-16-垂直",1,1.2,960]
[3065,14709975,960,3064,3066,"RCS4-SA4C-60-16-垂直",1,1.5,960]
[3066,19613300,960,3065,3067,"RCS4-SA4C-60-16-垂直",1,2,960]
[3067,21574630,960,3066,3068,"RCS4-SA4C-60-16-垂直",1,2.2000000000000002,960]
[3068,24516625,960,3067,-1,"RCS4-SA4C-60-16-垂直",1,2.5,960]
[3069,6864655,960,-1,3070,"RCS4-SA4C-60-16-垂直",1.5,0.7,960]
[3070,9806650,960,3069,-1,"RCS4-SA4C-60-16-垂直",1.5,1,960]
[3071,2941995,960,-1,3072,"RCS4-SA4C-60-16-垂直",3,0.3,960]
[3072,4903325,960,3071,-1,"RCS4-SA4C-60-16-垂直",3,0.5,960]
[3073,14709975,150,-1,-1,"RCS4-SA4R-60-2.5-水平",11,1.5,150]
[3074,11767980,150,-1,-1,"RCS4-SA4R-60-2.5-水平",17,1.2,150]
[3075,2941995,150,-1,3076,"RCS4-SA4R-60-2.5-水平",20,0.3,150]
[3076,4903325,150,3075,3077,"RCS4-SA4R-60-2.5-水平",20,0.5,150]
[3077,6864655,150,3076,3078,"RCS4-SA4R-60-2.5-水平",20,0.7,150]
[3078,9806650,150,3077,-1,"RCS4-SA4R-60-2.5-水平",20,1,150]
[3079,14709975,150,-1,-1,"RCS4-SA4R-60-2.5-垂直",6,1.5,150]
[3080,11767980,150,-1,-1,"RCS4-SA4R-60-2.5-垂直",7,1.2,150]
[3081,9806650,150,-1,-1,"RCS4-SA4R-60-2.5-垂直",8,1,150]
[3082,6864655,150,-1,-1,"RCS4-SA4R-60-2.5-垂直",10,0.7,150]
[3083,2941995,150,-1,3084,"RCS4-SA4R-60-2.5-垂直",12,0.3,150]
[3084,4903325,150,3083,-1,"RCS4-SA4R-60-2.5-垂直",12,0.5,150]
[3085,44129925,300,-1,-1,"RCS4-SA4R-60-5-水平",4,4.5,300]
[3086,41187930,300,-1,-1,"RCS4-SA4R-60-5-水平",4.5,4.2,300]
[3087,39226600,300,-1,-1,"RCS4-SA4R-60-5-水平",5,4,300]
[3088,36284605,300,-1,-1,"RCS4-SA4R-60-5-水平",5.5,3.7,300]
[3089,34323275,300,-1,-1,"RCS4-SA4R-60-5-水平",6,3.5,300]
[3090,31381280,300,-1,-1,"RCS4-SA4R-60-5-水平",6.5,3.2,300]
[3091,29419950,300,-1,-1,"RCS4-SA4R-60-5-水平",7,3,300]
[3092,26477955,300,-1,-1,"RCS4-SA4R-60-5-水平",8,2.7,300]
[3093,24516625,300,-1,-1,"RCS4-SA4R-60-5-水平",9,2.5,300]
[3094,21574630,300,-1,-1,"RCS4-SA4R-60-5-水平",10,2.2000000000000002,300]
[3095,19613300,300,-1,-1,"RCS4-SA4R-60-5-水平",11,2,300]
[3096,14709975,300,-1,-1,"RCS4-SA4R-60-5-水平",12,1.5,300]
[3097,11767980,300,-1,-1,"RCS4-SA4R-60-5-水平",12.5,1.2,300]
[3098,9806650,300,-1,-1,"RCS4-SA4R-60-5-水平",13,1,300]
[3099,6864655,300,-1,-1,"RCS4-SA4R-60-5-水平",15,0.7,300]
[3100,2941995,300,-1,3101,"RCS4-SA4R-60-5-水平",17,0.3,300]
[3101,4903325,300,3100,-1,"RCS4-SA4R-60-5-水平",17,0.5,300]
[3102,29419950,300,-1,-1,"RCS4-SA4R-60-5-垂直",4.25,3,300]
[3103,26477955,300,-1,-1,"RCS4-SA4R-60-5-垂直",4.5,2.7,300]
[3104,24516625,300,-1,-1,"RCS4-SA4R-60-5-垂直",4.75,2.5,300]
[3105,21574630,300,-1,-1,"RCS4-SA4R-60-5-垂直",5,2.2000000000000002,300]
[3106,19613300,300,-1,-1,"RCS4-SA4R-60-5-垂直",5.25,2,300]
[3107,14709975,300,-1,-1,"RCS4-SA4R-60-5-垂直",5.5,1.5,300]
[3108,11767980,300,-1,-1,"RCS4-SA4R-60-5-垂直",5.75,1.2,300]
[3109,6864655,300,-1,3110,"RCS4-SA4R-60-5-垂直",6,0.7,300]
[3110,9806650,300,3109,-1,"RCS4-SA4R-60-5-垂直",6,1,300]
[3111,2941995,300,-1,3112,"RCS4-SA4R-60-5-垂直",8,0.3,300]
[3112,4903325,300,3111,-1,"RCS4-SA4R-60-5-垂直",8,0.5,300]
[3113,44129925,600,-1,-1,"RCS4-SA4R-60-10-水平",1,4.5,600]
[3114,41187930,600,-1,-1,"RCS4-SA4R-60-10-水平",1.25,4.2,600]
[3115,39226600,600,-1,-1,"RCS4-SA4R-60-10-水平",1.5,4,600]
[3116,36284605,600,-1,-1,"RCS4-SA4R-60-10-水平",1.75,3.7,600]
[3117,34323275,600,-1,-1,"RCS4-SA4R-60-10-水平",2,3.5,600]
[3118,31381280,600,-1,-1,"RCS4-SA4R-60-10-水平",2.25,3.2,600]
[3119,29419950,600,-1,-1,"RCS4-SA4R-60-10-水平",2.5,3,600]
[3120,26477955,600,-1,-1,"RCS4-SA4R-60-10-水平",3,2.7,600]
[3121,24516625,600,-1,-1,"RCS4-SA4R-60-10-水平",3.5,2.5,600]
[3122,21574630,600,-1,-1,"RCS4-SA4R-60-10-水平",4,2.2000000000000002,600]
[3123,19613300,600,-1,-1,"RCS4-SA4R-60-10-水平",4.5,2,600]
[3124,14709975,600,-1,-1,"RCS4-SA4R-60-10-水平",5,1.5,600]
[3125,11767980,600,-1,-1,"RCS4-SA4R-60-10-水平",6,1.2,600]
[3126,9806650,600,-1,-1,"RCS4-SA4R-60-10-水平",10,1,600]
[3127,6864655,600,-1,-1,"RCS4-SA4R-60-10-水平",12,0.7,600]
[3128,2941995,600,-1,3129,"RCS4-SA4R-60-10-水平",14,0.3,600]
[3129,4903325,600,3128,-1,"RCS4-SA4R-60-10-水平",14,0.5,600]
[3130,26477955,600,-1,3131,"RCS4-SA4R-60-10-垂直",1,2.7,600]
[3131,29419950,600,3130,-1,"RCS4-SA4R-60-10-垂直",1,3,600]
[3132,21574630,600,-1,3133,"RCS4-SA4R-60-10-垂直",1.5,2.2000000000000002,600]
[3133,24516625,600,3132,-1,"RCS4-SA4R-60-10-垂直",1.5,2.5,600]
[3134,11767980,600,-1,3135,"RCS4-SA4R-60-10-垂直",2,1.2,600]
[3135,14709975,600,3134,3136,"RCS4-SA4R-60-10-垂直",2,1.5,600]
[3136,19613300,600,3135,-1,"RCS4-SA4R-60-10-垂直",2,2,600]
[3137,6864655,600,-1,3138,"RCS4-SA4R-60-10-垂直",3,0.7,600]
[3138,9806650,600,3137,-1,"RCS4-SA4R-60-10-垂直",3,1,600]
[3139,2941995,600,-1,3140,"RCS4-SA4R-60-10-垂直",4.5,0.3,600]
[3140,4903325,600,3139,-1,"RCS4-SA4R-60-10-垂直",4.5,0.5,600]
[3141,41187930,960,-1,3142,"RCS4-SA4R-60-16-水平",1,4.2,960]
[3142,44129925,960,3141,-1,"RCS4-SA4R-60-16-水平",1,4.5,960]
[3143,39226600,960,-1,-1,"RCS4-SA4R-60-16-水平",1.25,4,960]
[3144,36284605,960,-1,-1,"RCS4-SA4R-60-16-水平",1.5,3.7,960]
[3145,34323275,960,-1,-1,"RCS4-SA4R-60-16-水平",1.75,3.5,960]
[3146,29419950,960,-1,3147,"RCS4-SA4R-60-16-水平",2,3,960]
[3147,31381280,960,3146,-1,"RCS4-SA4R-60-16-水平",2,3.2,960]
[3148,26477955,960,-1,-1,"RCS4-SA4R-60-16-水平",2.25,2.7,960]
[3149,24516625,960,-1,-1,"RCS4-SA4R-60-16-水平",2.5,2.5,960]
[3150,21574630,960,-1,-1,"RCS4-SA4R-60-16-水平",2.75,2.2000000000000002,960]
[3151,19613300,960,-1,-1,"RCS4-SA4R-60-16-水平",3,2,960]
[3152,14709975,960,-1,-1,"RCS4-SA4R-60-16-水平",3.5,1.5,960]
[3153,11767980,960,-1,-1,"RCS4-SA4R-60-16-水平",4,1.2,960]
[3154,6864655,960,-1,3155,"RCS4-SA4R-60-16-水平",6,0.7,960]
[3155,9806650,960,3154,-1,"RCS4-SA4R-60-16-水平",6,1,960]
[3156,4903325,960,-1,-1,"RCS4-SA4R-60-16-水平",8,0.5,960]
[3157,2941995,960,-1,-1,"RCS4-SA4R-60-16-水平",10,0.3,960]
[3158,26477955,960,-1,3159,"RCS4-SA4R-60-16-垂直",0.75,2.7,960]
[3159,29419950,960,3158,-1,"RCS4-SA4R-60-16-垂直",0.75,3,960]
[3160,11767980,960,-1,3161,"RCS4-SA4R-60-16-垂直",1,1.2,960]
[3161,14709975,960,3160,3162,"RCS4-SA4R-60-16-垂直",1,1.5,960]
[3162,19613300,960,3161,3163,"RCS4-SA4R-60-16-垂直",1,2,960]
[3163,21574630,960,3162,3164,"RCS4-SA4R-60-16-垂直",1,2.2000000000000002,960]
[3164,24516625,960,3163,-1,"RCS4-SA4R-60-16-垂直",1,2.5,960]
[3165,6864655,960,-1,3166,"RCS4-SA4R-60-16-垂直",1.5,0.7,960]
[3166,9806650,960,3165,-1,"RCS4-SA4R-60-16-垂直",1.5,1,960]
[3167,2941995,960,-1,3168,"RCS4-SA4R-60-16-垂直",2.5,0.3,960]
[3168,4903325,960,3167,-1,"RCS4-SA4R-60-16-垂直",2.5,0.5,960]
[3169,14709975,180,-1,-1,"RCS4-SA6C-100-3-水平",2.5,1.5,180]
[3170,11767980,180,-1,-1,"RCS4-SA6C-100-3-水平",7.5,1.2,180]
[3171,9806650,180,-1,-1,"RCS4-SA6C-100-3-水平",12,1,180]
[3172,6864655,180,-1,-1,"RCS4-SA6C-100-3-水平",20,0.7,180]
[3173,4903325,180,-1,-1,"RCS4-SA6C-100-3-水平",30,0.5,180]
[3174,2941995,180,-1,-1,"RCS4-SA6C-100-3-水平",45,0.3,180]
[3175,14709975,180,-1,-1,"RCS4-SA6C-100-3-垂直",1,1.5,180]
[3176,11767980,180,-1,-1,"RCS4-SA6C-100-3-垂直",4,1.2,180]
[3177,9806650,180,-1,-1,"RCS4-SA6C-100-3-垂直",6,1,180]
[3178,6864655,180,-1,-1,"RCS4-SA6C-100-3-垂直",10,0.7,180]
[3179,4903325,180,-1,-1,"RCS4-SA6C-100-3-垂直",14,0.5,180]
[3180,2941995,180,-1,-1,"RCS4-SA6C-100-3-垂直",15,0.3,180]
[3181,44129925,360,-1,-1,"RCS4-SA6C-100-6-水平",2,4.5,360]
[3182,41187930,360,-1,-1,"RCS4-SA6C-100-6-水平",2.5,4.2,360]
[3183,39226600,360,-1,-1,"RCS4-SA6C-100-6-水平",3,4,360]
[3184,36284605,360,-1,-1,"RCS4-SA6C-100-6-水平",3.5,3.7,360]
[3185,34323275,360,-1,-1,"RCS4-SA6C-100-6-水平",4,3.5,360]
[3186,31381280,360,-1,-1,"RCS4-SA6C-100-6-水平",5,3.2,360]
[3187,29419950,360,-1,-1,"RCS4-SA6C-100-6-水平",5.75,3,360]
[3188,26477955,360,-1,-1,"RCS4-SA6C-100-6-水平",7,2.7,360]
[3189,24516625,360,-1,-1,"RCS4-SA6C-100-6-水平",7.5,2.5,360]
[3190,21574630,360,-1,-1,"RCS4-SA6C-100-6-水平",9,2.2000000000000002,360]
[3191,19613300,360,-1,-1,"RCS4-SA6C-100-6-水平",11,2,360]
[3192,14709975,360,-1,-1,"RCS4-SA6C-100-6-水平",16,1.5,360]
[3193,11767980,360,-1,-1,"RCS4-SA6C-100-6-水平",18,1.2,360]
[3194,6864655,360,-1,3195,"RCS4-SA6C-100-6-水平",20,0.7,360]
[3195,9806650,360,3194,-1,"RCS4-SA6C-100-6-水平",20,1,360]
[3196,4903325,360,-1,-1,"RCS4-SA6C-100-6-水平",30,0.5,360]
[3197,2941995,360,-1,-1,"RCS4-SA6C-100-6-水平",45,0.3,360]
[3198,26477955,360,-1,3199,"RCS4-SA6C-100-6-垂直",4,2.7,360]
[3199,29419950,360,3198,-1,"RCS4-SA6C-100-6-垂直",4,3,360]
[3200,24516625,360,-1,-1,"RCS4-SA6C-100-6-垂直",5,2.5,360]
[3201,21574630,360,-1,-1,"RCS4-SA6C-100-6-垂直",6,2.2000000000000002,360]
[3202,19613300,360,-1,-1,"RCS4-SA6C-100-6-垂直",6.5,2,360]
[3203,14709975,360,-1,-1,"RCS4-SA6C-100-6-垂直",9,1.5,360]
[3204,11767980,360,-1,-1,"RCS4-SA6C-100-6-垂直",11,1.2,360]
[3205,2941995,360,-1,3206,"RCS4-SA6C-100-6-垂直",15,0.3,360]
[3206,4903325,360,3205,3207,"RCS4-SA6C-100-6-垂直",15,0.5,360]
[3207,6864655,360,3206,3208,"RCS4-SA6C-100-6-垂直",15,0.7,360]
[3208,9806650,360,3207,-1,"RCS4-SA6C-100-6-垂直",15,1,360]
[3209,44129925,720,-1,-1,"RCS4-SA6C-100-12-水平",2,4.5,720]
[3210,39226600,720,-1,3211,"RCS4-SA6C-100-12-水平",2.5,4,720]
[3211,41187930,720,3210,-1,"RCS4-SA6C-100-12-水平",2.5,4.2,720]
[3212,34323275,720,-1,3213,"RCS4-SA6C-100-12-水平",3,3.5,720]
[3213,36284605,720,3212,-1,"RCS4-SA6C-100-12-水平",3,3.7,720]
[3214,29419950,720,-1,3215,"RCS4-SA6C-100-12-水平",3.5,3,720]
[3215,31381280,720,3214,-1,"RCS4-SA6C-100-12-水平",3.5,3.2,720]
[3216,26477955,720,-1,-1,"RCS4-SA6C-100-12-水平",4,2.7,720]
[3217,24516625,720,-1,-1,"RCS4-SA6C-100-12-水平",5,2.5,720]
[3218,21574630,720,-1,-1,"RCS4-SA6C-100-12-水平",5.5,2.2000000000000002,720]
[3219,19613300,720,-1,-1,"RCS4-SA6C-100-12-水平",6,2,720]
[3220,14709975,720,-1,-1,"RCS4-SA6C-100-12-水平",9,1.5,720]
[3221,9806650,720,-1,3222,"RCS4-SA6C-100-12-水平",15,1,720]
[3222,11767980,720,3221,-1,"RCS4-SA6C-100-12-水平",15,1.2,720]
[3223,6864655,720,-1,-1,"RCS4-SA6C-100-12-水平",20,0.7,720]
[3224,4903325,720,-1,-1,"RCS4-SA6C-100-12-水平",24,0.5,720]
[3225,2941995,720,-1,-1,"RCS4-SA6C-100-12-水平",30,0.3,720]
[3226,29419950,720,-1,-1,"RCS4-SA6C-100-12-垂直",3,3,720]
[3227,26477955,720,-1,-1,"RCS4-SA6C-100-12-垂直",3.5,2.7,720]
[3228,24516625,720,-1,-1,"RCS4-SA6C-100-12-垂直",4,2.5,720]
[3229,21574630,720,-1,-1,"RCS4-SA6C-100-12-垂直",5,2.2000000000000002,720]
[3230,19613300,720,-1,-1,"RCS4-SA6C-100-12-垂直",6,2,720]
[3231,14709975,720,-1,-1,"RCS4-SA6C-100-12-垂直",7,1.5,720]
[3232,9806650,720,-1,3233,"RCS4-SA6C-100-12-垂直",8,1,720]
[3233,11767980,720,3232,-1,"RCS4-SA6C-100-12-垂直",8,1.2,720]
[3234,4903325,720,-1,3235,"RCS4-SA6C-100-12-垂直",10,0.5,720]
[3235,6864655,720,3234,-1,"RCS4-SA6C-100-12-垂直",10,0.7,720]
[3236,2941995,720,-1,-1,"RCS4-SA6C-100-12-垂直",11,0.3,720]
[3237,44129925,1200,-1,-1,"RCS4-SA6C-100-20-水平",1.75,4.5,1200]
[3238,29419950,1200,-1,3239,"RCS4-SA6C-100-20-水平",2,3,1200]
[3239,31381280,1200,3238,3240,"RCS4-SA6C-100-20-水平",2,3.2,1200]
[3240,34323275,1200,3239,3241,"RCS4-SA6C-100-20-水平",2,3.5,1200]
[3241,36284605,1200,3240,3242,"RCS4-SA6C-100-20-水平",2,3.7,1200]
[3242,39226600,1200,3241,3243,"RCS4-SA6C-100-20-水平",2,4,1200]
[3243,41187930,1200,3242,-1,"RCS4-SA6C-100-20-水平",2,4.2,1200]
[3244,26477955,1200,-1,-1,"RCS4-SA6C-100-20-水平",2.5,2.7,1200]
[3245,24516625,1200,-1,-1,"RCS4-SA6C-100-20-水平",3.5,2.5,1200]
[3246,21574630,1200,-1,-1,"RCS4-SA6C-100-20-水平",4,2.2000000000000002,1200]
[3247,19613300,1200,-1,-1,"RCS4-SA6C-100-20-水平",4.5,2,1200]
[3248,14709975,1200,-1,-1,"RCS4-SA6C-100-20-水平",5,1.5,1200]
[3249,11767980,1200,-1,-1,"RCS4-SA6C-100-20-水平",6,1.2,1200]
[3250,9806650,1200,-1,-1,"RCS4-SA6C-100-20-水平",8,1,1200]
[3251,6864655,1200,-1,-1,"RCS4-SA6C-100-20-水平",10,0.7,1200]
[3252,4903325,1200,-1,-1,"RCS4-SA6C-100-20-水平",15,0.5,1200]
[3253,2941995,1200,-1,-1,"RCS4-SA6C-100-20-水平",18,0.3,1200]
[3254,11767980,1200,-1,3255,"RCS4-SA6C-100-20-垂直",2,1.2,1200]
[3255,14709975,1200,3254,3256,"RCS4-SA6C-100-20-垂直",2,1.5,1200]
[3256,19613300,1200,3255,3257,"RCS4-SA6C-100-20-垂直",2,2,1200]
[3257,21574630,1200,3256,3258,"RCS4-SA6C-100-20-垂直",2,2.2000000000000002,1200]
[3258,24516625,1200,3257,3259,"RCS4-SA6C-100-20-垂直",2,2.5,1200]
[3259,26477955,1200,3258,3260,"RCS4-SA6C-100-20-垂直",2,2.7,1200]
[3260,29419950,1200,3259,-1,"RCS4-SA6C-100-20-垂直",2,3,1200]
[3261,6864655,1200,-1,3262,"RCS4-SA6C-100-20-垂直",4,0.7,1200]
[3262,9806650,1200,3261,-1,"RCS4-SA6C-100-20-垂直",4,1,1200]
[3263,4903325,1200,-1,-1,"RCS4-SA6C-100-20-垂直",5,0.5,1200]
[3264,2941995,1200,-1,-1,"RCS4-SA6C-100-20-垂直",6,0.3,1200]
[3265,39226600,1800,-1,3266,"RCS4-SA6C-100-30-水平",1,4,1800]
[3266,41187930,1800,3265,3267,"RCS4-SA6C-100-30-水平",1,4.2,1800]
[3267,44129925,1800,3266,-1,"RCS4-SA6C-100-30-水平",1,4.5,1800]
[3268,34323275,1800,-1,3269,"RCS4-SA6C-100-30-水平",1.25,3.5,1800]
[3269,36284605,1800,3268,-1,"RCS4-SA6C-100-30-水平",1.25,3.7,1800]
[3270,21574630,1800,-1,3271,"RCS4-SA6C-100-30-水平",1.5,2.2000000000000002,1800]
[3271,24516625,1800,3270,3272,"RCS4-SA6C-100-30-水平",1.5,2.5,1800]
[3272,26477955,1800,3271,3273,"RCS4-SA6C-100-30-水平",1.5,2.7,1800]
[3273,29419950,1800,3272,3274,"RCS4-SA6C-100-30-水平",1.5,3,1800]
[3274,31381280,1800,3273,-1,"RCS4-SA6C-100-30-水平",1.5,3.2,1800]
[3275,19613300,1800,-1,-1,"RCS4-SA6C-100-30-水平",2,2,1800]
[3276,14709975,1800,-1,-1,"RCS4-SA6C-100-30-水平",2.5,1.5,1800]
[3277,11767980,1600,-1,-1,"RCS4-SA6C-100-30-水平",3,1.2,1600]
[3278,9806650,1600,-1,-1,"RCS4-SA6C-100-30-水平",4,1,1600]
[3279,4903325,1600,-1,3280,"RCS4-SA6C-100-30-水平",6,0.5,1600]
[3280,6864655,1600,3279,-1,"RCS4-SA6C-100-30-水平",6,0.7,1600]
[3281,2941995,1600,-1,-1,"RCS4-SA6C-100-30-水平",11,0.3,1600]
[3282,24516625,1800,-1,3283,"RCS4-SA6C-100-30-垂直",1,2.5,1800]
[3283,26477955,1800,3282,3284,"RCS4-SA6C-100-30-垂直",1,2.7,1800]
[3284,29419950,1800,3283,-1,"RCS4-SA6C-100-30-垂直",1,3,1800]
[3285,9806650,1600,-1,3286,"RCS4-SA6C-100-30-垂直",1.5,1,1600]
[3286,11767980,1600,3285,3287,"RCS4-SA6C-100-30-垂直",1.5,1.2,1600]
[3287,14709975,1800,3286,3288,"RCS4-SA6C-100-30-垂直",1.5,1.5,1800]
[3288,19613300,1800,3287,3289,"RCS4-SA6C-100-30-垂直",1.5,2,1800]
[3289,21574630,1800,3288,-1,"RCS4-SA6C-100-30-垂直",1.5,2.2000000000000002,1800]
[3290,4903325,1600,-1,3291,"RCS4-SA6C-100-30-垂直",2,0.5,1600]
[3291,6864655,1600,3290,-1,"RCS4-SA6C-100-30-垂直",2,0.7,1600]
[3292,2941995,1600,-1,-1,"RCS4-SA6C-100-30-垂直",3.5,0.3,1600]
[3293,14709975,180,-1,-1,"RCS4-SA6R-100-3-水平",2.5,1.5,180]
[3294,11767980,180,-1,-1,"RCS4-SA6R-100-3-水平",7.5,1.2,180]
[3295,9806650,180,-1,-1,"RCS4-SA6R-100-3-水平",12,1,180]
[3296,6864655,180,-1,-1,"RCS4-SA6R-100-3-水平",20,0.7,180]
[3297,4903325,180,-1,-1,"RCS4-SA6R-100-3-水平",30,0.5,180]
[3298,2941995,180,-1,-1,"RCS4-SA6R-100-3-水平",45,0.3,180]
[3299,14709975,180,-1,-1,"RCS4-SA6R-100-3-垂直",1,1.5,180]
[3300,11767980,180,-1,-1,"RCS4-SA6R-100-3-垂直",4,1.2,180]
[3301,9806650,180,-1,-1,"RCS4-SA6R-100-3-垂直",6,1,180]
[3302,6864655,180,-1,-1,"RCS4-SA6R-100-3-垂直",10,0.7,180]
[3303,4903325,180,-1,-1,"RCS4-SA6R-100-3-垂直",14,0.5,180]
[3304,2941995,180,-1,-1,"RCS4-SA6R-100-3-垂直",15,0.3,180]
[3305,44129925,360,-1,-1,"RCS4-SA6R-100-6-水平",2,4.5,360]
[3306,41187930,360,-1,-1,"RCS4-SA6R-100-6-水平",2.5,4.2,360]
[3307,39226600,360,-1,-1,"RCS4-SA6R-100-6-水平",3,4,360]
[3308,36284605,360,-1,-1,"RCS4-SA6R-100-6-水平",3.5,3.7,360]
[3309,34323275,360,-1,-1,"RCS4-SA6R-100-6-水平",4,3.5,360]
[3310,31381280,360,-1,-1,"RCS4-SA6R-100-6-水平",5,3.2,360]
[3311,29419950,360,-1,-1,"RCS4-SA6R-100-6-水平",5.75,3,360]
[3312,26477955,360,-1,-1,"RCS4-SA6R-100-6-水平",7,2.7,360]
[3313,24516625,360,-1,-1,"RCS4-SA6R-100-6-水平",7.5,2.5,360]
[3314,21574630,360,-1,-1,"RCS4-SA6R-100-6-水平",9,2.2000000000000002,360]
[3315,19613300,360,-1,-1,"RCS4-SA6R-100-6-水平",11,2,360]
[3316,14709975,360,-1,-1,"RCS4-SA6R-100-6-水平",16,1.5,360]
[3317,11767980,360,-1,-1,"RCS4-SA6R-100-6-水平",18,1.2,360]
[3318,6864655,360,-1,3319,"RCS4-SA6R-100-6-水平",20,0.7,360]
[3319,9806650,360,3318,-1,"RCS4-SA6R-100-6-水平",20,1,360]
[3320,4903325,360,-1,-1,"RCS4-SA6R-100-6-水平",30,0.5,360]
[3321,2941995,360,-1,-1,"RCS4-SA6R-100-6-水平",45,0.3,360]
[3322,26477955,360,-1,3323,"RCS4-SA6R-100-6-垂直",4,2.7,360]
[3323,29419950,360,3322,-1,"RCS4-SA6R-100-6-垂直",4,3,360]
[3324,24516625,360,-1,-1,"RCS4-SA6R-100-6-垂直",5,2.5,360]
[3325,21574630,360,-1,-1,"RCS4-SA6R-100-6-垂直",6,2.2000000000000002,360]
[3326,19613300,360,-1,-1,"RCS4-SA6R-100-6-垂直",6.5,2,360]
[3327,14709975,360,-1,-1,"RCS4-SA6R-100-6-垂直",9,1.5,360]
[3328,11767980,360,-1,-1,"RCS4-SA6R-100-6-垂直",11,1.2,360]
[3329,2941995,360,-1,3330,"RCS4-SA6R-100-6-垂直",15,0.3,360]
[3330,4903325,360,3329,3331,"RCS4-SA6R-100-6-垂直",15,0.5,360]
[3331,6864655,360,3330,3332,"RCS4-SA6R-100-6-垂直",15,0.7,360]
[3332,9806650,360,3331,-1,"RCS4-SA6R-100-6-垂直",15,1,360]
[3333,44129925,720,-1,-1,"RCS4-SA6R-100-12-水平",2,4.5,720]
[3334,39226600,720,-1,3335,"RCS4-SA6R-100-12-水平",2.5,4,720]
[3335,41187930,720,3334,-1,"RCS4-SA6R-100-12-水平",2.5,4.2,720]
[3336,34323275,720,-1,3337,"RCS4-SA6R-100-12-水平",3,3.5,720]
[3337,36284605,720,3336,-1,"RCS4-SA6R-100-12-水平",3,3.7,720]
[3338,29419950,720,-1,3339,"RCS4-SA6R-100-12-水平",3.5,3,720]
[3339,31381280,720,3338,-1,"RCS4-SA6R-100-12-水平",3.5,3.2,720]
[3340,26477955,720,-1,-1,"RCS4-SA6R-100-12-水平",4,2.7,720]
[3341,24516625,720,-1,-1,"RCS4-SA6R-100-12-水平",5,2.5,720]
[3342,21574630,720,-1,-1,"RCS4-SA6R-100-12-水平",5.5,2.2000000000000002,720]
[3343,19613300,720,-1,-1,"RCS4-SA6R-100-12-水平",6,2,720]
[3344,14709975,720,-1,-1,"RCS4-SA6R-100-12-水平",9,1.5,720]
[3345,9806650,720,-1,3346,"RCS4-SA6R-100-12-水平",15,1,720]
[3346,11767980,720,3345,-1,"RCS4-SA6R-100-12-水平",15,1.2,720]
[3347,6864655,720,-1,-1,"RCS4-SA6R-100-12-水平",20,0.7,720]
[3348,4903325,720,-1,-1,"RCS4-SA6R-100-12-水平",24,0.5,720]
[3349,2941995,720,-1,-1,"RCS4-SA6R-100-12-水平",30,0.3,720]
[3350,29419950,720,-1,-1,"RCS4-SA6R-100-12-垂直",3,3,720]
[3351,26477955,720,-1,-1,"RCS4-SA6R-100-12-垂直",3.5,2.7,720]
[3352,24516625,720,-1,-1,"RCS4-SA6R-100-12-垂直",4,2.5,720]
[3353,21574630,720,-1,-1,"RCS4-SA6R-100-12-垂直",5,2.2000000000000002,720]
[3354,19613300,720,-1,-1,"RCS4-SA6R-100-12-垂直",6,2,720]
[3355,14709975,720,-1,-1,"RCS4-SA6R-100-12-垂直",7,1.5,720]
[3356,9806650,720,-1,3357,"RCS4-SA6R-100-12-垂直",8,1,720]
[3357,11767980,720,3356,-1,"RCS4-SA6R-100-12-垂直",8,1.2,720]
[3358,2941995,720,-1,3359,"RCS4-SA6R-100-12-垂直",9,0.3,720]
[3359,4903325,720,3358,3360,"RCS4-SA6R-100-12-垂直",9,0.5,720]
[3360,6864655,720,3359,-1,"RCS4-SA6R-100-12-垂直",9,0.7,720]
[3361,39226600,1200,-1,3362,"RCS4-SA6R-100-20-水平",1.75,4,1200]
[3362,41187930,1200,3361,3363,"RCS4-SA6R-100-20-水平",1.75,4.2,1200]
[3363,44129925,1200,3362,-1,"RCS4-SA6R-100-20-水平",1.75,4.5,1200]
[3364,29419950,1200,-1,3365,"RCS4-SA6R-100-20-水平",2,3,1200]
[3365,31381280,1200,3364,3366,"RCS4-SA6R-100-20-水平",2,3.2,1200]
[3366,34323275,1200,3365,3367,"RCS4-SA6R-100-20-水平",2,3.5,1200]
[3367,36284605,1200,3366,-1,"RCS4-SA6R-100-20-水平",2,3.7,1200]
[3368,26477955,1200,-1,-1,"RCS4-SA6R-100-20-水平",2.5,2.7,1200]
[3369,24516625,1200,-1,-1,"RCS4-SA6R-100-20-水平",3.5,2.5,1200]
[3370,21574630,1200,-1,-1,"RCS4-SA6R-100-20-水平",4,2.2000000000000002,1200]
[3371,19613300,1200,-1,-1,"RCS4-SA6R-100-20-水平",4.5,2,1200]
[3372,14709975,1200,-1,-1,"RCS4-SA6R-100-20-水平",5,1.5,1200]
[3373,11767980,1200,-1,-1,"RCS4-SA6R-100-20-水平",6,1.2,1200]
[3374,9806650,1200,-1,-1,"RCS4-SA6R-100-20-水平",8,1,1200]
[3375,6864655,1200,-1,-1,"RCS4-SA6R-100-20-水平",10,0.7,1200]
[3376,4903325,1200,-1,-1,"RCS4-SA6R-100-20-水平",15,0.5,1200]
[3377,2941995,1200,-1,-1,"RCS4-SA6R-100-20-水平",18,0.3,1200]
[3378,14709975,1200,-1,3379,"RCS4-SA6R-100-20-垂直",2,1.5,1200]
[3379,19613300,1200,3378,3380,"RCS4-SA6R-100-20-垂直",2,2,1200]
[3380,21574630,1200,3379,3381,"RCS4-SA6R-100-20-垂直",2,2.2000000000000002,1200]
[3381,24516625,1200,3380,3382,"RCS4-SA6R-100-20-垂直",2,2.5,1200]
[3382,26477955,1200,3381,3383,"RCS4-SA6R-100-20-垂直",2,2.7,1200]
[3383,29419950,1200,3382,-1,"RCS4-SA6R-100-20-垂直",2,3,1200]
[3384,11767980,1200,-1,-1,"RCS4-SA6R-100-20-垂直",3,1.2,1200]
[3385,6864655,1200,-1,3386,"RCS4-SA6R-100-20-垂直",4,0.7,1200]
[3386,9806650,1200,3385,-1,"RCS4-SA6R-100-20-垂直",4,1,1200]
[3387,2941995,1200,-1,3388,"RCS4-SA6R-100-20-垂直",5,0.3,1200]
[3388,4903325,1200,3387,-1,"RCS4-SA6R-100-20-垂直",5,0.5,1200]
[3389,39226600,1800,-1,3390,"RCS4-SA6R-100-30-水平",1,4,1800]
[3390,41187930,1800,3389,3391,"RCS4-SA6R-100-30-水平",1,4.2,1800]
[3391,44129925,1800,3390,-1,"RCS4-SA6R-100-30-水平",1,4.5,1800]
[3392,29419950,1800,-1,3393,"RCS4-SA6R-100-30-水平",1.25,3,1800]
[3393,31381280,1800,3392,3394,"RCS4-SA6R-100-30-水平",1.25,3.2,1800]
[3394,34323275,1800,3393,3395,"RCS4-SA6R-100-30-水平",1.25,3.5,1800]
[3395,36284605,1800,3394,-1,"RCS4-SA6R-100-30-水平",1.25,3.7,1800]
[3396,21574630,1800,-1,3397,"RCS4-SA6R-100-30-水平",1.5,2.2000000000000002,1800]
[3397,24516625,1800,3396,3398,"RCS4-SA6R-100-30-水平",1.5,2.5,1800]
[3398,26477955,1800,3397,-1,"RCS4-SA6R-100-30-水平",1.5,2.7,1800]
[3399,19613300,1800,-1,-1,"RCS4-SA6R-100-30-水平",2,2,1800]
[3400,14709975,1800,-1,-1,"RCS4-SA6R-100-30-水平",2.5,1.5,1800]
[3401,11767980,1600,-1,-1,"RCS4-SA6R-100-30-水平",3,1.2,1600]
[3402,9806650,1600,-1,-1,"RCS4-SA6R-100-30-水平",4,1,1600]
[3403,4903325,1600,-1,3404,"RCS4-SA6R-100-30-水平",6,0.5,1600]
[3404,6864655,1600,3403,-1,"RCS4-SA6R-100-30-水平",6,0.7,1600]
[3405,2941995,1600,-1,-1,"RCS4-SA6R-100-30-水平",11,0.3,1600]
[3406,24516625,1800,-1,3407,"RCS4-SA6R-100-30-垂直",1,2.5,1800]
[3407,26477955,1800,3406,3408,"RCS4-SA6R-100-30-垂直",1,2.7,1800]
[3408,29419950,1800,3407,-1,"RCS4-SA6R-100-30-垂直",1,3,1800]
[3409,9806650,1600,-1,3410,"RCS4-SA6R-100-30-垂直",1.5,1,1600]
[3410,11767980,1600,3409,3411,"RCS4-SA6R-100-30-垂直",1.5,1.2,1600]
[3411,14709975,1800,3410,3412,"RCS4-SA6R-100-30-垂直",1.5,1.5,1800]
[3412,19613300,1800,3411,3413,"RCS4-SA6R-100-30-垂直",1.5,2,1800]
[3413,21574630,1800,3412,-1,"RCS4-SA6R-100-30-垂直",1.5,2.2000000000000002,1800]
[3414,4903325,1600,-1,3415,"RCS4-SA6R-100-30-垂直",2,0.5,1600]
[3415,6864655,1600,3414,-1,"RCS4-SA6R-100-30-垂直",2,0.7,1600]
[3416,2941995,1600,-1,-1,"RCS4-SA6R-100-30-垂直",3,0.3,1600]
[3417,14709975,240,-1,-1,"RCS4-SA7C-200-4-水平",5,1.5,240]
[3418,11767980,240,-1,-1,"RCS4-SA7C-200-4-水平",15,1.2,240]
[3419,9806650,240,-1,-1,"RCS4-SA7C-200-4-水平",25,1,240]
[3420,6864655,240,-1,-1,"RCS4-SA7C-200-4-水平",40,0.7,240]
[3421,2941995,240,-1,3422,"RCS4-SA7C-200-4-水平",50,0.3,240]
[3422,4903325,240,3421,-1,"RCS4-SA7C-200-4-水平",50,0.5,240]
[3423,14709975,240,-1,-1,"RCS4-SA7C-200-4-垂直",3,1.5,240]
[3424,11767980,240,-1,-1,"RCS4-SA7C-200-4-垂直",8,1.2,240]
[3425,9806650,240,-1,-1,"RCS4-SA7C-200-4-垂直",12,1,240]
[3426,6864655,240,-1,-1,"RCS4-SA7C-200-4-垂直",20,0.7,240]
[3427,2941995,240,-1,3428,"RCS4-SA7C-200-4-垂直",25,0.3,240]
[3428,4903325,240,3427,-1,"RCS4-SA7C-200-4-垂直",25,0.5,240]
[3429,44129925,500,-1,-1,"RCS4-SA7C-200-8-水平",4,4.5,500]
[3430,41187930,500,-1,-1,"RCS4-SA7C-200-8-水平",5,4.2,500]
[3431,39226600,500,-1,-1,"RCS4-SA7C-200-8-水平",6,4,500]
[3432,36284605,500,-1,-1,"RCS4-SA7C-200-8-水平",7,3.7,500]
[3433,34323275,500,-1,-1,"RCS4-SA7C-200-8-水平",8,3.5,500]
[3434,26477955,500,-1,3435,"RCS4-SA7C-200-8-水平",9,2.7,500]
[3435,29419950,500,3434,3436,"RCS4-SA7C-200-8-水平",9,3,500]
[3436,31381280,500,3435,-1,"RCS4-SA7C-200-8-水平",9,3.2,500]
[3437,24516625,500,-1,-1,"RCS4-SA7C-200-8-水平",10,2.5,500]
[3438,21574630,500,-1,-1,"RCS4-SA7C-200-8-水平",15,2.2000000000000002,500]
[3439,19613300,500,-1,-1,"RCS4-SA7C-200-8-水平",18,2,500]
[3440,14709975,500,-1,-1,"RCS4-SA7C-200-8-水平",25,1.5,500]
[3441,11767980,500,-1,-1,"RCS4-SA7C-200-8-水平",30,1.2,500]
[3442,9806650,500,-1,-1,"RCS4-SA7C-200-8-水平",35,1,500]
[3443,4903325,500,-1,3444,"RCS4-SA7C-200-8-水平",40,0.5,500]
[3444,6864655,500,3443,-1,"RCS4-SA7C-200-8-水平",40,0.7,500]
[3445,2941995,500,-1,-1,"RCS4-SA7C-200-8-水平",45,0.3,500]
[3446,26477955,500,-1,3447,"RCS4-SA7C-200-8-垂直",7,2.7,500]
[3447,29419950,500,3446,-1,"RCS4-SA7C-200-8-垂直",7,3,500]
[3448,24516625,500,-1,-1,"RCS4-SA7C-200-8-垂直",8,2.5,500]
[3449,19613300,500,-1,3450,"RCS4-SA7C-200-8-垂直",10,2,500]
[3450,21574630,500,3449,-1,"RCS4-SA7C-200-8-垂直",10,2.2000000000000002,500]
[3451,14709975,500,-1,-1,"RCS4-SA7C-200-8-垂直",12,1.5,500]
[3452,11767980,500,-1,-1,"RCS4-SA7C-200-8-垂直",15,1.2,500]
[3453,9806650,500,-1,-1,"RCS4-SA7C-200-8-垂直",18,1,500]
[3454,2941995,500,-1,3455,"RCS4-SA7C-200-8-垂直",20,0.3,500]
[3455,4903325,500,3454,3456,"RCS4-SA7C-200-8-垂直",20,0.5,500]
[3456,6864655,500,3455,-1,"RCS4-SA7C-200-8-垂直",20,0.7,500]
[3457,44129925,1000,-1,-1,"RCS4-SA7C-200-16-水平",3.5,4.5,1000]
[3458,41187930,1000,-1,-1,"RCS4-SA7C-200-16-水平",4,4.2,1000]
[3459,39226600,1000,-1,-1,"RCS4-SA7C-200-16-水平",5,4,1000]
[3460,36284605,1000,-1,-1,"RCS4-SA7C-200-16-水平",5.5,3.7,1000]
[3461,31381280,1000,-1,3462,"RCS4-SA7C-200-16-水平",6,3.2,1000]
[3462,34323275,1000,3461,-1,"RCS4-SA7C-200-16-水平",6,3.5,1000]
[3463,29419950,1000,-1,-1,"RCS4-SA7C-200-16-水平",7,3,1000]
[3464,26477955,1000,-1,-1,"RCS4-SA7C-200-16-水平",8,2.7,1000]
[3465,24516625,1000,-1,-1,"RCS4-SA7C-200-16-水平",9,2.5,1000]
[3466,19613300,1000,-1,3467,"RCS4-SA7C-200-16-水平",10,2,1000]
[3467,21574630,1000,3466,-1,"RCS4-SA7C-200-16-水平",10,2.2000000000000002,1000]
[3468,11767980,1000,-1,3469,"RCS4-SA7C-200-16-水平",12,1.2,1000]
[3469,14709975,1000,3468,-1,"RCS4-SA7C-200-16-水平",12,1.5,1000]
[3470,6864655,1000,-1,3471,"RCS4-SA7C-200-16-水平",15,0.7,1000]
[3471,9806650,1000,3470,-1,"RCS4-SA7C-200-16-水平",15,1,1000]
[3472,4903325,1000,-1,-1,"RCS4-SA7C-200-16-水平",30,0.5,1000]
[3473,2941995,1000,-1,-1,"RCS4-SA7C-200-16-水平",40,0.3,1000]
[3474,19613300,1000,-1,3475,"RCS4-SA7C-200-16-垂直",5,2,1000]
[3475,21574630,1000,3474,3476,"RCS4-SA7C-200-16-垂直",5,2.2000000000000002,1000]
[3476,24516625,1000,3475,3477,"RCS4-SA7C-200-16-垂直",5,2.5,1000]
[3477,26477955,1000,3476,3478,"RCS4-SA7C-200-16-垂直",5,2.7,1000]
[3478,29419950,1000,3477,-1,"RCS4-SA7C-200-16-垂直",5,3,1000]
[3479,9806650,1000,-1,3480,"RCS4-SA7C-200-16-垂直",8,1,1000]
[3480,11767980,1000,3479,3481,"RCS4-SA7C-200-16-垂直",8,1.2,1000]
[3481,14709975,1000,3480,-1,"RCS4-SA7C-200-16-垂直",8,1.5,1000]
[3482,6864655,1000,-1,-1,"RCS4-SA7C-200-16-垂直",10,0.7,1000]
[3483,2941995,1000,-1,3484,"RCS4-SA7C-200-16-垂直",12,0.3,1000]
[3484,4903325,1000,3483,-1,"RCS4-SA7C-200-16-垂直",12,0.5,1000]
[3485,29419950,1500,-1,3486,"RCS4-SA7C-200-24-水平",3,3,1500]
[3486,31381280,1500,3485,3487,"RCS4-SA7C-200-24-水平",3,3.2,1500]
[3487,34323275,1500,3486,3488,"RCS4-SA7C-200-24-水平",3,3.5,1500]
[3488,36284605,1500,3487,3489,"RCS4-SA7C-200-24-水平",3,3.7,1500]
[3489,39226600,1500,3488,3490,"RCS4-SA7C-200-24-水平",3,4,1500]
[3490,41187930,1500,3489,3491,"RCS4-SA7C-200-24-水平",3,4.2,1500]
[3491,44129925,1500,3490,-1,"RCS4-SA7C-200-24-水平",3,4.5,1500]
[3492,24516625,1500,-1,3493,"RCS4-SA7C-200-24-水平",4,2.5,1500]
[3493,26477955,1500,3492,-1,"RCS4-SA7C-200-24-水平",4,2.7,1500]
[3494,11767980,1500,-1,3495,"RCS4-SA7C-200-24-水平",5,1.2,1500]
[3495,14709975,1500,3494,3496,"RCS4-SA7C-200-24-水平",5,1.5,1500]
[3496,19613300,1500,3495,3497,"RCS4-SA7C-200-24-水平",5,2,1500]
[3497,21574630,1500,3496,-1,"RCS4-SA7C-200-24-水平",5,2.2000000000000002,1500]
[3498,9806650,1500,-1,-1,"RCS4-SA7C-200-24-水平",6,1,1500]
[3499,6864655,1500,-1,-1,"RCS4-SA7C-200-24-水平",10,0.7,1500]
[3500,4903325,1500,-1,-1,"RCS4-SA7C-200-24-水平",12,0.5,1500]
[3501,2941995,1500,-1,-1,"RCS4-SA7C-200-24-水平",30,0.3,1500]
[3502,26477955,1500,-1,3503,"RCS4-SA7C-200-24-垂直",3,2.7,1500]
[3503,29419950,1500,3502,-1,"RCS4-SA7C-200-24-垂直",3,3,1500]
[3504,21574630,1500,-1,3505,"RCS4-SA7C-200-24-垂直",3.5,2.2000000000000002,1500]
[3505,24516625,1500,3504,-1,"RCS4-SA7C-200-24-垂直",3.5,2.5,1500]
[3506,11767980,1500,-1,3507,"RCS4-SA7C-200-24-垂直",4,1.2,1500]
[3507,14709975,1500,3506,3508,"RCS4-SA7C-200-24-垂直",4,1.5,1500]
[3508,19613300,1500,3507,-1,"RCS4-SA7C-200-24-垂直",4,2,1500]
[3509,9806650,1500,-1,-1,"RCS4-SA7C-200-24-垂直",5,1,1500]
[3510,6864655,1500,-1,-1,"RCS4-SA7C-200-24-垂直",6,0.7,1500]
[3511,2941995,1500,-1,3512,"RCS4-SA7C-200-24-垂直",7,0.3,1500]
[3512,4903325,1500,3511,-1,"RCS4-SA7C-200-24-垂直",7,0.5,1500]
[3513,44129925,2150,-1,-1,"RCS4-SA7C-200-36-水平",1,4.5,2150]
[3514,29419950,2150,-1,3515,"RCS4-SA7C-200-36-水平",1.5,3,2150]
[3515,31381280,2150,3514,3516,"RCS4-SA7C-200-36-水平",1.5,3.2,2150]
[3516,34323275,2150,3515,3517,"RCS4-SA7C-200-36-水平",1.5,3.5,2150]
[3517,36284605,2150,3516,3518,"RCS4-SA7C-200-36-水平",1.5,3.7,2150]
[3518,39226600,2150,3517,3519,"RCS4-SA7C-200-36-水平",1.5,4,2150]
[3519,41187930,2150,3518,-1,"RCS4-SA7C-200-36-水平",1.5,4.2,2150]
[3520,24516625,2150,-1,3521,"RCS4-SA7C-200-36-水平",2,2.5,2150]
[3521,26477955,2150,3520,-1,"RCS4-SA7C-200-36-水平",2,2.7,2150]
[3522,19613300,2150,-1,3523,"RCS4-SA7C-200-36-水平",2.5,2,2150]
[3523,21574630,2150,3522,-1,"RCS4-SA7C-200-36-水平",2.5,2.2000000000000002,2150]
[3524,11767980,1800,-1,3525,"RCS4-SA7C-200-36-水平",3,1.2,1800]
[3525,14709975,2150,3524,-1,"RCS4-SA7C-200-36-水平",3,1.5,2150]
[3526,9806650,1800,-1,-1,"RCS4-SA7C-200-36-水平",4,1,1800]
[3527,6864655,1800,-1,-1,"RCS4-SA7C-200-36-水平",6,0.7,1800]
[3528,2941995,1800,-1,3529,"RCS4-SA7C-200-36-水平",7,0.3,1800]
[3529,4903325,1800,3528,-1,"RCS4-SA7C-200-36-水平",7,0.5,1800]
[3530,24516625,2150,-1,3531,"RCS4-SA7C-200-36-垂直",1.5,2.5,2150]
[3531,26477955,2150,3530,3532,"RCS4-SA7C-200-36-垂直",1.5,2.7,2150]
[3532,29419950,2150,3531,-1,"RCS4-SA7C-200-36-垂直",1.5,3,2150]
[3533,9806650,1800,-1,3534,"RCS4-SA7C-200-36-垂直",2,1,1800]
[3534,11767980,1800,3533,3535,"RCS4-SA7C-200-36-垂直",2,1.2,1800]
[3535,14709975,2150,3534,3536,"RCS4-SA7C-200-36-垂直",2,1.5,2150]
[3536,19613300,2150,3535,3537,"RCS4-SA7C-200-36-垂直",2,2,2150]
[3537,21574630,2150,3536,-1,"RCS4-SA7C-200-36-垂直",2,2.2000000000000002,2150]
[3538,6864655,1800,-1,-1,"RCS4-SA7C-200-36-垂直",3,0.7,1800]
[3539,2941995,1800,-1,3540,"RCS4-SA7C-200-36-垂直",4,0.3,1800]
[3540,4903325,1800,3539,-1,"RCS4-SA7C-200-36-垂直",4,0.5,1800]
[3541,14709975,240,-1,-1,"RCS4-SA7R-200-4-水平",5,1.5,240]
[3542,11767980,240,-1,-1,"RCS4-SA7R-200-4-水平",15,1.2,240]
[3543,9806650,240,-1,-1,"RCS4-SA7R-200-4-水平",25,1,240]
[3544,6864655,240,-1,-1,"RCS4-SA7R-200-4-水平",40,0.7,240]
[3545,2941995,240,-1,3546,"RCS4-SA7R-200-4-水平",50,0.3,240]
[3546,4903325,240,3545,-1,"RCS4-SA7R-200-4-水平",50,0.5,240]
[3547,14709975,240,-1,-1,"RCS4-SA7R-200-4-垂直",3,1.5,240]
[3548,11767980,240,-1,-1,"RCS4-SA7R-200-4-垂直",8,1.2,240]
[3549,9806650,240,-1,-1,"RCS4-SA7R-200-4-垂直",12,1,240]
[3550,6864655,240,-1,-1,"RCS4-SA7R-200-4-垂直",20,0.7,240]
[3551,2941995,240,-1,3552,"RCS4-SA7R-200-4-垂直",25,0.3,240]
[3552,4903325,240,3551,-1,"RCS4-SA7R-200-4-垂直",25,0.5,240]
[3553,44129925,500,-1,-1,"RCS4-SA7R-200-8-水平",4,4.5,500]
[3554,41187930,500,-1,-1,"RCS4-SA7R-200-8-水平",5,4.2,500]
[3555,39226600,500,-1,-1,"RCS4-SA7R-200-8-水平",6,4,500]
[3556,36284605,500,-1,-1,"RCS4-SA7R-200-8-水平",7,3.7,500]
[3557,34323275,500,-1,-1,"RCS4-SA7R-200-8-水平",8,3.5,500]
[3558,26477955,500,-1,3559,"RCS4-SA7R-200-8-水平",9,2.7,500]
[3559,29419950,500,3558,3560,"RCS4-SA7R-200-8-水平",9,3,500]
[3560,31381280,500,3559,-1,"RCS4-SA7R-200-8-水平",9,3.2,500]
[3561,24516625,500,-1,-1,"RCS4-SA7R-200-8-水平",10,2.5,500]
[3562,21574630,500,-1,-1,"RCS4-SA7R-200-8-水平",15,2.2000000000000002,500]
[3563,19613300,500,-1,-1,"RCS4-SA7R-200-8-水平",18,2,500]
[3564,14709975,500,-1,-1,"RCS4-SA7R-200-8-水平",25,1.5,500]
[3565,11767980,500,-1,-1,"RCS4-SA7R-200-8-水平",30,1.2,500]
[3566,9806650,500,-1,-1,"RCS4-SA7R-200-8-水平",35,1,500]
[3567,4903325,500,-1,3568,"RCS4-SA7R-200-8-水平",40,0.5,500]
[3568,6864655,500,3567,-1,"RCS4-SA7R-200-8-水平",40,0.7,500]
[3569,2941995,500,-1,-1,"RCS4-SA7R-200-8-水平",45,0.3,500]
[3570,26477955,500,-1,3571,"RCS4-SA7R-200-8-垂直",7,2.7,500]
[3571,29419950,500,3570,-1,"RCS4-SA7R-200-8-垂直",7,3,500]
[3572,24516625,500,-1,-1,"RCS4-SA7R-200-8-垂直",8,2.5,500]
[3573,19613300,500,-1,3574,"RCS4-SA7R-200-8-垂直",10,2,500]
[3574,21574630,500,3573,-1,"RCS4-SA7R-200-8-垂直",10,2.2000000000000002,500]
[3575,14709975,500,-1,-1,"RCS4-SA7R-200-8-垂直",12,1.5,500]
[3576,11767980,500,-1,-1,"RCS4-SA7R-200-8-垂直",15,1.2,500]
[3577,9806650,500,-1,-1,"RCS4-SA7R-200-8-垂直",16,1,500]
[3578,2941995,500,-1,3579,"RCS4-SA7R-200-8-垂直",18,0.3,500]
[3579,4903325,500,3578,3580,"RCS4-SA7R-200-8-垂直",18,0.5,500]
[3580,6864655,500,3579,-1,"RCS4-SA7R-200-8-垂直",18,0.7,500]
[3581,44129925,1000,-1,-1,"RCS4-SA7R-200-16-水平",3.5,4.5,1000]
[3582,41187930,1000,-1,-1,"RCS4-SA7R-200-16-水平",4,4.2,1000]
[3583,39226600,1000,-1,-1,"RCS4-SA7R-200-16-水平",5,4,1000]
[3584,36284605,1000,-1,-1,"RCS4-SA7R-200-16-水平",5.5,3.7,1000]
[3585,31381280,1000,-1,3586,"RCS4-SA7R-200-16-水平",6,3.2,1000]
[3586,34323275,1000,3585,-1,"RCS4-SA7R-200-16-水平",6,3.5,1000]
[3587,29419950,1000,-1,-1,"RCS4-SA7R-200-16-水平",7,3,1000]
[3588,26477955,1000,-1,-1,"RCS4-SA7R-200-16-水平",8,2.7,1000]
[3589,24516625,1000,-1,-1,"RCS4-SA7R-200-16-水平",9,2.5,1000]
[3590,19613300,1000,-1,3591,"RCS4-SA7R-200-16-水平",10,2,1000]
[3591,21574630,1000,3590,-1,"RCS4-SA7R-200-16-水平",10,2.2000000000000002,1000]
[3592,11767980,1000,-1,3593,"RCS4-SA7R-200-16-水平",12,1.2,1000]
[3593,14709975,1000,3592,-1,"RCS4-SA7R-200-16-水平",12,1.5,1000]
[3594,6864655,1000,-1,3595,"RCS4-SA7R-200-16-水平",15,0.7,1000]
[3595,9806650,1000,3594,-1,"RCS4-SA7R-200-16-水平",15,1,1000]
[3596,4903325,1000,-1,-1,"RCS4-SA7R-200-16-水平",30,0.5,1000]
[3597,2941995,1000,-1,-1,"RCS4-SA7R-200-16-水平",38,0.3,1000]
[3598,19613300,1000,-1,3599,"RCS4-SA7R-200-16-垂直",5,2,1000]
[3599,21574630,1000,3598,3600,"RCS4-SA7R-200-16-垂直",5,2.2000000000000002,1000]
[3600,24516625,1000,3599,3601,"RCS4-SA7R-200-16-垂直",5,2.5,1000]
[3601,26477955,1000,3600,3602,"RCS4-SA7R-200-16-垂直",5,2.7,1000]
[3602,29419950,1000,3601,-1,"RCS4-SA7R-200-16-垂直",5,3,1000]
[3603,9806650,1000,-1,3604,"RCS4-SA7R-200-16-垂直",8,1,1000]
[3604,11767980,1000,3603,3605,"RCS4-SA7R-200-16-垂直",8,1.2,1000]
[3605,14709975,1000,3604,-1,"RCS4-SA7R-200-16-垂直",8,1.5,1000]
[3606,6864655,1000,-1,-1,"RCS4-SA7R-200-16-垂直",10,0.7,1000]
[3607,2941995,1000,-1,3608,"RCS4-SA7R-200-16-垂直",12,0.3,1000]
[3608,4903325,1000,3607,-1,"RCS4-SA7R-200-16-垂直",12,0.5,1000]
[3609,29419950,1500,-1,3610,"RCS4-SA7R-200-24-水平",3,3,1500]
[3610,31381280,1500,3609,3611,"RCS4-SA7R-200-24-水平",3,3.2,1500]
[3611,34323275,1500,3610,3612,"RCS4-SA7R-200-24-水平",3,3.5,1500]
[3612,36284605,1500,3611,3613,"RCS4-SA7R-200-24-水平",3,3.7,1500]
[3613,39226600,1500,3612,3614,"RCS4-SA7R-200-24-水平",3,4,1500]
[3614,41187930,1500,3613,3615,"RCS4-SA7R-200-24-水平",3,4.2,1500]
[3615,44129925,1500,3614,-1,"RCS4-SA7R-200-24-水平",3,4.5,1500]
[3616,24516625,1500,-1,3617,"RCS4-SA7R-200-24-水平",4,2.5,1500]
[3617,26477955,1500,3616,-1,"RCS4-SA7R-200-24-水平",4,2.7,1500]
[3618,11767980,1500,-1,3619,"RCS4-SA7R-200-24-水平",5,1.2,1500]
[3619,14709975,1500,3618,3620,"RCS4-SA7R-200-24-水平",5,1.5,1500]
[3620,19613300,1500,3619,3621,"RCS4-SA7R-200-24-水平",5,2,1500]
[3621,21574630,1500,3620,-1,"RCS4-SA7R-200-24-水平",5,2.2000000000000002,1500]
[3622,9806650,1500,-1,-1,"RCS4-SA7R-200-24-水平",6,1,1500]
[3623,6864655,1500,-1,-1,"RCS4-SA7R-200-24-水平",10,0.7,1500]
[3624,4903325,1500,-1,-1,"RCS4-SA7R-200-24-水平",12,0.5,1500]
[3625,2941995,1500,-1,-1,"RCS4-SA7R-200-24-水平",30,0.3,1500]
[3626,26477955,1500,-1,3627,"RCS4-SA7R-200-24-垂直",3,2.7,1500]
[3627,29419950,1500,3626,-1,"RCS4-SA7R-200-24-垂直",3,3,1500]
[3628,21574630,1500,-1,3629,"RCS4-SA7R-200-24-垂直",3.5,2.2000000000000002,1500]
[3629,24516625,1500,3628,-1,"RCS4-SA7R-200-24-垂直",3.5,2.5,1500]
[3630,11767980,1500,-1,3631,"RCS4-SA7R-200-24-垂直",4,1.2,1500]
[3631,14709975,1500,3630,3632,"RCS4-SA7R-200-24-垂直",4,1.5,1500]
[3632,19613300,1500,3631,-1,"RCS4-SA7R-200-24-垂直",4,2,1500]
[3633,6864655,1500,-1,3634,"RCS4-SA7R-200-24-垂直",5,0.7,1500]
[3634,9806650,1500,3633,-1,"RCS4-SA7R-200-24-垂直",5,1,1500]
[3635,2941995,1500,-1,3636,"RCS4-SA7R-200-24-垂直",6,0.3,1500]
[3636,4903325,1500,3635,-1,"RCS4-SA7R-200-24-垂直",6,0.5,1500]
[3637,44129925,2150,-1,-1,"RCS4-SA7R-200-36-水平",1,4.5,2150]
[3638,29419950,2150,-1,3639,"RCS4-SA7R-200-36-水平",1.5,3,2150]
[3639,31381280,2150,3638,3640,"RCS4-SA7R-200-36-水平",1.5,3.2,2150]
[3640,34323275,2150,3639,3641,"RCS4-SA7R-200-36-水平",1.5,3.5,2150]
[3641,36284605,2150,3640,3642,"RCS4-SA7R-200-36-水平",1.5,3.7,2150]
[3642,39226600,2150,3641,3643,"RCS4-SA7R-200-36-水平",1.5,4,2150]
[3643,41187930,2150,3642,-1,"RCS4-SA7R-200-36-水平",1.5,4.2,2150]
[3644,24516625,2150,-1,3645,"RCS4-SA7R-200-36-水平",2,2.5,2150]
[3645,26477955,2150,3644,-1,"RCS4-SA7R-200-36-水平",2,2.7,2150]
[3646,19613300,2150,-1,3647,"RCS4-SA7R-200-36-水平",2.5,2,2150]
[3647,21574630,2150,3646,-1,"RCS4-SA7R-200-36-水平",2.5,2.2000000000000002,2150]
[3648,11767980,1800,-1,3649,"RCS4-SA7R-200-36-水平",3,1.2,1800]
[3649,14709975,2150,3648,-1,"RCS4-SA7R-200-36-水平",3,1.5,2150]
[3650,9806650,1800,-1,-1,"RCS4-SA7R-200-36-水平",4,1,1800]
[3651,6864655,1800,-1,-1,"RCS4-SA7R-200-36-水平",6,0.7,1800]
[3652,2941995,1800,-1,3653,"RCS4-SA7R-200-36-水平",7,0.3,1800]
[3653,4903325,1800,3652,-1,"RCS4-SA7R-200-36-水平",7,0.5,1800]
[3654,24516625,2150,-1,3655,"RCS4-SA7R-200-36-垂直",1.5,2.5,2150]
[3655,26477955,2150,3654,3656,"RCS4-SA7R-200-36-垂直",1.5,2.7,2150]
[3656,29419950,2150,3655,-1,"RCS4-SA7R-200-36-垂直",1.5,3,2150]
[3657,9806650,1800,-1,3658,"RCS4-SA7R-200-36-垂直",2,1,1800]
[3658,11767980,1800,3657,3659,"RCS4-SA7R-200-36-垂直",2,1.2,1800]
[3659,14709975,2150,3658,3660,"RCS4-SA7R-200-36-垂直",2,1.5,2150]
[3660,19613300,2150,3659,3661,"RCS4-SA7R-200-36-垂直",2,2,2150]
[3661,21574630,2150,3660,-1,"RCS4-SA7R-200-36-垂直",2,2.2000000000000002,2150]
[3662,6864655,1800,-1,-1,"RCS4-SA7R-200-36-垂直",3,0.7,1800]
[3663,2941995,1800,-1,3664,"RCS4-SA7R-200-36-垂直",4,0.3,1800]
[3664,4903325,1800,3663,-1,"RCS4-SA7R-200-36-垂直",4,0.5,1800]
[3665,14709975,300,-1,-1,"RCS4-SA8C-400-5-水平",25,1.5,300]
[3666,11767980,300,-1,-1,"RCS4-SA8C-400-5-水平",40,1.2,300]
[3667,9806650,300,-1,-1,"RCS4-SA8C-400-5-水平",50,1,300]
[3668,6864655,300,-1,-1,"RCS4-SA8C-400-5-水平",70,0.7,300]
[3669,2941995,300,-1,3670,"RCS4-SA8C-400-5-水平",90,0.3,300]
[3670,4903325,300,3669,-1,"RCS4-SA8C-400-5-水平",90,0.5,300]
[3671,14709975,300,-1,-1,"RCS4-SA8C-400-5-垂直",15,1.5,300]
[3672,11767980,300,-1,-1,"RCS4-SA8C-400-5-垂直",22,1.2,300]
[3673,9806650,300,-1,-1,"RCS4-SA8C-400-5-垂直",30,1,300]
[3674,6864655,300,-1,-1,"RCS4-SA8C-400-5-垂直",35,0.7,300]
[3675,2941995,300,-1,3676,"RCS4-SA8C-400-5-垂直",45,0.3,300]
[3676,4903325,300,3675,-1,"RCS4-SA8C-400-5-垂直",45,0.5,300]
[3677,44129925,600,-1,-1,"RCS4-SA8C-400-10-水平",8,4.5,600]
[3678,41187930,600,-1,-1,"RCS4-SA8C-400-10-水平",10,4.2,600]
[3679,39226600,600,-1,-1,"RCS4-SA8C-400-10-水平",12,4,600]
[3680,36284605,600,-1,-1,"RCS4-SA8C-400-10-水平",13,3.7,600]
[3681,34323275,600,-1,-1,"RCS4-SA8C-400-10-水平",15,3.5,600]
[3682,31381280,600,-1,-1,"RCS4-SA8C-400-10-水平",18,3.2,600]
[3683,29419950,600,-1,-1,"RCS4-SA8C-400-10-水平",20,3,600]
[3684,26477955,600,-1,-1,"RCS4-SA8C-400-10-水平",25,2.7,600]
[3685,24516625,600,-1,-1,"RCS4-SA8C-400-10-水平",30,2.5,600]
[3686,21574630,600,-1,-1,"RCS4-SA8C-400-10-水平",35,2.2000000000000002,600]
[3687,19613300,600,-1,-1,"RCS4-SA8C-400-10-水平",43,2,600]
[3688,14709975,600,-1,-1,"RCS4-SA8C-400-10-水平",55,1.5,600]
[3689,11767980,600,-1,-1,"RCS4-SA8C-400-10-水平",58,1.2,600]
[3690,9806650,600,-1,-1,"RCS4-SA8C-400-10-水平",60,1,600]
[3691,6864655,600,-1,-1,"RCS4-SA8C-400-10-水平",70,0.7,600]
[3692,2941995,600,-1,3693,"RCS4-SA8C-400-10-水平",80,0.3,600]
[3693,4903325,600,3692,-1,"RCS4-SA8C-400-10-水平",80,0.5,600]
[3694,29419950,600,-1,-1,"RCS4-SA8C-400-10-垂直",14,3,600]
[3695,26477955,600,-1,-1,"RCS4-SA8C-400-10-垂直",16,2.7,600]
[3696,24516625,600,-1,-1,"RCS4-SA8C-400-10-垂直",18,2.5,600]
[3697,21574630,600,-1,-1,"RCS4-SA8C-400-10-垂直",20,2.2000000000000002,600]
[3698,19613300,600,-1,-1,"RCS4-SA8C-400-10-垂直",23,2,600]
[3699,14709975,600,-1,-1,"RCS4-SA8C-400-10-垂直",25,1.5,600]
[3700,11767980,600,-1,-1,"RCS4-SA8C-400-10-垂直",28,1.2,600]
[3701,9806650,600,-1,-1,"RCS4-SA8C-400-10-垂直",30,1,600]
[3702,2941995,600,-1,3703,"RCS4-SA8C-400-10-垂直",35,0.3,600]
[3703,4903325,600,3702,3704,"RCS4-SA8C-400-10-垂直",35,0.5,600]
[3704,6864655,600,3703,-1,"RCS4-SA8C-400-10-垂直",35,0.7,600]
[3705,41187930,1200,-1,3706,"RCS4-SA8C-400-20-水平",3,4.2,1200]
[3706,44129925,1200,3705,-1,"RCS4-SA8C-400-20-水平",3,4.5,1200]
[3707,36284605,1200,-1,3708,"RCS4-SA8C-400-20-水平",4,3.7,1200]
[3708,39226600,1200,3707,-1,"RCS4-SA8C-400-20-水平",4,4,1200]
[3709,31381280,1200,-1,3710,"RCS4-SA8C-400-20-水平",5,3.2,1200]
[3710,34323275,1200,3709,-1,"RCS4-SA8C-400-20-水平",5,3.5,1200]
[3711,29419950,1200,-1,-1,"RCS4-SA8C-400-20-水平",6,3,1200]
[3712,26477955,1200,-1,-1,"RCS4-SA8C-400-20-水平",7,2.7,1200]
[3713,24516625,1200,-1,-1,"RCS4-SA8C-400-20-水平",8,2.5,1200]
[3714,21574630,1200,-1,-1,"RCS4-SA8C-400-20-水平",9,2.2000000000000002,1200]
[3715,19613300,1200,-1,-1,"RCS4-SA8C-400-20-水平",10,2,1200]
[3716,14709975,1200,-1,-1,"RCS4-SA8C-400-20-水平",13,1.5,1200]
[3717,11767980,1200,-1,-1,"RCS4-SA8C-400-20-水平",15,1.2,1200]
[3718,9806650,1200,-1,-1,"RCS4-SA8C-400-20-水平",20,1,1200]
[3719,6864655,1200,-1,-1,"RCS4-SA8C-400-20-水平",30,0.7,1200]
[3720,4903325,1200,-1,-1,"RCS4-SA8C-400-20-水平",40,0.5,1200]
[3721,2941995,1200,-1,-1,"RCS4-SA8C-400-20-水平",60,0.3,1200]
[3722,29419950,1200,-1,-1,"RCS4-SA8C-400-20-垂直",4,3,1200]
[3723,26477955,1200,-1,-1,"RCS4-SA8C-400-20-垂直",5,2.7,1200]
[3724,24516625,1200,-1,-1,"RCS4-SA8C-400-20-垂直",6,2.5,1200]
[3725,21574630,1200,-1,-1,"RCS4-SA8C-400-20-垂直",7,2.2000000000000002,1200]
[3726,19613300,1200,-1,-1,"RCS4-SA8C-400-20-垂直",8,2,1200]
[3727,14709975,1200,-1,-1,"RCS4-SA8C-400-20-垂直",10,1.5,1200]
[3728,11767980,1200,-1,-1,"RCS4-SA8C-400-20-垂直",12,1.2,1200]
[3729,9806650,1200,-1,-1,"RCS4-SA8C-400-20-垂直",15,1,1200]
[3730,6864655,1200,-1,-1,"RCS4-SA8C-400-20-垂直",18,0.7,1200]
[3731,2941995,1200,-1,3732,"RCS4-SA8C-400-20-垂直",20,0.3,1200]
[3732,4903325,1200,3731,-1,"RCS4-SA8C-400-20-垂直",20,0.5,1200]
[3733,41187930,1800,-1,3734,"RCS4-SA8C-400-30-水平",3,4.2,1800]
[3734,44129925,1800,3733,-1,"RCS4-SA8C-400-30-水平",3,4.5,1800]
[3735,36284605,1800,-1,3736,"RCS4-SA8C-400-30-水平",3.75,3.7,1800]
[3736,39226600,1800,3735,-1,"RCS4-SA8C-400-30-水平",3.75,4,1800]
[3737,29419950,1800,-1,3738,"RCS4-SA8C-400-30-水平",4,3,1800]
[3738,31381280,1800,3737,3739,"RCS4-SA8C-400-30-水平",4,3.2,1800]
[3739,34323275,1800,3738,-1,"RCS4-SA8C-400-30-水平",4,3.5,1800]
[3740,26477955,1800,-1,-1,"RCS4-SA8C-400-30-水平",5,2.7,1800]
[3741,24516625,1800,-1,-1,"RCS4-SA8C-400-30-水平",6,2.5,1800]
[3742,21574630,1800,-1,-1,"RCS4-SA8C-400-30-水平",7,2.2000000000000002,1800]
[3743,19613300,1800,-1,-1,"RCS4-SA8C-400-30-水平",8,2,1800]
[3744,14709975,1800,-1,-1,"RCS4-SA8C-400-30-水平",9,1.5,1800]
[3745,11767980,1800,-1,-1,"RCS4-SA8C-400-30-水平",10,1.2,1800]
[3746,9806650,1800,-1,-1,"RCS4-SA8C-400-30-水平",15,1,1800]
[3747,6864655,1800,-1,-1,"RCS4-SA8C-400-30-水平",20,0.7,1800]
[3748,4903325,1800,-1,-1,"RCS4-SA8C-400-30-水平",25,0.5,1800]
[3749,2941995,1800,-1,-1,"RCS4-SA8C-400-30-水平",30,0.3,1800]
[3750,29419950,1800,-1,-1,"RCS4-SA8C-400-30-垂直",3,3,1800]
[3751,24516625,1800,-1,3752,"RCS4-SA8C-400-30-垂直",3.5,2.5,1800]
[3752,26477955,1800,3751,-1,"RCS4-SA8C-400-30-垂直",3.5,2.7,1800]
[3753,21574630,1800,-1,-1,"RCS4-SA8C-400-30-垂直",4.5,2.2000000000000002,1800]
[3754,19613300,1800,-1,-1,"RCS4-SA8C-400-30-垂直",5,2,1800]
[3755,14709975,1800,-1,-1,"RCS4-SA8C-400-30-垂直",5.5,1.5,1800]
[3756,11767980,1800,-1,-1,"RCS4-SA8C-400-30-垂直",6,1.2,1800]
[3757,9806650,1800,-1,-1,"RCS4-SA8C-400-30-垂直",8,1,1800]
[3758,6864655,1800,-1,-1,"RCS4-SA8C-400-30-垂直",10,0.7,1800]
[3759,2941995,1800,-1,3760,"RCS4-SA8C-400-30-垂直",12,0.3,1800]
[3760,4903325,1800,3759,-1,"RCS4-SA8C-400-30-垂直",12,0.5,1800]
[3761,36284605,2500,-1,3762,"RCS4-SA8C-400-48-水平",0.5,3.7,2500]
[3762,39226600,2500,3761,3763,"RCS4-SA8C-400-48-水平",0.5,4,2500]
[3763,41187930,2500,3762,3764,"RCS4-SA8C-400-48-水平",0.5,4.2,2500]
[3764,44129925,2500,3763,-1,"RCS4-SA8C-400-48-水平",0.5,4.5,2500]
[3765,29419950,2500,-1,3766,"RCS4-SA8C-400-48-水平",1,3,2500]
[3766,31381280,2500,3765,3767,"RCS4-SA8C-400-48-水平",1,3.2,2500]
[3767,34323275,2500,3766,-1,"RCS4-SA8C-400-48-水平",1,3.5,2500]
[3768,26477955,2500,-1,-1,"RCS4-SA8C-400-48-水平",1.5,2.7,2500]
[3769,24516625,2500,-1,-1,"RCS4-SA8C-400-48-水平",2,2.5,2500]
[3770,21574630,2500,-1,-1,"RCS4-SA8C-400-48-水平",2.5,2.2000000000000002,2500]
[3771,19613300,2500,-1,-1,"RCS4-SA8C-400-48-水平",3,2,2500]
[3772,14709975,2500,-1,-1,"RCS4-SA8C-400-48-水平",3.5,1.5,2500]
[3773,11767980,2200,-1,-1,"RCS4-SA8C-400-48-水平",4,1.2,2200]
[3774,9806650,2200,-1,-1,"RCS4-SA8C-400-48-水平",5,1,2200]
[3775,6864655,2200,-1,-1,"RCS4-SA8C-400-48-水平",6,0.7,2200]
[3776,2941995,2200,-1,3777,"RCS4-SA8C-400-48-水平",8,0.3,2200]
[3777,4903325,2200,3776,-1,"RCS4-SA8C-400-48-水平",8,0.5,2200]
[3778,14709975,300,-1,-1,"RCS4-SA8R-400-5-水平",25,1.5,300]
[3779,11767980,300,-1,-1,"RCS4-SA8R-400-5-水平",40,1.2,300]
[3780,9806650,300,-1,-1,"RCS4-SA8R-400-5-水平",50,1,300]
[3781,6864655,300,-1,-1,"RCS4-SA8R-400-5-水平",70,0.7,300]
[3782,2941995,300,-1,3783,"RCS4-SA8R-400-5-水平",90,0.3,300]
[3783,4903325,300,3782,-1,"RCS4-SA8R-400-5-水平",90,0.5,300]
[3784,14709975,300,-1,-1,"RCS4-SA8R-400-5-垂直",15,1.5,300]
[3785,11767980,300,-1,-1,"RCS4-SA8R-400-5-垂直",22,1.2,300]
[3786,9806650,300,-1,-1,"RCS4-SA8R-400-5-垂直",30,1,300]
[3787,6864655,300,-1,-1,"RCS4-SA8R-400-5-垂直",35,0.7,300]
[3788,2941995,300,-1,3789,"RCS4-SA8R-400-5-垂直",45,0.3,300]
[3789,4903325,300,3788,-1,"RCS4-SA8R-400-5-垂直",45,0.5,300]
[3790,44129925,600,-1,-1,"RCS4-SA8R-400-10-水平",8,4.5,600]
[3791,41187930,600,-1,-1,"RCS4-SA8R-400-10-水平",10,4.2,600]
[3792,39226600,600,-1,-1,"RCS4-SA8R-400-10-水平",12,4,600]
[3793,36284605,600,-1,-1,"RCS4-SA8R-400-10-水平",13,3.7,600]
[3794,34323275,600,-1,-1,"RCS4-SA8R-400-10-水平",15,3.5,600]
[3795,31381280,600,-1,-1,"RCS4-SA8R-400-10-水平",18,3.2,600]
[3796,29419950,600,-1,-1,"RCS4-SA8R-400-10-水平",20,3,600]
[3797,26477955,600,-1,-1,"RCS4-SA8R-400-10-水平",25,2.7,600]
[3798,24516625,600,-1,-1,"RCS4-SA8R-400-10-水平",30,2.5,600]
[3799,21574630,600,-1,-1,"RCS4-SA8R-400-10-水平",35,2.2000000000000002,600]
[3800,19613300,600,-1,-1,"RCS4-SA8R-400-10-水平",43,2,600]
[3801,14709975,600,-1,-1,"RCS4-SA8R-400-10-水平",55,1.5,600]
[3802,11767980,600,-1,-1,"RCS4-SA8R-400-10-水平",58,1.2,600]
[3803,9806650,600,-1,-1,"RCS4-SA8R-400-10-水平",60,1,600]
[3804,6864655,600,-1,-1,"RCS4-SA8R-400-10-水平",70,0.7,600]
[3805,2941995,600,-1,3806,"RCS4-SA8R-400-10-水平",80,0.3,600]
[3806,4903325,600,3805,-1,"RCS4-SA8R-400-10-水平",80,0.5,600]
[3807,29419950,600,-1,-1,"RCS4-SA8R-400-10-垂直",14,3,600]
[3808,26477955,600,-1,-1,"RCS4-SA8R-400-10-垂直",16,2.7,600]
[3809,24516625,600,-1,-1,"RCS4-SA8R-400-10-垂直",18,2.5,600]
[3810,21574630,600,-1,-1,"RCS4-SA8R-400-10-垂直",20,2.2000000000000002,600]
[3811,19613300,600,-1,-1,"RCS4-SA8R-400-10-垂直",23,2,600]
[3812,14709975,600,-1,-1,"RCS4-SA8R-400-10-垂直",25,1.5,600]
[3813,11767980,600,-1,-1,"RCS4-SA8R-400-10-垂直",28,1.2,600]
[3814,9806650,600,-1,-1,"RCS4-SA8R-400-10-垂直",30,1,600]
[3815,2941995,600,-1,3816,"RCS4-SA8R-400-10-垂直",35,0.3,600]
[3816,4903325,600,3815,3817,"RCS4-SA8R-400-10-垂直",35,0.5,600]
[3817,6864655,600,3816,-1,"RCS4-SA8R-400-10-垂直",35,0.7,600]
[3818,41187930,1200,-1,3819,"RCS4-SA8R-400-20-水平",5,4.2,1200]
[3819,44129925,1200,3818,-1,"RCS4-SA8R-400-20-水平",5,4.5,1200]
[3820,29419950,1200,-1,3821,"RCS4-SA8R-400-20-水平",6,3,1200]
[3821,31381280,1200,3820,3822,"RCS4-SA8R-400-20-水平",6,3.2,1200]
[3822,34323275,1200,3821,3823,"RCS4-SA8R-400-20-水平",6,3.5,1200]
[3823,36284605,1200,3822,3824,"RCS4-SA8R-400-20-水平",6,3.7,1200]
[3824,39226600,1200,3823,-1,"RCS4-SA8R-400-20-水平",6,4,1200]
[3825,26477955,1200,-1,-1,"RCS4-SA8R-400-20-水平",7,2.7,1200]
[3826,24516625,1200,-1,-1,"RCS4-SA8R-400-20-水平",8,2.5,1200]
[3827,21574630,1200,-1,-1,"RCS4-SA8R-400-20-水平",9,2.2000000000000002,1200]
[3828,19613300,1200,-1,-1,"RCS4-SA8R-400-20-水平",10,2,1200]
[3829,14709975,1200,-1,-1,"RCS4-SA8R-400-20-水平",13,1.5,1200]
[3830,11767980,1200,-1,-1,"RCS4-SA8R-400-20-水平",15,1.2,1200]
[3831,9806650,1200,-1,-1,"RCS4-SA8R-400-20-水平",20,1,1200]
[3832,6864655,1200,-1,-1,"RCS4-SA8R-400-20-水平",30,0.7,1200]
[3833,4903325,1200,-1,-1,"RCS4-SA8R-400-20-水平",40,0.5,1200]
[3834,2941995,1200,-1,-1,"RCS4-SA8R-400-20-水平",60,0.3,1200]
[3835,29419950,1200,-1,-1,"RCS4-SA8R-400-20-垂直",4,3,1200]
[3836,26477955,1200,-1,-1,"RCS4-SA8R-400-20-垂直",5,2.7,1200]
[3837,24516625,1200,-1,-1,"RCS4-SA8R-400-20-垂直",6,2.5,1200]
[3838,21574630,1200,-1,-1,"RCS4-SA8R-400-20-垂直",7,2.2000000000000002,1200]
[3839,19613300,1200,-1,-1,"RCS4-SA8R-400-20-垂直",8,2,1200]
[3840,14709975,1200,-1,-1,"RCS4-SA8R-400-20-垂直",10,1.5,1200]
[3841,11767980,1200,-1,-1,"RCS4-SA8R-400-20-垂直",12,1.2,1200]
[3842,9806650,1200,-1,-1,"RCS4-SA8R-400-20-垂直",15,1,1200]
[3843,6864655,1200,-1,-1,"RCS4-SA8R-400-20-垂直",18,0.7,1200]
[3844,2941995,1200,-1,3845,"RCS4-SA8R-400-20-垂直",20,0.3,1200]
[3845,4903325,1200,3844,-1,"RCS4-SA8R-400-20-垂直",20,0.5,1200]
[3846,41187930,1800,-1,3847,"RCS4-SA8R-400-30-水平",3.5,4.2,1800]
[3847,44129925,1800,3846,-1,"RCS4-SA8R-400-30-水平",3.5,4.5,1800]
[3848,36284605,1800,-1,3849,"RCS4-SA8R-400-30-水平",3.75,3.7,1800]
[3849,39226600,1800,3848,-1,"RCS4-SA8R-400-30-水平",3.75,4,1800]
[3850,29419950,1800,-1,3851,"RCS4-SA8R-400-30-水平",4,3,1800]
[3851,31381280,1800,3850,3852,"RCS4-SA8R-400-30-水平",4,3.2,1800]
[3852,34323275,1800,3851,-1,"RCS4-SA8R-400-30-水平",4,3.5,1800]
[3853,26477955,1800,-1,-1,"RCS4-SA8R-400-30-水平",5,2.7,1800]
[3854,24516625,1800,-1,-1,"RCS4-SA8R-400-30-水平",6,2.5,1800]
[3855,21574630,1800,-1,-1,"RCS4-SA8R-400-30-水平",7,2.2000000000000002,1800]
[3856,19613300,1800,-1,-1,"RCS4-SA8R-400-30-水平",8,2,1800]
[3857,14709975,1800,-1,-1,"RCS4-SA8R-400-30-水平",9,1.5,1800]
[3858,11767980,1800,-1,-1,"RCS4-SA8R-400-30-水平",10,1.2,1800]
[3859,9806650,1800,-1,-1,"RCS4-SA8R-400-30-水平",15,1,1800]
[3860,6864655,1800,-1,-1,"RCS4-SA8R-400-30-水平",20,0.7,1800]
[3861,4903325,1800,-1,-1,"RCS4-SA8R-400-30-水平",25,0.5,1800]
[3862,2941995,1800,-1,-1,"RCS4-SA8R-400-30-水平",30,0.3,1800]
[3863,29419950,1800,-1,-1,"RCS4-SA8R-400-30-垂直",3,3,1800]
[3864,26477955,1800,-1,-1,"RCS4-SA8R-400-30-垂直",3.5,2.7,1800]
[3865,24516625,1800,-1,-1,"RCS4-SA8R-400-30-垂直",4,2.5,1800]
[3866,21574630,1800,-1,-1,"RCS4-SA8R-400-30-垂直",4.5,2.2000000000000002,1800]
[3867,19613300,1800,-1,-1,"RCS4-SA8R-400-30-垂直",5,2,1800]
[3868,14709975,1800,-1,-1,"RCS4-SA8R-400-30-垂直",5.5,1.5,1800]
[3869,11767980,1800,-1,-1,"RCS4-SA8R-400-30-垂直",6,1.2,1800]
[3870,9806650,1800,-1,-1,"RCS4-SA8R-400-30-垂直",8,1,1800]
[3871,6864655,1800,-1,-1,"RCS4-SA8R-400-30-垂直",10,0.7,1800]
[3872,2941995,1800,-1,3873,"RCS4-SA8R-400-30-垂直",12,0.3,1800]
[3873,4903325,1800,3872,-1,"RCS4-SA8R-400-30-垂直",12,0.5,1800]
[3874,36284605,2500,-1,3875,"RCS4-SA8R-400-48-水平",0.5,3.7,2500]
[3875,39226600,2500,3874,3876,"RCS4-SA8R-400-48-水平",0.5,4,2500]
[3876,41187930,2500,3875,3877,"RCS4-SA8R-400-48-水平",0.5,4.2,2500]
[3877,44129925,2500,3876,-1,"RCS4-SA8R-400-48-水平",0.5,4.5,2500]
[3878,29419950,2500,-1,3879,"RCS4-SA8R-400-48-水平",1,3,2500]
[3879,31381280,2500,3878,3880,"RCS4-SA8R-400-48-水平",1,3.2,2500]
[3880,34323275,2500,3879,-1,"RCS4-SA8R-400-48-水平",1,3.5,2500]
[3881,26477955,2500,-1,-1,"RCS4-SA8R-400-48-水平",1.5,2.7,2500]
[3882,24516625,2500,-1,-1,"RCS4-SA8R-400-48-水平",2,2.5,2500]
[3883,21574630,2500,-1,-1,"RCS4-SA8R-400-48-水平",2.5,2.2000000000000002,2500]
[3884,19613300,2500,-1,-1,"RCS4-SA8R-400-48-水平",3,2,2500]
[3885,14709975,2500,-1,-1,"RCS4-SA8R-400-48-水平",3.5,1.5,2500]
[3886,11767980,2200,-1,-1,"RCS4-SA8R-400-48-水平",4,1.2,2200]
[3887,9806650,2200,-1,-1,"RCS4-SA8R-400-48-水平",5,1,2200]
[3888,6864655,2200,-1,-1,"RCS4-SA8R-400-48-水平",6,0.7,2200]
[3889,2941995,2200,-1,3890,"RCS4-SA8R-400-48-水平",8,0.3,2200]
[3890,4903325,2200,3889,-1,"RCS4-SA8R-400-48-水平",8,0.5,2200]
[3891,14709975,150,-1,-1,"RCS4-WSA10C-60-2.5-水平",2,1.5,150]
[3892,11767980,150,-1,-1,"RCS4-WSA10C-60-2.5-水平",6.5,1.2,150]
[3893,9806650,150,-1,-1,"RCS4-WSA10C-60-2.5-水平",11,1,150]
[3894,6864655,150,-1,-1,"RCS4-WSA10C-60-2.5-水平",18,0.7,150]
[3895,4903325,150,-1,-1,"RCS4-WSA10C-60-2.5-水平",30,0.5,150]
[3896,2941995,150,-1,-1,"RCS4-WSA10C-60-2.5-水平",40,0.3,150]
[3897,14709975,150,-1,-1,"RCS4-WSA10C-60-2.5-垂直",1,1.5,150]
[3898,11767980,150,-1,-1,"RCS4-WSA10C-60-2.5-垂直",3.25,1.2,150]
[3899,9806650,150,-1,-1,"RCS4-WSA10C-60-2.5-垂直",5,1,150]
[3900,6864655,150,-1,-1,"RCS4-WSA10C-60-2.5-垂直",6,0.7,150]
[3901,2941995,150,-1,3902,"RCS4-WSA10C-60-2.5-垂直",10,0.3,150]
[3902,4903325,150,3901,-1,"RCS4-WSA10C-60-2.5-垂直",10,0.5,150]
[3903,44129925,300,-1,-1,"RCS4-WSA10C-60-5-水平",1.5,4.5,300]
[3904,39226600,300,-1,-1,"RCS4-WSA10C-60-5-水平",2.25,4,300]
[3905,34323275,300,-1,-1,"RCS4-WSA10C-60-5-水平",3.25,3.5,300]
[3906,29419950,300,-1,-1,"RCS4-WSA10C-60-5-水平",4.5,3,300]
[3907,24516625,300,-1,-1,"RCS4-WSA10C-60-5-水平",6.5,2.5,300]
[3908,19613300,300,-1,-1,"RCS4-WSA10C-60-5-水平",9,2,300]
[3909,14709975,300,-1,-1,"RCS4-WSA10C-60-5-水平",13.5,1.5,300]
[3910,11767980,300,-1,-1,"RCS4-WSA10C-60-5-水平",14,1.2,300]
[3911,9806650,300,-1,-1,"RCS4-WSA10C-60-5-水平",18,1,300]
[3912,6864655,300,-1,-1,"RCS4-WSA10C-60-5-水平",20,0.7,300]
[3913,2941995,300,-1,3914,"RCS4-WSA10C-60-5-水平",27,0.3,300]
[3914,4903325,300,3913,-1,"RCS4-WSA10C-60-5-水平",27,0.5,300]
[3915,29419950,300,-1,-1,"RCS4-WSA10C-60-5-垂直",3,3,300]
[3916,24516625,300,-1,-1,"RCS4-WSA10C-60-5-垂直",4.5,2.5,300]
[3917,2941995,300,-1,3918,"RCS4-WSA10C-60-5-垂直",5,0.3,300]
[3918,4903325,300,3917,3919,"RCS4-WSA10C-60-5-垂直",5,0.5,300]
[3919,6864655,300,3918,3920,"RCS4-WSA10C-60-5-垂直",5,0.7,300]
[3920,9806650,300,3919,3921,"RCS4-WSA10C-60-5-垂直",5,1,300]
[3921,11767980,300,3920,3922,"RCS4-WSA10C-60-5-垂直",5,1.2,300]
[3922,14709975,300,3921,3923,"RCS4-WSA10C-60-5-垂直",5,1.5,300]
[3923,19613300,300,3922,-1,"RCS4-WSA10C-60-5-垂直",5,2,300]
[3924,39226600,600,-1,3925,"RCS4-WSA10C-60-10-水平",1,4,600]
[3925,44129925,600,3924,-1,"RCS4-WSA10C-60-10-水平",1,4.5,600]
[3926,34323275,600,-1,-1,"RCS4-WSA10C-60-10-水平",1.5,3.5,600]
[3927,29419950,600,-1,-1,"RCS4-WSA10C-60-10-水平",2,3,600]
[3928,24516625,600,-1,-1,"RCS4-WSA10C-60-10-水平",3,2.5,600]
[3929,19613300,600,-1,-1,"RCS4-WSA10C-60-10-水平",4,2,600]
[3930,14709975,600,-1,-1,"RCS4-WSA10C-60-10-水平",4.5,1.5,600]
[3931,11767980,600,-1,-1,"RCS4-WSA10C-60-10-水平",6,1.2,600]
[3932,6864655,600,-1,3933,"RCS4-WSA10C-60-10-水平",12,0.7,600]
[3933,9806650,600,3932,-1,"RCS4-WSA10C-60-10-水平",12,1,600]
[3934,2941995,600,-1,3935,"RCS4-WSA10C-60-10-水平",16,0.3,600]
[3935,4903325,600,3934,-1,"RCS4-WSA10C-60-10-水平",16,0.5,600]
[3936,24516625,600,-1,3937,"RCS4-WSA10C-60-10-垂直",1,2.5,600]
[3937,29419950,600,3936,-1,"RCS4-WSA10C-60-10-垂直",1,3,600]
[3938,14709975,600,-1,3939,"RCS4-WSA10C-60-10-垂直",1.5,1.5,600]
[3939,19613300,600,3938,-1,"RCS4-WSA10C-60-10-垂直",1.5,2,600]
[3940,11767980,600,-1,-1,"RCS4-WSA10C-60-10-垂直",2,1.2,600]
[3941,2941995,600,-1,3942,"RCS4-WSA10C-60-10-垂直",3,0.3,600]
[3942,4903325,600,3941,3943,"RCS4-WSA10C-60-10-垂直",3,0.5,600]
[3943,6864655,600,3942,3944,"RCS4-WSA10C-60-10-垂直",3,0.7,600]
[3944,9806650,600,3943,-1,"RCS4-WSA10C-60-10-垂直",3,1,600]
[3945,39226600,960,-1,3946,"RCS4-WSA10C-60-16-水平",1,4,960]
[3946,44129925,960,3945,-1,"RCS4-WSA10C-60-16-水平",1,4.5,960]
[3947,34323275,960,-1,-1,"RCS4-WSA10C-60-16-水平",1.25,3.5,960]
[3948,29419950,960,-1,-1,"RCS4-WSA10C-60-16-水平",1.5,3,960]
[3949,24516625,960,-1,-1,"RCS4-WSA10C-60-16-水平",2,2.5,960]
[3950,19613300,960,-1,-1,"RCS4-WSA10C-60-16-水平",2.5,2,960]
[3951,11767980,960,-1,3952,"RCS4-WSA10C-60-16-水平",3,1.2,960]
[3952,14709975,960,3951,-1,"RCS4-WSA10C-60-16-水平",3,1.5,960]
[3953,9806650,960,-1,-1,"RCS4-WSA10C-60-16-水平",4,1,960]
[3954,6864655,960,-1,-1,"RCS4-WSA10C-60-16-水平",5,0.7,960]
[3955,2941995,960,-1,3956,"RCS4-WSA10C-60-16-水平",7,0.3,960]
[3956,4903325,960,3955,-1,"RCS4-WSA10C-60-16-水平",7,0.5,960]
[3957,14709975,150,-1,-1,"RCS4-WSA10R-60-2.5-水平",2,1.5,150]
[3958,11767980,150,-1,-1,"RCS4-WSA10R-60-2.5-水平",6.5,1.2,150]
[3959,9806650,150,-1,-1,"RCS4-WSA10R-60-2.5-水平",11,1,150]
[3960,6864655,150,-1,-1,"RCS4-WSA10R-60-2.5-水平",18,0.7,150]
[3961,4903325,150,-1,-1,"RCS4-WSA10R-60-2.5-水平",30,0.5,150]
[3962,2941995,150,-1,-1,"RCS4-WSA10R-60-2.5-水平",40,0.3,150]
[3963,14709975,150,-1,-1,"RCS4-WSA10R-60-2.5-垂直",1,1.5,150]
[3964,11767980,150,-1,-1,"RCS4-WSA10R-60-2.5-垂直",3.25,1.2,150]
[3965,9806650,150,-1,-1,"RCS4-WSA10R-60-2.5-垂直",5,1,150]
[3966,6864655,150,-1,-1,"RCS4-WSA10R-60-2.5-垂直",6,0.7,150]
[3967,2941995,150,-1,3968,"RCS4-WSA10R-60-2.5-垂直",10,0.3,150]
[3968,4903325,150,3967,-1,"RCS4-WSA10R-60-2.5-垂直",10,0.5,150]
[3969,44129925,300,-1,-1,"RCS4-WSA10R-60-5-水平",1.5,4.5,300]
[3970,39226600,300,-1,-1,"RCS4-WSA10R-60-5-水平",2.25,4,300]
[3971,34323275,300,-1,-1,"RCS4-WSA10R-60-5-水平",3.25,3.5,300]
[3972,29419950,300,-1,-1,"RCS4-WSA10R-60-5-水平",4.5,3,300]
[3973,24516625,300,-1,-1,"RCS4-WSA10R-60-5-水平",6.5,2.5,300]
[3974,19613300,300,-1,-1,"RCS4-WSA10R-60-5-水平",9,2,300]
[3975,14709975,300,-1,-1,"RCS4-WSA10R-60-5-水平",11.5,1.5,300]
[3976,11767980,300,-1,-1,"RCS4-WSA10R-60-5-水平",12,1.2,300]
[3977,9806650,300,-1,-1,"RCS4-WSA10R-60-5-水平",18,1,300]
[3978,6864655,300,-1,-1,"RCS4-WSA10R-60-5-水平",20,0.7,300]
[3979,2941995,300,-1,3980,"RCS4-WSA10R-60-5-水平",27,0.3,300]
[3980,4903325,300,3979,-1,"RCS4-WSA10R-60-5-水平",27,0.5,300]
[3981,29419950,300,-1,-1,"RCS4-WSA10R-60-5-垂直",3,3,300]
[3982,24516625,300,-1,-1,"RCS4-WSA10R-60-5-垂直",4.5,2.5,300]
[3983,2941995,300,-1,3984,"RCS4-WSA10R-60-5-垂直",5,0.3,300]
[3984,4903325,300,3983,3985,"RCS4-WSA10R-60-5-垂直",5,0.5,300]
[3985,6864655,300,3984,3986,"RCS4-WSA10R-60-5-垂直",5,0.7,300]
[3986,9806650,300,3985,3987,"RCS4-WSA10R-60-5-垂直",5,1,300]
[3987,11767980,300,3986,3988,"RCS4-WSA10R-60-5-垂直",5,1.2,300]
[3988,14709975,300,3987,3989,"RCS4-WSA10R-60-5-垂直",5,1.5,300]
[3989,19613300,300,3988,-1,"RCS4-WSA10R-60-5-垂直",5,2,300]
[3990,39226600,600,-1,3991,"RCS4-WSA10R-60-10-水平",1,4,600]
[3991,44129925,600,3990,-1,"RCS4-WSA10R-60-10-水平",1,4.5,600]
[3992,34323275,600,-1,-1,"RCS4-WSA10R-60-10-水平",1.5,3.5,600]
[3993,29419950,600,-1,-1,"RCS4-WSA10R-60-10-水平",2,3,600]
[3994,24516625,600,-1,-1,"RCS4-WSA10R-60-10-水平",3,2.5,600]
[3995,19613300,600,-1,-1,"RCS4-WSA10R-60-10-水平",4,2,600]
[3996,14709975,600,-1,-1,"RCS4-WSA10R-60-10-水平",4.5,1.5,600]
[3997,11767980,600,-1,-1,"RCS4-WSA10R-60-10-水平",5.5,1.2,600]
[3998,6864655,600,-1,3999,"RCS4-WSA10R-60-10-水平",12,0.7,600]
[3999,9806650,600,3998,-1,"RCS4-WSA10R-60-10-水平",12,1,600]
[4000,2941995,600,-1,4001,"RCS4-WSA10R-60-10-水平",16,0.3,600]
[4001,4903325,600,4000,-1,"RCS4-WSA10R-60-10-水平",16,0.5,600]
[4002,24516625,600,-1,4003,"RCS4-WSA10R-60-10-垂直",1,2.5,600]
[4003,29419950,600,4002,-1,"RCS4-WSA10R-60-10-垂直",1,3,600]
[4004,11767980,600,-1,4005,"RCS4-WSA10R-60-10-垂直",1.5,1.2,600]
[4005,14709975,600,4004,4006,"RCS4-WSA10R-60-10-垂直",1.5,1.5,600]
[4006,19613300,600,4005,-1,"RCS4-WSA10R-60-10-垂直",1.5,2,600]
[4007,2941995,600,-1,4008,"RCS4-WSA10R-60-10-垂直",3,0.3,600]
[4008,4903325,600,4007,4009,"RCS4-WSA10R-60-10-垂直",3,0.5,600]
[4009,6864655,600,4008,4010,"RCS4-WSA10R-60-10-垂直",3,0.7,600]
[4010,9806650,600,4009,-1,"RCS4-WSA10R-60-10-垂直",3,1,600]
[4011,39226600,960,-1,4012,"RCS4-WSA10R-60-16-水平",1,4,960]
[4012,44129925,960,4011,-1,"RCS4-WSA10R-60-16-水平",1,4.5,960]
[4013,34323275,960,-1,-1,"RCS4-WSA10R-60-16-水平",1.25,3.5,960]
[4014,29419950,960,-1,-1,"RCS4-WSA10R-60-16-水平",1.5,3,960]
[4015,24516625,960,-1,-1,"RCS4-WSA10R-60-16-水平",2,2.5,960]
[4016,19613300,960,-1,-1,"RCS4-WSA10R-60-16-水平",2.5,2,960]
[4017,11767980,960,-1,4018,"RCS4-WSA10R-60-16-水平",3,1.2,960]
[4018,14709975,960,4017,-1,"RCS4-WSA10R-60-16-水平",3,1.5,960]
[4019,9806650,960,-1,-1,"RCS4-WSA10R-60-16-水平",4,1,960]
[4020,6864655,960,-1,-1,"RCS4-WSA10R-60-16-水平",5,0.7,960]
[4021,2941995,960,-1,4022,"RCS4-WSA10R-60-16-水平",7,0.3,960]
[4022,4903325,960,4021,-1,"RCS4-WSA10R-60-16-水平",7,0.5,960]
[4023,9806650,180,-1,-1,"RCS4-WSA12C-100-3-水平",2,1,180]
[4024,6864655,180,-1,-1,"RCS4-WSA12C-100-3-水平",15,0.7,180]
[4025,4903325,180,-1,-1,"RCS4-WSA12C-100-3-水平",30,0.5,180]
[4026,2941995,180,-1,-1,"RCS4-WSA12C-100-3-水平",55,0.3,180]
[4027,9806650,180,-1,-1,"RCS4-WSA12C-100-3-垂直",0.75,1,180]
[4028,6864655,180,-1,-1,"RCS4-WSA12C-100-3-垂直",6,0.7,180]
[4029,4903325,180,-1,-1,"RCS4-WSA12C-100-3-垂直",10,0.5,180]
[4030,2941995,180,-1,-1,"RCS4-WSA12C-100-3-垂直",15,0.3,180]
[4031,34323275,360,-1,-1,"RCS4-WSA12C-100-6-水平",1,3.5,360]
[4032,29419950,360,-1,-1,"RCS4-WSA12C-100-6-水平",2.5,3,360]
[4033,24516625,360,-1,-1,"RCS4-WSA12C-100-6-水平",4.5,2.5,360]
[4034,19613300,360,-1,-1,"RCS4-WSA12C-100-6-水平",7.5,2,360]
[4035,14709975,360,-1,-1,"RCS4-WSA12C-100-6-水平",12,1.5,360]
[4036,11767980,360,-1,-1,"RCS4-WSA12C-100-6-水平",17,1.2,360]
[4037,9806650,360,-1,-1,"RCS4-WSA12C-100-6-水平",20,1,360]
[4038,6864655,360,-1,-1,"RCS4-WSA12C-100-6-水平",30,0.7,360]
[4039,4903325,360,-1,-1,"RCS4-WSA12C-100-6-水平",40,0.5,360]
[4040,2941995,360,-1,-1,"RCS4-WSA12C-100-6-水平",45,0.3,360]
[4041,29419950,360,-1,-1,"RCS4-WSA12C-100-6-垂直",1.75,3,360]
[4042,24516625,360,-1,-1,"RCS4-WSA12C-100-6-垂直",3,2.5,360]
[4043,19613300,360,-1,-1,"RCS4-WSA12C-100-6-垂直",4.75,2,360]
[4044,14709975,360,-1,-1,"RCS4-WSA12C-100-6-垂直",7,1.5,360]
[4045,11767980,360,-1,-1,"RCS4-WSA12C-100-6-垂直",7.5,1.2,360]
[4046,9806650,360,-1,-1,"RCS4-WSA12C-100-6-垂直",10,1,360]
[4047,6864655,360,-1,-1,"RCS4-WSA12C-100-6-垂直",12,0.7,360]
[4048,2941995,360,-1,4049,"RCS4-WSA12C-100-6-垂直",15,0.3,360]
[4049,4903325,360,4048,-1,"RCS4-WSA12C-100-6-垂直",15,0.5,360]
[4050,34323275,720,-1,4051,"RCS4-WSA12C-100-12-水平",1,3.5,720]
[4051,39226600,720,4050,4052,"RCS4-WSA12C-100-12-水平",1,4,720]
[4052,44129925,720,4051,-1,"RCS4-WSA12C-100-12-水平",1,4.5,720]
[4053,29419950,720,-1,-1,"RCS4-WSA12C-100-12-水平",2.5,3,720]
[4054,24516625,720,-1,-1,"RCS4-WSA12C-100-12-水平",4.5,2.5,720]
[4055,19613300,720,-1,-1,"RCS4-WSA12C-100-12-水平",5.5,2,720]
[4056,14709975,720,-1,-1,"RCS4-WSA12C-100-12-水平",8.5,1.5,720]
[4057,9806650,720,-1,4058,"RCS4-WSA12C-100-12-水平",15,1,720]
[4058,11767980,720,4057,-1,"RCS4-WSA12C-100-12-水平",15,1.2,720]
[4059,6864655,720,-1,-1,"RCS4-WSA12C-100-12-水平",20,0.7,720]
[4060,2941995,720,-1,4061,"RCS4-WSA12C-100-12-水平",25,0.3,720]
[4061,4903325,720,4060,-1,"RCS4-WSA12C-100-12-水平",25,0.5,720]
[4062,29419950,720,-1,-1,"RCS4-WSA12C-100-12-垂直",1.75,3,720]
[4063,24516625,720,-1,-1,"RCS4-WSA12C-100-12-垂直",3,2.5,720]
[4064,19613300,720,-1,-1,"RCS4-WSA12C-100-12-垂直",4.75,2,720]
[4065,14709975,720,-1,-1,"RCS4-WSA12C-100-12-垂直",5,1.5,720]
[4066,9806650,720,-1,4067,"RCS4-WSA12C-100-12-垂直",6,1,720]
[4067,11767980,720,4066,-1,"RCS4-WSA12C-100-12-垂直",6,1.2,720]
[4068,2941995,720,-1,4069,"RCS4-WSA12C-100-12-垂直",8,0.3,720]
[4069,4903325,720,4068,4070,"RCS4-WSA12C-100-12-垂直",8,0.5,720]
[4070,6864655,720,4069,-1,"RCS4-WSA12C-100-12-垂直",8,0.7,720]
[4071,34323275,1200,-1,4072,"RCS4-WSA12C-100-20-水平",1,3.5,1200]
[4072,39226600,1200,4071,4073,"RCS4-WSA12C-100-20-水平",1,4,1200]
[4073,44129925,1200,4072,-1,"RCS4-WSA12C-100-20-水平",1,4.5,1200]
[4074,29419950,1200,-1,-1,"RCS4-WSA12C-100-20-水平",1.5,3,1200]
[4075,24516625,1200,-1,-1,"RCS4-WSA12C-100-20-水平",3,2.5,1200]
[4076,11767980,1200,-1,4077,"RCS4-WSA12C-100-20-水平",4,1.2,1200]
[4077,14709975,1200,4076,4078,"RCS4-WSA12C-100-20-水平",4,1.5,1200]
[4078,19613300,1200,4077,-1,"RCS4-WSA12C-100-20-水平",4,2,1200]
[4079,9806650,1200,-1,-1,"RCS4-WSA12C-100-20-水平",6,1,1200]
[4080,6864655,1200,-1,-1,"RCS4-WSA12C-100-20-水平",8,0.7,1200]
[4081,4903325,1200,-1,-1,"RCS4-WSA12C-100-20-水平",10,0.5,1200]
[4082,2941995,1200,-1,-1,"RCS4-WSA12C-100-20-水平",15,0.3,1200]
[4083,14709975,1200,-1,4084,"RCS4-WSA12C-100-20-垂直",1.5,1.5,1200]
[4084,19613300,1200,4083,4085,"RCS4-WSA12C-100-20-垂直",1.5,2,1200]
[4085,24516625,1200,4084,4086,"RCS4-WSA12C-100-20-垂直",1.5,2.5,1200]
[4086,29419950,1200,4085,-1,"RCS4-WSA12C-100-20-垂直",1.5,3,1200]
[4087,6864655,1200,-1,4088,"RCS4-WSA12C-100-20-垂直",2,0.7,1200]
[4088,9806650,1200,4087,4089,"RCS4-WSA12C-100-20-垂直",2,1,1200]
[4089,11767980,1200,4088,-1,"RCS4-WSA12C-100-20-垂直",2,1.2,1200]
[4090,2941995,1200,-1,4091,"RCS4-WSA12C-100-20-垂直",3,0.3,1200]
[4091,4903325,1200,4090,-1,"RCS4-WSA12C-100-20-垂直",3,0.5,1200]
[4092,24516625,1800,-1,4093,"RCS4-WSA12C-100-30-水平",1,2.5,1800]
[4093,29419950,1800,4092,4094,"RCS4-WSA12C-100-30-水平",1,3,1800]
[4094,34323275,1800,4093,4095,"RCS4-WSA12C-100-30-水平",1,3.5,1800]
[4095,39226600,1800,4094,4096,"RCS4-WSA12C-100-30-水平",1,4,1800]
[4096,44129925,1800,4095,-1,"RCS4-WSA12C-100-30-水平",1,4.5,1800]
[4097,19613300,1800,-1,-1,"RCS4-WSA12C-100-30-水平",1.5,2,1800]
[4098,14709975,1800,-1,-1,"RCS4-WSA12C-100-30-水平",2,1.5,1800]
[4099,11767980,1600,-1,-1,"RCS4-WSA12C-100-30-水平",3,1.2,1600]
[4100,9806650,1600,-1,-1,"RCS4-WSA12C-100-30-水平",4,1,1600]
[4101,2941995,1600,-1,4102,"RCS4-WSA12C-100-30-水平",5,0.3,1600]
[4102,4903325,1600,4101,4103,"RCS4-WSA12C-100-30-水平",5,0.5,1600]
[4103,6864655,1600,4102,-1,"RCS4-WSA12C-100-30-水平",5,0.7,1600]
[4104,9806650,180,-1,-1,"RCS4-WSA12R-100-3-水平",2,1,180]
[4105,6864655,180,-1,-1,"RCS4-WSA12R-100-3-水平",15,0.7,180]
[4106,4903325,180,-1,-1,"RCS4-WSA12R-100-3-水平",30,0.5,180]
[4107,2941995,180,-1,-1,"RCS4-WSA12R-100-3-水平",55,0.3,180]
[4108,9806650,180,-1,-1,"RCS4-WSA12R-100-3-垂直",0.75,1,180]
[4109,6864655,180,-1,-1,"RCS4-WSA12R-100-3-垂直",6,0.7,180]
[4110,4903325,180,-1,-1,"RCS4-WSA12R-100-3-垂直",10,0.5,180]
[4111,2941995,180,-1,-1,"RCS4-WSA12R-100-3-垂直",15,0.3,180]
[4112,34323275,360,-1,-1,"RCS4-WSA12R-100-6-水平",1,3.5,360]
[4113,29419950,360,-1,-1,"RCS4-WSA12R-100-6-水平",2.5,3,360]
[4114,24516625,360,-1,-1,"RCS4-WSA12R-100-6-水平",4.5,2.5,360]
[4115,19613300,360,-1,-1,"RCS4-WSA12R-100-6-水平",7.5,2,360]
[4116,14709975,360,-1,-1,"RCS4-WSA12R-100-6-水平",12,1.5,360]
[4117,11767980,360,-1,-1,"RCS4-WSA12R-100-6-水平",17,1.2,360]
[4118,9806650,360,-1,-1,"RCS4-WSA12R-100-6-水平",20,1,360]
[4119,6864655,360,-1,-1,"RCS4-WSA12R-100-6-水平",30,0.7,360]
[4120,4903325,360,-1,-1,"RCS4-WSA12R-100-6-水平",40,0.5,360]
[4121,2941995,360,-1,-1,"RCS4-WSA12R-100-6-水平",43,0.3,360]
[4122,29419950,360,-1,-1,"RCS4-WSA12R-100-6-垂直",1.75,3,360]
[4123,24516625,360,-1,-1,"RCS4-WSA12R-100-6-垂直",3,2.5,360]
[4124,19613300,360,-1,-1,"RCS4-WSA12R-100-6-垂直",4.75,2,360]
[4125,14709975,360,-1,-1,"RCS4-WSA12R-100-6-垂直",7,1.5,360]
[4126,11767980,360,-1,-1,"RCS4-WSA12R-100-6-垂直",7.5,1.2,360]
[4127,9806650,360,-1,-1,"RCS4-WSA12R-100-6-垂直",10,1,360]
[4128,6864655,360,-1,-1,"RCS4-WSA12R-100-6-垂直",12,0.7,360]
[4129,2941995,360,-1,4130,"RCS4-WSA12R-100-6-垂直",15,0.3,360]
[4130,4903325,360,4129,-1,"RCS4-WSA12R-100-6-垂直",15,0.5,360]
[4131,34323275,720,-1,4132,"RCS4-WSA12R-100-12-水平",1,3.5,720]
[4132,39226600,720,4131,4133,"RCS4-WSA12R-100-12-水平",1,4,720]
[4133,44129925,720,4132,-1,"RCS4-WSA12R-100-12-水平",1,4.5,720]
[4134,29419950,720,-1,-1,"RCS4-WSA12R-100-12-水平",2.5,3,720]
[4135,24516625,720,-1,-1,"RCS4-WSA12R-100-12-水平",4.5,2.5,720]
[4136,19613300,720,-1,-1,"RCS4-WSA12R-100-12-水平",5.5,2,720]
[4137,14709975,720,-1,-1,"RCS4-WSA12R-100-12-水平",8.5,1.5,720]
[4138,11767980,720,-1,-1,"RCS4-WSA12R-100-12-水平",14.5,1.2,720]
[4139,9806650,720,-1,-1,"RCS4-WSA12R-100-12-水平",15,1,720]
[4140,6864655,720,-1,-1,"RCS4-WSA12R-100-12-水平",16,0.7,720]
[4141,2941995,720,-1,4142,"RCS4-WSA12R-100-12-水平",23,0.3,720]
[4142,4903325,720,4141,-1,"RCS4-WSA12R-100-12-水平",23,0.5,720]
[4143,29419950,720,-1,-1,"RCS4-WSA12R-100-12-垂直",1.75,3,720]
[4144,24516625,720,-1,-1,"RCS4-WSA12R-100-12-垂直",3,2.5,720]
[4145,19613300,720,-1,-1,"RCS4-WSA12R-100-12-垂直",4.75,2,720]
[4146,9806650,720,-1,4147,"RCS4-WSA12R-100-12-垂直",6,1,720]
[4147,11767980,720,4146,4148,"RCS4-WSA12R-100-12-垂直",6,1.2,720]
[4148,14709975,720,4147,-1,"RCS4-WSA12R-100-12-垂直",6,1.5,720]
[4149,2941995,720,-1,4150,"RCS4-WSA12R-100-12-垂直",8,0.3,720]
[4150,4903325,720,4149,4151,"RCS4-WSA12R-100-12-垂直",8,0.5,720]
[4151,6864655,720,4150,-1,"RCS4-WSA12R-100-12-垂直",8,0.7,720]
[4152,34323275,1200,-1,4153,"RCS4-WSA12R-100-20-水平",1,3.5,1200]
[4153,39226600,1200,4152,4154,"RCS4-WSA12R-100-20-水平",1,4,1200]
[4154,44129925,1200,4153,-1,"RCS4-WSA12R-100-20-水平",1,4.5,1200]
[4155,29419950,1200,-1,-1,"RCS4-WSA12R-100-20-水平",1.5,3,1200]
[4156,24516625,1200,-1,-1,"RCS4-WSA12R-100-20-水平",3,2.5,1200]
[4157,11767980,1200,-1,4158,"RCS4-WSA12R-100-20-水平",4,1.2,1200]
[4158,14709975,1200,4157,4159,"RCS4-WSA12R-100-20-水平",4,1.5,1200]
[4159,19613300,1200,4158,-1,"RCS4-WSA12R-100-20-水平",4,2,1200]
[4160,9806650,1200,-1,-1,"RCS4-WSA12R-100-20-水平",6,1,1200]
[4161,6864655,1200,-1,-1,"RCS4-WSA12R-100-20-水平",8,0.7,1200]
[4162,4903325,1200,-1,-1,"RCS4-WSA12R-100-20-水平",10,0.5,1200]
[4163,2941995,1200,-1,-1,"RCS4-WSA12R-100-20-水平",13,0.3,1200]
[4164,14709975,1200,-1,4165,"RCS4-WSA12R-100-20-垂直",1.5,1.5,1200]
[4165,19613300,1200,4164,4166,"RCS4-WSA12R-100-20-垂直",1.5,2,1200]
[4166,24516625,1200,4165,4167,"RCS4-WSA12R-100-20-垂直",1.5,2.5,1200]
[4167,29419950,1200,4166,-1,"RCS4-WSA12R-100-20-垂直",1.5,3,1200]
[4168,6864655,1200,-1,4169,"RCS4-WSA12R-100-20-垂直",2,0.7,1200]
[4169,9806650,1200,4168,4170,"RCS4-WSA12R-100-20-垂直",2,1,1200]
[4170,11767980,1200,4169,-1,"RCS4-WSA12R-100-20-垂直",2,1.2,1200]
[4171,2941995,1200,-1,4172,"RCS4-WSA12R-100-20-垂直",3,0.3,1200]
[4172,4903325,1200,4171,-1,"RCS4-WSA12R-100-20-垂直",3,0.5,1200]
[4173,24516625,1800,-1,4174,"RCS4-WSA12R-100-30-水平",1,2.5,1800]
[4174,29419950,1800,4173,4175,"RCS4-WSA12R-100-30-水平",1,3,1800]
[4175,34323275,1800,4174,4176,"RCS4-WSA12R-100-30-水平",1,3.5,1800]
[4176,39226600,1800,4175,4177,"RCS4-WSA12R-100-30-水平",1,4,1800]
[4177,44129925,1800,4176,-1,"RCS4-WSA12R-100-30-水平",1,4.5,1800]
[4178,19613300,1800,-1,-1,"RCS4-WSA12R-100-30-水平",1.5,2,1800]
[4179,14709975,1800,-1,-1,"RCS4-WSA12R-100-30-水平",2,1.5,1800]
[4180,11767980,1600,-1,-1,"RCS4-WSA12R-100-30-水平",2.5,1.2,1600]
[4181,9806650,1600,-1,-1,"RCS4-WSA12R-100-30-水平",4,1,1600]
[4182,2941995,1600,-1,4183,"RCS4-WSA12R-100-30-水平",5,0.3,1600]
[4183,4903325,1600,4182,4184,"RCS4-WSA12R-100-30-水平",5,0.5,1600]
[4184,6864655,1600,4183,-1,"RCS4-WSA12R-100-30-水平",5,0.7,1600]
[4185,9806650,240,-1,-1,"RCS4-WSA14C-200-4-水平",10,1,240]
[4186,6864655,240,-1,-1,"RCS4-WSA14C-200-4-水平",30,0.7,240]
[4187,4903325,240,-1,-1,"RCS4-WSA14C-200-4-水平",60,0.5,240]
[4188,2941995,240,-1,-1,"RCS4-WSA14C-200-4-水平",80,0.3,240]
[4189,9806650,240,-1,-1,"RCS4-WSA14C-200-4-垂直",4.5,1,240]
[4190,6864655,240,-1,-1,"RCS4-WSA14C-200-4-垂直",12,0.7,240]
[4191,4903325,240,-1,-1,"RCS4-WSA14C-200-4-垂直",20,0.5,240]
[4192,2941995,240,-1,-1,"RCS4-WSA14C-200-4-垂直",25,0.3,240]
[4193,39226600,480,-1,-1,"RCS4-WSA14C-200-8-水平",1.75,4,480]
[4194,34323275,480,-1,-1,"RCS4-WSA14C-200-8-水平",3.5,3.5,480]
[4195,29419950,480,-1,-1,"RCS4-WSA14C-200-8-水平",6.5,3,480]
[4196,24516625,480,-1,-1,"RCS4-WSA14C-200-8-水平",9.5,2.5,480]
[4197,19613300,480,-1,-1,"RCS4-WSA14C-200-8-水平",17,2,480]
[4198,14709975,480,-1,-1,"RCS4-WSA14C-200-8-水平",24.5,1.5,480]
[4199,11767980,480,-1,-1,"RCS4-WSA14C-200-8-水平",29.5,1.2,480]
[4200,6864655,480,-1,4201,"RCS4-WSA14C-200-8-水平",40,0.7,480]
[4201,9806650,480,4200,-1,"RCS4-WSA14C-200-8-水平",40,1,480]
[4202,4903325,480,-1,-1,"RCS4-WSA14C-200-8-水平",50,0.5,480]
[4203,2941995,480,-1,-1,"RCS4-WSA14C-200-8-水平",65,0.3,480]
[4204,29419950,480,-1,-1,"RCS4-WSA14C-200-8-垂直",4.5,3,480]
[4205,24516625,480,-1,-1,"RCS4-WSA14C-200-8-垂直",7.5,2.5,480]
[4206,11767980,480,-1,4207,"RCS4-WSA14C-200-8-垂直",9,1.2,480]
[4207,14709975,480,4206,4208,"RCS4-WSA14C-200-8-垂直",9,1.5,480]
[4208,19613300,480,4207,-1,"RCS4-WSA14C-200-8-垂直",9,2,480]
[4209,2941995,480,-1,4210,"RCS4-WSA14C-200-8-垂直",10,0.3,480]
[4210,4903325,480,4209,4211,"RCS4-WSA14C-200-8-垂直",10,0.5,480]
[4211,6864655,480,4210,4212,"RCS4-WSA14C-200-8-垂直",10,0.7,480]
[4212,9806650,480,4211,-1,"RCS4-WSA14C-200-8-垂直",10,1,480]
[4213,39226600,960,-1,4214,"RCS4-WSA14C-200-16-水平",1.75,4,960]
[4214,44129925,960,4213,-1,"RCS4-WSA14C-200-16-水平",1.75,4.5,960]
[4215,34323275,960,-1,-1,"RCS4-WSA14C-200-16-水平",3.5,3.5,960]
[4216,29419950,960,-1,-1,"RCS4-WSA14C-200-16-水平",6.5,3,960]
[4217,24516625,960,-1,-1,"RCS4-WSA14C-200-16-水平",8.5,2.5,960]
[4218,19613300,960,-1,-1,"RCS4-WSA14C-200-16-水平",9.5,2,960]
[4219,14709975,960,-1,-1,"RCS4-WSA14C-200-16-水平",11.5,1.5,960]
[4220,11767980,960,-1,-1,"RCS4-WSA14C-200-16-水平",18,1.2,960]
[4221,6864655,960,-1,4222,"RCS4-WSA14C-200-16-水平",20,0.7,960]
[4222,9806650,960,4221,-1,"RCS4-WSA14C-200-16-水平",20,1,960]
[4223,4903325,960,-1,-1,"RCS4-WSA14C-200-16-水平",30,0.5,960]
[4224,2941995,960,-1,-1,"RCS4-WSA14C-200-16-水平",45,0.3,960]
[4225,19613300,960,-1,4226,"RCS4-WSA14C-200-16-垂直",4.5,2,960]
[4226,24516625,960,4225,4227,"RCS4-WSA14C-200-16-垂直",4.5,2.5,960]
[4227,29419950,960,4226,-1,"RCS4-WSA14C-200-16-垂直",4.5,3,960]
[4228,14709975,960,-1,-1,"RCS4-WSA14C-200-16-垂直",7.5,1.5,960]
[4229,2941995,960,-1,4230,"RCS4-WSA14C-200-16-垂直",8,0.3,960]
[4230,4903325,960,4229,4231,"RCS4-WSA14C-200-16-垂直",8,0.5,960]
[4231,6864655,960,4230,4232,"RCS4-WSA14C-200-16-垂直",8,0.7,960]
[4232,9806650,960,4231,4233,"RCS4-WSA14C-200-16-垂直",8,1,960]
[4233,11767980,960,4232,-1,"RCS4-WSA14C-200-16-垂直",8,1.2,960]
[4234,39226600,1440,-1,4235,"RCS4-WSA14C-200-24-水平",1.75,4,1440]
[4235,44129925,1440,4234,-1,"RCS4-WSA14C-200-24-水平",1.75,4.5,1440]
[4236,29419950,1440,-1,4237,"RCS4-WSA14C-200-24-水平",2.5,3,1440]
[4237,34323275,1440,4236,-1,"RCS4-WSA14C-200-24-水平",2.5,3.5,1440]
[4238,24516625,1440,-1,-1,"RCS4-WSA14C-200-24-水平",3.5,2.5,1440]
[4239,14709975,1440,-1,4240,"RCS4-WSA14C-200-24-水平",4.5,1.5,1440]
[4240,19613300,1440,4239,-1,"RCS4-WSA14C-200-24-水平",4.5,2,1440]
[4241,11767980,1440,-1,-1,"RCS4-WSA14C-200-24-水平",5,1.2,1440]
[4242,9806650,1440,-1,-1,"RCS4-WSA14C-200-24-水平",10,1,1440]
[4243,4903325,1440,-1,4244,"RCS4-WSA14C-200-24-水平",15,0.5,1440]
[4244,6864655,1440,4243,-1,"RCS4-WSA14C-200-24-水平",15,0.7,1440]
[4245,2941995,1440,-1,-1,"RCS4-WSA14C-200-24-水平",20,0.3,1440]
[4246,2941995,1440,-1,4247,"RCS4-WSA14C-200-24-垂直",2.5,0.3,1440]
[4247,4903325,1440,4246,4248,"RCS4-WSA14C-200-24-垂直",2.5,0.5,1440]
[4248,6864655,1440,4247,4249,"RCS4-WSA14C-200-24-垂直",2.5,0.7,1440]
[4249,9806650,1440,4248,4250,"RCS4-WSA14C-200-24-垂直",2.5,1,1440]
[4250,11767980,1440,4249,4251,"RCS4-WSA14C-200-24-垂直",2.5,1.2,1440]
[4251,14709975,1440,4250,4252,"RCS4-WSA14C-200-24-垂直",2.5,1.5,1440]
[4252,19613300,1440,4251,4253,"RCS4-WSA14C-200-24-垂直",2.5,2,1440]
[4253,24516625,1440,4252,4254,"RCS4-WSA14C-200-24-垂直",2.5,2.5,1440]
[4254,29419950,1440,4253,-1,"RCS4-WSA14C-200-24-垂直",2.5,3,1440]
[4255,29419950,2150,-1,4256,"RCS4-WSA14C-200-36-水平",1,3,2150]
[4256,34323275,2150,4255,4257,"RCS4-WSA14C-200-36-水平",1,3.5,2150]
[4257,39226600,2150,4256,4258,"RCS4-WSA14C-200-36-水平",1,4,2150]
[4258,44129925,2150,4257,-1,"RCS4-WSA14C-200-36-水平",1,4.5,2150]
[4259,24516625,2150,-1,-1,"RCS4-WSA14C-200-36-水平",1.5,2.5,2150]
[4260,19613300,2150,-1,-1,"RCS4-WSA14C-200-36-水平",2,2,2150]
[4261,14709975,2150,-1,-1,"RCS4-WSA14C-200-36-水平",2.5,1.5,2150]
[4262,11767980,1800,-1,-1,"RCS4-WSA14C-200-36-水平",3,1.2,1800]
[4263,9806650,1800,-1,-1,"RCS4-WSA14C-200-36-水平",4,1,1800]
[4264,4903325,1800,-1,4265,"RCS4-WSA14C-200-36-水平",6,0.5,1800]
[4265,6864655,1800,4264,-1,"RCS4-WSA14C-200-36-水平",6,0.7,1800]
[4266,2941995,1800,-1,-1,"RCS4-WSA14C-200-36-水平",7,0.3,1800]
[4267,9806650,240,-1,-1,"RCS4-WSA14R-200-4-水平",10,1,240]
[4268,6864655,240,-1,-1,"RCS4-WSA14R-200-4-水平",30,0.7,240]
[4269,4903325,240,-1,-1,"RCS4-WSA14R-200-4-水平",60,0.5,240]
[4270,2941995,240,-1,-1,"RCS4-WSA14R-200-4-水平",75,0.3,240]
[4271,9806650,240,-1,-1,"RCS4-WSA14R-200-4-垂直",4.5,1,240]
[4272,6864655,240,-1,-1,"RCS4-WSA14R-200-4-垂直",12,0.7,240]
[4273,4903325,240,-1,-1,"RCS4-WSA14R-200-4-垂直",20,0.5,240]
[4274,2941995,240,-1,-1,"RCS4-WSA14R-200-4-垂直",25,0.3,240]
[4275,39226600,480,-1,-1,"RCS4-WSA14R-200-8-水平",1.75,4,480]
[4276,34323275,480,-1,-1,"RCS4-WSA14R-200-8-水平",3.5,3.5,480]
[4277,29419950,480,-1,-1,"RCS4-WSA14R-200-8-水平",6.5,3,480]
[4278,24516625,480,-1,-1,"RCS4-WSA14R-200-8-水平",9.5,2.5,480]
[4279,19613300,480,-1,-1,"RCS4-WSA14R-200-8-水平",17,2,480]
[4280,14709975,480,-1,-1,"RCS4-WSA14R-200-8-水平",24.5,1.5,480]
[4281,11767980,480,-1,-1,"RCS4-WSA14R-200-8-水平",29.5,1.2,480]
[4282,6864655,480,-1,4283,"RCS4-WSA14R-200-8-水平",40,0.7,480]
[4283,9806650,480,4282,-1,"RCS4-WSA14R-200-8-水平",40,1,480]
[4284,4903325,480,-1,-1,"RCS4-WSA14R-200-8-水平",50,0.5,480]
[4285,2941995,480,-1,-1,"RCS4-WSA14R-200-8-水平",65,0.3,480]
[4286,29419950,480,-1,-1,"RCS4-WSA14R-200-8-垂直",4.5,3,480]
[4287,24516625,480,-1,-1,"RCS4-WSA14R-200-8-垂直",7.5,2.5,480]
[4288,11767980,480,-1,4289,"RCS4-WSA14R-200-8-垂直",9,1.2,480]
[4289,14709975,480,4288,4290,"RCS4-WSA14R-200-8-垂直",9,1.5,480]
[4290,19613300,480,4289,-1,"RCS4-WSA14R-200-8-垂直",9,2,480]
[4291,2941995,480,-1,4292,"RCS4-WSA14R-200-8-垂直",10,0.3,480]
[4292,4903325,480,4291,4293,"RCS4-WSA14R-200-8-垂直",10,0.5,480]
[4293,6864655,480,4292,4294,"RCS4-WSA14R-200-8-垂直",10,0.7,480]
[4294,9806650,480,4293,-1,"RCS4-WSA14R-200-8-垂直",10,1,480]
[4295,39226600,960,-1,4296,"RCS4-WSA14R-200-16-水平",1.75,4,960]
[4296,44129925,960,4295,-1,"RCS4-WSA14R-200-16-水平",1.75,4.5,960]
[4297,34323275,960,-1,-1,"RCS4-WSA14R-200-16-水平",3.5,3.5,960]
[4298,29419950,960,-1,-1,"RCS4-WSA14R-200-16-水平",6.5,3,960]
[4299,24516625,960,-1,-1,"RCS4-WSA14R-200-16-水平",8.5,2.5,960]
[4300,19613300,960,-1,-1,"RCS4-WSA14R-200-16-水平",9.5,2,960]
[4301,11767980,960,-1,4302,"RCS4-WSA14R-200-16-水平",11.5,1.2,960]
[4302,14709975,960,4301,-1,"RCS4-WSA14R-200-16-水平",11.5,1.5,960]
[4303,6864655,960,-1,4304,"RCS4-WSA14R-200-16-水平",20,0.7,960]
[4304,9806650,960,4303,-1,"RCS4-WSA14R-200-16-水平",20,1,960]
[4305,4903325,960,-1,-1,"RCS4-WSA14R-200-16-水平",30,0.5,960]
[4306,2941995,960,-1,-1,"RCS4-WSA14R-200-16-水平",45,0.3,960]
[4307,19613300,960,-1,4308,"RCS4-WSA14R-200-16-垂直",4.5,2,960]
[4308,24516625,960,4307,4309,"RCS4-WSA14R-200-16-垂直",4.5,2.5,960]
[4309,29419950,960,4308,-1,"RCS4-WSA14R-200-16-垂直",4.5,3,960]
[4310,11767980,960,-1,4311,"RCS4-WSA14R-200-16-垂直",7.5,1.2,960]
[4311,14709975,960,4310,-1,"RCS4-WSA14R-200-16-垂直",7.5,1.5,960]
[4312,2941995,960,-1,4313,"RCS4-WSA14R-200-16-垂直",8,0.3,960]
[4313,4903325,960,4312,4314,"RCS4-WSA14R-200-16-垂直",8,0.5,960]
[4314,6864655,960,4313,4315,"RCS4-WSA14R-200-16-垂直",8,0.7,960]
[4315,9806650,960,4314,-1,"RCS4-WSA14R-200-16-垂直",8,1,960]
[4316,39226600,1440,-1,4317,"RCS4-WSA14R-200-24-水平",1.75,4,1440]
[4317,44129925,1440,4316,-1,"RCS4-WSA14R-200-24-水平",1.75,4.5,1440]
[4318,29419950,1440,-1,4319,"RCS4-WSA14R-200-24-水平",2.5,3,1440]
[4319,34323275,1440,4318,-1,"RCS4-WSA14R-200-24-水平",2.5,3.5,1440]
[4320,24516625,1440,-1,-1,"RCS4-WSA14R-200-24-水平",3.5,2.5,1440]
[4321,11767980,1440,-1,4322,"RCS4-WSA14R-200-24-水平",4.5,1.2,1440]
[4322,14709975,1440,4321,4323,"RCS4-WSA14R-200-24-水平",4.5,1.5,1440]
[4323,19613300,1440,4322,-1,"RCS4-WSA14R-200-24-水平",4.5,2,1440]
[4324,9806650,1440,-1,-1,"RCS4-WSA14R-200-24-水平",10,1,1440]
[4325,4903325,1440,-1,4326,"RCS4-WSA14R-200-24-水平",15,0.5,1440]
[4326,6864655,1440,4325,-1,"RCS4-WSA14R-200-24-水平",15,0.7,1440]
[4327,2941995,1440,-1,-1,"RCS4-WSA14R-200-24-水平",20,0.3,1440]
[4328,2941995,1440,-1,4329,"RCS4-WSA14R-200-24-垂直",2.5,0.3,1440]
[4329,4903325,1440,4328,4330,"RCS4-WSA14R-200-24-垂直",2.5,0.5,1440]
[4330,6864655,1440,4329,4331,"RCS4-WSA14R-200-24-垂直",2.5,0.7,1440]
[4331,9806650,1440,4330,4332,"RCS4-WSA14R-200-24-垂直",2.5,1,1440]
[4332,11767980,1440,4331,4333,"RCS4-WSA14R-200-24-垂直",2.5,1.2,1440]
[4333,14709975,1440,4332,4334,"RCS4-WSA14R-200-24-垂直",2.5,1.5,1440]
[4334,19613300,1440,4333,4335,"RCS4-WSA14R-200-24-垂直",2.5,2,1440]
[4335,24516625,1440,4334,4336,"RCS4-WSA14R-200-24-垂直",2.5,2.5,1440]
[4336,29419950,1440,4335,-1,"RCS4-WSA14R-200-24-垂直",2.5,3,1440]
[4337,44129925,2150,-1,-1,"RCS4-WSA14R-200-36-水平",0.5,4.5,2150]
[4338,29419950,2150,-1,4339,"RCS4-WSA14R-200-36-水平",1,3,2150]
[4339,34323275,2150,4338,4340,"RCS4-WSA14R-200-36-水平",1,3.5,2150]
[4340,39226600,2150,4339,-1,"RCS4-WSA14R-200-36-水平",1,4,2150]
[4341,24516625,2150,-1,-1,"RCS4-WSA14R-200-36-水平",1.5,2.5,2150]
[4342,19613300,2150,-1,-1,"RCS4-WSA14R-200-36-水平",2,2,2150]
[4343,11767980,1710,-1,4344,"RCS4-WSA14R-200-36-水平",2.5,1.2,1710]
[4344,14709975,2150,4343,-1,"RCS4-WSA14R-200-36-水平",2.5,1.5,2150]
[4345,9806650,1710,-1,-1,"RCS4-WSA14R-200-36-水平",4,1,1710]
[4346,4903325,1710,-1,4347,"RCS4-WSA14R-200-36-水平",6,0.5,1710]
[4347,6864655,1710,4346,-1,"RCS4-WSA14R-200-36-水平",6,0.7,1710]
[4348,2941995,1710,-1,-1,"RCS4-WSA14R-200-36-水平",7,0.3,1710]
[4349,11767980,300,-1,-1,"RCS4-WSA16C-400-5-水平",17,1.2,300]
[4350,9806650,300,-1,-1,"RCS4-WSA16C-400-5-水平",37,1,300]
[4351,6864655,300,-1,-1,"RCS4-WSA16C-400-5-水平",80,0.7,300]
[4352,2941995,300,-1,4353,"RCS4-WSA16C-400-5-水平",100,0.3,300]
[4353,4903325,300,4352,-1,"RCS4-WSA16C-400-5-水平",100,0.5,300]
[4354,11767980,300,-1,-1,"RCS4-WSA16C-400-5-垂直",8,1.2,300]
[4355,9806650,300,-1,-1,"RCS4-WSA16C-400-5-垂直",17,1,300]
[4356,6864655,300,-1,-1,"RCS4-WSA16C-400-5-垂直",30,0.7,300]
[4357,4903325,300,-1,-1,"RCS4-WSA16C-400-5-垂直",45,0.5,300]
[4358,2941995,300,-1,-1,"RCS4-WSA16C-400-5-垂直",50,0.3,300]
[4359,44129925,600,-1,-1,"RCS4-WSA16C-400-10-水平",4.5,4.5,600]
[4360,39226600,600,-1,-1,"RCS4-WSA16C-400-10-水平",8,4,600]
[4361,34323275,600,-1,-1,"RCS4-WSA16C-400-10-水平",12,3.5,600]
[4362,29419950,600,-1,-1,"RCS4-WSA16C-400-10-水平",18,3,600]
[4363,24516625,600,-1,-1,"RCS4-WSA16C-400-10-水平",26,2.5,600]
[4364,19613300,600,-1,-1,"RCS4-WSA16C-400-10-水平",37,2,600]
[4365,14709975,600,-1,-1,"RCS4-WSA16C-400-10-水平",54.5,1.5,600]
[4366,11767980,600,-1,-1,"RCS4-WSA16C-400-10-水平",57.5,1.2,600]
[4367,9806650,600,-1,-1,"RCS4-WSA16C-400-10-水平",60,1,600]
[4368,6864655,600,-1,-1,"RCS4-WSA16C-400-10-水平",70,0.7,600]
[4369,2941995,600,-1,4370,"RCS4-WSA16C-400-10-水平",80,0.3,600]
[4370,4903325,600,4369,-1,"RCS4-WSA16C-400-10-水平",80,0.5,600]
[4371,29419950,600,-1,-1,"RCS4-WSA16C-400-10-垂直",13,3,600]
[4372,24516625,600,-1,-1,"RCS4-WSA16C-400-10-垂直",17.5,2.5,600]
[4373,19613300,600,-1,-1,"RCS4-WSA16C-400-10-垂直",22.5,2,600]
[4374,14709975,600,-1,-1,"RCS4-WSA16C-400-10-垂直",24.5,1.5,600]
[4375,11767980,600,-1,-1,"RCS4-WSA16C-400-10-垂直",27.5,1.2,600]
[4376,9806650,600,-1,-1,"RCS4-WSA16C-400-10-垂直",30,1,600]
[4377,2941995,600,-1,4378,"RCS4-WSA16C-400-10-垂直",35,0.3,600]
[4378,4903325,600,4377,4379,"RCS4-WSA16C-400-10-垂直",35,0.5,600]
[4379,6864655,600,4378,-1,"RCS4-WSA16C-400-10-垂直",35,0.7,600]
[4380,44129925,1200,-1,-1,"RCS4-WSA16C-400-20-水平",2.5,4.5,1200]
[4381,39226600,1200,-1,-1,"RCS4-WSA16C-400-20-水平",3.5,4,1200]
[4382,34323275,1200,-1,-1,"RCS4-WSA16C-400-20-水平",4.5,3.5,1200]
[4383,29419950,1200,-1,-1,"RCS4-WSA16C-400-20-水平",5.5,3,1200]
[4384,24516625,1200,-1,-1,"RCS4-WSA16C-400-20-水平",7.5,2.5,1200]
[4385,19613300,1200,-1,-1,"RCS4-WSA16C-400-20-水平",9.5,2,1200]
[4386,14709975,1200,-1,-1,"RCS4-WSA16C-400-20-水平",12.5,1.5,1200]
[4387,11767980,1200,-1,-1,"RCS4-WSA16C-400-20-水平",20,1.2,1200]
[4388,9806650,1200,-1,-1,"RCS4-WSA16C-400-20-水平",22,1,1200]
[4389,6864655,1200,-1,-1,"RCS4-WSA16C-400-20-水平",25,0.7,1200]
[4390,4903325,1200,-1,-1,"RCS4-WSA16C-400-20-水平",40,0.5,1200]
[4391,2941995,1200,-1,-1,"RCS4-WSA16C-400-20-水平",60,0.3,1200]
[4392,29419950,1200,-1,-1,"RCS4-WSA16C-400-20-垂直",3.5,3,1200]
[4393,24516625,1200,-1,-1,"RCS4-WSA16C-400-20-垂直",5.5,2.5,1200]
[4394,19613300,1200,-1,-1,"RCS4-WSA16C-400-20-垂直",7.5,2,1200]
[4395,14709975,1200,-1,-1,"RCS4-WSA16C-400-20-垂直",9.5,1.5,1200]
[4396,11767980,1200,-1,-1,"RCS4-WSA16C-400-20-垂直",10,1.2,1200]
[4397,9806650,1200,-1,-1,"RCS4-WSA16C-400-20-垂直",12,1,1200]
[4398,4903325,1200,-1,4399,"RCS4-WSA16C-400-20-垂直",15,0.5,1200]
[4399,6864655,1200,4398,-1,"RCS4-WSA16C-400-20-垂直",15,0.7,1200]
[4400,2941995,1200,-1,-1,"RCS4-WSA16C-400-20-垂直",20,0.3,1200]
[4401,44129925,1800,-1,-1,"RCS4-WSA16C-400-30-水平",2.5,4.5,1800]
[4402,39226600,1800,-1,-1,"RCS4-WSA16C-400-30-水平",3.25,4,1800]
[4403,29419950,1800,-1,4404,"RCS4-WSA16C-400-30-水平",3.5,3,1800]
[4404,34323275,1800,4403,-1,"RCS4-WSA16C-400-30-水平",3.5,3.5,1800]
[4405,24516625,1800,-1,-1,"RCS4-WSA16C-400-30-水平",5.5,2.5,1800]
[4406,19613300,1800,-1,-1,"RCS4-WSA16C-400-30-水平",7.5,2,1800]
[4407,11767980,1800,-1,4408,"RCS4-WSA16C-400-30-水平",8,1.2,1800]
[4408,14709975,1800,4407,-1,"RCS4-WSA16C-400-30-水平",8,1.5,1800]
[4409,9806650,1800,-1,-1,"RCS4-WSA16C-400-30-水平",10,1,1800]
[4410,6864655,1800,-1,-1,"RCS4-WSA16C-400-30-水平",20,0.7,1800]
[4411,4903325,1800,-1,-1,"RCS4-WSA16C-400-30-水平",25,0.5,1800]
[4412,2941995,1800,-1,-1,"RCS4-WSA16C-400-30-水平",30,0.3,1800]
[4413,29419950,1800,-1,-1,"RCS4-WSA16C-400-30-垂直",2.5,3,1800]
[4414,24516625,1800,-1,-1,"RCS4-WSA16C-400-30-垂直",3,2.5,1800]
[4415,19613300,1800,-1,-1,"RCS4-WSA16C-400-30-垂直",4.5,2,1800]
[4416,14709975,1800,-1,-1,"RCS4-WSA16C-400-30-垂直",5,1.5,1800]
[4417,11767980,1800,-1,-1,"RCS4-WSA16C-400-30-垂直",6,1.2,1800]
[4418,6864655,1800,-1,4419,"RCS4-WSA16C-400-30-垂直",8,0.7,1800]
[4419,9806650,1800,4418,-1,"RCS4-WSA16C-400-30-垂直",8,1,1800]
[4420,2941995,1800,-1,4421,"RCS4-WSA16C-400-30-垂直",12,0.3,1800]
[4421,4903325,1800,4420,-1,"RCS4-WSA16C-400-30-垂直",12,0.5,1800]
[4422,11767980,300,-1,-1,"RCS4-WSA16R-400-5-水平",17,1.2,300]
[4423,9806650,300,-1,-1,"RCS4-WSA16R-400-5-水平",37,1,300]
[4424,6864655,300,-1,-1,"RCS4-WSA16R-400-5-水平",80,0.7,300]
[4425,2941995,300,-1,4426,"RCS4-WSA16R-400-5-水平",100,0.3,300]
[4426,4903325,300,4425,-1,"RCS4-WSA16R-400-5-水平",100,0.5,300]
[4427,11767980,300,-1,-1,"RCS4-WSA16R-400-5-垂直",8,1.2,300]
[4428,9806650,300,-1,-1,"RCS4-WSA16R-400-5-垂直",17,1,300]
[4429,6864655,300,-1,-1,"RCS4-WSA16R-400-5-垂直",30,0.7,300]
[4430,4903325,300,-1,-1,"RCS4-WSA16R-400-5-垂直",45,0.5,300]
[4431,2941995,300,-1,-1,"RCS4-WSA16R-400-5-垂直",50,0.3,300]
[4432,44129925,600,-1,-1,"RCS4-WSA16R-400-10-水平",4.5,4.5,600]
[4433,39226600,600,-1,-1,"RCS4-WSA16R-400-10-水平",8,4,600]
[4434,34323275,600,-1,-1,"RCS4-WSA16R-400-10-水平",12,3.5,600]
[4435,29419950,600,-1,-1,"RCS4-WSA16R-400-10-水平",18,3,600]
[4436,24516625,600,-1,-1,"RCS4-WSA16R-400-10-水平",26,2.5,600]
[4437,19613300,600,-1,-1,"RCS4-WSA16R-400-10-水平",37,2,600]
[4438,14709975,600,-1,-1,"RCS4-WSA16R-400-10-水平",54.5,1.5,600]
[4439,11767980,600,-1,-1,"RCS4-WSA16R-400-10-水平",57.5,1.2,600]
[4440,9806650,600,-1,-1,"RCS4-WSA16R-400-10-水平",60,1,600]
[4441,6864655,600,-1,-1,"RCS4-WSA16R-400-10-水平",70,0.7,600]
[4442,2941995,600,-1,4443,"RCS4-WSA16R-400-10-水平",80,0.3,600]
[4443,4903325,600,4442,-1,"RCS4-WSA16R-400-10-水平",80,0.5,600]
[4444,29419950,600,-1,-1,"RCS4-WSA16R-400-10-垂直",13,3,600]
[4445,24516625,600,-1,-1,"RCS4-WSA16R-400-10-垂直",17.5,2.5,600]
[4446,19613300,600,-1,-1,"RCS4-WSA16R-400-10-垂直",22.5,2,600]
[4447,14709975,600,-1,-1,"RCS4-WSA16R-400-10-垂直",24.5,1.5,600]
[4448,11767980,600,-1,-1,"RCS4-WSA16R-400-10-垂直",27.5,1.2,600]
[4449,9806650,600,-1,-1,"RCS4-WSA16R-400-10-垂直",30,1,600]
[4450,2941995,600,-1,4451,"RCS4-WSA16R-400-10-垂直",35,0.3,600]
[4451,4903325,600,4450,4452,"RCS4-WSA16R-400-10-垂直",35,0.5,600]
[4452,6864655,600,4451,-1,"RCS4-WSA16R-400-10-垂直",35,0.7,600]
[4453,44129925,1200,-1,-1,"RCS4-WSA16R-400-20-水平",4.5,4.5,1200]
[4454,29419950,1200,-1,4455,"RCS4-WSA16R-400-20-水平",5.5,3,1200]
[4455,34323275,1200,4454,4456,"RCS4-WSA16R-400-20-水平",5.5,3.5,1200]
[4456,39226600,1200,4455,-1,"RCS4-WSA16R-400-20-水平",5.5,4,1200]
[4457,24516625,1200,-1,-1,"RCS4-WSA16R-400-20-水平",7.5,2.5,1200]
[4458,19613300,1200,-1,-1,"RCS4-WSA16R-400-20-水平",9.5,2,1200]
[4459,14709975,1200,-1,-1,"RCS4-WSA16R-400-20-水平",12.5,1.5,1200]
[4460,11767980,1200,-1,-1,"RCS4-WSA16R-400-20-水平",14.5,1.2,1200]
[4461,9806650,1200,-1,-1,"RCS4-WSA16R-400-20-水平",22,1,1200]
[4462,6864655,1200,-1,-1,"RCS4-WSA16R-400-20-水平",25,0.7,1200]
[4463,4903325,1200,-1,-1,"RCS4-WSA16R-400-20-水平",40,0.5,1200]
[4464,2941995,1200,-1,-1,"RCS4-WSA16R-400-20-水平",60,0.3,1200]
[4465,29419950,1200,-1,-1,"RCS4-WSA16R-400-20-垂直",3.5,3,1200]
[4466,24516625,1200,-1,-1,"RCS4-WSA16R-400-20-垂直",5.5,2.5,1200]
[4467,19613300,1200,-1,-1,"RCS4-WSA16R-400-20-垂直",7.5,2,1200]
[4468,14709975,1200,-1,-1,"RCS4-WSA16R-400-20-垂直",9.5,1.5,1200]
[4469,11767980,1200,-1,-1,"RCS4-WSA16R-400-20-垂直",10,1.2,1200]
[4470,9806650,1200,-1,-1,"RCS4-WSA16R-400-20-垂直",12,1,1200]
[4471,4903325,1200,-1,4472,"RCS4-WSA16R-400-20-垂直",15,0.5,1200]
[4472,6864655,1200,4471,-1,"RCS4-WSA16R-400-20-垂直",15,0.7,1200]
[4473,2941995,1200,-1,-1,"RCS4-WSA16R-400-20-垂直",18,0.3,1200]
[4474,44129925,1800,-1,-1,"RCS4-WSA16R-400-30-水平",3,4.5,1800]
[4475,39226600,1800,-1,-1,"RCS4-WSA16R-400-30-水平",3.25,4,1800]
[4476,29419950,1800,-1,4477,"RCS4-WSA16R-400-30-水平",3.5,3,1800]
[4477,34323275,1800,4476,-1,"RCS4-WSA16R-400-30-水平",3.5,3.5,1800]
[4478,24516625,1800,-1,-1,"RCS4-WSA16R-400-30-水平",5.5,2.5,1800]
[4479,19613300,1800,-1,-1,"RCS4-WSA16R-400-30-水平",7.5,2,1800]
[4480,11767980,1800,-1,4481,"RCS4-WSA16R-400-30-水平",8,1.2,1800]
[4481,14709975,1800,4480,-1,"RCS4-WSA16R-400-30-水平",8,1.5,1800]
[4482,9806650,1800,-1,-1,"RCS4-WSA16R-400-30-水平",10,1,1800]
[4483,6864655,1800,-1,-1,"RCS4-WSA16R-400-30-水平",20,0.7,1800]
[4484,4903325,1800,-1,-1,"RCS4-WSA16R-400-30-水平",25,0.5,1800]
[4485,2941995,1800,-1,-1,"RCS4-WSA16R-400-30-水平",30,0.3,1800]
[4486,29419950,1800,-1,-1,"RCS4-WSA16R-400-30-垂直",2.5,3,1800]
[4487,24516625,1800,-1,-1,"RCS4-WSA16R-400-30-垂直",3.5,2.5,1800]
[4488,19613300,1800,-1,-1,"RCS4-WSA16R-400-30-垂直",4.5,2,1800]
[4489,14709975,1800,-1,-1,"RCS4-WSA16R-400-30-垂直",5,1.5,1800]
[4490,11767980,1800,-1,-1,"RCS4-WSA16R-400-30-垂直",5.5,1.2,1800]
[4491,6864655,1800,-1,4492,"RCS4-WSA16R-400-30-垂直",8,0.7,1800]
[4492,9806650,1800,4491,-1,"RCS4-WSA16R-400-30-垂直",8,1,1800]
[4493,2941995,1800,-1,4494,"RCS4-WSA16R-400-30-垂直",12,0.3,1800]
[4494,4903325,1800,4493,-1,"RCS4-WSA16R-400-30-垂直",12,0.5,1800,"↑ Ver.3.5 追加"]